{"text_format":"1","workbook":"xlsx","n_sheets":21,"sheets":["INSTRUCCIONES","MENÚ DE INICIO","A1_1","REPORTE","RESULTADOS_A1_1","PUBLICACIÓN_A1_1","A1","A2","B1","B2","C1","C2","PUBLICACIÓN DE RESULTADOSAUX","RESULTADOSAUX-2","REPORTEAUX","ESCENARIO COLLAGE","Lista de Patrones","PUBLICACIÓN DE RESULTADOS (C)","C3","RESULTADOSAUX","RAW_DATA_transporte"],"not_rendered":{"charts":2,"images":11,"macros":1,"external_links":2,"defined_names":81,"comments":0,"pivot_tables":0},"unopened":[],"bounds":{"document_bytes":16777216,"sheet_cells":100000,"rows_first":2000,"rows_last":500,"rows_between":2000,"halvings":0,"cell_chars":16384,"cell_head_chars":4096},"cells_cut":0,"cells_raw":0,"read":"whole","date_system":"1900"}

{"sheet":"INSTRUCCIONES","index":0,"n_rows":0,"n_cols":0,"rows_kept":0,"cut":false,"hidden":false,"merged":[]}

{"sheet":"MENÚ DE INICIO","index":1,"n_rows":59,"n_cols":32,"rows_kept":59,"cut":false,"hidden":false,"merged":[[55,32,55,34],[56,32,56,34],[57,32,57,34],[58,32,58,34],[49,32,49,34],[50,32,50,34],[51,32,51,34],[52,32,52,34],[53,32,53,34],[54,32,54,34],[48,32,48,34],[37,32,37,34],[38,32,38,34],[39,32,39,34],[40,32,40,34],[41,32,41,34],[42,32,42,34],[43,32,43,34],[44,32,44,34],[45,32,45,34],[46,32,46,34],[47,32,47,34],[36,32,36,34],[25,32,25,34],[26,32,26,34],[27,32,27,34],[28,32,28,34],[29,32,29,34],[30,32,30,34],[31,32,31,34],[32,32,32,34],[33,32,33,34],[34,32,34,34],[35,32,35,34],[9,32,9,34],[10,32,10,34],[11,32,11,34],[12,32,12,34],[24,32,24,34],[13,32,13,34],[14,32,14,34],[15,32,15,34],[16,32,16,34],[17,32,17,34],[18,32,18,34],[19,32,19,34],[20,32,20,34],[21,32,21,34],[22,32,22,34],[23,32,23,34]]}
[]
[]
[null,null,null,null,null,null,null,null,null,null,null,null,null,null,null,null,null,null,null,null,null,null,null,null,null,null,"Año de cálculo",null,2017]
[]
[]
[]
[]
[]
[]
[null,null,null,null,null,null,null,null,null,null,null,null,null,null,null,null,null,null,null,null,null,null,null,null,null,null,null,null,null,null,null,"Cliente 1"]
[null,null,null,null,null,null,null,null,null,null,null,null,null,null,null,null,null,null,null,null,null,null,null,null,null,null,null,null,null,null,null,"Cliente 2"]
[null,null,null,null,null,null,null,null,null,null,null,null,null,null,null,null,null,null,null,null,null,null,null,null,null,null,null,null,null,null,null,"Cliente 3"]
[null,null,null,null,null,null,null,null,null,null,null,null,null,null,null,null,null,null,null,null,null,null,null,null,null,null,null,null,null,null,null,"Cliente 4"]
[null,null,null,null,null,null,null,null,null,null,null,null,null,null,null,null,null,null,null,null,null,null,null,null,null,null,null,null,null,null,null,"Cliente 5"]
[null,null,null,null,null,null,null,null,null,null,null,null,null,null,null,null,null,null,null,null,null,null,null,null,null,null,null,null,null,null,null,"Cliente 6"]
[null,null,null,null,null,null,null,null,null,null,null,null,null,null,null,null,null,null,null,null,null,null,null,null,null,null,null,null,null,null,null,"Cliente 7"]
[null,null,null,null,null,null,null,null,null,null,null,null,null,null,null,null,null,null,null,null,null,null,null,null,null,null,null,null,null,null,null,"Cliente 8"]
[null,null,null,null,null,null,null,null,null,null,null,null,null,null,null,null,null,null,null,null,null,null,null,null,null,null,null,null,null,null,null,"Cliente 9"]
[null,null,null,null,null,null,null,null,null,null,null,null,null,null,null,null,null,null,null,null,null,null,null,null,null,null,null,null,null,null,null,"Cliente 10"]
[null,null,null,null,null,null,null,null,null,null,null,null,null,null,null,null,null,null,null,null,null,null,null,null,null,null,null,null,null,null,null,"Cliente 11"]
[null,null,null,null,null,null,null,null,null,null,null,null,null,null,null,null,null,null,null,null,null,null,null,null,null,null,null,null,null,null,null,"Cliente 12"]
[null,null,null,null,null,null,null,null,null,null,null,null,null,null,null,null,null,null,null,null,null,null,null,null,null,null,null,null,null,null,null,"Cliente 13"]
[null,null,null,null,null,null,null,null,null,null,null,null,null,null,null,null,null,null,null,null,null,null,null,null,null,null,null,null,null,null,null,"Cliente 14"]
[null,null,null,null,null,null,null,null,null,null,null,null,null,null,null,null,null,null,null,null,null,null,null,null,null,null,null,null,null,null,null,"Cliente 15"]
[null,null,null,null,null,null,null,null,null,null,null,null,null,null,null,null,null,null,null,null,null,null,null,null,null,null,null,null,null,null,null,"Cliente 16"]
[null,null,null,null,null,null,null,null,null,null,null,null,null,null,null,null,null,null,null,null,null,null,null,null,null,null,null,null,null,null,null,"Cliente 17"]
[null,null,null,null,null,null,null,null,null,null,null,null,null,null,null,null,null,null,null,null,null,null,null,null,null,null,null,null,null,null,null,"Cliente 18"]
[null,null,null,null,null,null,null,null,null,null,null,null,null,null,null,null,null,null,null,null,null,null,null,null,null,null,null,null,null,null,null,"Cliente 19"]
[null,null,null,null,null,null,null,null,null,null,null,null,null,null,null,null,null,null,null,null,null,null,null,null,null,null,null,null,null,null,null,"Cliente 20"]
[null,null,null,null,null,null,null,null,null,null,null,null,null,null,null,null,null,null,null,null,null,null,null,null,null,null,null,null,null,null,null,"Cliente 21"]
[null,null,null,null,null,null,null,null,null,null,null,null,null,null,null,null,null,null,null,null,null,null,null,null,null,null,null,null,null,null,null,"Cliente 22"]
[null,null,null,null,null,null,null,null,null,null,null,null,null,null,null,null,null,null,null,null,null,null,null,null,null,null,null,null,null,null,null,"Cliente 23"]
[null,null,null,null,null,null,null,null,null,null,null,null,null,null,null,null,null,null,null,null,null,null,null,null,null,null,null,null,null,null,null,"Cliente 24"]
[null,null,null,null,null,null,null,null,null,null,null,null,null,null,null,null,null,null,null,null,null,null,null,null,null,null,null,null,null,null,null,"Cliente 25"]
[null,null,null,null,null,null,null,null,null,null,null,null,null,null,null,null,null,null,null,null,null,null,null,null,null,null,null,null,null,null,null,"Cliente 26"]
[null,null,null,null,null,null,null,null,null,null,null,null,null,null,null,null,null,null,null,null,null,null,null,null,null,null,null,null,null,null,null,"Cliente 27"]
[null,null,null,null,null,null,null,null,null,null,null,null,null,null,null,null,null,null,null,null,null,null,null,null,null,null,null,null,null,null,null,"Cliente 28"]
[null,null,null,null,null,null,null,null,null,null,null,null,null,null,null,null,null,null,null,null,null,null,null,null,null,null,null,null,null,null,null,"Cliente 29"]
[null,null,null,null,null,null,null,null,null,null,null,null,null,null,null,null,null,null,null,null,null,null,null,null,null,null,null,null,null,null,null,"Cliente 30"]
[null,null,null,null,null,null,null,null,null,null,null,null,null,null,null,null,null,null,null,null,null,null,null,null,null,null,null,null,null,null,null,"Cliente 31"]
[null,null,null,null,null,null,null,null,null,null,null,null,null,null,null,null,null,null,null,null,null,null,null,null,null,null,null,null,null,null,null,"Cliente 32"]
[null,null,null,null,null,null,null,null,null,null,null,null,null,null,null,null,null,null,null,null,null,null,null,null,null,null,null,null,null,null,null,"Cliente 33"]
[null,null,null,null,null,null,null,null,null,null,null,null,null,null,null,null,null,null,null,null,null,null,null,null,null,null,null,null,null,null,null,"Cliente 34"]
[null,null,null,null,null,null,null,null,null,null,null,null,null,null,null,null,null,null,null,null,null,null,null,null,null,null,null,null,null,null,null,"Cliente 35"]
[null,null,null,null,null,null,null,null,null,null,null,null,null,null,null,null,null,null,null,null,null,null,null,null,null,null,null,null,null,null,null,"Cliente 36"]
[null,null,null,null,null,null,null,null,null,null,null,null,null,null,null,null,null,null,null,null,null,null,null,null,null,null,null,null,null,null,null,"Cliente 37"]
[null,null,null,null,null,null,null,null,null,null,null,null,null,null,null,null,null,null,null,null,null,null,null,null,null,null,null,null,null,null,null,"Cliente 38"]
[null,null,null,null,null,null,null,null,null,null,null,null,null,null,null,null,null,null,null,null,null,null,null,null,null,null,null,null,null,null,null,"Cliente 39"]
[null,null,null,null,null,null,null,null,null,null,null,null,null,null,null,null,null,null,null,null,null,null,null,null,null,null,null,null,null,null,null,"Cliente 40"]
[null,null,null,null,null,null,null,null,null,null,null,null,null,null,null,null,null,null,null,null,null,null,null,null,null,null,null,null,null,null,null,"Cliente 41"]
[null,null,null,null,null,null,null,null,null,null,null,null,null,null,null,null,null,null,null,null,null,null,null,null,null,null,null,null,null,null,null,"Cliente 42"]
[null,null,null,null,null,null,null,null,null,null,null,null,null,null,null,null,null,null,null,null,null,null,null,null,null,null,null,null,null,null,null,"Cliente 43"]
[null,null,null,null,null,null,null,null,null,null,null,null,null,null,null,null,null,null,null,null,null,null,null,null,null,null,null,null,null,null,null,"Cliente 44"]
[null,null,null,null,null,null,null,null,null,null,null,null,null,null,null,null,null,null,null,null,null,null,null,null,null,null,null,null,null,null,null,"Cliente 45"]
[null,null,null,null,null,null,null,null,null,null,null,null,null,null,null,null,null,null,null,null,null,null,null,null,null,null,null,null,null,null,null,"Cliente 46"]
[null,null,null,null,null,null,null,null,null,null,null,null,null,null,null,null,null,null,null,null,null,null,null,null,null,null,null,null,null,null,null,"Cliente 47"]
[null,null,null,null,null,null,null,null,null,null,null,null,null,null,null,null,null,null,null,null,null,null,null,null,null,null,null,null,null,null,null,"Cliente 48"]
[null,null,null,null,null,null,null,null,null,null,null,null,null,null,null,null,null,null,null,null,null,null,null,null,null,null,null,null,null,null,null,"Cliente 49"]
[null,null,null,null,null,null,null,null,null,null,null,null,null,null,null,null,null,null,null,null,null,null,null,null,null,null,null,null,null,null,null,"Cliente 50"]

{"sheet":"A1_1","index":2,"n_rows":256,"n_cols":37,"rows_kept":256,"cut":false,"hidden":false,"merged":[[222,7,222,8],[223,7,223,8],[229,22,234,25],[229,36,234,36],[188,6,188,8],[191,6,191,8],[196,7,196,8],[207,6,207,8],[210,6,210,8],[213,6,213,8],[179,3,179,4],[179,12,179,13],[179,15,179,16],[180,3,180,4],[180,12,180,13],[180,15,180,16],[177,3,177,4],[177,12,177,13],[177,15,177,16],[178,3,178,4],[178,12,178,13],[178,15,178,16],[175,3,175,4],[175,12,175,13],[175,15,175,16],[176,3,176,4],[176,12,176,13],[176,15,176,16],[173,3,173,4],[173,12,173,13],[173,15,173,16],[174,3,174,4],[174,12,174,13],[174,15,174,16],[171,3,171,4],[171,12,171,13],[171,15,171,16],[172,3,172,4],[172,12,172,13],[172,15,172,16],[169,3,169,4],[169,12,169,13],[169,15,169,16],[170,3,170,4],[170,12,170,13],[170,15,170,16],[167,3,167,4],[167,12,167,13],[167,15,167,16],[168,3,168,4],[168,12,168,13],[168,15,168,16],[165,3,165,4],[165,12,165,13],[165,15,165,16],[166,3,166,4],[166,12,166,13],[166,15,166,16],[163,3,163,4],[163,12,163,13],[163,15,163,16],[164,3,164,4],[164,12,164,13],[164,15,164,16],[161,3,161,4],[161,12,161,13],[161,15,161,16],[162,3,162,4],[162,12,162,13],[162,15,162,16],[159,3,159,4],[159,12,159,13],[159,15,159,16],[160,3,160,4],[160,12,160,13],[160,15,160,16],[157,3,157,4],[157,12,157,13],[157,15,157,16],[158,3,158,4],[158,12,158,13],[158,15,158,16],[155,3,155,4],[155,12,155,13],[155,15,155,16],[156,3,156,4],[156,12,156,13],[156,15,156,16],[153,3,153,4],[153,12,153,13],[153,15,153,16],[154,3,154,4],[154,12,154,13],[154,15,154,16],[151,3,151,4],[151,12,151,13],[151,15,151,16],[152,3,152,4],[152,12,152,13],[152,15,152,16],[149,3,149,4],[149,12,149,13],[149,15,149,16],[150,3,150,4],[150,12,150,13],[150,15,150,16],[147,3,147,4],[147,12,147,13],[147,15,147,16],[148,3,148,4],[148,12,148,13],[148,15,148,16],[145,3,145,4],[145,12,145,13],[145,15,145,16],[146,3,146,4],[146,12,146,13],[146,15,146,16],[143,3,143,4],[143,12,143,13],[143,15,143,16],[144,3,144,4],[144,12,144,13],[144,15,144,16],[141,3,141,4],[141,12,141,13],[141,15,141,16],[142,3,142,4],[142,12,142,13],[142,15,142,16],[139,3,139,4],[139,12,139,13],[139,15,139,16],[140,3,140,4],[140,12,140,13],[140,15,140,16],[137,3,137,4],[137,12,137,13],[137,15,137,16],[138,3,138,4],[138,12,138,13],[138,15,138,16],[135,3,135,4],[135,12,135,13],[135,15,135,16],[136,3,136,4],[136,12,136,13],[136,15,136,16],[133,3,133,4],[133,12,133,13],[133,15,133,16],[134,3,134,4],[134,12,134,13],[134,15,134,16],[131,3,131,4],[131,12,131,13],[131,15,131,16],[132,3,132,4],[132,12,132,13],[132,15,132,16],[118,2,118,3],[118,4,118,8],[118,10,118,11],[130,3,130,4],[130,11,130,13],[130,14,130,16],[116,2,116,3],[116,4,116,8],[116,10,116,11],[117,2,117,3],[117,4,117,8],[117,10,117,11],[114,2,114,3],[114,4,114,8],[114,10,114,11],[115,2,115,3],[115,4,115,8],[115,10,115,11],[112,2,112,3],[112,4,112,8],[112,10,112,11],[113,2,113,3],[113,4,113,8],[113,10,113,11],[110,2,110,3],[110,4,110,8],[110,10,110,11],[111,2,111,3],[111,4,111,8],[111,10,111,11],[108,2,108,3],[108,4,108,8],[108,10,108,11],[109,2,109,3],[109,4,109,8],[109,10,109,11],[106,2,106,3],[106,4,106,8],[106,10,106,11],[107,2,107,3],[107,4,107,8],[107,10,107,11],[104,2,104,3],[104,4,104,8],[104,10,104,11],[105,2,105,3],[105,4,105,8],[105,10,105,11],[102,2,102,3],[102,4,102,8],[102,10,102,11],[103,2,103,3],[103,4,103,8],[103,10,103,11],[100,2,100,3],[100,4,100,8],[100,10,100,11],[101,2,101,3],[101,4,101,8],[101,10,101,11],[94,3,94,5],[94,6,94,11],[98,2,98,3],[98,4,98,8],[98,10,98,11],[99,2,99,3],[99,4,99,8],[99,10,99,11],[91,3,91,5],[91,6,91,11],[92,3,92,5],[92,6,92,11],[93,3,93,5],[93,6,93,11],[88,3,88,5],[88,6,88,11],[89,3,89,5],[89,6,89,11],[90,3,90,5],[90,6,90,11],[85,3,85,5],[85,6,85,11],[86,3,86,5],[86,6,86,11],[87,3,87,5],[87,6,87,11],[82,3,82,5],[82,6,82,11],[83,3,83,5],[83,6,83,11],[84,3,84,5],[84,6,84,11],[79,3,79,5],[79,6,79,11],[80,3,80,5],[80,6,80,11],[81,3,81,5],[81,6,81,11],[76,3,76,5],[76,6,76,11],[77,3,77,5],[77,6,77,11],[78,3,78,5],[78,6,78,11],[73,3,73,5],[73,6,73,11],[74,3,74,5],[74,6,74,11],[75,3,75,5],[75,6,75,11],[1,1,1,20],[8,4,8,6],[20,2,20,3],[20,4,20,6],[28,4,28,6],[58,4,58,6]]}
["A.1."]
[null,"PATRÓN A.1. CONSUMOS DE LA FLOTA. RUTA GENÉRICA"]
[]
[]
[]
[]
[null,"Tipo de vehículo"]
[]
[null,null,"Tipo de vehículo (MMA)"]
[]
[null,null,"Carga útil del camión",null,null,null,25,"t"]
[]
[]
[]
[]
[null,"Proporción de viajes en vacío"]
[null,null,"Si la ruta es abierta, introduzca la siguiente información"]
[null,null,"Proporción de recorrido adicional en vacío (%)",null,null,null,0.15]
[]
[null,null,"En caso de no conocer la proporción de viajes en vacío, introduzca la siguiente información:"]
[null,null,"Tipo de transporte"]
[null,null,"Proporción de recorrido adicional en vacío estimada",null,null,null,{"$f":"IFERROR(VLOOKUP($E$21,t_porcentaje_vacio,2,0),\"\")","v":""}]
[]
[]
[]
[]
[null,"Consumo y tipo de combustible. Enfoque: valores individuales de medida"]
[]
[null,null,"Tipo de combustible",null,"Diésel mezcla con biodiésel según R.D. 1085/2015"]
[]
[null,null,"Introduzca los siguientes datos sobre los repostajes realizados antes, durante y después de la ruta"]
[null,null,null,null,"Km tacógrafo",null,"Litros repostados"]
[null,null,null,"Repostaje anterior a la ruta",null,"km"]
[]
[null,null,null,"Repostaje en ruta (1)",null,"km",null,"l."]
[null,null,null,"Repostaje en ruta (2)",null,"km",null,"l."]
[null,null,null,"Repostaje en ruta (3)",null,"km",null,"l."]
[null,null,null,"Repostaje en ruta (4)",null,"km",null,"l."]
[null,null,null,"Repostaje en ruta (5)",null,"km",null,"l."]
[null,null,null,"Repostaje en ruta (6)",null,"km",null,"l."]
[null,null,null,"Repostaje en ruta (7)",null,"km",null,"l."]
[null,null,null,"Repostaje en ruta (8)",null,"km",null,"l."]
[]
[null,null,null,"Repostaje posterior a la ruta",null,"km",null,"l."]
[]
[null,null,"Introduzca los siguientes datos sobre el inicio y final de la ruta"]
[null,null,null,"Inicio de la ruta",null,"km"]
[null,null,null,"Final de la ruta",null,"km"]
[]
[null,null,"Si la ruta es abierta, introduzca la siguiente información"]
[null,null,"Consumo específico de combustible en vacío",null,null,null,null,"l/100km"]
[]
[null,null,"Consumo de combustible de la ruta",null,null,null,{"$f":"IFERROR(($E$35-$E$47)/($E$35-$E$33)*$G$35+SUM($G$36:$G$42)+($E$48-$E$42)/($E$44-$E$42)*$G$44+$G$51/100*($E$48-$E$47)*IF($G$18<>\"\",$G$18,$G$22),0)","v":0},"l"]
[]
[]
[]
[null,"Consumo y tipo de combustible. Enfoque: valores específicos del operador de transporte"]
[]
[null,null,"Tipo de combustible",null,"Diésel mezcla con biodiésel según R.D. 1085/2015"]
[]
[null,null,"Introduzca los siguientes datos sobre el consumo de combustible del tipo de vehículo durante el periodo"]
[null,null,"Consumo registrado en el periodo considerado",null,null,null,null,"l"]
[null,null,"Distancia recorrida en el periodo considerado",null,null,null,null,"km"]
[null,null,"Consumo específico de combustible",null,null,null,{"$f":"IFERROR(G62/G63,\"\")","v":""},"l/100km"]
[]
[null,null,"Consumo de combustible de la ruta",null,null,null,{"$f":"IF($G$64<>\"\",$G$64*($N$120+$N$121),\"\")","v":""},"l"]
[]
[]
[]
[]
[null,"Localizaciones y distancias"]
[]
[null,null,"Denominación y localización de las paradas que componen la ruta"]
[null,null,"Número de parada","Denominación (importante cumplimentar)",null,null,"Localización"]
[null,null,1,"Almacén Madrid",null,null,"Madrid"]
[null,null,2,"Almacén Zaragoza",null,null,"Zaragoza"]
[null,null,3,"Almacén Barcelona",null,null,"Barcelona"]
[null,null,4]
[null,null,5]
[null,null,6]
[null,null,7]
[null,null,8]
[null,null,9]
[null,null,10]
[null,null,11]
[null,null,12]
[null,null,13]
[null,null,14]
[null,null,15]
[null,null,16]
[null,null,17]
[null,null,18]
[null,null,19]
[null,null,20]
[null,null,21]
[]
[]
[null,null,"Longitud y carga y consumo de combustible de cada uno de los tramos que componen la ruta"]
[null,null,"Número de paradas",null,"Denominación de las paradas",null,null,null,null,"¿Se conoce la distancia recorrida?","Distancia recorrida (km)",null,"Distancia directa (km)","Distancia de cálculo (km)",null,"Carga transportada (t)","Tasa de carga del tramo","Consumo específico de combustible del tramo (l/100 km)","Consumo específico de combustible del tramo (l/100 km) de cálculo","Consumo de combustible del tramo (l)"]
[null,null,"Parada 1 → Parada 2",null,{"$f":"IF(D76<>\"\",D75&\" → \"&D76,\"\")","v":"Almacén Madrid → Almacén Zaragoza"},null,null,null,null,"Sí",314,null,{"$f":"IF(AND(G75<>\"\",G76<>\"\"),getGoogleDistance(txtNoAcc(G75),txtNoAcc(G76))*1,\"\")","v":313.60000000000002},{"$f":"IF(K100<>0,K100,M100)","v":314},null,16,{"$f":"IFERROR(P100/$G$11,\"\")","v":0.64},27,{"$f":"IF(AK236<>0,AK236,IF($G$64<>\"\",$G$64,IF(R100<>\"\",R100,\"\")))","v":27},{"$f":"IFERROR(IF(N100<>\"\",S100*N100/100,\"\"),\"\")","v":84.78}]
[null,null,"Parada 2 → Parada 3",null,{"$f":"IF(D77<>\"\",D76&\" → \"&D77,\"\")","v":"Almacén Zaragoza → Almacén Barcelona"},null,null,null,null,"Sí",312,null,{"$f":"IF(AND(G76<>\"\",G77<>\"\"),getGoogleDistance(txtNoAcc(G76),txtNoAcc(G77))*1,\"\")","v":315.60000000000002},312,null,14,{"$f":"IFERROR(P101/$G$11,\"\")","v":0.56000000000000005},27,{"$f":"IF(AK237<>0,AK237,IF($G$64<>\"\",$G$64,IF(R101<>\"\",R101,\"\")))","v":27},{"$f":"IFERROR(IF(N101<>\"\",S101*N101/100,\"\"),\"\")","v":84.24}]
[null,null,"Parada 3 → Parada 4",null,"",null,null,null,null,null,null,null,{"$f":"IF(AND(G77<>\"\",G78<>\"\"),getGoogleDistance(txtNoAcc(G77),txtNoAcc(G78))*1,\"\")","v":""},"",null,{"$f":"IF(N102<>\"\",SUMIFS($G$132:$G$181,$L$132:$L$181,\"<=\"&C77,$O$132:$O$181,\">=\"&C78),\"\")","v":""},"",null,{"$f":"IF(AK238<>0,AK238,IF($G$64<>\"\",$G$64,IF(R102<>\"\",R102,\"\")))","v":""},""]
[null,null,"Parada 4 → Parada 5",null,"",null,null,null,null,null,null,null,{"$f":"IF(AND(G78<>\"\",G79<>\"\"),getGoogleDistance(txtNoAcc(G78),txtNoAcc(G79))*1,\"\")","v":""},"",null,"","",null,"",""]
[null,null,"Parada 5 → Parada 6",null,"",null,null,null,null,null,null,null,{"$f":"IF(AND(G79<>\"\",G80<>\"\"),getGoogleDistance(txtNoAcc(G79),txtNoAcc(G80))*1,\"\")","v":""},"",null,"","",null,"",""]
[null,null,"Parada 6 → Parada 7",null,"",null,null,null,null,null,null,null,{"$f":"IF(AND(G80<>\"\",G81<>\"\"),getGoogleDistance(txtNoAcc(G80),txtNoAcc(G81))*1,\"\")","v":""},"",null,"","",null,"",""]
[null,null,"Parada 7 → Parada 8",null,"",null,null,null,null,null,null,null,{"$f":"IF(AND(G81<>\"\",G82<>\"\"),getGoogleDistance(txtNoAcc(G81),txtNoAcc(G82))*1,\"\")","v":""},"",null,"","",null,"",""]
[null,null,"Parada 8 → Parada 9",null,"",null,null,null,null,null,null,null,{"$f":"IF(AND(G82<>\"\",G83<>\"\"),getGoogleDistance(txtNoAcc(G82),txtNoAcc(G83))*1,\"\")","v":""},"",null,"","",null,"",""]
[null,null,"Parada 9 → Parada 10",null,"",null,null,null,null,null,null,null,{"$f":"IF(AND(G83<>\"\",G84<>\"\"),getGoogleDistance(txtNoAcc(G83),txtNoAcc(G84))*1,\"\")","v":""},"",null,"","",null,"",""]
[null,null,"Parada 10 → Parada 11",null,"",null,null,null,null,null,null,null,{"$f":"IF(AND(G84<>\"\",G85<>\"\"),getGoogleDistance(txtNoAcc(G84),txtNoAcc(G85))*1,\"\")","v":""},"",null,"","",null,"",""]
[null,null,"Parada 11 → Parada 12",null,"",null,null,null,null,null,null,null,{"$f":"IF(AND(G85<>\"\",G86<>\"\"),getGoogleDistance(txtNoAcc(G85),txtNoAcc(G86))*1,\"\")","v":""},"",null,"","",null,"",""]
[null,null,"Parada 12 → Parada 13",null,"",null,null,null,null,null,null,null,{"$f":"IF(AND(G86<>\"\",G87<>\"\"),getGoogleDistance(txtNoAcc(G86),txtNoAcc(G87))*1,\"\")","v":""},"",null,"","",null,"",""]
[null,null,"Parada 13 → Parada 14",null,"",null,null,null,null,null,null,null,{"$f":"IF(AND(G87<>\"\",G88<>\"\"),getGoogleDistance(txtNoAcc(G87),txtNoAcc(G88))*1,\"\")","v":""},"",null,"","",null,"",""]
[null,null,"Parada 14 → Parada 15",null,"",null,null,null,null,null,null,null,{"$f":"IF(AND(G88<>\"\",G89<>\"\"),getGoogleDistance(txtNoAcc(G88),txtNoAcc(G89))*1,\"\")","v":""},"",null,"","",null,"",""]
[null,null,"Parada 15 → Parada 16",null,"",null,null,null,null,null,null,null,{"$f":"IF(AND(G89<>\"\",G90<>\"\"),getGoogleDistance(txtNoAcc(G89),txtNoAcc(G90))*1,\"\")","v":""},"",null,"","",null,"",""]
[null,null,"Parada 16 → Parada 17",null,"",null,null,null,null,null,null,null,{"$f":"IF(AND(G90<>\"\",G91<>\"\"),getGoogleDistance(txtNoAcc(G90),txtNoAcc(G91))*1,\"\")","v":""},"",null,"","",null,"",""]
[null,null,"Parada 17 → Parada 18",null,"",null,null,null,null,null,null,null,{"$f":"IF(AND(G91<>\"\",G92<>\"\"),getGoogleDistance(txtNoAcc(G91),txtNoAcc(G92))*1,\"\")","v":""},"",null,"","",null,"",""]
[null,null,"Parada 18 → Parada 19",null,"",null,null,null,null,null,null,null,{"$f":"IF(AND(G92<>\"\",G93<>\"\"),getGoogleDistance(txtNoAcc(G92),txtNoAcc(G93))*1,\"\")","v":""},"",null,"","",null,"",""]
[null,null,"Parada 19 → Parada 20",null,"",null,null,null,null,null,null,null,{"$f":"IF(AND(G93<>\"\",G94<>\"\"),getGoogleDistance(txtNoAcc(G93),txtNoAcc(G94))*1,\"\")","v":""},"",null,"","",null,"",""]
[null,null,"Parada 20 → Parada 21",null,"",null,null,null,null,null,null,null,{"$f":"IF(AND(G94<>\"\",G95<>\"\"),getGoogleDistance(txtNoAcc(G94),txtNoAcc(G95))*1,\"\")","v":""},"",null,"","",null,"",""]
[null,null,null,null,null,null,null,null,null,null,null,null,"Distancia recorrida en cada uno de los tramos",{"$f":"SUM(N100:N119)","v":626},"km"]
[null,null,null,null,null,null,null,null,null,null,null,null,"Distancia recorrida en vacío atribuible a la ruta",{"$f":"IFERROR(IF($G$18<>0,$N$120*$G$18,$N$120*$G$22),0)","v":93.899999999999991},"km",null,"Consumo específico en vacío",22,{"$f":"IF(G51<>\"\",G51,IF(G64<>\"\",G64,R121))","v":22},{"$f":"IF(N121<>\"\",S121*N121/100,\"\")","v":20.657999999999998},"l."]
[null,null,null,null,null,null,null,null,null,null,null,null,"Distancia recorrida en la ruta",{"$f":"N120+N121","v":719.9},"km",null,null,null,"Consumo de combustible de la ruta",{"$f":"SUM(T100:T119)+T121","v":189.67799999999997},"l."]
[]
[]
[]
[]
[]
[]
[null,"Características de los envíos"]
[]
[null,null,"Cliente del envío","Denominación del envío",null,null,"Carga bruta del envío (t)","Carga refrigerada - no refrigerada","Volumen del envío en almacenamiento (m3) - en caso de que la carga sea almacenada","Días de almacenamiento - en caso de que la carga sea almacenada",null,"Origen del envío",null,null,"Destino del envío",null,null,"Distancia directa (km)","Distancia recorrida (km)"]
[null,null,"Cliente 1","Envío 1",null,null,12,"Refrigerada",24,3,null,{"$f":"IFERROR(IF(M132<>0,VLOOKUP(M132,CHOOSE({2,1},$C$75:$C$95,$D$75:$D$95),2,0),\"\"),\"\")","v":1},"Almacén Madrid",null,{"$f":"IFERROR(IF(P132<>0,VLOOKUP(P132,CHOOSE({2,1},$C$75:$C$95,$D$75:$D$95),2,0),\"\"),\"\")","v":3},"Almacén Barcelona",null,{"$f":"IF(AND(M132<>\"\",P132<>\"\"),getGoogleDistance(txtNoAcc(VLOOKUP(M132,$D$75:$L$95,4,0)),txtNoAcc(VLOOKUP(P132,$D$75:$L$95,4,0))),\"\")","v":"624,6"},{"$f":"IFERROR(SUM(OFFSET($N$99,$L132,0):OFFSET($N$99,$O132-1,0)),\"\")","v":626}]
[null,null,"Cliente 2","Envío 2",null,null,4,"Refrigerada",null,null,null,{"$f":"IFERROR(IF(M133<>0,VLOOKUP(M133,CHOOSE({2,1},$C$75:$C$95,$D$75:$D$95),2,0),\"\"),\"\")","v":1},"Almacén Madrid",null,{"$f":"IFERROR(IF(P133<>0,VLOOKUP(P133,CHOOSE({2,1},$C$75:$C$95,$D$75:$D$95),2,0),\"\"),\"\")","v":2},"Almacén Zaragoza",null,{"$f":"IF(AND(M133<>\"\",P133<>\"\"),getGoogleDistance(txtNoAcc(VLOOKUP(M133,$D$75:$L$95,4,0)),txtNoAcc(VLOOKUP(P133,$D$75:$L$95,4,0))),\"\")","v":"313,6"},{"$f":"IFERROR(SUM(OFFSET($N$99,$L133,0):OFFSET($N$99,$O133-1,0)),\"\")","v":314}]
[null,null,"Cliente 3","Envío 3",null,null,2,"Refrigerada",null,null,null,{"$f":"IFERROR(IF(M134<>0,VLOOKUP(M134,CHOOSE({2,1},$C$75:$C$95,$D$75:$D$95),2,0),\"\"),\"\")","v":2},"Almacén Zaragoza",null,{"$f":"IFERROR(IF(P134<>0,VLOOKUP(P134,CHOOSE({2,1},$C$75:$C$95,$D$75:$D$95),2,0),\"\"),\"\")","v":3},"Almacén Barcelona",null,{"$f":"IF(AND(M134<>\"\",P134<>\"\"),getGoogleDistance(txtNoAcc(VLOOKUP(M134,$D$75:$L$95,4,0)),txtNoAcc(VLOOKUP(P134,$D$75:$L$95,4,0))),\"\")","v":"315,6"},{"$f":"IFERROR(SUM(OFFSET($N$99,$L134,0):OFFSET($N$99,$O134-1,0)),\"\")","v":312}]
[null,null,null,null,null,null,null,null,null,null,null,{"$f":"IFERROR(IF(M135<>0,VLOOKUP(M135,CHOOSE({2,1},$C$75:$C$95,$D$75:$D$95),2,0),\"\"),\"\")","v":""},null,null,{"$f":"IFERROR(IF(P135<>0,VLOOKUP(P135,CHOOSE({2,1},$C$75:$C$95,$D$75:$D$95),2,0),\"\"),\"\")","v":""},null,null,{"$f":"IF(AND(M135<>\"\",P135<>\"\"),getGoogleDistance(txtNoAcc(VLOOKUP(M135,$D$75:$L$95,4,0)),txtNoAcc(VLOOKUP(P135,$D$75:$L$95,4,0))),\"\")","v":""},{"$f":"IFERROR(SUM(OFFSET($N$99,$L135,0):OFFSET($N$99,$O135-1,0)),\"\")","v":""}]
[null,null,null,null,null,null,null,null,null,null,null,{"$f":"IFERROR(IF(M136<>0,VLOOKUP(M136,CHOOSE({2,1},$C$75:$C$95,$D$75:$D$95),2,0),\"\"),\"\")","v":""},null,null,{"$f":"IFERROR(IF(P136<>0,VLOOKUP(P136,CHOOSE({2,1},$C$75:$C$95,$D$75:$D$95),2,0),\"\"),\"\")","v":""},null,null,{"$f":"IF(AND(M136<>\"\",P136<>\"\"),getGoogleDistance(txtNoAcc(VLOOKUP(M136,$D$75:$L$95,4,0)),txtNoAcc(VLOOKUP(P136,$D$75:$L$95,4,0))),\"\")","v":""},{"$f":"IFERROR(SUM(OFFSET($N$99,$L136,0):OFFSET($N$99,$O136-1,0)),\"\")","v":""}]
[null,null,null,null,null,null,null,null,null,null,null,{"$f":"IFERROR(IF(M137<>0,VLOOKUP(M137,CHOOSE({2,1},$C$75:$C$95,$D$75:$D$95),2,0),\"\"),\"\")","v":""},null,null,{"$f":"IFERROR(IF(P137<>0,VLOOKUP(P137,CHOOSE({2,1},$C$75:$C$95,$D$75:$D$95),2,0),\"\"),\"\")","v":""},null,null,{"$f":"IF(AND(M137<>\"\",P137<>\"\"),getGoogleDistance(txtNoAcc(VLOOKUP(M137,$D$75:$L$95,4,0)),txtNoAcc(VLOOKUP(P137,$D$75:$L$95,4,0))),\"\")","v":""},{"$f":"IFERROR(SUM(OFFSET($N$99,$L137,0):OFFSET($N$99,$O137-1,0)),\"\")","v":""}]
[null,null,null,null,null,null,null,null,null,null,null,{"$f":"IFERROR(IF(M138<>0,VLOOKUP(M138,CHOOSE({2,1},$C$75:$C$95,$D$75:$D$95),2,0),\"\"),\"\")","v":""},null,null,{"$f":"IFERROR(IF(P138<>0,VLOOKUP(P138,CHOOSE({2,1},$C$75:$C$95,$D$75:$D$95),2,0),\"\"),\"\")","v":""},null,null,{"$f":"IF(AND(M138<>\"\",P138<>\"\"),getGoogleDistance(txtNoAcc(VLOOKUP(M138,$D$75:$L$95,4,0)),txtNoAcc(VLOOKUP(P138,$D$75:$L$95,4,0))),\"\")","v":""},{"$f":"IFERROR(SUM(OFFSET($N$99,$L138,0):OFFSET($N$99,$O138-1,0)),\"\")","v":""}]
[null,null,null,null,null,null,null,null,null,null,null,{"$f":"IFERROR(IF(M139<>0,VLOOKUP(M139,CHOOSE({2,1},$C$75:$C$95,$D$75:$D$95),2,0),\"\"),\"\")","v":""},null,null,{"$f":"IFERROR(IF(P139<>0,VLOOKUP(P139,CHOOSE({2,1},$C$75:$C$95,$D$75:$D$95),2,0),\"\"),\"\")","v":""},null,null,{"$f":"IF(AND(M139<>\"\",P139<>\"\"),getGoogleDistance(txtNoAcc(VLOOKUP(M139,$D$75:$L$95,4,0)),txtNoAcc(VLOOKUP(P139,$D$75:$L$95,4,0))),\"\")","v":""},{"$f":"IFERROR(SUM(OFFSET($N$99,$L139,0):OFFSET($N$99,$O139-1,0)),\"\")","v":""}]
[null,null,null,null,null,null,null,null,null,null,null,{"$f":"IFERROR(IF(M140<>0,VLOOKUP(M140,CHOOSE({2,1},$C$75:$C$95,$D$75:$D$95),2,0),\"\"),\"\")","v":""},null,null,{"$f":"IFERROR(IF(P140<>0,VLOOKUP(P140,CHOOSE({2,1},$C$75:$C$95,$D$75:$D$95),2,0),\"\"),\"\")","v":""},null,null,{"$f":"IF(AND(M140<>\"\",P140<>\"\"),getGoogleDistance(txtNoAcc(VLOOKUP(M140,$D$75:$L$95,4,0)),txtNoAcc(VLOOKUP(P140,$D$75:$L$95,4,0))),\"\")","v":""},{"$f":"IFERROR(SUM(OFFSET($N$99,$L140,0):OFFSET($N$99,$O140-1,0)),\"\")","v":""}]
[null,null,null,null,null,null,null,null,null,null,null,{"$f":"IFERROR(IF(M141<>0,VLOOKUP(M141,CHOOSE({2,1},$C$75:$C$95,$D$75:$D$95),2,0),\"\"),\"\")","v":""},null,null,{"$f":"IFERROR(IF(P141<>0,VLOOKUP(P141,CHOOSE({2,1},$C$75:$C$95,$D$75:$D$95),2,0),\"\"),\"\")","v":""},null,null,{"$f":"IF(AND(M141<>\"\",P141<>\"\"),getGoogleDistance(txtNoAcc(VLOOKUP(M141,$D$75:$L$95,4,0)),txtNoAcc(VLOOKUP(P141,$D$75:$L$95,4,0))),\"\")","v":""},{"$f":"IFERROR(SUM(OFFSET($N$99,$L141,0):OFFSET($N$99,$O141-1,0)),\"\")","v":""}]
[null,null,null,null,null,null,null,null,null,null,null,{"$f":"IFERROR(IF(M142<>0,VLOOKUP(M142,CHOOSE({2,1},$C$75:$C$95,$D$75:$D$95),2,0),\"\"),\"\")","v":""},null,null,{"$f":"IFERROR(IF(P142<>0,VLOOKUP(P142,CHOOSE({2,1},$C$75:$C$95,$D$75:$D$95),2,0),\"\"),\"\")","v":""},null,null,{"$f":"IF(AND(M142<>\"\",P142<>\"\"),getGoogleDistance(txtNoAcc(VLOOKUP(M142,$D$75:$L$95,4,0)),txtNoAcc(VLOOKUP(P142,$D$75:$L$95,4,0))),\"\")","v":""},{"$f":"IFERROR(SUM(OFFSET($N$99,$L142,0):OFFSET($N$99,$O142-1,0)),\"\")","v":""}]
[null,null,null,null,null,null,null,null,null,null,null,{"$f":"IFERROR(IF(M143<>0,VLOOKUP(M143,CHOOSE({2,1},$C$75:$C$95,$D$75:$D$95),2,0),\"\"),\"\")","v":""},null,null,{"$f":"IFERROR(IF(P143<>0,VLOOKUP(P143,CHOOSE({2,1},$C$75:$C$95,$D$75:$D$95),2,0),\"\"),\"\")","v":""},null,null,{"$f":"IF(AND(M143<>\"\",P143<>\"\"),getGoogleDistance(txtNoAcc(VLOOKUP(M143,$D$75:$L$95,4,0)),txtNoAcc(VLOOKUP(P143,$D$75:$L$95,4,0))),\"\")","v":""},{"$f":"IFERROR(SUM(OFFSET($N$99,$L143,0):OFFSET($N$99,$O143-1,0)),\"\")","v":""}]
[null,null,null,null,null,null,null,null,null,null,null,{"$f":"IFERROR(IF(M144<>0,VLOOKUP(M144,CHOOSE({2,1},$C$75:$C$95,$D$75:$D$95),2,0),\"\"),\"\")","v":""},null,null,{"$f":"IFERROR(IF(P144<>0,VLOOKUP(P144,CHOOSE({2,1},$C$75:$C$95,$D$75:$D$95),2,0),\"\"),\"\")","v":""},null,null,{"$f":"IF(AND(M144<>\"\",P144<>\"\"),getGoogleDistance(txtNoAcc(VLOOKUP(M144,$D$75:$L$95,4,0)),txtNoAcc(VLOOKUP(P144,$D$75:$L$95,4,0))),\"\")","v":""},{"$f":"IFERROR(SUM(OFFSET($N$99,$L144,0):OFFSET($N$99,$O144-1,0)),\"\")","v":""}]
[null,null,null,null,null,null,null,null,null,null,null,{"$f":"IFERROR(IF(M145<>0,VLOOKUP(M145,CHOOSE({2,1},$C$75:$C$95,$D$75:$D$95),2,0),\"\"),\"\")","v":""},null,null,{"$f":"IFERROR(IF(P145<>0,VLOOKUP(P145,CHOOSE({2,1},$C$75:$C$95,$D$75:$D$95),2,0),\"\"),\"\")","v":""},null,null,{"$f":"IF(AND(M145<>\"\",P145<>\"\"),getGoogleDistance(txtNoAcc(VLOOKUP(M145,$D$75:$L$95,4,0)),txtNoAcc(VLOOKUP(P145,$D$75:$L$95,4,0))),\"\")","v":""},{"$f":"IFERROR(SUM(OFFSET($N$99,$L145,0):OFFSET($N$99,$O145-1,0)),\"\")","v":""}]
[null,null,null,null,null,null,null,null,null,null,null,{"$f":"IFERROR(IF(M146<>0,VLOOKUP(M146,CHOOSE({2,1},$C$75:$C$95,$D$75:$D$95),2,0),\"\"),\"\")","v":""},null,null,{"$f":"IFERROR(IF(P146<>0,VLOOKUP(P146,CHOOSE({2,1},$C$75:$C$95,$D$75:$D$95),2,0),\"\"),\"\")","v":""},null,null,{"$f":"IF(AND(M146<>\"\",P146<>\"\"),getGoogleDistance(txtNoAcc(VLOOKUP(M146,$D$75:$L$95,4,0)),txtNoAcc(VLOOKUP(P146,$D$75:$L$95,4,0))),\"\")","v":""},{"$f":"IFERROR(SUM(OFFSET($N$99,$L146,0):OFFSET($N$99,$O146-1,0)),\"\")","v":""}]
[null,null,null,null,null,null,null,null,null,null,null,{"$f":"IFERROR(IF(M147<>0,VLOOKUP(M147,CHOOSE({2,1},$C$75:$C$95,$D$75:$D$95),2,0),\"\"),\"\")","v":""},null,null,{"$f":"IFERROR(IF(P147<>0,VLOOKUP(P147,CHOOSE({2,1},$C$75:$C$95,$D$75:$D$95),2,0),\"\"),\"\")","v":""},null,null,{"$f":"IF(AND(M147<>\"\",P147<>\"\"),getGoogleDistance(txtNoAcc(VLOOKUP(M147,$D$75:$L$95,4,0)),txtNoAcc(VLOOKUP(P147,$D$75:$L$95,4,0))),\"\")","v":""},{"$f":"IFERROR(SUM(OFFSET($N$99,$L147,0):OFFSET($N$99,$O147-1,0)),\"\")","v":""}]
[null,null,null,null,null,null,null,null,null,null,null,{"$f":"IFERROR(IF(M148<>0,VLOOKUP(M148,CHOOSE({2,1},$C$75:$C$95,$D$75:$D$95),2,0),\"\"),\"\")","v":""},null,null,{"$f":"IFERROR(IF(P148<>0,VLOOKUP(P148,CHOOSE({2,1},$C$75:$C$95,$D$75:$D$95),2,0),\"\"),\"\")","v":""},null,null,{"$f":"IF(AND(M148<>\"\",P148<>\"\"),getGoogleDistance(txtNoAcc(VLOOKUP(M148,$D$75:$L$95,4,0)),txtNoAcc(VLOOKUP(P148,$D$75:$L$95,4,0))),\"\")","v":""},{"$f":"IFERROR(SUM(OFFSET($N$99,$L148,0):OFFSET($N$99,$O148-1,0)),\"\")","v":""}]
[null,null,null,null,null,null,null,null,null,null,null,{"$f":"IFERROR(IF(M149<>0,VLOOKUP(M149,CHOOSE({2,1},$C$75:$C$95,$D$75:$D$95),2,0),\"\"),\"\")","v":""},null,null,{"$f":"IFERROR(IF(P149<>0,VLOOKUP(P149,CHOOSE({2,1},$C$75:$C$95,$D$75:$D$95),2,0),\"\"),\"\")","v":""},null,null,{"$f":"IF(AND(M149<>\"\",P149<>\"\"),getGoogleDistance(txtNoAcc(VLOOKUP(M149,$D$75:$L$95,4,0)),txtNoAcc(VLOOKUP(P149,$D$75:$L$95,4,0))),\"\")","v":""},{"$f":"IFERROR(SUM(OFFSET($N$99,$L149,0):OFFSET($N$99,$O149-1,0)),\"\")","v":""}]
[null,null,null,null,null,null,null,null,null,null,null,{"$f":"IFERROR(IF(M150<>0,VLOOKUP(M150,CHOOSE({2,1},$C$75:$C$95,$D$75:$D$95),2,0),\"\"),\"\")","v":""},null,null,{"$f":"IFERROR(IF(P150<>0,VLOOKUP(P150,CHOOSE({2,1},$C$75:$C$95,$D$75:$D$95),2,0),\"\"),\"\")","v":""},null,null,{"$f":"IF(AND(M150<>\"\",P150<>\"\"),getGoogleDistance(txtNoAcc(VLOOKUP(M150,$D$75:$L$95,4,0)),txtNoAcc(VLOOKUP(P150,$D$75:$L$95,4,0))),\"\")","v":""},{"$f":"IFERROR(SUM(OFFSET($N$99,$L150,0):OFFSET($N$99,$O150-1,0)),\"\")","v":""}]
[null,null,null,null,null,null,null,null,null,null,null,{"$f":"IFERROR(IF(M151<>0,VLOOKUP(M151,CHOOSE({2,1},$C$75:$C$95,$D$75:$D$95),2,0),\"\"),\"\")","v":""},null,null,{"$f":"IFERROR(IF(P151<>0,VLOOKUP(P151,CHOOSE({2,1},$C$75:$C$95,$D$75:$D$95),2,0),\"\"),\"\")","v":""},null,null,{"$f":"IF(AND(M151<>\"\",P151<>\"\"),getGoogleDistance(txtNoAcc(VLOOKUP(M151,$D$75:$L$95,4,0)),txtNoAcc(VLOOKUP(P151,$D$75:$L$95,4,0))),\"\")","v":""},{"$f":"IFERROR(SUM(OFFSET($N$99,$L151,0):OFFSET($N$99,$O151-1,0)),\"\")","v":""}]
[null,null,null,null,null,null,null,null,null,null,null,{"$f":"IFERROR(IF(M152<>0,VLOOKUP(M152,CHOOSE({2,1},$C$75:$C$95,$D$75:$D$95),2,0),\"\"),\"\")","v":""},null,null,{"$f":"IFERROR(IF(P152<>0,VLOOKUP(P152,CHOOSE({2,1},$C$75:$C$95,$D$75:$D$95),2,0),\"\"),\"\")","v":""},null,null,{"$f":"IF(AND(M152<>\"\",P152<>\"\"),getGoogleDistance(txtNoAcc(VLOOKUP(M152,$D$75:$L$95,4,0)),txtNoAcc(VLOOKUP(P152,$D$75:$L$95,4,0))),\"\")","v":""},{"$f":"IFERROR(SUM(OFFSET($N$99,$L152,0):OFFSET($N$99,$O152-1,0)),\"\")","v":""}]
[null,null,null,null,null,null,null,null,null,null,null,{"$f":"IFERROR(IF(M153<>0,VLOOKUP(M153,CHOOSE({2,1},$C$75:$C$95,$D$75:$D$95),2,0),\"\"),\"\")","v":""},null,null,{"$f":"IFERROR(IF(P153<>0,VLOOKUP(P153,CHOOSE({2,1},$C$75:$C$95,$D$75:$D$95),2,0),\"\"),\"\")","v":""},null,null,{"$f":"IF(AND(M153<>\"\",P153<>\"\"),getGoogleDistance(txtNoAcc(VLOOKUP(M153,$D$75:$L$95,4,0)),txtNoAcc(VLOOKUP(P153,$D$75:$L$95,4,0))),\"\")","v":""},{"$f":"IFERROR(SUM(OFFSET($N$99,$L153,0):OFFSET($N$99,$O153-1,0)),\"\")","v":""}]
[null,null,null,null,null,null,null,null,null,null,null,{"$f":"IFERROR(IF(M154<>0,VLOOKUP(M154,CHOOSE({2,1},$C$75:$C$95,$D$75:$D$95),2,0),\"\"),\"\")","v":""},null,null,{"$f":"IFERROR(IF(P154<>0,VLOOKUP(P154,CHOOSE({2,1},$C$75:$C$95,$D$75:$D$95),2,0),\"\"),\"\")","v":""},null,null,{"$f":"IF(AND(M154<>\"\",P154<>\"\"),getGoogleDistance(txtNoAcc(VLOOKUP(M154,$D$75:$L$95,4,0)),txtNoAcc(VLOOKUP(P154,$D$75:$L$95,4,0))),\"\")","v":""},{"$f":"IFERROR(SUM(OFFSET($N$99,$L154,0):OFFSET($N$99,$O154-1,0)),\"\")","v":""}]
[null,null,null,null,null,null,null,null,null,null,null,{"$f":"IFERROR(IF(M155<>0,VLOOKUP(M155,CHOOSE({2,1},$C$75:$C$95,$D$75:$D$95),2,0),\"\"),\"\")","v":""},null,null,{"$f":"IFERROR(IF(P155<>0,VLOOKUP(P155,CHOOSE({2,1},$C$75:$C$95,$D$75:$D$95),2,0),\"\"),\"\")","v":""},null,null,{"$f":"IF(AND(M155<>\"\",P155<>\"\"),getGoogleDistance(txtNoAcc(VLOOKUP(M155,$D$75:$L$95,4,0)),txtNoAcc(VLOOKUP(P155,$D$75:$L$95,4,0))),\"\")","v":""},{"$f":"IFERROR(SUM(OFFSET($N$99,$L155,0):OFFSET($N$99,$O155-1,0)),\"\")","v":""}]
[null,null,null,null,null,null,null,null,null,null,null,{"$f":"IFERROR(IF(M156<>0,VLOOKUP(M156,CHOOSE({2,1},$C$75:$C$95,$D$75:$D$95),2,0),\"\"),\"\")","v":""},null,null,{"$f":"IFERROR(IF(P156<>0,VLOOKUP(P156,CHOOSE({2,1},$C$75:$C$95,$D$75:$D$95),2,0),\"\"),\"\")","v":""},null,null,{"$f":"IF(AND(M156<>\"\",P156<>\"\"),getGoogleDistance(txtNoAcc(VLOOKUP(M156,$D$75:$L$95,4,0)),txtNoAcc(VLOOKUP(P156,$D$75:$L$95,4,0))),\"\")","v":""},{"$f":"IFERROR(SUM(OFFSET($N$99,$L156,0):OFFSET($N$99,$O156-1,0)),\"\")","v":""}]
[null,null,null,null,null,null,null,null,null,null,null,{"$f":"IFERROR(IF(M157<>0,VLOOKUP(M157,CHOOSE({2,1},$C$75:$C$95,$D$75:$D$95),2,0),\"\"),\"\")","v":""},null,null,{"$f":"IFERROR(IF(P157<>0,VLOOKUP(P157,CHOOSE({2,1},$C$75:$C$95,$D$75:$D$95),2,0),\"\"),\"\")","v":""},null,null,{"$f":"IF(AND(M157<>\"\",P157<>\"\"),getGoogleDistance(txtNoAcc(VLOOKUP(M157,$D$75:$L$95,4,0)),txtNoAcc(VLOOKUP(P157,$D$75:$L$95,4,0))),\"\")","v":""},{"$f":"IFERROR(SUM(OFFSET($N$99,$L157,0):OFFSET($N$99,$O157-1,0)),\"\")","v":""}]
[null,null,null,null,null,null,null,null,null,null,null,{"$f":"IFERROR(IF(M158<>0,VLOOKUP(M158,CHOOSE({2,1},$C$75:$C$95,$D$75:$D$95),2,0),\"\"),\"\")","v":""},null,null,{"$f":"IFERROR(IF(P158<>0,VLOOKUP(P158,CHOOSE({2,1},$C$75:$C$95,$D$75:$D$95),2,0),\"\"),\"\")","v":""},null,null,{"$f":"IF(AND(M158<>\"\",P158<>\"\"),getGoogleDistance(txtNoAcc(VLOOKUP(M158,$D$75:$L$95,4,0)),txtNoAcc(VLOOKUP(P158,$D$75:$L$95,4,0))),\"\")","v":""},{"$f":"IFERROR(SUM(OFFSET($N$99,$L158,0):OFFSET($N$99,$O158-1,0)),\"\")","v":""}]
[null,null,null,null,null,null,null,null,null,null,null,{"$f":"IFERROR(IF(M159<>0,VLOOKUP(M159,CHOOSE({2,1},$C$75:$C$95,$D$75:$D$95),2,0),\"\"),\"\")","v":""},null,null,{"$f":"IFERROR(IF(P159<>0,VLOOKUP(P159,CHOOSE({2,1},$C$75:$C$95,$D$75:$D$95),2,0),\"\"),\"\")","v":""},null,null,{"$f":"IF(AND(M159<>\"\",P159<>\"\"),getGoogleDistance(txtNoAcc(VLOOKUP(M159,$D$75:$L$95,4,0)),txtNoAcc(VLOOKUP(P159,$D$75:$L$95,4,0))),\"\")","v":""},{"$f":"IFERROR(SUM(OFFSET($N$99,$L159,0):OFFSET($N$99,$O159-1,0)),\"\")","v":""}]
[null,null,null,null,null,null,null,null,null,null,null,{"$f":"IFERROR(IF(M160<>0,VLOOKUP(M160,CHOOSE({2,1},$C$75:$C$95,$D$75:$D$95),2,0),\"\"),\"\")","v":""},null,null,{"$f":"IFERROR(IF(P160<>0,VLOOKUP(P160,CHOOSE({2,1},$C$75:$C$95,$D$75:$D$95),2,0),\"\"),\"\")","v":""},null,null,{"$f":"IF(AND(M160<>\"\",P160<>\"\"),getGoogleDistance(txtNoAcc(VLOOKUP(M160,$D$75:$L$95,4,0)),txtNoAcc(VLOOKUP(P160,$D$75:$L$95,4,0))),\"\")","v":""},{"$f":"IFERROR(SUM(OFFSET($N$99,$L160,0):OFFSET($N$99,$O160-1,0)),\"\")","v":""}]
[null,null,null,null,null,null,null,null,null,null,null,{"$f":"IFERROR(IF(M161<>0,VLOOKUP(M161,CHOOSE({2,1},$C$75:$C$95,$D$75:$D$95),2,0),\"\"),\"\")","v":""},null,null,{"$f":"IFERROR(IF(P161<>0,VLOOKUP(P161,CHOOSE({2,1},$C$75:$C$95,$D$75:$D$95),2,0),\"\"),\"\")","v":""},null,null,{"$f":"IF(AND(M161<>\"\",P161<>\"\"),getGoogleDistance(txtNoAcc(VLOOKUP(M161,$D$75:$L$95,4,0)),txtNoAcc(VLOOKUP(P161,$D$75:$L$95,4,0))),\"\")","v":""},{"$f":"IFERROR(SUM(OFFSET($N$99,$L161,0):OFFSET($N$99,$O161-1,0)),\"\")","v":""}]
[null,null,null,null,null,null,null,null,null,null,null,{"$f":"IFERROR(IF(M162<>0,VLOOKUP(M162,CHOOSE({2,1},$C$75:$C$95,$D$75:$D$95),2,0),\"\"),\"\")","v":""},null,null,{"$f":"IFERROR(IF(P162<>0,VLOOKUP(P162,CHOOSE({2,1},$C$75:$C$95,$D$75:$D$95),2,0),\"\"),\"\")","v":""},null,null,{"$f":"IF(AND(M162<>\"\",P162<>\"\"),getGoogleDistance(txtNoAcc(VLOOKUP(M162,$D$75:$L$95,4,0)),txtNoAcc(VLOOKUP(P162,$D$75:$L$95,4,0))),\"\")","v":""},{"$f":"IFERROR(SUM(OFFSET($N$99,$L162,0):OFFSET($N$99,$O162-1,0)),\"\")","v":""}]
[null,null,null,null,null,null,null,null,null,null,null,{"$f":"IFERROR(IF(M163<>0,VLOOKUP(M163,CHOOSE({2,1},$C$75:$C$95,$D$75:$D$95),2,0),\"\"),\"\")","v":""},null,null,{"$f":"IFERROR(IF(P163<>0,VLOOKUP(P163,CHOOSE({2,1},$C$75:$C$95,$D$75:$D$95),2,0),\"\"),\"\")","v":""},null,null,{"$f":"IF(AND(M163<>\"\",P163<>\"\"),getGoogleDistance(txtNoAcc(VLOOKUP(M163,$D$75:$L$95,4,0)),txtNoAcc(VLOOKUP(P163,$D$75:$L$95,4,0))),\"\")","v":""},{"$f":"IFERROR(SUM(OFFSET($N$99,$L163,0):OFFSET($N$99,$O163-1,0)),\"\")","v":""}]
[null,null,null,null,null,null,null,null,null,null,null,{"$f":"IFERROR(IF(M164<>0,VLOOKUP(M164,CHOOSE({2,1},$C$75:$C$95,$D$75:$D$95),2,0),\"\"),\"\")","v":""},null,null,{"$f":"IFERROR(IF(P164<>0,VLOOKUP(P164,CHOOSE({2,1},$C$75:$C$95,$D$75:$D$95),2,0),\"\"),\"\")","v":""},null,null,{"$f":"IF(AND(M164<>\"\",P164<>\"\"),getGoogleDistance(txtNoAcc(VLOOKUP(M164,$D$75:$L$95,4,0)),txtNoAcc(VLOOKUP(P164,$D$75:$L$95,4,0))),\"\")","v":""},{"$f":"IFERROR(SUM(OFFSET($N$99,$L164,0):OFFSET($N$99,$O164-1,0)),\"\")","v":""}]
[null,null,null,null,null,null,null,null,null,null,null,{"$f":"IFERROR(IF(M165<>0,VLOOKUP(M165,CHOOSE({2,1},$C$75:$C$95,$D$75:$D$95),2,0),\"\"),\"\")","v":""},null,null,{"$f":"IFERROR(IF(P165<>0,VLOOKUP(P165,CHOOSE({2,1},$C$75:$C$95,$D$75:$D$95),2,0),\"\"),\"\")","v":""},null,null,{"$f":"IF(AND(M165<>\"\",P165<>\"\"),getGoogleDistance(txtNoAcc(VLOOKUP(M165,$D$75:$L$95,4,0)),txtNoAcc(VLOOKUP(P165,$D$75:$L$95,4,0))),\"\")","v":""},{"$f":"IFERROR(SUM(OFFSET($N$99,$L165,0):OFFSET($N$99,$O165-1,0)),\"\")","v":""}]
[null,null,null,null,null,null,null,null,null,null,null,{"$f":"IFERROR(IF(M166<>0,VLOOKUP(M166,CHOOSE({2,1},$C$75:$C$95,$D$75:$D$95),2,0),\"\"),\"\")","v":""},null,null,{"$f":"IFERROR(IF(P166<>0,VLOOKUP(P166,CHOOSE({2,1},$C$75:$C$95,$D$75:$D$95),2,0),\"\"),\"\")","v":""},null,null,{"$f":"IF(AND(M166<>\"\",P166<>\"\"),getGoogleDistance(txtNoAcc(VLOOKUP(M166,$D$75:$L$95,4,0)),txtNoAcc(VLOOKUP(P166,$D$75:$L$95,4,0))),\"\")","v":""},{"$f":"IFERROR(SUM(OFFSET($N$99,$L166,0):OFFSET($N$99,$O166-1,0)),\"\")","v":""}]
[null,null,null,null,null,null,null,null,null,null,null,{"$f":"IFERROR(IF(M167<>0,VLOOKUP(M167,CHOOSE({2,1},$C$75:$C$95,$D$75:$D$95),2,0),\"\"),\"\")","v":""},null,null,{"$f":"IFERROR(IF(P167<>0,VLOOKUP(P167,CHOOSE({2,1},$C$75:$C$95,$D$75:$D$95),2,0),\"\"),\"\")","v":""},null,null,{"$f":"IF(AND(M167<>\"\",P167<>\"\"),getGoogleDistance(txtNoAcc(VLOOKUP(M167,$D$75:$L$95,4,0)),txtNoAcc(VLOOKUP(P167,$D$75:$L$95,4,0))),\"\")","v":""},{"$f":"IFERROR(SUM(OFFSET($N$99,$L167,0):OFFSET($N$99,$O167-1,0)),\"\")","v":""}]
[null,null,null,null,null,null,null,null,null,null,null,{"$f":"IFERROR(IF(M168<>0,VLOOKUP(M168,CHOOSE({2,1},$C$75:$C$95,$D$75:$D$95),2,0),\"\"),\"\")","v":""},null,null,{"$f":"IFERROR(IF(P168<>0,VLOOKUP(P168,CHOOSE({2,1},$C$75:$C$95,$D$75:$D$95),2,0),\"\"),\"\")","v":""},null,null,{"$f":"IF(AND(M168<>\"\",P168<>\"\"),getGoogleDistance(txtNoAcc(VLOOKUP(M168,$D$75:$L$95,4,0)),txtNoAcc(VLOOKUP(P168,$D$75:$L$95,4,0))),\"\")","v":""},{"$f":"IFERROR(SUM(OFFSET($N$99,$L168,0):OFFSET($N$99,$O168-1,0)),\"\")","v":""}]
[null,null,null,null,null,null,null,null,null,null,null,{"$f":"IFERROR(IF(M169<>0,VLOOKUP(M169,CHOOSE({2,1},$C$75:$C$95,$D$75:$D$95),2,0),\"\"),\"\")","v":""},null,null,{"$f":"IFERROR(IF(P169<>0,VLOOKUP(P169,CHOOSE({2,1},$C$75:$C$95,$D$75:$D$95),2,0),\"\"),\"\")","v":""},null,null,{"$f":"IF(AND(M169<>\"\",P169<>\"\"),getGoogleDistance(txtNoAcc(VLOOKUP(M169,$D$75:$L$95,4,0)),txtNoAcc(VLOOKUP(P169,$D$75:$L$95,4,0))),\"\")","v":""},{"$f":"IFERROR(SUM(OFFSET($N$99,$L169,0):OFFSET($N$99,$O169-1,0)),\"\")","v":""}]
[null,null,null,null,null,null,null,null,null,null,null,{"$f":"IFERROR(IF(M170<>0,VLOOKUP(M170,CHOOSE({2,1},$C$75:$C$95,$D$75:$D$95),2,0),\"\"),\"\")","v":""},null,null,{"$f":"IFERROR(IF(P170<>0,VLOOKUP(P170,CHOOSE({2,1},$C$75:$C$95,$D$75:$D$95),2,0),\"\"),\"\")","v":""},null,null,{"$f":"IF(AND(M170<>\"\",P170<>\"\"),getGoogleDistance(txtNoAcc(VLOOKUP(M170,$D$75:$L$95,4,0)),txtNoAcc(VLOOKUP(P170,$D$75:$L$95,4,0))),\"\")","v":""},{"$f":"IFERROR(SUM(OFFSET($N$99,$L170,0):OFFSET($N$99,$O170-1,0)),\"\")","v":""}]
[null,null,null,null,null,null,null,null,null,null,null,{"$f":"IFERROR(IF(M171<>0,VLOOKUP(M171,CHOOSE({2,1},$C$75:$C$95,$D$75:$D$95),2,0),\"\"),\"\")","v":""},null,null,{"$f":"IFERROR(IF(P171<>0,VLOOKUP(P171,CHOOSE({2,1},$C$75:$C$95,$D$75:$D$95),2,0),\"\"),\"\")","v":""},null,null,{"$f":"IF(AND(M171<>\"\",P171<>\"\"),getGoogleDistance(txtNoAcc(VLOOKUP(M171,$D$75:$L$95,4,0)),txtNoAcc(VLOOKUP(P171,$D$75:$L$95,4,0))),\"\")","v":""},{"$f":"IFERROR(SUM(OFFSET($N$99,$L171,0):OFFSET($N$99,$O171-1,0)),\"\")","v":""}]
[null,null,null,null,null,null,null,null,null,null,null,{"$f":"IFERROR(IF(M172<>0,VLOOKUP(M172,CHOOSE({2,1},$C$75:$C$95,$D$75:$D$95),2,0),\"\"),\"\")","v":""},null,null,{"$f":"IFERROR(IF(P172<>0,VLOOKUP(P172,CHOOSE({2,1},$C$75:$C$95,$D$75:$D$95),2,0),\"\"),\"\")","v":""},null,null,{"$f":"IF(AND(M172<>\"\",P172<>\"\"),getGoogleDistance(txtNoAcc(VLOOKUP(M172,$D$75:$L$95,4,0)),txtNoAcc(VLOOKUP(P172,$D$75:$L$95,4,0))),\"\")","v":""},{"$f":"IFERROR(SUM(OFFSET($N$99,$L172,0):OFFSET($N$99,$O172-1,0)),\"\")","v":""}]
[null,null,null,null,null,null,null,null,null,null,null,{"$f":"IFERROR(IF(M173<>0,VLOOKUP(M173,CHOOSE({2,1},$C$75:$C$95,$D$75:$D$95),2,0),\"\"),\"\")","v":""},null,null,{"$f":"IFERROR(IF(P173<>0,VLOOKUP(P173,CHOOSE({2,1},$C$75:$C$95,$D$75:$D$95),2,0),\"\"),\"\")","v":""},null,null,{"$f":"IF(AND(M173<>\"\",P173<>\"\"),getGoogleDistance(txtNoAcc(VLOOKUP(M173,$D$75:$L$95,4,0)),txtNoAcc(VLOOKUP(P173,$D$75:$L$95,4,0))),\"\")","v":""},{"$f":"IFERROR(SUM(OFFSET($N$99,$L173,0):OFFSET($N$99,$O173-1,0)),\"\")","v":""}]
[null,null,null,null,null,null,null,null,null,null,null,{"$f":"IFERROR(IF(M174<>0,VLOOKUP(M174,CHOOSE({2,1},$C$75:$C$95,$D$75:$D$95),2,0),\"\"),\"\")","v":""},null,null,{"$f":"IFERROR(IF(P174<>0,VLOOKUP(P174,CHOOSE({2,1},$C$75:$C$95,$D$75:$D$95),2,0),\"\"),\"\")","v":""},null,null,{"$f":"IF(AND(M174<>\"\",P174<>\"\"),getGoogleDistance(txtNoAcc(VLOOKUP(M174,$D$75:$L$95,4,0)),txtNoAcc(VLOOKUP(P174,$D$75:$L$95,4,0))),\"\")","v":""},{"$f":"IFERROR(SUM(OFFSET($N$99,$L174,0):OFFSET($N$99,$O174-1,0)),\"\")","v":""}]
[null,null,null,null,null,null,null,null,null,null,null,{"$f":"IFERROR(IF(M175<>0,VLOOKUP(M175,CHOOSE({2,1},$C$75:$C$95,$D$75:$D$95),2,0),\"\"),\"\")","v":""},null,null,{"$f":"IFERROR(IF(P175<>0,VLOOKUP(P175,CHOOSE({2,1},$C$75:$C$95,$D$75:$D$95),2,0),\"\"),\"\")","v":""},null,null,{"$f":"IF(AND(M175<>\"\",P175<>\"\"),getGoogleDistance(txtNoAcc(VLOOKUP(M175,$D$75:$L$95,4,0)),txtNoAcc(VLOOKUP(P175,$D$75:$L$95,4,0))),\"\")","v":""},{"$f":"IFERROR(SUM(OFFSET($N$99,$L175,0):OFFSET($N$99,$O175-1,0)),\"\")","v":""}]
[null,null,null,null,null,null,null,null,null,null,null,{"$f":"IFERROR(IF(M176<>0,VLOOKUP(M176,CHOOSE({2,1},$C$75:$C$95,$D$75:$D$95),2,0),\"\"),\"\")","v":""},null,null,{"$f":"IFERROR(IF(P176<>0,VLOOKUP(P176,CHOOSE({2,1},$C$75:$C$95,$D$75:$D$95),2,0),\"\"),\"\")","v":""},null,null,{"$f":"IF(AND(M176<>\"\",P176<>\"\"),getGoogleDistance(txtNoAcc(VLOOKUP(M176,$D$75:$L$95,4,0)),txtNoAcc(VLOOKUP(P176,$D$75:$L$95,4,0))),\"\")","v":""},{"$f":"IFERROR(SUM(OFFSET($N$99,$L176,0):OFFSET($N$99,$O176-1,0)),\"\")","v":""}]
[null,null,null,null,null,null,null,null,null,null,null,{"$f":"IFERROR(IF(M177<>0,VLOOKUP(M177,CHOOSE({2,1},$C$75:$C$95,$D$75:$D$95),2,0),\"\"),\"\")","v":""},null,null,{"$f":"IFERROR(IF(P177<>0,VLOOKUP(P177,CHOOSE({2,1},$C$75:$C$95,$D$75:$D$95),2,0),\"\"),\"\")","v":""},null,null,{"$f":"IF(AND(M177<>\"\",P177<>\"\"),getGoogleDistance(txtNoAcc(VLOOKUP(M177,$D$75:$L$95,4,0)),txtNoAcc(VLOOKUP(P177,$D$75:$L$95,4,0))),\"\")","v":""},{"$f":"IFERROR(SUM(OFFSET($N$99,$L177,0):OFFSET($N$99,$O177-1,0)),\"\")","v":""}]
[null,null,null,null,null,null,null,null,null,null,null,{"$f":"IFERROR(IF(M178<>0,VLOOKUP(M178,CHOOSE({2,1},$C$75:$C$95,$D$75:$D$95),2,0),\"\"),\"\")","v":""},null,null,{"$f":"IFERROR(IF(P178<>0,VLOOKUP(P178,CHOOSE({2,1},$C$75:$C$95,$D$75:$D$95),2,0),\"\"),\"\")","v":""},null,null,{"$f":"IF(AND(M178<>\"\",P178<>\"\"),getGoogleDistance(txtNoAcc(VLOOKUP(M178,$D$75:$L$95,4,0)),txtNoAcc(VLOOKUP(P178,$D$75:$L$95,4,0))),\"\")","v":""},{"$f":"IFERROR(SUM(OFFSET($N$99,$L178,0):OFFSET($N$99,$O178-1,0)),\"\")","v":""}]
[null,null,null,null,null,null,null,null,null,null,null,{"$f":"IFERROR(IF(M179<>0,VLOOKUP(M179,CHOOSE({2,1},$C$75:$C$95,$D$75:$D$95),2,0),\"\"),\"\")","v":""},null,null,{"$f":"IFERROR(IF(P179<>0,VLOOKUP(P179,CHOOSE({2,1},$C$75:$C$95,$D$75:$D$95),2,0),\"\"),\"\")","v":""},null,null,{"$f":"IF(AND(M179<>\"\",P179<>\"\"),getGoogleDistance(txtNoAcc(VLOOKUP(M179,$D$75:$L$95,4,0)),txtNoAcc(VLOOKUP(P179,$D$75:$L$95,4,0))),\"\")","v":""},{"$f":"IFERROR(SUM(OFFSET($N$99,$L179,0):OFFSET($N$99,$O179-1,0)),\"\")","v":""}]
[null,null,null,null,null,null,null,null,null,null,null,{"$f":"IFERROR(IF(M180<>0,VLOOKUP(M180,CHOOSE({2,1},$C$75:$C$95,$D$75:$D$95),2,0),\"\"),\"\")","v":""},null,null,{"$f":"IFERROR(IF(P180<>0,VLOOKUP(P180,CHOOSE({2,1},$C$75:$C$95,$D$75:$D$95),2,0),\"\"),\"\")","v":""},null,null,{"$f":"IF(AND(M180<>\"\",P180<>\"\"),getGoogleDistance(txtNoAcc(VLOOKUP(M180,$D$75:$L$95,4,0)),txtNoAcc(VLOOKUP(P180,$D$75:$L$95,4,0))),\"\")","v":""},{"$f":"IFERROR(SUM(OFFSET($N$99,$L180,0):OFFSET($N$99,$O180-1,0)),\"\")","v":""}]
[null,null,null,null,null,null,null,null,null,null,null,{"$f":"IFERROR(IF(M181<>0,VLOOKUP(M181,CHOOSE({2,1},$C$75:$C$95,$D$75:$D$95),2,0),\"\"),\"\")","v":""},null,null,{"$f":"IFERROR(IF(P181<>0,VLOOKUP(P181,CHOOSE({2,1},$C$75:$C$95,$D$75:$D$95),2,0),\"\"),\"\")","v":""},null,null,{"$f":"IF(AND(M181<>\"\",P181<>\"\"),getGoogleDistance(txtNoAcc(VLOOKUP(M181,$D$75:$L$95,4,0)),txtNoAcc(VLOOKUP(P181,$D$75:$L$95,4,0))),\"\")","v":""},{"$f":"IFERROR(SUM(OFFSET($N$99,$L181,0):OFFSET($N$99,$O181-1,0)),\"\")","v":""}]
[]
[]
[]
[]
[null,"Consumo energético por la refrigeración de la carga del vehículo"]
[]
[null,null,"Seleccione si el vehículo dispone de un depósito por separado"]
[null,null,"Tipo de depósito",null,null,null,"Depósito por separado"]
[]
[null,null,"En caso de que el vehículo cuente con un depósito de combustible separado, introduzca los siguientes datos:"]
[null,null,"Tipo de combustible",null,null,null,"Diésel"]
[null,null,"Consumo específico de combustible",null,null,null,null,null,4.2,"l/h"]
[null,null,"Tiempo de refrigeración",null,null,null,null,null,8.36,"h"]
[]
[null,null,"Si no conoce el consumo específico de combustible por refrigeración, introduzca los siguientes datos:"]
[null,null,"Tipo de unidad refrigerada y temperatura de refrigeración"]
[]
[null,null,"Consumo específico de combustible por refrigeración",null,null,null,null,null,{"$f":"IFERROR(IF(I193<>0,I193,VLOOKUP(H197,t_consumo_refrigeracion_v,2,0)),\"\")","v":4.2},"l/h"]
[null,null,"Consumo de combustible en la ruta por refrigeración",null,null,null,null,null,{"$f":"IFERROR(I199*I194,\"\")","v":35.112000000000002},"l"]
[]
[]
[]
[]
[null,"Consumo energético por el almacenamiento de la carga"]
[]
[null,null,"Si conoce el consumo de energía de las instalaciones logísticas, introduzca los siguientes datos"]
[null,null,"Tipo de fuente de energía - 1",null,null,null,"Electricidad de Red - España (CLECAT)"]
[null,null,"Consumo anual de la fuente de energía - 1",null,null,null,null,null,60000,"kWh"]
[null,null,"Volumen de ocupación medio anual asociado a la fuente de energía - 1",null,null,null,null,null,800,"m3"]
[null,null,"Tipo de fuente de energía - 2"]
[null,null,"Consumo anual de la fuente de energía - 2",null,null,null,null,null,null,{"$f":"IFERROR(VLOOKUP(G211,t_factores_a,2,0),\"\")","v":""}]
[null,null,"Volumen de ocupación medio anual asociado a la fuente de energía - 2",null,null,null,null,null,null,"m3"]
[null,null,"Tipo de fuente de energía - 3"]
[null,null,"Consumo anual de la fuente de energía - 3",null,null,null,null,null,null,"l."]
[null,null,"Volumen de ocupación medio anual asociado a la fuente de energía - 3",null,null,null,null,null,null,"m3"]
[]
[null,null,{"$f":"\"Consumo específico de \"&G208&\" - almacenamiento\"","v":"Consumo específico de Electricidad de Red - España (CLECAT) - almacenamiento"},null,null,null,null,null,{"$f":"IFERROR($I$209/($I$210*365),\"\")","v":0.20547945205479451},{"$f":"IF($G$208<>\"\",$J$209&\"/m3-día\",\"\")","v":"kWh/m3-día"}]
[null,null,{"$f":"\"Consumo específico de \"&G211&\" - almacenamiento\"","v":"Consumo específico de  - almacenamiento"},null,null,null,null,null,{"$f":"IFERROR($I$212/($I$213*365),\"\")","v":""},{"$f":"IF(G211<>\"\",J212&\"/m3-día\",\"\")","v":""}]
[null,null,{"$f":"\"Consumo específico de \"&G214&\" - almacenamiento\"","v":"Consumo específico de  - almacenamiento"},null,null,null,null,null,{"$f":"IFERROR($I$215/($I$216*365),\"\")","v":""},{"$f":"IF(G214<>\"\",J215&\"/m3-día\",\"\")","v":""}]
[]
[null,null,"Si no conoce el consumo de energía de las instalaciones logísticas, introduzca los siguientes datos"]
[null,null,"Tipo de refrigeración de la carga"]
[null,null,"Tipo de electricidad consumida"]
[]
[null,null,{"$f":"\"Consumo específico de Electricidad de Red -\"&H224&\" - almacenamiento\"","v":"Consumo específico de Electricidad de Red - - almacenamiento"},null,null,null,null,null,{"$f":"IFERROR(VLOOKUP($H$223,t_consumo_tipocarga_a,5,0),\"\")","v":""},{"$f":"IF($H$223<>\"\",\"kWh/m3-día\",\"\")","v":""}]
[null,null,"Consumo específico de Gas natural: potencia calorífica neta - almacenamiento",null,null,null,null,null,{"$f":"IFERROR(VLOOKUP($H$223,t_consumo_tipocarga_a,6,0),\"\")","v":""},{"$f":"IF($H$223<>\"\",\"kWh/m3-día\",\"\")","v":""}]
[]
[]
[null,null,null,null,null,null,null,null,null,null,null,null,null,null,null,null,null,null,null,null,null,null,"Cálculo de consumo de combustible por tramo",null,null,null,"ini. --> 1","1 --> 2","2 --> 3","3 --> 4","4 --> 5","5 --> 6","6 --> 7","7 --> n","n --> fin",null,"litros a los 100 km del tramo"]
[null,null,null,null,null,null,null,null,null,null,null,null,null,null,null,null,null,null,null,null,null,null,null,null,null,null,{"$f":"G35","v":0},{"$f":"G36","v":0},{"$f":"G37","v":0},{"$f":"G38","v":0},{"$f":"G39","v":0},{"$f":"G40","v":0},{"$f":"G41","v":0},{"$f":"G42","v":0},{"$f":"G44","v":0},"(litros)"]
[null,null,null,null,null,null,null,null,null,null,null,null,null,null,null,null,null,null,null,null,null,null,null,null,null,null,{"$f":"IFERROR(AA231/AA233,0)","v":0},{"$f":"IFERROR(AB231/AB233,0)","v":0},{"$f":"IFERROR(AC231/AC233,0)","v":0},0,0,0,0,0,0,"(litros/100 km)"]
[null,null,null,null,null,null,null,null,null,null,null,null,null,null,null,null,null,null,null,null,null,null,null,null,null,null,{"$f":"IF(E35-E33>0,E35-E33,0)","v":0},{"$f":"IF(E36-E35>0,E36-E35,0)","v":0},{"$f":"IF(E37-E36>0,E37-E36,0)","v":0},{"$f":"IF(E38-E37>0,E38-E37,0)","v":0},{"$f":"IF(E39-E38>0,E39-E38,0)","v":0},{"$f":"IF(E40-E39>0,E40-E39,0)","v":0},{"$f":"IF(E41-E40>0,E41-E40,0)","v":0},{"$f":"IF(E42-E41>0,E42-E41,0)","v":0},{"$f":"E44-MAX(E33:E42)","v":0},"(km tramo-repostaje)"]
[null,null,null,null,null,null,null,null,null,null,null,null,null,null,null,null,null,null,null,null,null,null,null,null,null,null,{"$f":"0-$E$47+$E$33","v":0},{"$f":"AA235","v":0},{"$f":"AB235","v":0},0,0,0,0,0,{"$f":"AH235","v":0},"(km inicial)"]
[null,null,null,null,null,null,null,null,null,null,null,null,null,null,null,null,null,null,null,null,null,null,null,null,null,null,{"$f":"AA233-$E$47+$E$33","v":0},{"$f":"AB233+AB234","v":0},{"$f":"AC233+AC234","v":0},{"$f":"AD233+AD234","v":0},0,0,0,0,{"$f":"AI233+AI234","v":0},"(km final)"]
[null,null,null,null,null,null,null,null,null,null,null,null,null,null,null,null,null,null,null,null,null,null,"1 --> 2",{"$f":"N100","v":314},0,{"$f":"IFERROR(Y236+X236,\"---\")","v":314},{"$f":"IFERROR(AA$232*IF(OR(AA$234>=$Z236,AA$235<=$Y236),0,IF(AND(AA$234<=$Y236,$Y236<=AA$235,AA$235<=$Z236),AA$235-$Y236,IF(AND($Y236<=AA$234,AA$234<=$Z236,$Z236<=AA$235),$Z236-AA$234,IF(AND($Y236<=AA$234,AA$235<=$Z236),AA$235-AA$234,IF(AND(AA$234<=$Y236,$Z236<=AA$235),$Z236-$Y236))))),0)","v":0},{"$f":"IFERROR(AB$232*IF(OR(AB$234>=$Z236,AB$235<=$Y236),0,IF(AND(AB$234<=$Y236,$Y236<=AB$235,AB$235<=$Z236),AB$235-$Y236,IF(AND($Y236<=AB$234,AB$234<=$Z236,$Z236<=AB$235),$Z236-AB$234,IF(AND($Y236<=AB$234,AB$235<=$Z236),AB$235-AB$234,IF(AND(AB$234<=$Y236,$Z236<=AB$235),$Z236-$Y236))))),0)","v":0},0,0,0,0,0,0,0,null,{"$f":"IF(X236<>\"\",SUM(AA236:AI236)/X236*100,\"\")","v":0}]
[null,null,null,null,null,null,null,null,null,null,null,null,null,null,null,null,null,null,null,null,null,null,"2 --> 3",{"$f":"N101","v":312},{"$f":"Z236","v":314},{"$f":"IFERROR(Y237+X237,\"---\")","v":626},{"$f":"IFERROR(AA$232*IF(OR(AA$234>=$Z237,AA$235<=$Y237),0,IF(AND(AA$234<=$Y237,$Y237<=AA$235,AA$235<=$Z237),AA$235-$Y237,IF(AND($Y237<=AA$234,AA$234<=$Z237,$Z237<=AA$235),$Z237-AA$234,IF(AND($Y237<=AA$234,AA$235<=$Z237),AA$235-AA$234,IF(AND(AA$234<=$Y237,$Z237<=AA$235),$Z237-$Y237))))),0)","v":0},0,0,{"$f":"IFERROR(AD$232*IF(OR(AD$234>=$Z237,AD$235<=$Y237),0,IF(AND(AD$234<=$Y237,$Y237<=AD$235,AD$235<=$Z237),AD$235-$Y237,IF(AND($Y237<=AD$234,AD$234<=$Z237,$Z237<=AD$235),$Z237-AD$234,IF(AND($Y237<=AD$234,AD$235<=$Z237),AD$235-AD$234,IF(AND(AD$234<=$Y237,$Z237<=AD$235),$Z237-$Y237))))),0)","v":0},0,0,0,0,0,null,{"$f":"IF(X237<>\"\",SUM(AA237:AI237)/X237*100,\"\")","v":0}]
[null,null,null,null,null,null,null,null,null,null,null,null,null,null,null,null,null,null,null,null,null,null,"3 --> 4","",{"$f":"Z237","v":626},"---",{"$f":"IFERROR(AA$232*IF(OR(AA$234>=$Z238,AA$235<=$Y238),0,IF(AND(AA$234<=$Y238,$Y238<=AA$235,AA$235<=$Z238),AA$235-$Y238,IF(AND($Y238<=AA$234,AA$234<=$Z238,$Z238<=AA$235),$Z238-AA$234,IF(AND($Y238<=AA$234,AA$235<=$Z238),AA$235-AA$234,IF(AND(AA$234<=$Y238,$Z238<=AA$235),$Z238-$Y238))))),0)","v":0},0,0,0,0,0,0,0,{"$f":"IFERROR(AI$232*IF(OR(AI$234>=$Z238,AI$235<=$Y238),0,IF(AND(AI$234<=$Y238,$Y238<=AI$235,AI$235<=$Z238),AI$235-$Y238,IF(AND($Y238<=AI$234,AI$234<=$Z238,$Z238<=AI$235),$Z238-AI$234,IF(AND($Y238<=AI$234,AI$235<=$Z238),AI$235-AI$234,IF(AND(AI$234<=$Y238,$Z238<=AI$235),$Z238-$Y238))))),0)","v":0},null,""]
[null,null,null,null,null,null,null,null,null,null,null,null,null,null,null,null,null,null,null,null,null,null,"4 --> 5","","---","---",0,0,0,0,0,0,0,0,0,null,""]
[null,null,null,null,null,null,null,null,null,null,null,null,null,null,null,null,null,null,null,null,null,null,"5 --> 6","","---","---",0,0,0,0,0,0,0,0,0,null,""]
[null,null,null,null,null,null,null,null,null,null,null,null,null,null,null,null,null,null,null,null,null,null,"6 --> 7","","---","---",0,0,0,0,0,0,0,0,0,null,""]
[null,null,null,null,null,null,null,null,null,null,null,null,null,null,null,null,null,null,null,null,null,null,"7 --> 8","","---","---",0,0,0,0,0,0,0,0,0,null,""]
[null,null,null,null,null,null,null,null,null,null,null,null,null,null,null,null,null,null,null,null,null,null,"8 --> 9","","---","---",0,0,0,0,0,0,0,0,0,null,""]
[null,null,null,null,null,null,null,null,null,null,null,null,null,null,null,null,null,null,null,null,null,null,"9 --> 10","","---","---",0,0,0,0,0,0,0,0,0,null,""]
[null,null,null,null,null,null,null,null,null,null,null,null,null,null,null,null,null,null,null,null,null,null,"10 --> 11","","---","---",0,0,0,0,0,0,0,0,0,null,""]
[null,null,null,null,null,null,null,null,null,null,null,null,null,null,null,null,null,null,null,null,null,null,"11 --> 12","","---","---",0,0,0,0,0,0,0,0,0,null,""]
[null,null,null,null,null,null,null,null,null,null,null,null,null,null,null,null,null,null,null,null,null,null,"12 --> 13","","---","---",0,0,0,0,0,0,0,0,0,null,""]
[null,null,null,null,null,null,null,null,null,null,null,null,null,null,null,null,null,null,null,null,null,null,"13 --> 14","","---","---",0,0,0,0,0,0,0,0,0,null,""]
[null,null,null,null,null,null,null,null,null,null,null,null,null,null,null,null,null,null,null,null,null,null,"14 --> 15","","---","---",0,0,0,0,0,0,0,0,0,null,""]
[null,null,null,null,null,null,null,null,null,null,null,null,null,null,null,null,null,null,null,null,null,null,"15 --> 16","","---","---",0,0,0,0,0,0,0,0,0,null,""]
[null,null,null,null,null,null,null,null,null,null,null,null,null,null,null,null,null,null,null,null,null,null,"16 --> 17","","---","---",0,0,0,0,0,0,0,0,0,null,""]
[null,null,null,null,null,null,null,null,null,null,null,null,null,null,null,null,null,null,null,null,null,null,"17 --> 18","","---","---",0,0,0,0,0,0,0,0,0,null,""]
[null,null,null,null,null,null,null,null,null,null,null,null,null,null,null,null,null,null,null,null,null,null,"18 --> 19","","---","---",0,0,0,0,0,0,0,0,0,null,""]
[null,null,null,null,null,null,null,null,null,null,null,null,null,null,null,null,null,null,null,null,null,null,"19 --> 20","","---","---",{"$f":"IFERROR(AA$232*IF(OR(AA$234>=$Z254,AA$235<=$Y254),0,IF(AND(AA$234<=$Y254,$Y254<=AA$235,AA$235<=$Z254),AA$235-$Y254,IF(AND($Y254<=AA$234,AA$234<=$Z254,$Z254<=AA$235),$Z254-AA$234,IF(AND($Y254<=AA$234,AA$235<=$Z254),AA$235-AA$234,IF(AND(AA$234<=$Y254,$Z254<=AA$235),$Z254-$Y254))))),0)","v":0},0,0,0,0,0,0,0,0,null,""]
[null,null,null,null,null,null,null,null,null,null,null,null,null,null,null,null,null,null,null,null,null,null,"20 --> 21","","---","---",0,0,0,0,0,0,0,0,0,null,""]
[null,null,null,null,null,null,null,null,null,null,null,null,null,null,null,null,null,null,null,null,null,null,null,"km tramo","km inicial","km final"]

{"sheet":"REPORTE","index":3,"n_rows":291,"n_cols":54,"rows_kept":291,"cut":false,"hidden":false,"merged":[[65,31,65,32],[7,17,7,18],[7,24,7,25],[0,0,0,53],[6,1,7,1],[6,2,7,2],[6,3,7,3],[6,4,6,9],[6,10,6,15],[6,16,6,40],[6,41,6,44],[6,45,6,48],[6,49,6,53],[7,31,7,32],[122,41,122,44],[122,45,122,48],[122,49,122,53],[123,17,123,18],[123,24,123,25],[123,31,123,32],[122,1,123,1],[122,2,123,2],[122,3,123,3],[122,4,122,9],[122,10,122,15],[122,16,122,40],[64,1,65,1],[64,2,65,2],[64,3,65,3],[64,4,64,9],[64,10,64,15],[64,16,64,40],[64,41,64,44],[64,45,64,48],[64,49,64,53],[65,17,65,18],[65,24,65,25],[180,41,180,44],[180,45,180,48],[180,49,180,53],[181,17,181,18],[181,24,181,25],[181,31,181,32],[180,1,181,1],[180,2,181,2],[180,3,181,3],[180,4,180,9],[180,10,180,15],[180,16,180,40],[238,41,238,44],[238,45,238,48],[238,49,238,53],[239,17,239,18],[240,17,240,18],[241,17,241,18],[238,1,239,1],[238,2,239,2],[238,3,239,3],[238,4,238,9],[238,10,238,15],[238,16,238,22],[248,17,248,18],[249,17,249,18],[250,17,250,18],[251,17,251,18],[252,17,252,18],[253,17,253,18],[242,17,242,18],[243,17,243,18],[244,17,244,18],[245,17,245,18],[246,17,246,18],[247,17,247,18],[260,17,260,18],[261,17,261,18],[262,17,262,18],[263,17,263,18],[264,17,264,18],[265,17,265,18],[254,17,254,18],[255,17,255,18],[256,17,256,18],[257,17,257,18],[258,17,258,18],[259,17,259,18],[272,17,272,18],[273,17,273,18],[274,17,274,18],[275,17,275,18],[276,17,276,18],[277,17,277,18],[266,17,266,18],[267,17,267,18],[268,17,268,18],[269,17,269,18],[270,17,270,18],[271,17,271,18],[284,17,284,18],[285,17,285,18],[286,17,286,18],[287,17,287,18],[288,17,288,18],[289,17,289,18],[278,17,278,18],[279,17,279,18],[280,17,280,18],[281,17,281,18],[282,17,282,18],[283,17,283,18]]}
["REPORTING CORPORATIVO"]
[]
[]
[]
["RESULTADOS POR TIPO DE ACTIVIDAD - CONSUMO DE COMBUSTIBLE (FACTORES EN 16258 - GUÍA AECOC)"]
[]
[null,"Denominación de la actividad","Tipo de actividad (propia o subcontratada)","Cadena de suministro (Upstream o Downstream)","ACTIVIDADES DE PROPULSIÓN DEL VEHÍCULO",null,null,null,null,null,"ACTIVIDADES DE REFRIGERACIÓN DE LA CARGA",null,null,null,null,null,"ACTIVIDADES DE ALMACENAMIENTO DE LA CARGA",null,null,null,null,null,null,null,null,null,null,null,null,null,null,null,null,null,null,null,null,null,null,null,null,"RESULTADOS TOTALES DE LAS ACTIVIDADES DE TRANSPORTE DE CARGA",null,null,null,"RESULTADOS TOTALES DE LAS ACTIVIDADES DE TRANSPORTE Y ALMACENAMIENTO DE CARGA",null,null,null,"REPORTE GHG PROTOCOL"]
[null,null,null,null,"Tipo de combustible","Consumo de combustible (l)","Consumo energético del tanque a las ruedas","Consumo energético del pozo a las ruedas","Emisiones de GEI del tanque a las ruedas","Emisiones de GEI del pozo a las ruedas","Tipo de combustible","Consumo de combustible (l)","Consumo energético del tanque a las ruedas","Consumo energético del pozo a las ruedas","Emisiones de GEI del tanque a las ruedas","Emisiones de GEI del pozo a las ruedas","Fuente de energía - 1","Consumo fuente de energía - 1",null,"Consumo energético directo - fuente de energía 1","Consumo energético total - fuente de energía 1","Emisiones de GEI directas - fuente de energía 1","Emisiones de GEI totales - fuente de energía 1","Fuente de energía - 2","Consumo fuente de energía - 2",null,"Consumo energético directo - fuente de energía 2","Consumo energético total - fuente de energía 2","Emisiones de GEI directas - fuente de energía 2","Emisiones de GEI totales - fuente de energía 2","Fuente de energía - 3","Consumo fuente de energía - 3",null,"Consumo energético directo - fuente de energía 3","Consumo energético total - fuente de energía 3","Emisiones de GEI directas - fuente de energía 3","Emisiones de GEI totales - fuente de energía 3","Consumo energético directo","Consumo energético total","Emisiones de GEI directas","Emisiones de GEI totales","Consumo energético del tanque a las ruedas","Consumo energético del pozo a las ruedas","Emisiones de GEI del tanque a las ruedas","Emisiones de GEI del pozo a las ruedas","Consumo energético del tanque a las ruedas","Consumo energético del pozo a las ruedas","Emisiones de GEI del tanque a las ruedas","Emisiones de GEI del pozo a las ruedas","Alcance 1","Alcance 2","Alcance 3. Categoría 3","Alcance 3. Categoría 4","Alcance 3. Categoría 9"]
[1,null,null,null,null,null,{"$f":"IFERROR($F9*VLOOKUP($E9,t_factores_t,3,0),0)","v":0},{"$f":"IFERROR($F9*VLOOKUP($E9,t_factores_t,5,0),0)","v":0},{"$f":"IFERROR($F9*VLOOKUP($E9,t_factores_t,7,0),0)","v":0},{"$f":"IFERROR($F9*VLOOKUP($E9,t_factores_t,9,0),0)","v":0},null,null,{"$f":"IFERROR($L9*VLOOKUP($K9,t_factores_t,3,0),0)","v":0},{"$f":"IFERROR($L9*VLOOKUP($K9,t_factores_t,5,0),0)","v":0},{"$f":"IFERROR($L9*VLOOKUP($K9,t_factores_t,7,0),0)","v":0},{"$f":"IFERROR($L9*VLOOKUP($K9,t_factores_t,9,0),0)","v":0},null,null,{"$f":"IFERROR(VLOOKUP(Q9,t_factores_a,2,0),\"\")","v":""},{"$f":"IFERROR(VLOOKUP(Q9,t_factores_a,3,0)*R9,0)","v":0},{"$f":"IFERROR(VLOOKUP(Q9,t_factores_a,4,0)*R9,0)","v":0},{"$f":"IFERROR(VLOOKUP(Q9,t_factores_a,6,0)*R9,0)","v":0},{"$f":"IFERROR(VLOOKUP(Q9,t_factores_a,7,0)*R9,0)","v":0},null,null,{"$f":"IFERROR(VLOOKUP(X9,t_factores_a,2,0),\"\")","v":""},{"$f":"IFERROR(VLOOKUP(X9,t_factores_a,3,0)*Y9,0)","v":0},{"$f":"IFERROR(VLOOKUP(X9,t_factores_a,4,0)*Y9,0)","v":0},{"$f":"IFERROR(VLOOKUP(X9,t_factores_a,6,0)*Y9,0)","v":0},{"$f":"IFERROR(VLOOKUP(X9,t_factores_a,7,0)*Y9,0)","v":0},null,null,"l.",{"$f":"IFERROR(VLOOKUP(AE9,t_factores_t,3,0)*AF9,0)","v":0},{"$f":"IFERROR(VLOOKUP(AE9,t_factores_t,5,0)*AF9,0)","v":0},{"$f":"IFERROR(VLOOKUP(AE9,t_factores_t,7,0)*AF9,0)","v":0},{"$f":"IFERROR(VLOOKUP(AE9,t_factores_t,9,0)*AF9,0)","v":0},{"$f":"T9+AA9+AH9","v":0},{"$f":"U9+AB9+AI9","v":0},0,0,{"$f":"IFERROR(G9+M9,\"---\")","v":0},{"$f":"IFERROR(H9+N9,\"---\")","v":0},0,0,{"$f":"IFERROR(AL9+AP9,\"---\")","v":0},{"$f":"IFERROR(AM9+AQ9,\"---\")","v":0},0,0,{"$f":"IF(C9=\"Propia\",AV9,0)","v":0},0,{"$f":"IF(C9=\"Propia\",AW9-AV9,0)","v":0},{"$f":"IF(AND(C9=\"Subcontratada\",D9=\"Upstream\"),AV9,0)","v":0},{"$f":"IF(AND(C9=\"Subcontratada\",D9=\"Downstream\"),AV9,0)","v":0}]
[2,null,null,null,null,null,0,0,0,0,null,null,0,0,0,0,null,null,"",0,0,0,0,null,null,"",0,0,0,0,null,null,"l.",0,0,0,0,{"$f":"T10+AA10+AH10","v":0},0,0,0,{"$f":"IFERROR(G10+M10,\"---\")","v":0},0,0,0,{"$f":"IFERROR(AL10+AP10,\"---\")","v":0},0,0,0,0,0,0,0,0]
[3,null,null,null,null,null,0,0,0,0,null,null,0,0,0,0,null,null,"",0,0,0,0,null,null,"",0,0,0,0,null,null,"l.",0,0,0,0,0,0,0,0,0,0,0,0,0,0,0,0,0,0,0,0,0]
[4,null,null,null,null,null,0,0,0,0,null,null,0,0,0,0,null,null,"",0,0,0,0,null,null,"",0,0,0,0,null,null,"l.",0,0,0,0,0,0,0,0,0,0,0,0,0,0,0,0,0,0,0,0,0]
[5,null,null,null,null,null,0,0,0,0,null,null,0,0,0,0,null,null,"",0,0,0,0,null,null,"",0,0,0,0,null,null,"l.",0,0,0,0,0,0,0,0,0,0,0,0,0,0,0,0,0,0,0,0,0]
[6,null,null,null,null,null,0,0,0,0,null,null,0,0,0,0,null,null,"",0,0,0,0,null,null,"",0,0,0,0,null,null,"l.",0,0,0,0,0,0,0,0,0,0,0,0,0,0,0,0,0,0,0,0,0]
[7,null,null,null,null,null,0,0,0,0,null,null,0,0,0,0,null,null,"",0,0,0,0,null,null,"",0,0,0,0,null,null,"l.",0,0,0,0,0,0,0,0,0,0,0,0,0,0,0,0,0,0,0,0,0]
[8,null,null,null,null,null,0,0,0,0,null,null,0,0,0,0,null,null,"",0,0,0,0,null,null,"",0,0,0,0,null,null,"l.",0,0,0,0,0,0,0,0,0,0,0,0,0,0,0,0,0,0,0,0,0]
[9,null,null,null,null,null,0,0,0,0,null,null,0,0,0,0,null,null,"",0,0,0,0,null,null,"",0,0,0,0,null,null,"l.",0,0,0,0,0,0,0,0,0,0,0,0,0,0,0,0,0,0,0,0,0]
[10,null,null,null,null,null,0,0,0,0,null,null,0,0,0,0,null,null,"",0,0,0,0,null,null,"",0,0,0,0,null,null,"l.",0,0,0,0,0,0,0,0,0,0,0,0,0,0,0,0,0,0,0,0,0]
[11,null,null,null,null,null,0,0,0,0,null,null,0,0,0,0,null,null,"",0,0,0,0,null,null,"",0,0,0,0,null,null,"l.",0,0,0,0,0,0,0,0,0,0,0,0,0,0,0,0,0,0,0,0,0]
[12,null,null,null,null,null,0,0,0,0,null,null,0,0,0,0,null,null,"",0,0,0,0,null,null,"",0,0,0,0,null,null,"l.",0,0,0,0,0,0,0,0,0,0,0,0,0,0,0,0,0,0,0,0,0]
[13,null,null,null,null,null,0,0,0,0,null,null,0,0,0,0,null,null,"",0,0,0,0,null,null,"",0,0,0,0,null,null,"l.",0,0,0,0,0,0,0,0,0,0,0,0,0,0,0,0,0,0,0,0,0]
[14,null,null,null,null,null,0,0,0,0,null,null,0,0,0,0,null,null,"",0,0,0,0,null,null,"",0,0,0,0,null,null,"l.",0,0,0,0,0,0,0,0,0,0,0,0,0,0,0,0,0,0,0,0,0]
[15,null,null,null,null,null,0,0,0,0,null,null,0,0,0,0,null,null,"",0,0,0,0,null,null,"",0,0,0,0,null,null,"l.",0,0,0,0,0,0,0,0,0,0,0,0,0,0,0,0,0,0,0,0,0]
[16,null,null,null,null,null,0,0,0,0,null,null,0,0,0,0,null,null,"",0,0,0,0,null,null,"",0,0,0,0,null,null,"l.",0,0,0,0,0,0,0,0,0,0,0,0,0,0,0,0,0,0,0,0,0]
[17,null,null,null,null,null,0,0,0,0,null,null,0,0,0,0,null,null,"",0,0,0,0,null,null,"",0,0,0,0,null,null,"l.",0,0,0,0,0,0,0,0,0,0,0,0,0,0,0,0,0,0,0,0,0]
[18,null,null,null,null,null,0,0,0,0,null,null,0,0,0,0,null,null,"",0,0,0,0,null,null,"",0,0,0,0,null,null,"l.",0,0,0,0,0,0,0,0,0,0,0,0,0,0,0,0,0,0,0,0,0]
[19,null,null,null,null,null,0,0,0,0,null,null,0,0,0,0,null,null,"",0,0,0,0,null,null,"",0,0,0,0,null,null,"l.",0,0,0,0,0,0,0,0,0,0,0,0,0,0,0,0,0,0,0,0,0]
[20,null,null,null,null,null,0,0,0,0,null,null,0,0,0,0,null,null,"",0,0,0,0,null,null,"",0,0,0,0,null,null,"l.",0,0,0,0,0,0,0,0,0,0,0,0,0,0,0,0,0,0,0,0,0]
[21,null,null,null,null,null,0,0,0,0,null,null,0,0,0,0,null,null,"",0,0,0,0,null,null,"",0,0,0,0,null,null,"l.",0,0,0,0,0,0,0,0,0,0,0,0,0,0,0,0,0,0,0,0,0]
[22,null,null,null,null,null,0,0,0,0,null,null,0,0,0,0,null,null,"",0,0,0,0,null,null,"",0,0,0,0,null,null,"l.",0,0,0,0,0,0,0,0,0,0,0,0,0,0,0,0,0,0,0,0,0]
[23,null,null,null,null,null,0,0,0,0,null,null,0,0,0,0,null,null,"",0,0,0,0,null,null,"",0,0,0,0,null,null,"l.",0,0,0,0,0,0,0,0,0,0,0,0,0,0,0,0,0,0,0,0,0]
[24,null,null,null,null,null,0,0,0,0,null,null,0,0,0,0,null,null,"",0,0,0,0,null,null,"",0,0,0,0,null,null,"l.",0,0,0,0,0,0,0,0,0,0,0,0,0,0,0,0,0,0,0,0,0]
[25,null,null,null,null,null,0,0,0,0,null,null,0,0,0,0,null,null,"",0,0,0,0,null,null,"",0,0,0,0,null,null,"l.",0,0,0,0,0,0,0,0,0,0,0,0,0,0,0,0,0,0,0,0,0]
[26,null,null,null,null,null,0,0,0,0,null,null,0,0,0,0,null,null,"",0,0,0,0,null,null,"",0,0,0,0,null,null,"l.",0,0,0,0,0,0,0,0,0,0,0,0,0,0,0,0,0,0,0,0,0]
[27,null,null,null,null,null,0,0,0,0,null,null,0,0,0,0,null,null,"",0,0,0,0,null,null,"",0,0,0,0,null,null,"l.",0,0,0,0,0,0,0,0,0,0,0,0,0,0,0,0,0,0,0,0,0]
[28,null,null,null,null,null,0,0,0,0,null,null,0,0,0,0,null,null,"",0,0,0,0,null,null,"",0,0,0,0,null,null,"l.",0,0,0,0,0,0,0,0,0,0,0,0,0,0,0,0,0,0,0,0,0]
[29,null,null,null,null,null,0,0,0,0,null,null,0,0,0,0,null,null,"",0,0,0,0,null,null,"",0,0,0,0,null,null,"l.",0,0,0,0,0,0,0,0,0,0,0,0,0,0,0,0,0,0,0,0,0]
[30,null,null,null,null,null,0,0,0,0,null,null,0,0,0,0,null,null,"",0,0,0,0,null,null,"",0,0,0,0,null,null,"l.",0,0,0,0,0,0,0,0,0,0,0,0,0,0,0,0,0,0,0,0,0]
[31,null,null,null,null,null,0,0,0,0,null,null,0,0,0,0,null,null,"",0,0,0,0,null,null,"",0,0,0,0,null,null,"l.",0,0,0,0,0,0,0,0,0,0,0,0,0,0,0,0,0,0,0,0,0]
[32,null,null,null,null,null,0,0,0,0,null,null,0,0,0,0,null,null,"",0,0,0,0,null,null,"",0,0,0,0,null,null,"l.",0,0,0,0,0,0,0,0,0,0,0,0,0,0,0,0,0,0,0,0,0]
[33,null,null,null,null,null,0,0,0,0,null,null,0,0,0,0,null,null,"",0,0,0,0,null,null,"",0,0,0,0,null,null,"l.",0,0,0,0,0,0,0,0,0,0,0,0,0,0,0,0,0,0,0,0,0]
[34,null,null,null,null,null,0,0,0,0,null,null,0,0,0,0,null,null,"",0,0,0,0,null,null,"",0,0,0,0,null,null,"l.",0,0,0,0,0,0,0,0,0,0,0,0,0,0,0,0,0,0,0,0,0]
[35,null,null,null,null,null,0,0,0,0,null,null,0,0,0,0,null,null,"",0,0,0,0,null,null,"",0,0,0,0,null,null,"l.",0,0,0,0,0,0,0,0,0,0,0,0,0,0,0,0,0,0,0,0,0]
[36,null,null,null,null,null,0,0,0,0,null,null,0,0,0,0,null,null,"",0,0,0,0,null,null,"",0,0,0,0,null,null,"l.",0,0,0,0,0,0,0,0,0,0,0,0,0,0,0,0,0,0,0,0,0]
[37,null,null,null,null,null,0,0,0,0,null,null,0,0,0,0,null,null,"",0,0,0,0,null,null,"",0,0,0,0,null,null,"l.",0,0,0,0,0,0,0,0,0,0,0,0,0,0,0,0,0,0,0,0,0]
[38,null,null,null,null,null,0,0,0,0,null,null,0,0,0,0,null,null,"",0,0,0,0,null,null,"",0,0,0,0,null,null,"l.",0,0,0,0,0,0,0,0,0,0,0,0,0,0,0,0,0,0,0,0,0]
[39,null,null,null,null,null,0,0,0,0,null,null,0,0,0,0,null,null,"",0,0,0,0,null,null,"",0,0,0,0,null,null,"l.",0,0,0,0,0,0,0,0,0,0,0,0,0,0,0,0,0,0,0,0,0]
[40,null,null,null,null,null,0,0,0,0,null,null,0,0,0,0,null,null,"",0,0,0,0,null,null,"",0,0,0,0,null,null,"l.",0,0,0,0,0,0,0,0,0,0,0,0,0,0,0,0,0,0,0,0,0]
[41,null,null,null,null,null,0,0,0,0,null,null,0,0,0,0,null,null,"",0,0,0,0,null,null,"",0,0,0,0,null,null,"l.",0,0,0,0,0,0,0,0,0,0,0,0,0,0,0,0,0,0,0,0,0]
[42,null,null,null,null,null,0,0,0,0,null,null,0,0,0,0,null,null,"",0,0,0,0,null,null,"",0,0,0,0,null,null,"l.",0,0,0,0,0,0,0,0,0,0,0,0,0,0,0,0,0,0,0,0,0]
[43,null,null,null,null,null,0,0,0,0,null,null,0,0,0,0,null,null,"",0,0,0,0,null,null,"",0,0,0,0,null,null,"l.",0,0,0,0,0,0,0,0,0,0,0,0,0,0,0,0,0,0,0,0,0]
[44,null,null,null,null,null,0,0,0,0,null,null,0,0,0,0,null,null,"",0,0,0,0,null,null,"",0,0,0,0,null,null,"l.",0,0,0,0,0,0,0,0,0,0,0,0,0,0,0,0,0,0,0,0,0]
[45,null,null,null,null,null,0,0,0,0,null,null,0,0,0,0,null,null,"",0,0,0,0,null,null,"",0,0,0,0,null,null,"l.",0,0,0,0,0,0,0,0,0,0,0,0,0,0,0,0,0,0,0,0,0]
[46,null,null,null,null,null,0,0,0,0,null,null,0,0,0,0,null,null,"",0,0,0,0,null,null,"",0,0,0,0,null,null,"l.",0,0,0,0,0,0,0,0,0,0,0,0,0,0,0,0,0,0,0,0,0]
[47,null,null,null,null,null,0,0,0,0,null,null,0,0,0,0,null,null,"",0,0,0,0,null,null,"",0,0,0,0,null,null,"l.",0,0,0,0,0,0,0,0,0,0,0,0,0,0,0,0,0,0,0,0,0]
[48,null,null,null,null,null,0,0,0,0,null,null,0,0,0,0,null,null,"",0,0,0,0,null,null,"",0,0,0,0,null,null,"l.",0,0,0,0,0,0,0,0,0,0,0,0,0,0,0,0,0,0,0,0,0]
[49,null,null,null,null,null,0,0,0,0,null,null,0,0,0,0,null,null,"",0,0,0,0,null,null,"",0,0,0,0,null,null,"l.",0,0,0,0,0,0,0,0,0,0,0,0,0,0,0,0,0,0,0,0,0]
[50,null,null,null,null,null,0,0,0,0,null,null,0,0,0,0,null,null,"",0,0,0,0,null,null,"",0,0,0,0,null,null,"l.",0,0,0,0,0,0,0,0,0,0,0,0,0,0,0,0,0,0,0,0,0]
[null,null,null,null,null,"TOTAL",{"$f":"SUM(G9:G58)","v":0},{"$f":"SUM(H9:H58)","v":0},0,0,null,"TOTAL",0,0,0,0,null,null,null,null,null,null,null,null,null,null,null,null,null,null,null,null,null,null,null,null,"TOTAL",0,0,0,0,0,0,0,0,0,{"$f":"SUM(AU9:AU58)","v":0},0,0,0,0,{"$f":"SUM(AZ9:AZ58)","v":0},{"$f":"SUM(BA9:BA58)","v":0},{"$f":"SUM(BB9:BB58)","v":0}]
[]
[]
[]
["RESULTADOS POR TIPO DE ACTIVIDAD - CONSUMO DE COMBUSTIBLE (FACTORES DEFRA)"]
[]
[null,"Denominación de la actividad","Tipo de actividad (propia o subcontratada)","Cadena de suministro (Upstream o Downstream)","ACTIVIDADES DE PROPULSIÓN DEL VEHÍCULO",null,null,null,null,null,"ACTIVIDADES DE REFRIGERACIÓN DE LA CARGA",null,null,null,null,null,"ACTIVIDADES DE ALMACENAMIENTO DE LA CARGA",null,null,null,null,null,null,null,null,null,null,null,null,null,null,null,null,null,null,null,null,null,null,null,null,"RESULTADOS TOTALES DE LAS ACTIVIDADES DE TRANSPORTE DE CARGA",null,null,null,"RESULTADOS TOTALES DE LAS ACTIVIDADES DE TRANSPORTE Y ALMACENAMIENTO DE CARGA",null,null,null,"REPORTE GHG PROTOCOL"]
[null,null,null,null,"Tipo de combustible","Consumo de combustible (l)","Consumo energético del tanque a las ruedas","Consumo energético del pozo a las ruedas","Emisiones de GEI del tanque a las ruedas","Emisiones de GEI del pozo a las ruedas","Tipo de combustible","Consumo de combustible (l)","Consumo energético del tanque a las ruedas","Consumo energético del pozo a las ruedas","Emisiones de GEI del tanque a las ruedas","Emisiones de GEI del pozo a las ruedas","Fuente de energía - 1","Consumo fuente de energía - 1",null,"Consumo energético directo - fuente de energía 1","Consumo energético total - fuente de energía 1","Emisiones de GEI directas - fuente de energía 1","Emisiones de GEI totales - fuente de energía 1","Fuente de energía - 2","Consumo fuente de energía - 2",null,"Consumo energético directo - fuente de energía 2","Consumo energético total - fuente de energía 2","Emisiones de GEI directas - fuente de energía 2","Emisiones de GEI totales - fuente de energía 2","Fuente de energía - 3","Consumo fuente de energía - 3",null,"Consumo energético directo - fuente de energía 3","Consumo energético total - fuente de energía 3","Emisiones de GEI directas - fuente de energía 3","Emisiones de GEI totales - fuente de energía 3","Consumo energético directo","Consumo energético total","Emisiones de GEI directas","Emisiones de GEI totales","Consumo energético del tanque a las ruedas","Consumo energético del pozo a las ruedas","Emisiones de GEI del tanque a las ruedas","Emisiones de GEI del pozo a las ruedas","Consumo energético del tanque a las ruedas","Consumo energético del pozo a las ruedas","Emisiones de GEI del tanque a las ruedas","Emisiones de GEI del pozo a las ruedas","Alcance 1","Alcance 2","Alcance 3. Categoría 3","Alcance 3. Categoría 4","Alcance 3. Categoría 9"]
[1,null,null,null,null,null,"---","---",{"$f":"IFERROR(F67*VLOOKUP(E67,t_DEFRA,3,0),0)","v":0},{"$f":"I67+IFERROR(F67*VLOOKUP(E67,t_DEFRA,5,0),0)","v":0},null,null,"---","---",{"$f":"IFERROR(L67*VLOOKUP(K67,t_DEFRA,3,0),0)","v":0},{"$f":"O67+IFERROR(L67*VLOOKUP(K67,t_DEFRA,5,0),0)","v":0},null,null,"l.","---","---",{"$f":"IFERROR(R67*VLOOKUP(Q67,t_DEFRA,3,0),0)","v":0},0,null,null,"l.","---","---",{"$f":"IFERROR(Y67*VLOOKUP(X67,t_DEFRA,3,0),0)","v":0},0,null,null,"l.","---","---",{"$f":"IFERROR(AF67*VLOOKUP(AE67,t_DEFRA,3,0),0)","v":0},0,"---","---",{"$f":"V67+AC67+AJ67","v":0},{"$f":"W67+AD67+AK67","v":0},{"$f":"IFERROR(G67+M67,\"---\")","v":"---"},{"$f":"IFERROR(H67+N67,\"---\")","v":"---"},0,0,{"$f":"IFERROR(AL67+AP67,\"---\")","v":"---"},{"$f":"IFERROR(AM67+AQ67,\"---\")","v":"---"},0,0,{"$f":"IF(C67=\"Propia\",AV67,0)","v":0},0,{"$f":"IF(C67=\"Propia\",AW67-AV67,0)","v":0},{"$f":"IF(AND(C67=\"Subcontratada\",D67=\"Upstream\"),AV67,0)","v":0},{"$f":"IF(AND(C67=\"Subcontratada\",D67=\"Downstream\"),AV67,0)","v":0}]
[2,null,null,null,null,null,"---","---",0,0,null,null,"---","---",0,0,null,null,"l.","---","---",0,0,null,null,"l.","---","---",0,0,null,null,"l.","---","---",0,0,"---","---",{"$f":"V68+AC68+AJ68","v":0},0,{"$f":"IFERROR(G68+M68,\"---\")","v":"---"},"---",0,0,{"$f":"IFERROR(AL68+AP68,\"---\")","v":"---"},"---",0,0,0,0,0,0,0]
[3,null,null,null,null,null,"---","---",0,0,null,null,"---","---",0,0,null,null,"l.","---","---",0,0,null,null,"l.","---","---",0,0,null,null,"l.","---","---",0,0,"---","---",0,0,"---","---",0,0,"---","---",0,0,0,0,0,0,0]
[4,null,null,null,null,null,"---","---",0,0,null,null,"---","---",0,0,null,null,"l.","---","---",0,0,null,null,"l.","---","---",0,0,null,null,"l.","---","---",0,0,"---","---",0,0,"---","---",0,0,"---","---",0,0,0,0,0,0,0]
[5,null,null,null,null,null,"---","---",0,0,null,null,"---","---",0,0,null,null,"l.","---","---",0,0,null,null,"l.","---","---",0,0,null,null,"l.","---","---",0,0,"---","---",0,0,"---","---",0,0,"---","---",0,0,0,0,0,0,0]
[6,null,null,null,null,null,"---","---",0,0,null,null,"---","---",0,0,null,null,"l.","---","---",0,0,null,null,"l.","---","---",0,0,null,null,"l.","---","---",0,0,"---","---",0,0,"---","---",0,0,"---","---",0,0,0,0,0,0,0]
[7,null,null,null,null,null,"---","---",0,0,null,null,"---","---",0,0,null,null,"l.","---","---",0,0,null,null,"l.","---","---",0,0,null,null,"l.","---","---",0,0,"---","---",0,0,"---","---",0,0,"---","---",0,0,0,0,0,0,0]
[8,null,null,null,null,null,"---","---",0,0,null,null,"---","---",0,0,null,null,"l.","---","---",0,0,null,null,"l.","---","---",0,0,null,null,"l.","---","---",0,0,"---","---",0,0,"---","---",0,0,"---","---",0,0,0,0,0,0,0]
[9,null,null,null,null,null,"---","---",0,0,null,null,"---","---",0,0,null,null,"l.","---","---",0,0,null,null,"l.","---","---",0,0,null,null,"l.","---","---",0,0,"---","---",0,0,"---","---",0,0,"---","---",0,0,0,0,0,0,0]
[10,null,null,null,null,null,"---","---",0,0,null,null,"---","---",0,0,null,null,"l.","---","---",0,0,null,null,"l.","---","---",0,0,null,null,"l.","---","---",0,0,"---","---",0,0,"---","---",0,0,"---","---",0,0,0,0,0,0,0]
[11,null,null,null,null,null,"---","---",0,0,null,null,"---","---",0,0,null,null,"l.","---","---",0,0,null,null,"l.","---","---",0,0,null,null,"l.","---","---",0,0,"---","---",0,0,"---","---",0,0,"---","---",0,0,0,0,0,0,0]
[12,null,null,null,null,null,"---","---",0,0,null,null,"---","---",0,0,null,null,"l.","---","---",0,0,null,null,"l.","---","---",0,0,null,null,"l.","---","---",0,0,"---","---",0,0,"---","---",0,0,"---","---",0,0,0,0,0,0,0]
[13,null,null,null,null,null,"---","---",0,0,null,null,"---","---",0,0,null,null,"l.","---","---",0,0,null,null,"l.","---","---",0,0,null,null,"l.","---","---",0,0,"---","---",0,0,"---","---",0,0,"---","---",0,0,0,0,0,0,0]
[14,null,null,null,null,null,"---","---",0,0,null,null,"---","---",0,0,null,null,"l.","---","---",0,0,null,null,"l.","---","---",0,0,null,null,"l.","---","---",0,0,"---","---",0,0,"---","---",0,0,"---","---",0,0,0,0,0,0,0]
[15,null,null,null,null,null,"---","---",0,0,null,null,"---","---",0,0,null,null,"l.","---","---",0,0,null,null,"l.","---","---",0,0,null,null,"l.","---","---",0,0,"---","---",0,0,"---","---",0,0,"---","---",0,0,0,0,0,0,0]
[16,null,null,null,null,null,"---","---",0,0,null,null,"---","---",0,0,null,null,"l.","---","---",0,0,null,null,"l.","---","---",0,0,null,null,"l.","---","---",0,0,"---","---",0,0,"---","---",0,0,"---","---",0,0,0,0,0,0,0]
[17,null,null,null,null,null,"---","---",0,0,null,null,"---","---",0,0,null,null,"l.","---","---",0,0,null,null,"l.","---","---",0,0,null,null,"l.","---","---",0,0,"---","---",0,0,"---","---",0,0,"---","---",0,0,0,0,0,0,0]
[18,null,null,null,null,null,"---","---",0,0,null,null,"---","---",0,0,null,null,"l.","---","---",0,0,null,null,"l.","---","---",0,0,null,null,"l.","---","---",0,0,"---","---",0,0,"---","---",0,0,"---","---",0,0,0,0,0,0,0]
[19,null,null,null,null,null,"---","---",0,0,null,null,"---","---",0,0,null,null,"l.","---","---",0,0,null,null,"l.","---","---",0,0,null,null,"l.","---","---",0,0,"---","---",0,0,"---","---",0,0,"---","---",0,0,0,0,0,0,0]
[20,null,null,null,null,null,"---","---",0,0,null,null,"---","---",0,0,null,null,"l.","---","---",0,0,null,null,"l.","---","---",0,0,null,null,"l.","---","---",0,0,"---","---",0,0,"---","---",0,0,"---","---",0,0,0,0,0,0,0]
[21,null,null,null,null,null,"---","---",0,0,null,null,"---","---",0,0,null,null,"l.","---","---",0,0,null,null,"l.","---","---",0,0,null,null,"l.","---","---",0,0,"---","---",0,0,"---","---",0,0,"---","---",0,0,0,0,0,0,0]
[22,null,null,null,null,null,"---","---",0,0,null,null,"---","---",0,0,null,null,"l.","---","---",0,0,null,null,"l.","---","---",0,0,null,null,"l.","---","---",0,0,"---","---",0,0,"---","---",0,0,"---","---",0,0,0,0,0,0,0]
[23,null,null,null,null,null,"---","---",0,0,null,null,"---","---",0,0,null,null,"l.","---","---",0,0,null,null,"l.","---","---",0,0,null,null,"l.","---","---",0,0,"---","---",0,0,"---","---",0,0,"---","---",0,0,0,0,0,0,0]
[24,null,null,null,null,null,"---","---",0,0,null,null,"---","---",0,0,null,null,"l.","---","---",0,0,null,null,"l.","---","---",0,0,null,null,"l.","---","---",0,0,"---","---",0,0,"---","---",0,0,"---","---",0,0,0,0,0,0,0]
[25,null,null,null,null,null,"---","---",0,0,null,null,"---","---",0,0,null,null,"l.","---","---",0,0,null,null,"l.","---","---",0,0,null,null,"l.","---","---",0,0,"---","---",0,0,"---","---",0,0,"---","---",0,0,0,0,0,0,0]
[26,null,null,null,null,null,"---","---",0,0,null,null,"---","---",0,0,null,null,"l.","---","---",0,0,null,null,"l.","---","---",0,0,null,null,"l.","---","---",0,0,"---","---",0,0,"---","---",0,0,"---","---",0,0,0,0,0,0,0]
[27,null,null,null,null,null,"---","---",0,0,null,null,"---","---",0,0,null,null,"l.","---","---",0,0,null,null,"l.","---","---",0,0,null,null,"l.","---","---",0,0,"---","---",0,0,"---","---",0,0,"---","---",0,0,0,0,0,0,0]
[28,null,null,null,null,null,"---","---",0,0,null,null,"---","---",0,0,null,null,"l.","---","---",0,0,null,null,"l.","---","---",0,0,null,null,"l.","---","---",0,0,"---","---",0,0,"---","---",0,0,"---","---",0,0,0,0,0,0,0]
[29,null,null,null,null,null,"---","---",0,0,null,null,"---","---",0,0,null,null,"l.","---","---",0,0,null,null,"l.","---","---",0,0,null,null,"l.","---","---",0,0,"---","---",0,0,"---","---",0,0,"---","---",0,0,0,0,0,0,0]
[30,null,null,null,null,null,"---","---",0,0,null,null,"---","---",0,0,null,null,"l.","---","---",0,0,null,null,"l.","---","---",0,0,null,null,"l.","---","---",0,0,"---","---",0,0,"---","---",0,0,"---","---",0,0,0,0,0,0,0]
[31,null,null,null,null,null,"---","---",0,0,null,null,"---","---",0,0,null,null,"l.","---","---",0,0,null,null,"l.","---","---",0,0,null,null,"l.","---","---",0,0,"---","---",0,0,"---","---",0,0,"---","---",0,0,0,0,0,0,0]
[32,null,null,null,null,null,"---","---",0,0,null,null,"---","---",0,0,null,null,"l.","---","---",0,0,null,null,"l.","---","---",0,0,null,null,"l.","---","---",0,0,"---","---",0,0,"---","---",0,0,"---","---",0,0,0,0,0,0,0]
[33,null,null,null,null,null,"---","---",0,0,null,null,"---","---",0,0,null,null,"l.","---","---",{"$f":"IFERROR(R99*VLOOKUP(Q99,t_DEFRA,3,0),0)","v":0},0,null,null,"l.","---","---",{"$f":"IFERROR(Y99*VLOOKUP(X99,t_DEFRA,3,0),0)","v":0},0,null,null,"l.","---","---",{"$f":"IFERROR(AF99*VLOOKUP(AE99,t_DEFRA,3,0),0)","v":0},0,"---","---",0,0,"---","---",0,0,"---","---",0,0,0,0,0,0,0]
[34,null,null,null,null,null,"---","---",0,0,null,null,"---","---",0,0,null,null,"l.","---","---",0,0,null,null,"l.","---","---",0,0,null,null,"l.","---","---",0,0,"---","---",0,0,"---","---",0,0,"---","---",0,0,0,0,0,0,0]
[35,null,null,null,null,null,"---","---",0,0,null,null,"---","---",0,0,null,null,"l.","---","---",0,0,null,null,"l.","---","---",0,0,null,null,"l.","---","---",0,0,"---","---",0,0,"---","---",0,0,"---","---",0,0,0,0,0,0,0]
[36,null,null,null,null,null,"---","---",0,0,null,null,"---","---",0,0,null,null,"l.","---","---",0,0,null,null,"l.","---","---",0,0,null,null,"l.","---","---",0,0,"---","---",0,0,"---","---",0,0,"---","---",0,0,0,0,0,0,0]
[37,null,null,null,null,null,"---","---",0,0,null,null,"---","---",0,0,null,null,"l.","---","---",0,0,null,null,"l.","---","---",0,0,null,null,"l.","---","---",0,0,"---","---",0,0,"---","---",0,0,"---","---",0,0,0,0,0,0,0]
[38,null,null,null,null,null,"---","---",0,0,null,null,"---","---",0,0,null,null,"l.","---","---",0,0,null,null,"l.","---","---",0,0,null,null,"l.","---","---",0,0,"---","---",0,0,"---","---",0,0,"---","---",0,0,0,0,0,0,0]
[39,null,null,null,null,null,"---","---",0,0,null,null,"---","---",0,0,null,null,"l.","---","---",0,0,null,null,"l.","---","---",0,0,null,null,"l.","---","---",0,0,"---","---",0,0,"---","---",0,0,"---","---",0,0,0,0,0,0,0]
[40,null,null,null,null,null,"---","---",0,0,null,null,"---","---",0,0,null,null,"l.","---","---",0,0,null,null,"l.","---","---",0,0,null,null,"l.","---","---",0,0,"---","---",0,0,"---","---",0,0,"---","---",0,0,0,0,0,0,0]
[41,null,null,null,null,null,"---","---",0,0,null,null,"---","---",0,0,null,null,"l.","---","---",0,0,null,null,"l.","---","---",0,0,null,null,"l.","---","---",0,0,"---","---",0,0,"---","---",0,0,"---","---",0,0,0,0,0,0,0]
[42,null,null,null,null,null,"---","---",0,0,null,null,"---","---",0,0,null,null,"l.","---","---",0,0,null,null,"l.","---","---",0,0,null,null,"l.","---","---",0,0,"---","---",0,0,"---","---",0,0,"---","---",0,0,0,0,0,0,0]
[43,null,null,null,null,null,"---","---",0,0,null,null,"---","---",0,0,null,null,"l.","---","---",0,0,null,null,"l.","---","---",0,0,null,null,"l.","---","---",0,0,"---","---",0,0,"---","---",0,0,"---","---",0,0,0,0,0,0,0]
[44,null,null,null,null,null,"---","---",0,0,null,null,"---","---",0,0,null,null,"l.","---","---",0,0,null,null,"l.","---","---",0,0,null,null,"l.","---","---",0,0,"---","---",0,0,"---","---",0,0,"---","---",0,0,0,0,0,0,0]
[45,null,null,null,null,null,"---","---",0,0,null,null,"---","---",0,0,null,null,"l.","---","---",0,0,null,null,"l.","---","---",0,0,null,null,"l.","---","---",0,0,"---","---",0,0,"---","---",0,0,"---","---",0,0,0,0,0,0,0]
[46,null,null,null,null,null,"---","---",0,0,null,null,"---","---",0,0,null,null,"l.","---","---",0,0,null,null,"l.","---","---",0,0,null,null,"l.","---","---",0,0,"---","---",0,0,"---","---",0,0,"---","---",0,0,0,0,0,0,0]
[47,null,null,null,null,null,"---","---",0,0,null,null,"---","---",0,0,null,null,"l.","---","---",0,0,null,null,"l.","---","---",0,0,null,null,"l.","---","---",0,0,"---","---",0,0,"---","---",0,0,"---","---",0,0,0,0,0,0,0]
[48,null,null,null,null,null,"---","---",0,0,null,null,"---","---",0,0,null,null,"l.","---","---",0,0,null,null,"l.","---","---",0,0,null,null,"l.","---","---",0,0,"---","---",0,0,"---","---",0,0,"---","---",0,0,0,0,0,0,0]
[49,null,null,null,null,null,"---","---",0,0,null,null,"---","---",0,0,null,null,"l.","---","---",0,0,null,null,"l.","---","---",0,0,null,null,"l.","---","---",0,0,"---","---",0,0,"---","---",0,0,"---","---",0,0,0,0,0,0,0]
[50,null,null,null,null,null,"---","---",0,0,null,null,"---","---",0,0,null,null,"l.","---","---",0,0,null,null,"l.","---","---",0,0,null,null,"l.","---","---",0,0,"---","---",0,0,"---","---",0,0,"---","---",0,0,0,0,0,0,0]
[null,null,null,null,null,"TOTAL",{"$f":"SUM(G67:G116)","v":0},{"$f":"SUM(H67:H116)","v":0},0,0,null,"TOTAL",0,0,0,0,null,null,null,null,null,null,null,null,null,null,null,null,null,null,null,null,null,null,null,null,"TOTAL",0,0,0,0,0,0,0,0,0,{"$f":"SUM(AU67:AU116)","v":0},0,0,0,0,{"$f":"SUM(AZ67:AZ116)","v":0},{"$f":"SUM(BA67:BA116)","v":0},{"$f":"SUM(BB67:BB116)","v":0}]
[]
[]
[]
["RESULTADOS POR TIPO DE ACTIVIDAD - CONSUMO DE COMBUSTIBLE (FACTORES GHG - SÓLO EMISIONES DIRECTAS DEL SERVICIO DE TRANSPORTE)"]
[]
[null,"Denominación de la actividad","Tipo de actividad (propia o subcontratada)","Cadena de suministro (Upstream o Downstream)","ACTIVIDADES DE PROPULSIÓN DEL VEHÍCULO",null,null,null,null,null,"ACTIVIDADES DE REFRIGERACIÓN DE LA CARGA",null,null,null,null,null,"ACTIVIDADES DE ALMACENAMIENTO DE LA CARGA",null,null,null,null,null,null,null,null,null,null,null,null,null,null,null,null,null,null,null,null,null,null,null,null,"RESULTADOS TOTALES DE LAS ACTIVIDADES DE TRANSPORTE DE CARGA",null,null,null,"RESULTADOS TOTALES DE LAS ACTIVIDADES DE TRANSPORTE Y ALMACENAMIENTO DE CARGA",null,null,null,"REPORTE GHG PROTOCOL"]
[null,null,null,null,"Tipo de combustible","Consumo de combustible (l)","Consumo energético del tanque a las ruedas","Consumo energético del pozo a las ruedas","Emisiones de GEI del tanque a las ruedas","Emisiones de GEI del pozo a las ruedas","Tipo de combustible","Consumo de combustible (l)","Consumo energético del tanque a las ruedas","Consumo energético del pozo a las ruedas","Emisiones de GEI del tanque a las ruedas","Emisiones de GEI del pozo a las ruedas","Fuente de energía - 1","Consumo fuente de energía - 1",null,"Consumo energético directo - fuente de energía 1","Consumo energético total - fuente de energía 1","Emisiones de GEI directas - fuente de energía 1","Emisiones de GEI totales - fuente de energía 1","Fuente de energía - 2","Consumo fuente de energía - 2",null,"Consumo energético directo - fuente de energía 2","Consumo energético total - fuente de energía 2","Emisiones de GEI directas - fuente de energía 2","Emisiones de GEI totales - fuente de energía 2","Fuente de energía - 3","Consumo fuente de energía - 3",null,"Consumo energético directo - fuente de energía 3","Consumo energético total - fuente de energía 3","Emisiones de GEI directas - fuente de energía 3","Emisiones de GEI totales - fuente de energía 3","Consumo energético directo","Consumo energético total","Emisiones de GEI directas","Emisiones de GEI totales","Consumo energético del tanque a las ruedas","Consumo energético del pozo a las ruedas","Emisiones de GEI del tanque a las ruedas","Emisiones de GEI del pozo a las ruedas","Consumo energético del tanque a las ruedas","Consumo energético del pozo a las ruedas","Emisiones de GEI del tanque a las ruedas","Emisiones de GEI del pozo a las ruedas","Alcance 1","Alcance 2","Alcance 3. Categoría 3","Alcance 3. Categoría 4","Alcance 3. Categoría 9"]
[1,null,null,null,null,null,"---","---",{"$f":"IFERROR(F125*VLOOKUP(E125,t_GHG,2,0),0)","v":0},"---",null,null,"---","---",{"$f":"IFERROR(L125*VLOOKUP(K125,t_GHG,2,0),0)","v":0},"---",null,null,"l.","---","---",{"$f":"IFERROR(R125*VLOOKUP(Q125,t_GHG,2,0),0)","v":0},"---",null,null,"l.","---","---",{"$f":"IFERROR(Y125*VLOOKUP(X125,t_GHG,2,0),0)","v":0},"---",null,null,"l.","---","---",{"$f":"IFERROR(AF125*VLOOKUP(AE125,t_GHG,2,0),0)","v":0},"---","---","---",{"$f":"V125+AC125+AJ125","v":0},"---",{"$f":"IFERROR(G125+M125,\"---\")","v":"---"},{"$f":"IFERROR(H125+N125,\"---\")","v":"---"},0,"---",{"$f":"IFERROR(AL125+AP125,\"---\")","v":"---"},{"$f":"IFERROR(AM125+AQ125,\"---\")","v":"---"},0,"---",{"$f":"IF(C125=\"Propia\",AV125,0)","v":0},0,"N/D",{"$f":"IF(AND(C125=\"Subcontratada\",D125=\"Upstream\"),AV125,0)","v":0},{"$f":"IF(AND(C125=\"Subcontratada\",D125=\"Downstream\"),AV125,0)","v":0}]
[2,null,null,null,null,null,"---","---",0,"---",null,null,"---","---",0,"---",null,null,"l.","---","---",0,"---",null,null,"l.","---","---",0,"---",null,null,"l.","---","---",0,"---","---","---",{"$f":"V126+AC126+AJ126","v":0},"---",{"$f":"IFERROR(G126+M126,\"---\")","v":"---"},"---",0,"---",{"$f":"IFERROR(AL126+AP126,\"---\")","v":"---"},"---",0,"---",0,0,"N/D",0,0]
[3,null,null,null,null,null,"---","---",0,"---",null,null,"---","---",0,"---",null,null,"l.","---","---",0,"---",null,null,"l.","---","---",0,"---",null,null,"l.","---","---",0,"---","---","---",0,"---","---","---",0,"---","---","---",0,"---",0,0,"N/D",{"$f":"IF(AND(C127=\"Subcontratada\",D127=\"Upstream\"),AV127,0)","v":0},0]
[4,null,null,null,null,null,"---","---",0,"---",null,null,"---","---",0,"---",null,null,"l.","---","---",0,"---",null,null,"l.","---","---",0,"---",null,null,"l.","---","---",0,"---","---","---",0,"---","---","---",0,"---","---","---",0,"---",0,0,"N/D",0,0]
[5,null,null,null,null,null,"---","---",0,"---",null,null,"---","---",0,"---",null,null,"l.","---","---",0,"---",null,null,"l.","---","---",0,"---",null,null,"l.","---","---",0,"---","---","---",0,"---","---","---",0,"---","---","---",0,"---",0,0,"N/D",0,0]
[6,null,null,null,null,null,"---","---",0,"---",null,null,"---","---",0,"---",null,null,"l.","---","---",0,"---",null,null,"l.","---","---",0,"---",null,null,"l.","---","---",0,"---","---","---",0,"---","---","---",0,"---","---","---",0,"---",0,0,"N/D",0,0]
[7,null,null,null,null,null,"---","---",0,"---",null,null,"---","---",0,"---",null,null,"l.","---","---",0,"---",null,null,"l.","---","---",0,"---",null,null,"l.","---","---",0,"---","---","---",0,"---","---","---",0,"---","---","---",0,"---",0,0,"N/D",0,0]
[8,null,null,null,null,null,"---","---",0,"---",null,null,"---","---",0,"---",null,null,"l.","---","---",0,"---",null,null,"l.","---","---",0,"---",null,null,"l.","---","---",0,"---","---","---",0,"---","---","---",0,"---","---","---",0,"---",0,0,"N/D",0,{"$f":"IF(AND(C132=\"Subcontratada\",D132=\"Downstream\"),AV132,0)","v":0}]
[9,null,null,null,null,null,"---","---",0,"---",null,null,"---","---",0,"---",null,null,"l.","---","---",0,"---",null,null,"l.","---","---",0,"---",null,null,"l.","---","---",0,"---","---","---",0,"---","---","---",0,"---","---","---",0,"---",0,0,"N/D",0,0]
[10,null,null,null,null,null,"---","---",0,"---",null,null,"---","---",0,"---",null,null,"l.","---","---",0,"---",null,null,"l.","---","---",0,"---",null,null,"l.","---","---",0,"---","---","---",0,"---","---","---",0,"---","---","---",0,"---",0,0,"N/D",0,0]
[11,null,null,null,null,null,"---","---",0,"---",null,null,"---","---",0,"---",null,null,"l.","---","---",0,"---",null,null,"l.","---","---",0,"---",null,null,"l.","---","---",0,"---","---","---",0,"---","---","---",0,"---","---","---",0,"---",0,0,"N/D",0,0]
[12,null,null,null,null,null,"---","---",0,"---",null,null,"---","---",0,"---",null,null,"l.","---","---",0,"---",null,null,"l.","---","---",0,"---",null,null,"l.","---","---",0,"---","---","---",0,"---","---","---",0,"---","---","---",0,"---",0,0,"N/D",0,0]
[13,null,null,null,null,null,"---","---",0,"---",null,null,"---","---",0,"---",null,null,"l.","---","---",0,"---",null,null,"l.","---","---",0,"---",null,null,"l.","---","---",0,"---","---","---",0,"---","---","---",0,"---","---","---",0,"---",0,0,"N/D",0,0]
[14,null,null,null,null,null,"---","---",0,"---",null,null,"---","---",0,"---",null,null,"l.","---","---",0,"---",null,null,"l.","---","---",0,"---",null,null,"l.","---","---",0,"---","---","---",0,"---","---","---",0,"---","---","---",0,"---",0,0,"N/D",0,0]
[15,null,null,null,null,null,"---","---",0,"---",null,null,"---","---",0,"---",null,null,"l.","---","---",0,"---",null,null,"l.","---","---",0,"---",null,null,"l.","---","---",0,"---","---","---",0,"---","---","---",0,"---","---","---",0,"---",0,0,"N/D",0,0]
[16,null,null,null,null,null,"---","---",0,"---",null,null,"---","---",0,"---",null,null,"l.","---","---",0,"---",null,null,"l.","---","---",0,"---",null,null,"l.","---","---",0,"---","---","---",0,"---","---","---",0,"---","---","---",0,"---",0,0,"N/D",0,0]
[17,null,null,null,null,null,"---","---",0,"---",null,null,"---","---",0,"---",null,null,"l.","---","---",0,"---",null,null,"l.","---","---",0,"---",null,null,"l.","---","---",0,"---","---","---",0,"---","---","---",0,"---","---","---",0,"---",0,0,"N/D",0,0]
[18,null,null,null,null,null,"---","---",0,"---",null,null,"---","---",0,"---",null,null,"l.","---","---",0,"---",null,null,"l.","---","---",0,"---",null,null,"l.","---","---",0,"---","---","---",0,"---","---","---",0,"---","---","---",0,"---",0,0,"N/D",0,0]
[19,null,null,null,null,null,"---","---",0,"---",null,null,"---","---",0,"---",null,null,"l.","---","---",0,"---",null,null,"l.","---","---",0,"---",null,null,"l.","---","---",0,"---","---","---",0,"---","---","---",0,"---","---","---",0,"---",0,0,"N/D",0,0]
[20,null,null,null,null,null,"---","---",0,"---",null,null,"---","---",0,"---",null,null,"l.","---","---",0,"---",null,null,"l.","---","---",0,"---",null,null,"l.","---","---",0,"---","---","---",0,"---","---","---",0,"---","---","---",0,"---",0,0,"N/D",0,0]
[21,null,null,null,null,null,"---","---",0,"---",null,null,"---","---",0,"---",null,null,"l.","---","---",0,"---",null,null,"l.","---","---",0,"---",null,null,"l.","---","---",0,"---","---","---",0,"---","---","---",0,"---","---","---",0,"---",0,0,"N/D",0,0]
[22,null,null,null,null,null,"---","---",0,"---",null,null,"---","---",0,"---",null,null,"l.","---","---",0,"---",null,null,"l.","---","---",0,"---",null,null,"l.","---","---",0,"---","---","---",0,"---","---","---",0,"---","---","---",0,"---",0,0,"N/D",0,0]
[23,null,null,null,null,null,"---","---",0,"---",null,null,"---","---",0,"---",null,null,"l.","---","---",0,"---",null,null,"l.","---","---",0,"---",null,null,"l.","---","---",0,"---","---","---",0,"---","---","---",0,"---","---","---",0,"---",0,0,"N/D",0,0]
[24,null,null,null,null,null,"---","---",0,"---",null,null,"---","---",0,"---",null,null,"l.","---","---",0,"---",null,null,"l.","---","---",0,"---",null,null,"l.","---","---",0,"---","---","---",0,"---","---","---",0,"---","---","---",0,"---",0,0,"N/D",0,0]
[25,null,null,null,null,null,"---","---",0,"---",null,null,"---","---",0,"---",null,null,"l.","---","---",0,"---",null,null,"l.","---","---",0,"---",null,null,"l.","---","---",0,"---","---","---",0,"---","---","---",0,"---","---","---",0,"---",0,0,"N/D",0,0]
[26,null,null,null,null,null,"---","---",0,"---",null,null,"---","---",0,"---",null,null,"l.","---","---",0,"---",null,null,"l.","---","---",0,"---",null,null,"l.","---","---",0,"---","---","---",0,"---","---","---",0,"---","---","---",0,"---",0,0,"N/D",0,0]
[27,null,null,null,null,null,"---","---",0,"---",null,null,"---","---",0,"---",null,null,"l.","---","---",0,"---",null,null,"l.","---","---",0,"---",null,null,"l.","---","---",0,"---","---","---",0,"---","---","---",0,"---","---","---",0,"---",0,0,"N/D",0,0]
[28,null,null,null,null,null,"---","---",0,"---",null,null,"---","---",0,"---",null,null,"l.","---","---",0,"---",null,null,"l.","---","---",0,"---",null,null,"l.","---","---",0,"---","---","---",0,"---","---","---",0,"---","---","---",0,"---",0,0,"N/D",0,0]
[29,null,null,null,null,null,"---","---",0,"---",null,null,"---","---",0,"---",null,null,"l.","---","---",0,"---",null,null,"l.","---","---",0,"---",null,null,"l.","---","---",0,"---","---","---",0,"---","---","---",0,"---","---","---",0,"---",0,0,"N/D",0,0]
[30,null,null,null,null,null,"---","---",0,"---",null,null,"---","---",0,"---",null,null,"l.","---","---",0,"---",null,null,"l.","---","---",0,"---",null,null,"l.","---","---",0,"---","---","---",0,"---","---","---",0,"---","---","---",0,"---",0,0,"N/D",0,0]
[31,null,null,null,null,null,"---","---",0,"---",null,null,"---","---",0,"---",null,null,"l.","---","---",0,"---",null,null,"l.","---","---",0,"---",null,null,"l.","---","---",0,"---","---","---",0,"---","---","---",0,"---","---","---",0,"---",0,0,"N/D",0,0]
[32,null,null,null,null,null,"---","---",0,"---",null,null,"---","---",0,"---",null,null,"l.","---","---",0,"---",null,null,"l.","---","---",0,"---",null,null,"l.","---","---",0,"---","---","---",0,"---","---","---",0,"---","---","---",0,"---",0,0,"N/D",0,0]
[33,null,null,null,null,null,"---","---",0,"---",null,null,"---","---",0,"---",null,null,"l.","---","---",0,"---",null,null,"l.","---","---",0,"---",null,null,"l.","---","---",0,"---","---","---",0,"---","---","---",0,"---","---","---",0,"---",0,0,"N/D",0,0]
[34,null,null,null,null,null,"---","---",0,"---",null,null,"---","---",0,"---",null,null,"l.","---","---",0,"---",null,null,"l.","---","---",0,"---",null,null,"l.","---","---",0,"---","---","---",0,"---","---","---",0,"---","---","---",0,"---",0,0,"N/D",0,0]
[35,null,null,null,null,null,"---","---",0,"---",null,null,"---","---",0,"---",null,null,"l.","---","---",0,"---",null,null,"l.","---","---",0,"---",null,null,"l.","---","---",0,"---","---","---",0,"---","---","---",0,"---","---","---",0,"---",0,0,"N/D",0,0]
[36,null,null,null,null,null,"---","---",0,"---",null,null,"---","---",0,"---",null,null,"l.","---","---",0,"---",null,null,"l.","---","---",0,"---",null,null,"l.","---","---",0,"---","---","---",0,"---","---","---",0,"---","---","---",0,"---",0,0,"N/D",0,0]
[37,null,null,null,null,null,"---","---",0,"---",null,null,"---","---",0,"---",null,null,"l.","---","---",0,"---",null,null,"l.","---","---",0,"---",null,null,"l.","---","---",0,"---","---","---",0,"---","---","---",0,"---","---","---",0,"---",0,0,"N/D",0,0]
[38,null,null,null,null,null,"---","---",0,"---",null,null,"---","---",0,"---",null,null,"l.","---","---",0,"---",null,null,"l.","---","---",0,"---",null,null,"l.","---","---",0,"---","---","---",0,"---","---","---",0,"---","---","---",0,"---",0,0,"N/D",0,0]
[39,null,null,null,null,null,"---","---",0,"---",null,null,"---","---",0,"---",null,null,"l.","---","---",0,"---",null,null,"l.","---","---",0,"---",null,null,"l.","---","---",0,"---","---","---",0,"---","---","---",0,"---","---","---",0,"---",0,0,"N/D",0,0]
[40,null,null,null,null,null,"---","---",0,"---",null,null,"---","---",0,"---",null,null,"l.","---","---",0,"---",null,null,"l.","---","---",0,"---",null,null,"l.","---","---",0,"---","---","---",0,"---","---","---",0,"---","---","---",0,"---",0,0,"N/D",0,0]
[41,null,null,null,null,null,"---","---",0,"---",null,null,"---","---",0,"---",null,null,"l.","---","---",0,"---",null,null,"l.","---","---",0,"---",null,null,"l.","---","---",0,"---","---","---",0,"---","---","---",0,"---","---","---",0,"---",0,0,"N/D",0,0]
[42,null,null,null,null,null,"---","---",0,"---",null,null,"---","---",0,"---",null,null,"l.","---","---",0,"---",null,null,"l.","---","---",0,"---",null,null,"l.","---","---",0,"---","---","---",0,"---","---","---",0,"---","---","---",0,"---",0,0,"N/D",0,0]
[43,null,null,null,null,null,"---","---",0,"---",null,null,"---","---",0,"---",null,null,"l.","---","---",0,"---",null,null,"l.","---","---",0,"---",null,null,"l.","---","---",0,"---","---","---",0,"---","---","---",0,"---","---","---",0,"---",0,0,"N/D",0,0]
[44,null,null,null,null,null,"---","---",0,"---",null,null,"---","---",0,"---",null,null,"l.","---","---",0,"---",null,null,"l.","---","---",0,"---",null,null,"l.","---","---",0,"---","---","---",0,"---","---","---",0,"---","---","---",0,"---",0,0,"N/D",0,0]
[45,null,null,null,null,null,"---","---",0,"---",null,null,"---","---",0,"---",null,null,"l.","---","---",0,"---",null,null,"l.","---","---",0,"---",null,null,"l.","---","---",0,"---","---","---",0,"---","---","---",0,"---","---","---",0,"---",0,0,"N/D",0,0]
[46,null,null,null,null,null,"---","---",0,"---",null,null,"---","---",0,"---",null,null,"l.","---","---",0,"---",null,null,"l.","---","---",0,"---",null,null,"l.","---","---",0,"---","---","---",0,"---","---","---",0,"---","---","---",0,"---",0,0,"N/D",0,0]
[47,null,null,null,null,null,"---","---",0,"---",null,null,"---","---",0,"---",null,null,"l.","---","---",0,"---",null,null,"l.","---","---",0,"---",null,null,"l.","---","---",0,"---","---","---",0,"---","---","---",0,"---","---","---",0,"---",0,0,"N/D",0,0]
[48,null,null,null,null,null,"---","---",0,"---",null,null,"---","---",0,"---",null,null,"l.","---","---",0,"---",null,null,"l.","---","---",0,"---",null,null,"l.","---","---",0,"---","---","---",0,"---","---","---",0,"---","---","---",0,"---",0,0,"N/D",0,0]
[49,null,null,null,null,null,"---","---",0,"---",null,null,"---","---",0,"---",null,null,"l.","---","---",0,"---",null,null,"l.","---","---",0,"---",null,null,"l.","---","---",0,"---","---","---",0,"---","---","---",0,"---","---","---",0,"---",0,0,"N/D",0,0]
[50,null,null,null,null,null,"---","---",0,"---",null,null,"---","---",0,"---",null,null,"l.","---","---",0,"---",null,null,"l.","---","---",0,"---",null,null,"l.","---","---",0,"---","---","---",0,"---","---","---",0,"---","---","---",0,"---",0,0,"N/D",0,0]
[null,null,null,null,null,"TOTAL",{"$f":"SUM(G125:G174)","v":0},{"$f":"SUM(H125:H174)","v":0},0,0,null,"TOTAL",0,0,0,0,null,null,null,null,null,null,null,null,null,null,null,null,null,null,null,null,null,null,null,null,"TOTAL",0,0,0,0,0,0,0,0,0,{"$f":"SUM(AU125:AU174)","v":0},0,0,0,0,"N/D",{"$f":"SUM(BA125:BA174)","v":0},{"$f":"SUM(BB125:BB174)","v":0}]
[]
[]
[]
["RESULTADOS POR TIPO DE ACTIVIDAD - CONSUMO DE COMBUSTIBLE (FACTORES MAGRAMA - SÓLO EMISIONES DIRECTAS DEL SERVICIO DE TRANSPORTE)"]
[]
[null,"Denominación de la actividad","Tipo de actividad (propia o subcontratada)","Cadena de suministro (Upstream o Downstream)","ACTIVIDADES DE PROPULSIÓN DEL VEHÍCULO",null,null,null,null,null,"ACTIVIDADES DE REFRIGERACIÓN DE LA CARGA",null,null,null,null,null,"ACTIVIDADES DE ALMACENAMIENTO DE LA CARGA",null,null,null,null,null,null,null,null,null,null,null,null,null,null,null,null,null,null,null,null,null,null,null,null,"RESULTADOS TOTALES DE LAS ACTIVIDADES DE TRANSPORTE DE CARGA",null,null,null,"RESULTADOS TOTALES DE LAS ACTIVIDADES DE TRANSPORTE Y ALMACENAMIENTO DE CARGA",null,null,null,"REPORTE GHG PROTOCOL"]
[null,null,null,null,"Tipo de combustible","Consumo de combustible (l)","Consumo energético del tanque a las ruedas","Consumo energético del pozo a las ruedas","Emisiones de GEI del tanque a las ruedas","Emisiones de GEI del pozo a las ruedas","Tipo de combustible","Consumo de combustible (l)","Consumo energético del tanque a las ruedas","Consumo energético del pozo a las ruedas","Emisiones de GEI del tanque a las ruedas","Emisiones de GEI del pozo a las ruedas","Fuente de energía - 1","Consumo fuente de energía - 1",null,"Consumo energético directo - fuente de energía 1","Consumo energético total - fuente de energía 1","Emisiones de GEI directas - fuente de energía 1","Emisiones de GEI totales - fuente de energía 1","Fuente de energía - 2","Consumo fuente de energía - 2",null,"Consumo energético directo - fuente de energía 2","Consumo energético total - fuente de energía 2","Emisiones de GEI directas - fuente de energía 2","Emisiones de GEI totales - fuente de energía 2","Fuente de energía - 3","Consumo fuente de energía - 3",null,"Consumo energético directo - fuente de energía 3","Consumo energético total - fuente de energía 3","Emisiones de GEI directas - fuente de energía 3","Emisiones de GEI totales - fuente de energía 3","Consumo energético directo","Consumo energético total","Emisiones de GEI directas","Emisiones de GEI totales","Consumo energético del tanque a las ruedas","Consumo energético del pozo a las ruedas","Emisiones de GEI del tanque a las ruedas","Emisiones de GEI del pozo a las ruedas","Consumo energético del tanque a las ruedas","Consumo energético del pozo a las ruedas","Emisiones de GEI del tanque a las ruedas","Emisiones de GEI del pozo a las ruedas","Alcance 1","Alcance 2","Alcance 3. Categoría 3","Alcance 3. Categoría 4","Alcance 3. Categoría 9"]
[1,null,null,null,null,null,"---","---",{"$f":"IFERROR(F183*VLOOKUP(E183,t_MAGRAMA,2,0),0)","v":0},"---",null,null,"---","---",{"$f":"IFERROR(L183*VLOOKUP(K183,t_MAGRAMA,2,0),0)","v":0},"---",null,null,"l.","---","---",{"$f":"IFERROR(R183*VLOOKUP(Q183,t_MAGRAMA,2,0),0)","v":0},"---",null,null,"l.","---","---",{"$f":"IFERROR(Y183*VLOOKUP(X183,t_MAGRAMA,2,0),0)","v":0},"---",null,null,"l.","---","---",{"$f":"IFERROR(AF183*VLOOKUP(AE183,t_MAGRAMA,2,0),0)","v":0},"---","---","---",{"$f":"V183+AC183+AJ183","v":0},"---",{"$f":"IFERROR(G183+M183,\"---\")","v":"---"},{"$f":"IFERROR(H183+N183,\"---\")","v":"---"},0,"---",{"$f":"IFERROR(AL183+AP183,\"---\")","v":"---"},{"$f":"IFERROR(AM183+AQ183,\"---\")","v":"---"},0,"---",{"$f":"IF(C183=\"Propia\",AV183,0)","v":0},0,"N/D",{"$f":"IF(AND(C183=\"Subcontratada\",D183=\"Upstream\"),AV183,0)","v":0},{"$f":"IF(AND(C183=\"Subcontratada\",D183=\"Downstream\"),AV183,0)","v":0}]
[2,null,null,null,null,null,"---","---",0,"---",null,null,"---","---",0,"---",null,null,"l.","---","---",0,"---",null,null,"l.","---","---",0,"---",null,null,"l.","---","---",0,"---","---","---",{"$f":"V184+AC184+AJ184","v":0},"---",{"$f":"IFERROR(G184+M184,\"---\")","v":"---"},"---",0,"---",{"$f":"IFERROR(AL184+AP184,\"---\")","v":"---"},"---",0,"---",0,0,"N/D",0,0]
[3,null,null,null,null,null,"---","---",0,"---",null,null,"---","---",0,"---",null,null,"l.","---","---",0,"---",null,null,"l.","---","---",0,"---",null,null,"l.","---","---",0,"---","---","---",0,"---","---","---",0,"---","---","---",0,"---",0,0,"N/D",0,0]
[4,null,null,null,null,null,"---","---",0,"---",null,null,"---","---",0,"---",null,null,"l.","---","---",0,"---",null,null,"l.","---","---",0,"---",null,null,"l.","---","---",0,"---","---","---",0,"---","---","---",0,"---","---","---",0,"---",0,0,"N/D",0,0]
[5,null,null,null,null,null,"---","---",0,"---",null,null,"---","---",0,"---",null,null,"l.","---","---",0,"---",null,null,"l.","---","---",0,"---",null,null,"l.","---","---",0,"---","---","---",0,"---","---","---",0,"---","---","---",0,"---",0,0,"N/D",0,0]
[6,null,null,null,null,null,"---","---",0,"---",null,null,"---","---",0,"---",null,null,"l.","---","---",0,"---",null,null,"l.","---","---",0,"---",null,null,"l.","---","---",0,"---","---","---",0,"---","---","---",0,"---","---","---",0,"---",0,0,"N/D",0,0]
[7,null,null,null,null,null,"---","---",0,"---",null,null,"---","---",0,"---",null,null,"l.","---","---",0,"---",null,null,"l.","---","---",0,"---",null,null,"l.","---","---",0,"---","---","---",0,"---","---","---",0,"---","---","---",0,"---",0,0,"N/D",0,0]
[8,null,null,null,null,null,"---","---",0,"---",null,null,"---","---",0,"---",null,null,"l.","---","---",0,"---",null,null,"l.","---","---",0,"---",null,null,"l.","---","---",0,"---","---","---",0,"---","---","---",0,"---","---","---",0,"---",0,0,"N/D",0,0]
[9,null,null,null,null,null,"---","---",0,"---",null,null,"---","---",0,"---",null,null,"l.","---","---",0,"---",null,null,"l.","---","---",0,"---",null,null,"l.","---","---",0,"---","---","---",0,"---","---","---",0,"---","---","---",0,"---",0,0,"N/D",0,0]
[10,null,null,null,null,null,"---","---",0,"---",null,null,"---","---",0,"---",null,null,"l.","---","---",0,"---",null,null,"l.","---","---",0,"---",null,null,"l.","---","---",0,"---","---","---",0,"---","---","---",0,"---","---","---",0,"---",0,0,"N/D",0,0]
[11,null,null,null,null,null,"---","---",0,"---",null,null,"---","---",0,"---",null,null,"l.","---","---",0,"---",null,null,"l.","---","---",0,"---",null,null,"l.","---","---",0,"---","---","---",0,"---","---","---",0,"---","---","---",0,"---",0,0,"N/D",0,0]
[12,null,null,null,null,null,"---","---",0,"---",null,null,"---","---",0,"---",null,null,"l.","---","---",0,"---",null,null,"l.","---","---",0,"---",null,null,"l.","---","---",0,"---","---","---",0,"---","---","---",0,"---","---","---",0,"---",0,0,"N/D",0,0]
[13,null,null,null,null,null,"---","---",0,"---",null,null,"---","---",0,"---",null,null,"l.","---","---",0,"---",null,null,"l.","---","---",0,"---",null,null,"l.","---","---",0,"---","---","---",0,"---","---","---",0,"---","---","---",0,"---",0,0,"N/D",0,0]
[14,null,null,null,null,null,"---","---",0,"---",null,null,"---","---",0,"---",null,null,"l.","---","---",0,"---",null,null,"l.","---","---",0,"---",null,null,"l.","---","---",0,"---","---","---",0,"---","---","---",0,"---","---","---",0,"---",0,0,"N/D",0,0]
[15,null,null,null,null,null,"---","---",0,"---",null,null,"---","---",0,"---",null,null,"l.","---","---",0,"---",null,null,"l.","---","---",0,"---",null,null,"l.","---","---",0,"---","---","---",0,"---","---","---",0,"---","---","---",0,"---",0,0,"N/D",0,0]
[16,null,null,null,null,null,"---","---",0,"---",null,null,"---","---",0,"---",null,null,"l.","---","---",0,"---",null,null,"l.","---","---",0,"---",null,null,"l.","---","---",0,"---","---","---",0,"---","---","---",0,"---","---","---",0,"---",0,0,"N/D",0,0]
[17,null,null,null,null,null,"---","---",0,"---",null,null,"---","---",0,"---",null,null,"l.","---","---",0,"---",null,null,"l.","---","---",0,"---",null,null,"l.","---","---",0,"---","---","---",0,"---","---","---",0,"---","---","---",0,"---",0,0,"N/D",0,0]
[18,null,null,null,null,null,"---","---",0,"---",null,null,"---","---",0,"---",null,null,"l.","---","---",0,"---",null,null,"l.","---","---",0,"---",null,null,"l.","---","---",0,"---","---","---",0,"---","---","---",0,"---","---","---",0,"---",0,0,"N/D",0,0]
[19,null,null,null,null,null,"---","---",0,"---",null,null,"---","---",0,"---",null,null,"l.","---","---",0,"---",null,null,"l.","---","---",0,"---",null,null,"l.","---","---",0,"---","---","---",0,"---","---","---",0,"---","---","---",0,"---",0,0,"N/D",0,0]
[20,null,null,null,null,null,"---","---",0,"---",null,null,"---","---",0,"---",null,null,"l.","---","---",0,"---",null,null,"l.","---","---",0,"---",null,null,"l.","---","---",0,"---","---","---",0,"---","---","---",0,"---","---","---",0,"---",0,0,"N/D",0,0]
[21,null,null,null,null,null,"---","---",0,"---",null,null,"---","---",0,"---",null,null,"l.","---","---",0,"---",null,null,"l.","---","---",0,"---",null,null,"l.","---","---",0,"---","---","---",0,"---","---","---",0,"---","---","---",0,"---",0,0,"N/D",0,0]
[22,null,null,null,null,null,"---","---",0,"---",null,null,"---","---",0,"---",null,null,"l.","---","---",0,"---",null,null,"l.","---","---",0,"---",null,null,"l.","---","---",0,"---","---","---",0,"---","---","---",0,"---","---","---",0,"---",0,0,"N/D",0,0]
[23,null,null,null,null,null,"---","---",0,"---",null,null,"---","---",0,"---",null,null,"l.","---","---",0,"---",null,null,"l.","---","---",0,"---",null,null,"l.","---","---",0,"---","---","---",0,"---","---","---",0,"---","---","---",0,"---",0,0,"N/D",0,0]
[24,null,null,null,null,null,"---","---",0,"---",null,null,"---","---",0,"---",null,null,"l.","---","---",0,"---",null,null,"l.","---","---",0,"---",null,null,"l.","---","---",0,"---","---","---",0,"---","---","---",0,"---","---","---",0,"---",0,0,"N/D",0,0]
[25,null,null,null,null,null,"---","---",0,"---",null,null,"---","---",0,"---",null,null,"l.","---","---",0,"---",null,null,"l.","---","---",0,"---",null,null,"l.","---","---",0,"---","---","---",0,"---","---","---",0,"---","---","---",0,"---",0,0,"N/D",0,0]
[26,null,null,null,null,null,"---","---",0,"---",null,null,"---","---",0,"---",null,null,"l.","---","---",0,"---",null,null,"l.","---","---",0,"---",null,null,"l.","---","---",0,"---","---","---",0,"---","---","---",0,"---","---","---",0,"---",0,0,"N/D",0,0]
[27,null,null,null,null,null,"---","---",0,"---",null,null,"---","---",0,"---",null,null,"l.","---","---",0,"---",null,null,"l.","---","---",0,"---",null,null,"l.","---","---",0,"---","---","---",0,"---","---","---",0,"---","---","---",0,"---",0,0,"N/D",0,0]
[28,null,null,null,null,null,"---","---",0,"---",null,null,"---","---",0,"---",null,null,"l.","---","---",0,"---",null,null,"l.","---","---",0,"---",null,null,"l.","---","---",0,"---","---","---",0,"---","---","---",0,"---","---","---",0,"---",0,0,"N/D",0,0]
[29,null,null,null,null,null,"---","---",0,"---",null,null,"---","---",0,"---",null,null,"l.","---","---",0,"---",null,null,"l.","---","---",0,"---",null,null,"l.","---","---",0,"---","---","---",0,"---","---","---",0,"---","---","---",0,"---",0,0,"N/D",0,0]
[30,null,null,null,null,null,"---","---",0,"---",null,null,"---","---",0,"---",null,null,"l.","---","---",0,"---",null,null,"l.","---","---",0,"---",null,null,"l.","---","---",0,"---","---","---",0,"---","---","---",0,"---","---","---",0,"---",0,0,"N/D",0,0]
[31,null,null,null,null,null,"---","---",0,"---",null,null,"---","---",0,"---",null,null,"l.","---","---",0,"---",null,null,"l.","---","---",0,"---",null,null,"l.","---","---",0,"---","---","---",0,"---","---","---",0,"---","---","---",0,"---",0,0,"N/D",0,0]
[32,null,null,null,null,null,"---","---",0,"---",null,null,"---","---",0,"---",null,null,"l.","---","---",0,"---",null,null,"l.","---","---",0,"---",null,null,"l.","---","---",0,"---","---","---",0,"---","---","---",0,"---","---","---",0,"---",0,0,"N/D",0,0]
[33,null,null,null,null,null,"---","---",0,"---",null,null,"---","---",0,"---",null,null,"l.","---","---",0,"---",null,null,"l.","---","---",0,"---",null,null,"l.","---","---",0,"---","---","---",0,"---","---","---",0,"---","---","---",0,"---",0,0,"N/D",0,0]
[34,null,null,null,null,null,"---","---",0,"---",null,null,"---","---",0,"---",null,null,"l.","---","---",0,"---",null,null,"l.","---","---",0,"---",null,null,"l.","---","---",0,"---","---","---",0,"---","---","---",0,"---","---","---",0,"---",0,0,"N/D",0,0]
[35,null,null,null,null,null,"---","---",0,"---",null,null,"---","---",0,"---",null,null,"l.","---","---",0,"---",null,null,"l.","---","---",0,"---",null,null,"l.","---","---",0,"---","---","---",0,"---","---","---",0,"---","---","---",0,"---",0,0,"N/D",0,0]
[36,null,null,null,null,null,"---","---",0,"---",null,null,"---","---",0,"---",null,null,"l.","---","---",0,"---",null,null,"l.","---","---",0,"---",null,null,"l.","---","---",0,"---","---","---",0,"---","---","---",0,"---","---","---",0,"---",0,0,"N/D",0,0]
[37,null,null,null,null,null,"---","---",0,"---",null,null,"---","---",0,"---",null,null,"l.","---","---",0,"---",null,null,"l.","---","---",0,"---",null,null,"l.","---","---",0,"---","---","---",0,"---","---","---",0,"---","---","---",0,"---",0,0,"N/D",0,0]
[38,null,null,null,null,null,"---","---",0,"---",null,null,"---","---",0,"---",null,null,"l.","---","---",0,"---",null,null,"l.","---","---",0,"---",null,null,"l.","---","---",0,"---","---","---",0,"---","---","---",0,"---","---","---",0,"---",0,0,"N/D",0,0]
[39,null,null,null,null,null,"---","---",0,"---",null,null,"---","---",0,"---",null,null,"l.","---","---",0,"---",null,null,"l.","---","---",0,"---",null,null,"l.","---","---",0,"---","---","---",0,"---","---","---",0,"---","---","---",0,"---",0,0,"N/D",0,0]
[40,null,null,null,null,null,"---","---",0,"---",null,null,"---","---",0,"---",null,null,"l.","---","---",0,"---",null,null,"l.","---","---",0,"---",null,null,"l.","---","---",0,"---","---","---",0,"---","---","---",0,"---","---","---",0,"---",0,0,"N/D",0,0]
[41,null,null,null,null,null,"---","---",0,"---",null,null,"---","---",0,"---",null,null,"l.","---","---",0,"---",null,null,"l.","---","---",0,"---",null,null,"l.","---","---",0,"---","---","---",0,"---","---","---",0,"---","---","---",0,"---",0,0,"N/D",0,0]
[42,null,null,null,null,null,"---","---",0,"---",null,null,"---","---",0,"---",null,null,"l.","---","---",0,"---",null,null,"l.","---","---",0,"---",null,null,"l.","---","---",0,"---","---","---",0,"---","---","---",0,"---","---","---",0,"---",0,0,"N/D",0,0]
[43,null,null,null,null,null,"---","---",0,"---",null,null,"---","---",0,"---",null,null,"l.","---","---",0,"---",null,null,"l.","---","---",0,"---",null,null,"l.","---","---",0,"---","---","---",0,"---","---","---",0,"---","---","---",0,"---",0,0,"N/D",0,0]
[44,null,null,null,null,null,"---","---",0,"---",null,null,"---","---",0,"---",null,null,"l.","---","---",0,"---",null,null,"l.","---","---",0,"---",null,null,"l.","---","---",0,"---","---","---",0,"---","---","---",0,"---","---","---",0,"---",0,0,"N/D",0,0]
[45,null,null,null,null,null,"---","---",0,"---",null,null,"---","---",0,"---",null,null,"l.","---","---",0,"---",null,null,"l.","---","---",0,"---",null,null,"l.","---","---",0,"---","---","---",0,"---","---","---",0,"---","---","---",0,"---",0,0,"N/D",0,0]
[46,null,null,null,null,null,"---","---",0,"---",null,null,"---","---",0,"---",null,null,"l.","---","---",0,"---",null,null,"l.","---","---",0,"---",null,null,"l.","---","---",0,"---","---","---",0,"---","---","---",0,"---","---","---",0,"---",0,0,"N/D",0,0]
[47,null,null,null,null,null,"---","---",0,"---",null,null,"---","---",0,"---",null,null,"l.","---","---",0,"---",null,null,"l.","---","---",0,"---",null,null,"l.","---","---",0,"---","---","---",0,"---","---","---",0,"---","---","---",0,"---",0,0,"N/D",0,0]
[48,null,null,null,null,null,"---","---",0,"---",null,null,"---","---",0,"---",null,null,"l.","---","---",0,"---",null,null,"l.","---","---",0,"---",null,null,"l.","---","---",0,"---","---","---",0,"---","---","---",0,"---","---","---",0,"---",0,0,"N/D",0,0]
[49,null,null,null,null,null,"---","---",0,"---",null,null,"---","---",0,"---",null,null,"l.","---","---",0,"---",null,null,"l.","---","---",0,"---",null,null,"l.","---","---",0,"---","---","---",0,"---","---","---",0,"---","---","---",0,"---",0,0,"N/D",0,0]
[50,null,null,null,null,null,"---","---",0,"---",null,null,"---","---",0,"---",null,null,"l.","---","---",0,"---",null,null,"l.","---","---",0,"---",null,null,"l.","---","---",0,"---","---","---",0,"---","---","---",0,"---","---","---",0,"---",0,0,"N/D",0,0]
[null,null,null,null,null,"TOTAL",{"$f":"SUM(G183:G232)","v":0},{"$f":"SUM(H183:H232)","v":0},0,0,null,"TOTAL",{"$f":"SUM(M183:M232)","v":0},0,0,0,null,null,null,null,null,null,null,null,null,null,null,null,null,null,null,null,null,null,null,null,"TOTAL",{"$f":"SUM(AL183:AL232)","v":0},0,0,0,0,0,0,0,0,{"$f":"SUM(AU183:AU232)","v":0},{"$f":"SUM(AV183:AV232)","v":0},0,0,0,"N/D",{"$f":"SUM(BA183:BA232)","v":0},{"$f":"SUM(BB183:BB232)","v":0}]
[]
[]
[]
["RESULTADOS POR TIPO DE ACTIVIDAD - CONSUMO DE ELECTRICIDAD"]
[]
[null,"Denominación de la actividad","Tipo de actividad (propia o subcontratada)","Cadena de suministro (Upstream o Downstream)","ACTIVIDADES DE PROPULSIÓN DEL VEHÍCULO",null,null,null,null,null,"ACTIVIDADES DE REFRIGERACIÓN DE LA CARGA",null,null,null,null,null,"ACTIVIDADES DE ALMACENAMIENTO DE LA CARGA",null,null,null,null,null,null,null,null,null,null,null,null,null,null,null,null,null,null,null,null,null,null,null,null,"RESULTADOS TOTALES DE LAS ACTIVIDADES DE TRANSPORTE DE CARGA",null,null,null,"RESULTADOS TOTALES DE LAS ACTIVIDADES DE TRANSPORTE Y ALMACENAMIENTO DE CARGA",null,null,null,"REPORTE GHG PROTOCOL"]
[null,null,null,null,"Tipo de suministro","Consumo de electricidad (kWh)","Consumo energético del tanque a las ruedas","Consumo energético del pozo a las ruedas","Emisiones de GEI por generación de electricidad","Emisiones de GEI indirectas totales","Tipo de suministro","Consumo de electricidad (kWh)","Consumo energético del tanque a las ruedas","Consumo energético del pozo a las ruedas","Emisiones de GEI por generación de electricidad","Emisiones de GEI indirectas totales","Tipo de suministro","Consumo de electricidad (kWh)",null,"Consumo energético directo","Consumo energético total","Emisiones de GEI por generación de electricidad","Emisiones de GEI indirectas totales",null,null,null,null,null,null,null,null,null,null,null,null,null,null,null,null,null,null,"Consumo energético del tanque a las ruedas","Consumo energético del pozo a las ruedas","Emisiones de GEI por generación de electricidad","Emisiones de GEI indirectas totales","Consumo energético del tanque a las ruedas","Consumo energético del pozo a las ruedas","Emisiones de GEI por generación de electricidad","Emisiones de GEI indirectas totales","Alcance 1","Alcance 2","Alcance 3. Categoría 3","Alcance 3. Categoría 4","Alcance 3. Categoría 9"]
[null,null,null,null,null,null,{"$f":"IFERROR(F241*VLOOKUP(E241,t_factores_e,3,0),0)","v":0},{"$f":"IFERROR(F241*VLOOKUP(E241,t_factores_e,4,0),0)","v":0},{"$f":"IFERROR(F241*VLOOKUP(E241,t_factores_e,8,0),0)","v":0},{"$f":"IFERROR(F241*VLOOKUP(E241,t_factores_e,7,0),0)","v":0},null,null,{"$f":"IFERROR(L241*VLOOKUP(K241,t_factores_e,3,0),0)","v":0},{"$f":"IFERROR(L241*VLOOKUP(K241,t_factores_e,4,0),0)","v":0},{"$f":"IFERROR(L241*VLOOKUP(K241,t_factores_e,8,0),0)","v":0},{"$f":"IFERROR(L241*VLOOKUP(K241,t_factores_e,7,0),0)","v":0},null,null,null,{"$f":"IFERROR(R241*VLOOKUP(Q241,t_electricidad_e,3,0),0)","v":0},{"$f":"IFERROR(R241*VLOOKUP(Q241,t_factores_e,4,0),0)","v":0},{"$f":"IFERROR(R241*VLOOKUP(Q241,t_factores_e,8,0),0)","v":0},{"$f":"IFERROR(R241*VLOOKUP(Q241,t_factores_e,7,0),0)","v":0},null,null,null,null,null,null,null,null,null,null,null,null,null,null,null,null,null,null,{"$f":"IFERROR(G241+M241,\"---\")","v":0},0,0,0,{"$f":"IFERROR(T241+AP241,\"---\")","v":0},0,0,0,0,{"$f":"IF(C241=\"Propia\",AV241,0)","v":0},{"$f":"IF(C241=\"Propia\",AW241-AV241,0)","v":0},{"$f":"IF(AND(C241=\"Subcontratada\",D241=\"Upstream\"),AV241,0)","v":0},{"$f":"IF(AND(C241=\"Subcontratada\",D241=\"Downstream\"),AV241,0)","v":0}]
[null,null,null,null,null,null,0,0,0,0,null,null,{"$f":"IFERROR(L242*VLOOKUP(K242,t_factores_e,3,0),0)","v":0},0,0,0,null,null,null,{"$f":"IFERROR(R242*VLOOKUP(Q242,t_factores_e,3,0),0)","v":0},0,0,0,null,null,null,null,null,null,null,null,null,null,null,null,null,null,null,null,null,null,0,0,0,0,0,0,0,0,0,0,0,0,0]
[null,null,null,null,null,null,0,0,0,0,null,null,0,0,0,0,null,null,null,0,0,0,0,null,null,null,null,null,null,null,null,null,null,null,null,null,null,null,null,null,null,0,0,0,0,0,0,0,0,0,0,0,0,0]
[null,null,null,null,null,null,0,0,0,0,null,null,0,0,0,0,null,null,null,0,0,0,0,null,null,null,null,null,null,null,null,null,null,null,null,null,null,null,null,null,null,0,0,0,0,0,0,0,0,0,0,0,0,0]
[null,null,null,null,null,null,0,0,0,0,null,null,0,0,0,0,null,null,null,0,0,0,0,null,null,null,null,null,null,null,null,null,null,null,null,null,null,null,null,null,null,0,0,0,0,0,0,0,0,0,0,0,0,0]
[null,null,null,null,null,null,0,0,0,0,null,null,0,0,0,0,null,null,null,0,0,0,0,null,null,null,null,null,null,null,null,null,null,null,null,null,null,null,null,null,null,0,0,0,0,0,0,0,0,0,0,0,0,0]
[null,null,null,null,null,null,0,0,0,0,null,null,0,0,0,0,null,null,null,0,0,0,0,null,null,null,null,null,null,null,null,null,null,null,null,null,null,null,null,null,null,0,0,0,0,0,0,0,0,0,0,0,0,0]
[null,null,null,null,null,null,0,0,0,0,null,null,0,0,0,0,null,null,null,0,0,0,0,null,null,null,null,null,null,null,null,null,null,null,null,null,null,null,null,null,null,0,0,0,0,0,0,0,0,0,0,0,0,0]
[null,null,null,null,null,null,0,0,0,0,null,null,0,0,0,0,null,null,null,0,0,0,0,null,null,null,null,null,null,null,null,null,null,null,null,null,null,null,null,null,null,0,0,0,0,0,0,0,0,0,0,0,0,0]
[null,null,null,null,null,null,0,0,0,0,null,null,0,0,0,0,null,null,null,0,0,0,0,null,null,null,null,null,null,null,null,null,null,null,null,null,null,null,null,null,null,0,0,0,0,0,0,0,0,0,0,0,0,0]
[null,null,null,null,null,null,0,0,0,0,null,null,0,0,0,0,null,null,null,0,0,0,0,null,null,null,null,null,null,null,null,null,null,null,null,null,null,null,null,null,null,0,0,0,0,0,0,0,0,0,0,0,0,0]
[null,null,null,null,null,null,0,0,0,0,null,null,0,0,0,0,null,null,null,0,0,0,0,null,null,null,null,null,null,null,null,null,null,null,null,null,null,null,null,null,null,0,0,0,0,0,0,0,0,0,0,0,0,0]
[null,null,null,null,null,null,0,0,0,0,null,null,0,0,0,0,null,null,null,0,0,0,0,null,null,null,null,null,null,null,null,null,null,null,null,null,null,null,null,null,null,0,0,0,0,0,0,0,0,0,0,0,0,0]
[null,null,null,null,null,null,0,0,0,0,null,null,0,0,0,0,null,null,null,0,0,0,0,null,null,null,null,null,null,null,null,null,null,null,null,null,null,null,null,null,null,0,0,0,0,0,0,0,0,0,0,0,0,0]
[null,null,null,null,null,null,0,0,0,0,null,null,0,0,0,0,null,null,null,0,0,0,0,null,null,null,null,null,null,null,null,null,null,null,null,null,null,null,null,null,null,0,0,0,0,0,0,0,0,0,0,0,0,0]
[null,null,null,null,null,null,0,0,0,0,null,null,0,0,0,0,null,null,null,0,0,0,0,null,null,null,null,null,null,null,null,null,null,null,null,null,null,null,null,null,null,0,0,0,0,0,0,0,0,0,0,0,0,0]
[null,null,null,null,null,null,0,0,0,0,null,null,0,0,0,0,null,null,null,0,0,0,0,null,null,null,null,null,null,null,null,null,null,null,null,null,null,null,null,null,null,0,0,0,0,0,0,0,0,0,0,0,0,0]
[null,null,null,null,null,null,0,0,0,0,null,null,0,0,0,0,null,null,null,0,0,0,0,null,null,null,null,null,null,null,null,null,null,null,null,null,null,null,null,null,null,0,0,0,0,0,0,0,0,0,0,0,0,0]
[null,null,null,null,null,null,0,0,0,0,null,null,0,0,0,0,null,null,null,0,0,0,0,null,null,null,null,null,null,null,null,null,null,null,null,null,null,null,null,null,null,0,0,0,0,0,0,0,0,0,0,0,0,0]
[null,null,null,null,null,null,0,0,0,0,null,null,0,0,0,0,null,null,null,0,0,0,0,null,null,null,null,null,null,null,null,null,null,null,null,null,null,null,null,null,null,0,0,0,0,0,0,0,0,0,0,0,0,0]
[null,null,null,null,null,null,0,0,0,0,null,null,0,0,0,0,null,null,null,0,0,0,0,null,null,null,null,null,null,null,null,null,null,null,null,null,null,null,null,null,null,0,0,0,0,0,0,0,0,0,0,0,0,0]
[null,null,null,null,null,null,0,0,0,0,null,null,0,0,0,0,null,null,null,0,0,0,0,null,null,null,null,null,null,null,null,null,null,null,null,null,null,null,null,null,null,0,0,0,0,0,0,0,0,0,0,0,0,0]
[null,null,null,null,null,null,0,0,0,0,null,null,0,0,0,0,null,null,null,0,0,0,0,null,null,null,null,null,null,null,null,null,null,null,null,null,null,null,null,null,null,0,0,0,0,0,0,0,0,0,0,0,0,0]
[null,null,null,null,null,null,0,0,0,0,null,null,0,0,0,0,null,null,null,0,0,0,0,null,null,null,null,null,null,null,null,null,null,null,null,null,null,null,null,null,null,0,0,0,0,0,0,0,0,0,0,0,0,0]
[null,null,null,null,null,null,0,0,0,0,null,null,0,0,0,0,null,null,null,0,0,0,0,null,null,null,null,null,null,null,null,null,null,null,null,null,null,null,null,null,null,0,0,0,0,0,0,0,0,0,0,0,0,0]
[null,null,null,null,null,null,0,0,0,0,null,null,0,0,0,0,null,null,null,0,0,0,0,null,null,null,null,null,null,null,null,null,null,null,null,null,null,null,null,null,null,0,0,0,0,0,0,0,0,0,0,0,0,0]
[null,null,null,null,null,null,0,0,0,0,null,null,0,0,0,0,null,null,null,0,0,0,0,null,null,null,null,null,null,null,null,null,null,null,null,null,null,null,null,null,null,0,0,0,0,0,0,0,0,0,0,0,0,0]
[null,null,null,null,null,null,0,0,0,0,null,null,0,0,0,0,null,null,null,0,0,0,0,null,null,null,null,null,null,null,null,null,null,null,null,null,null,null,null,null,null,0,0,0,0,0,0,0,0,0,0,0,0,0]
[null,null,null,null,null,null,0,0,0,0,null,null,0,0,0,0,null,null,null,0,0,0,0,null,null,null,null,null,null,null,null,null,null,null,null,null,null,null,null,null,null,0,0,0,0,0,0,0,0,0,0,0,0,0]
[null,null,null,null,null,null,0,0,0,0,null,null,0,0,0,0,null,null,null,0,0,0,0,null,null,null,null,null,null,null,null,null,null,null,null,null,null,null,null,null,null,0,0,0,0,0,0,0,0,0,0,0,0,0]
[null,null,null,null,null,null,0,0,0,0,null,null,0,0,0,0,null,null,null,0,0,0,0,null,null,null,null,null,null,null,null,null,null,null,null,null,null,null,null,null,null,0,0,0,0,0,0,0,0,0,0,0,0,0]
[null,null,null,null,null,null,0,0,0,0,null,null,0,0,0,0,null,null,null,0,0,0,0,null,null,null,null,null,null,null,null,null,null,null,null,null,null,null,null,null,null,0,0,0,0,0,0,0,0,0,0,0,0,0]
[null,null,null,null,null,null,0,0,0,0,null,null,0,0,0,0,null,null,null,0,0,0,0,null,null,null,null,null,null,null,null,null,null,null,null,null,null,null,null,null,null,{"$f":"IFERROR(G273+M273,\"---\")","v":0},0,0,0,{"$f":"IFERROR(T273+AP273,\"---\")","v":0},0,0,0,0,0,0,0,0]
[null,null,null,null,null,null,0,0,0,0,null,null,0,0,0,0,null,null,null,0,0,0,0,null,null,null,null,null,null,null,null,null,null,null,null,null,null,null,null,null,null,0,0,0,0,0,0,0,0,0,0,0,0,0]
[null,null,null,null,null,null,0,0,0,0,null,null,0,0,0,0,null,null,null,0,0,0,0,null,null,null,null,null,null,null,null,null,null,null,null,null,null,null,null,null,null,0,0,0,0,0,0,0,0,0,0,0,0,0]
[null,null,null,null,null,null,0,0,0,0,null,null,0,0,0,0,null,null,null,0,0,0,0,null,null,null,null,null,null,null,null,null,null,null,null,null,null,null,null,null,null,0,0,0,0,0,0,0,0,0,0,0,0,0]
[null,null,null,null,null,null,0,0,0,0,null,null,0,0,0,0,null,null,null,0,0,0,0,null,null,null,null,null,null,null,null,null,null,null,null,null,null,null,null,null,null,0,0,0,0,0,0,0,0,0,0,0,0,0]
[null,null,null,null,null,null,0,0,0,0,null,null,0,0,0,0,null,null,null,0,0,0,0,null,null,null,null,null,null,null,null,null,null,null,null,null,null,null,null,null,null,0,0,0,0,0,0,0,0,0,0,0,0,0]
[null,null,null,null,null,null,0,0,0,0,null,null,0,0,0,0,null,null,null,0,0,0,0,null,null,null,null,null,null,null,null,null,null,null,null,null,null,null,null,null,null,0,0,0,0,0,0,0,0,0,0,0,0,0]
[null,null,null,null,null,null,0,0,0,0,null,null,0,0,0,0,null,null,null,0,0,0,0,null,null,null,null,null,null,null,null,null,null,null,null,null,null,null,null,null,null,0,0,0,0,0,0,0,0,0,0,0,0,0]
[null,null,null,null,null,null,0,0,0,0,null,null,0,0,0,0,null,null,null,0,0,0,0,null,null,null,null,null,null,null,null,null,null,null,null,null,null,null,null,null,null,0,0,0,0,0,0,0,0,0,0,0,0,0]
[null,null,null,null,null,null,0,0,0,0,null,null,0,0,0,0,null,null,null,0,0,0,0,null,null,null,null,null,null,null,null,null,null,null,null,null,null,null,null,null,null,0,0,0,0,0,0,0,0,0,0,0,0,0]
[null,null,null,null,null,null,0,0,0,0,null,null,0,0,0,0,null,null,null,0,0,0,0,null,null,null,null,null,null,null,null,null,null,null,null,null,null,null,null,null,null,0,0,0,0,0,0,0,0,0,0,0,0,0]
[null,null,null,null,null,null,0,0,0,0,null,null,0,0,0,0,null,null,null,0,0,0,0,null,null,null,null,null,null,null,null,null,null,null,null,null,null,null,null,null,null,0,0,0,0,0,0,0,0,0,0,0,0,0]
[null,null,null,null,null,null,0,0,0,0,null,null,0,0,0,0,null,null,null,0,0,0,0,null,null,null,null,null,null,null,null,null,null,null,null,null,null,null,null,null,null,0,0,0,0,0,0,0,0,0,0,0,0,0]
[null,null,null,null,null,null,0,0,0,0,null,null,0,0,0,0,null,null,null,0,0,0,0,null,null,null,null,null,null,null,null,null,null,null,null,null,null,null,null,null,null,0,0,0,0,0,0,0,0,0,0,0,0,0]
[null,null,null,null,null,null,0,0,0,0,null,null,0,0,0,0,null,null,null,0,0,0,0,null,null,null,null,null,null,null,null,null,null,null,null,null,null,null,null,null,null,0,0,0,0,0,0,0,0,0,0,0,0,0]
[null,null,null,null,null,null,0,0,0,0,null,null,0,0,0,0,null,null,null,0,0,0,0,null,null,null,null,null,null,null,null,null,null,null,null,null,null,null,null,null,null,0,0,0,0,0,0,0,0,0,0,0,0,0]
[null,null,null,null,null,null,0,0,0,0,null,null,0,0,0,0,null,null,null,0,0,0,0,null,null,null,null,null,null,null,null,null,null,null,null,null,null,null,null,null,null,0,0,0,0,0,0,0,0,0,0,0,0,0]
[null,null,null,null,null,null,0,0,0,0,null,null,0,0,0,0,null,null,null,0,0,0,0,null,null,null,null,null,null,null,null,null,null,null,null,null,null,null,null,null,null,0,0,0,0,0,0,0,0,0,0,0,0,0]
[null,null,null,null,null,"TOTAL",{"$f":"SUM(G241:G290)","v":0},{"$f":"SUM(H241:H290)","v":0},0,0,null,"TOTAL",0,0,0,0,null,null,null,null,null,null,null,null,null,null,null,null,null,null,null,null,null,null,null,null,null,null,null,null,"TOTAL",0,0,0,0,0,{"$f":"SUM(AU241:AU290)","v":0},0,0,0,0,{"$f":"SUM(AZ241:AZ290)","v":0},{"$f":"SUM(BA241:BA290)","v":0},{"$f":"SUM(BB241:BB290)","v":0}]

{"sheet":"RESULTADOS_A1_1","index":4,"n_rows":126,"n_cols":46,"rows_kept":126,"cut":false,"hidden":false,"merged":[[121,1,121,7],[122,1,122,7],[123,1,123,7],[124,1,124,7],[115,1,115,7],[116,1,116,7],[117,1,117,7],[118,1,118,7],[119,1,119,7],[120,1,120,7],[114,1,114,7],[103,1,103,7],[104,1,104,7],[105,1,105,7],[106,1,106,7],[107,1,107,7],[108,1,108,7],[109,1,109,7],[110,1,110,7],[111,1,111,7],[112,1,112,7],[113,1,113,7],[102,1,102,7],[91,1,91,7],[92,1,92,7],[93,1,93,7],[94,1,94,7],[95,1,95,7],[96,1,96,7],[97,1,97,7],[98,1,98,7],[99,1,99,7],[100,1,100,7],[101,1,101,7],[77,1,77,7],[90,1,90,7],[79,1,79,7],[80,1,80,7],[81,1,81,7],[82,1,82,7],[83,1,83,7],[84,1,84,7],[85,1,85,7],[86,1,86,7],[87,1,87,7],[88,1,88,7],[89,1,89,7],[14,39,14,42],[14,43,14,44],[78,1,78,7],[69,28,69,29],[70,28,70,29],[73,1,74,7],[73,8,74,8],[73,9,74,9],[73,10,74,10],[73,11,73,16],[73,17,73,22],[73,23,73,29],[73,30,73,33],[73,34,73,37],[75,1,75,7],[76,1,76,7],[68,15,68,16],[68,21,68,22],[68,28,68,29],[14,7,15,7],[14,8,15,8],[14,9,15,9],[14,10,15,10],[14,11,14,16],[14,17,14,22],[14,23,14,29],[0,0,0,37],[4,3,4,4],[5,3,5,4],[6,3,6,4],[14,1,15,1],[14,2,15,2],[14,3,15,3],[14,4,15,4],[14,5,15,5],[14,6,15,6],[14,30,14,33],[14,34,14,37]]}
["RESULTADOS OBTENIDOS"]
[]
["INFORMACIÓN GENERAL"]
[]
[null,"Tipo de patrón",null,{"$f":"SHEETOFFSET(-1,B2)","v":0}]
[null,"Código de patrón",null,{"$f":"SHEETOFFSET(-1,A1)","v":"REPORTING CORPORATIVO"}]
[null,"Tipo de vehículo",null,{"$f":"SHEETOFFSET(-1,$E$9)","v":0}]
[]
[]
[]
[]
[]
["RESULTADOS POR ENVÍO"]
[]
[null,"Cliente del envío","Denominación del envío","Origen del envío","Destino del envío","Carga refrigerada / no refrigerada","Distancia directa del envío (km)","Distancia recorrida por el envío (km)","Peso bruto del envío (t)","Volumen del envío en almacenamiento (m3) - en caso de que la carga sea almacenada","Días de almacenamiento - en caso de que la carga sea almacenada",{"$f":"IF(SELECCIONPATRON(SHEETOFFSET(-1,G189),SHEETOFFSET(-1,G150),SHEETOFFSET(-1,G151),SHEETOFFSET(-1,G114),SHEETOFFSET(-1,G121),SHEETOFFSET(-1,G123),SHEETOFFSET(-1,G108))=\"Depósito conjunto\",\"RESULTADOS: PROPULSIÓN Y REFRIGERACIÓN DE LA CARGA\",\"RESULTADOS: PROPULSIÓN DE LA CARGA\")","v":"RESULTADOS: PROPULSIÓN DE LA CARGA"},null,null,null,null,null,{"$f":"IF(OR(SELECCIONPATRON(SHEETOFFSET(-1,G189),SHEETOFFSET(-1,G150),SHEETOFFSET(-1,G151),SHEETOFFSET(-1,G114),SHEETOFFSET(-1,G121),SHEETOFFSET(-1,G123),SHEETOFFSET(-1,G108))=\"Depósito conjunto\",SELECCIONPATRON(SHEETOFFSET(-1,G189),SHEETOFFSET(-1,G150),SHEETOFFSET(-1,G151),SHEETOFFSET(-1,G114),SHEETOFFSET(-1,G121),SHEETOFFSET(-1,G123),SHEETOFFSET(-1,G108))=0),\"---\",\"RESULTADOS: REFRIGERACIÓN DE LA CARGA\")","v":"---"},null,null,null,null,null,"RESULTADOS: ALMACENAMIENTO DE LA CARGA",null,null,null,null,null,null,"RESULTADOS TOTALES DEL SERVICIO DE TRANSPORTE DE LA CARGA (ALCANCE NORMA CEN-EN 16258)",null,null,null,"RESULTADOS TOTALES DEL SERVICIO DE TRANSPORTE Y ALMACENAMIENTO DE LA CARGA",null,null,null,null,"INTENSIDAD DE EMISIONES DEL SERVICIO DE TRANSPORTE"]
[null,null,null,null,null,null,null,null,null,null,null,"Proporción de cupo para cada envío (%)",{"$f":"\"Consumo de combustible: \"&P69","v":"Consumo de combustible: 0"},"Consumo energético del tanque a las ruedas","Consumo energético del pozo a las ruedas","Emisiones de GEI del tanque a las ruedas","Emisiones de GEI del pozo a las ruedas","Proporción de cupo para cada envío (%)",{"$f":"\"Consumo de combustible: \"&V69","v":"Consumo de combustible: 0"},"Consumo energético del tanque a las ruedas","Consumo energético del pozo a las ruedas","Emisiones de GEI del tanque a las ruedas","Emisiones de GEI del pozo a las ruedas",{"$f":"\"Consumo por fuente de energía: \"&IF(AC69<>0,AC69&\" (kWh)\",\"\")","v":"Consumo por fuente de energía: --- (kWh)"},{"$f":"\"Consumo por fuente de energía: \"&IF(AC70<>0,AC70&\" \"&SHEETOFFSET(-1,J212),\"\")","v":"Consumo por fuente de energía: --- ---"},{"$f":"\"Consumo por fuente de energía: \"&IF(AC71<>0,AC71&\" (l.)\",\"\")","v":"Consumo por fuente de energía: --- (l.)"},"Consumo energético directo","Consumo energético directo e indirecto","Emisiones de GEI directas","Emisiones de GEI directas e indirectas","Consumo energético del tanque a las ruedas","Consumo energético del pozo a las ruedas","Emisiones de GEI del tanque a las ruedas","Emisiones de GEI del pozo a las ruedas","Consumo energético directo","Consumo energético total","Emisiones de GEI directas","Emisiones de GEI totales",null,"Emisiones específicas de GEI (del tanque a las ruedas) - propulsión de la carga","Emisiones específicas de GEI (del pozo a las ruedas) - propulsión de la carga","Emisiones específicas de GEI (del tanque a las ruedas) - transporte de la carga","Emisiones específicas de GEI (del pozo a las ruedas) - transporte de la carga",null,"Propulsión","Refrigeración"]
[1,{"$f":"SELECCIONPATRON(SHEETOFFSET(-1,C132),SHEETOFFSET(-1,C93),SHEETOFFSET(-1,C94),SHEETOFFSET(-1,C57),SHEETOFFSET(-1,C64),SHEETOFFSET(-1,C66),SHEETOFFSET(-1,C51))","v":0},{"$f":"SELECCIONPATRON(SHEETOFFSET(-1,D132),SHEETOFFSET(-1,D93),SHEETOFFSET(-1,D94),SHEETOFFSET(-1,D57),SHEETOFFSET(-1,D64),SHEETOFFSET(-1,D66),SHEETOFFSET(-1,D51))","v":0},{"$f":"SELECCIONPATRON(SHEETOFFSET(-1,M132),SHEETOFFSET(-1,M93),SHEETOFFSET(-1,M94),SHEETOFFSET(-1,M57),SHEETOFFSET(-1,$E$51),SHEETOFFSET(-1,$E$52),SHEETOFFSET(-1,$E$38))","v":0},{"$f":"SELECCIONPATRON(SHEETOFFSET(-1,P132),SHEETOFFSET(-1,P93),SHEETOFFSET(-1,P94),SHEETOFFSET(-1,P57),SHEETOFFSET(-1,$E$52),SHEETOFFSET(-1,$E$53),SHEETOFFSET(-1,$E$39))","v":0},{"$f":"SELECCIONPATRON(SHEETOFFSET(-1,H132),SHEETOFFSET(-1,H93),SHEETOFFSET(-1,H94),SHEETOFFSET(-1,H57),SHEETOFFSET(-1,H64),SHEETOFFSET(-1,H66),SHEETOFFSET(-1,H51))","v":0},{"$f":"SELECCIONPATRON(SHEETOFFSET(-1,R132),SHEETOFFSET(-1,R93),SHEETOFFSET(-1,S94),SHEETOFFSET(-1,S57),SHEETOFFSET(-1,$G$55),SHEETOFFSET(-1,$G$56),SHEETOFFSET(-1,$G$42))","v":0},{"$f":"SELECCIONPATRON(SHEETOFFSET(-1,S132),SHEETOFFSET(-1,S93),SHEETOFFSET(-1,T94),SHEETOFFSET(-1,T57),SHEETOFFSET(-1,$G$56),SHEETOFFSET(-1,$G$57),SHEETOFFSET(-1,$G$43))","v":0},{"$f":"SELECCIONPATRON(SHEETOFFSET(-1,G132),SHEETOFFSET(-1,G93),SHEETOFFSET(-1,G94),SHEETOFFSET(-1,G57),SHEETOFFSET(-1,G64),SHEETOFFSET(-1,G66),SHEETOFFSET(-1,G51))","v":0},{"$f":"SELECCIONPATRON(SHEETOFFSET(-1,I132),SHEETOFFSET(-1,I93),SHEETOFFSET(-1,I94),SHEETOFFSET(-1,I57),SHEETOFFSET(-1,I64),SHEETOFFSET(-1,I66),SHEETOFFSET(-1,I51))","v":0},{"$f":"SELECCIONPATRON(SHEETOFFSET(-1,J132),SHEETOFFSET(-1,J93),SHEETOFFSET(-1,J94),SHEETOFFSET(-1,J57),SHEETOFFSET(-1,J64),SHEETOFFSET(-1,J66),SHEETOFFSET(-1,J51))","v":0},{"$f":"IFERROR(IF(OR($D$6=\"A.1.\",$D$6=\"A.2.\",$D$6=\"B.1.\",$D$6=\"B.2.\"),AS17/SUM($AS$17:$AS$66),\"---\"),\"---\")","v":"---"},{"$f":"IFERROR(SELECCIONPATRON(L17,L17,L17,L17,H17*I17,H17*I17,H17*I17)*SELECCIONPATRON(SHEETOFFSET(-1,$T$122),SHEETOFFSET(-1,$T$85),SHEETOFFSET(-1,$V$86),SHEETOFFSET(-1,$V$49),SHEETOFFSET(-1,$G$29),SHEETOFFSET(-1,$G$44),SHEETOFFSET(-1,$G$30)),0)","v":0},{"$f":"IFERROR($M17*VLOOKUP($P$69,t_factores_t,3,0),0)","v":0},{"$f":"IFERROR($M17*VLOOKUP($P$69,t_factores_t,5,0),0)","v":0},{"$f":"IFERROR($M17*VLOOKUP($P$69,t_factores_t,7,0),0)","v":0},{"$f":"IFERROR($M17*VLOOKUP($P$69,t_factores_t,9,0),0)","v":0},{"$f":"IFERROR(IF(OR($D$6=\"A.1.\",$D$6=\"A.2.\",$D$6=\"B.1.\",$D$6=\"B.2.\"),AT17/SUM($AT$17:$AT$66),\"---\"),\"---\")","v":"---"},{"$f":"IFERROR(IF(F17=\"Refrigerada\",SELECCIONPATRON(R17,R17,R17,R17,I17,I17,I17)*SELECCIONPATRON(SHEETOFFSET(-1,$I$200),SHEETOFFSET(-1,$I$161),SHEETOFFSET(-1,$I$162),SHEETOFFSET(-1,$I$125),SHEETOFFSET(-1,$I$132)/(SHEETOFFSET(-1,$G$11)*IF(SHEETOFFSET(-1,$G$37)<>\"\",SHEETOFFSET(-1,$G$37),SHEETOFFSET(-1,$G$42))),SHEETOFFSET(-1,$I$134)/(SHEETOFFSET(-1,$G$11)*IF(SHEETOFFSET(-1,$G$26)<>\"\",SHEETOFFSET(-1,$G$26),SHEETOFFSET(-1,$G$31))),SHEETOFFSET(-1,$I$119)/(SHEETOFFSET(-1,$G$11)*IF(SHEETOFFSET(-1,$G$25)=\"Mercancías a granel\",1,0.45))),0),0)","v":0},{"$f":"IFERROR($S17*VLOOKUP($V$69,t_factores_t,3,0),0)","v":0},{"$f":"IFERROR($S17*VLOOKUP($V$69,t_factores_t,5,0),0)","v":0},{"$f":"IFERROR($S17*VLOOKUP($V$69,t_factores_t,7,0),0)","v":0},{"$f":"IFERROR($S17*VLOOKUP($V$69,t_factores_t,9,0),0)","v":0},{"$f":"IFERROR(IF(SHEETOFFSET(-1,$I$218)<>\"\",SHEETOFFSET(-1,$I$218),SHEETOFFSET(-1,$I$226))*$J17*$K17,0)","v":0},{"$f":"IFERROR(IF(SHEETOFFSET(-1,$I$219)<>\"\",SHEETOFFSET(-1,$I$219),SHEETOFFSET(-1,$I$227))*$J17*$K17,0)","v":0},{"$f":"IFERROR(SHEETOFFSET(-1,$I$220)*$J17*$K17,0)","v":0},{"$f":"IFERROR(VLOOKUP($AC$69,t_factores_e,3,0)*$X17,0)+IFERROR(VLOOKUP($AC$70,t_factores_a,3,0)*$Y17,0)+IFERROR(VLOOKUP($AC$71,t_factores_t,3,0)*$Z17,0)","v":0},{"$f":"IFERROR(VLOOKUP($AC$69,t_factores_e,4,0)*$X17,0)+IFERROR(VLOOKUP($AC$70,t_factores_a,4,0)*$Y17,0)+IFERROR(VLOOKUP($AC$71,t_factores_t,5,0)*$Z17,0)","v":0},{"$f":"IFERROR(VLOOKUP($AC$69,t_factores_e,6,0)*$X17,0)+IFERROR(VLOOKUP($AC$70,t_factores_a,6,0)*$Y17,0)+IFERROR(VLOOKUP($AC$71,t_factores_t,7,0)*$Z17,0)","v":0},{"$f":"IFERROR(VLOOKUP($AC$69,t_factores_e,7,0)*$X17,0)+IFERROR(VLOOKUP($AC$70,t_factores_a,7,0)*$Y17,0)+IFERROR(VLOOKUP($AC$71,t_factores_t,9,0)*$Z17,0)","v":0},{"$f":"N17+T17","v":0},0,0,0,{"$f":"IFERROR(AA17+AE17,\"---\")","v":0},{"$f":"IFERROR(AB17+AF17,\"---\")","v":0},{"$f":"IFERROR(AC17+AG17,\"---\")","v":0},0,null,{"$f":"IFERROR(P17/($I17*$G17),\"\")","v":""},{"$f":"IFERROR(Q17/($I17*$G17),\"\")","v":""},{"$f":"IFERROR(AG17/($I17*$G17),\"\")","v":""},{"$f":"IFERROR(AH17/($I17*$G17),\"\")","v":""},null,{"$f":"IFERROR(G17*I17,0)","v":0},{"$f":"IF(F17=\"Refrigerada\",AS17,0)","v":0}]
[2,{"$f":"SELECCIONPATRON(SHEETOFFSET(-1,C133),SHEETOFFSET(-1,C94),SHEETOFFSET(-1,C95),SHEETOFFSET(-1,C58),SHEETOFFSET(-1,C65),SHEETOFFSET(-1,C67),SHEETOFFSET(-1,C52))","v":0},{"$f":"SELECCIONPATRON(SHEETOFFSET(-1,D133),SHEETOFFSET(-1,D94),SHEETOFFSET(-1,D95),SHEETOFFSET(-1,D58),SHEETOFFSET(-1,D65),SHEETOFFSET(-1,D67),SHEETOFFSET(-1,D52))","v":0},{"$f":"SELECCIONPATRON(SHEETOFFSET(-1,M133),SHEETOFFSET(-1,M94),SHEETOFFSET(-1,M95),SHEETOFFSET(-1,M58),SHEETOFFSET(-1,$E$51),SHEETOFFSET(-1,$E$52),SHEETOFFSET(-1,$E$38))","v":0},{"$f":"SELECCIONPATRON(SHEETOFFSET(-1,P133),SHEETOFFSET(-1,P94),SHEETOFFSET(-1,P95),SHEETOFFSET(-1,P58),SHEETOFFSET(-1,$E$52),SHEETOFFSET(-1,$E$53),SHEETOFFSET(-1,$E$39))","v":0},{"$f":"SELECCIONPATRON(SHEETOFFSET(-1,H133),SHEETOFFSET(-1,H94),SHEETOFFSET(-1,H95),SHEETOFFSET(-1,H58),SHEETOFFSET(-1,H65),SHEETOFFSET(-1,H67),SHEETOFFSET(-1,H52))","v":0},{"$f":"SELECCIONPATRON(SHEETOFFSET(-1,R133),SHEETOFFSET(-1,R94),SHEETOFFSET(-1,S95),SHEETOFFSET(-1,S58),SHEETOFFSET(-1,$G$55),SHEETOFFSET(-1,$G$56),SHEETOFFSET(-1,$G$42))","v":0},{"$f":"SELECCIONPATRON(SHEETOFFSET(-1,S133),SHEETOFFSET(-1,S94),SHEETOFFSET(-1,T95),SHEETOFFSET(-1,T58),SHEETOFFSET(-1,$G$56),SHEETOFFSET(-1,$G$57),SHEETOFFSET(-1,$G$43))","v":0},{"$f":"SELECCIONPATRON(SHEETOFFSET(-1,G133),SHEETOFFSET(-1,G94),SHEETOFFSET(-1,G95),SHEETOFFSET(-1,G58),SHEETOFFSET(-1,G65),SHEETOFFSET(-1,G67),SHEETOFFSET(-1,G52))","v":0},{"$f":"SELECCIONPATRON(SHEETOFFSET(-1,I133),SHEETOFFSET(-1,I94),SHEETOFFSET(-1,I95),SHEETOFFSET(-1,I58),SHEETOFFSET(-1,I65),SHEETOFFSET(-1,I67),SHEETOFFSET(-1,I52))","v":0},{"$f":"SELECCIONPATRON(SHEETOFFSET(-1,J133),SHEETOFFSET(-1,J94),SHEETOFFSET(-1,J95),SHEETOFFSET(-1,J58),SHEETOFFSET(-1,J65),SHEETOFFSET(-1,J67),SHEETOFFSET(-1,J52))","v":0},"---",{"$f":"IFERROR(SELECCIONPATRON(L18,L18,L18,L18,H18*I18,H18*I18,H18*I18)*SELECCIONPATRON(SHEETOFFSET(-1,$T$122),SHEETOFFSET(-1,$T$85),SHEETOFFSET(-1,$V$86),SHEETOFFSET(-1,$V$49),SHEETOFFSET(-1,$G$29),SHEETOFFSET(-1,$G$44),SHEETOFFSET(-1,$G$30)),0)","v":0},0,0,0,0,"---",{"$f":"IFERROR(IF(F18=\"Refrigerada\",SELECCIONPATRON(R18,R18,R18,R18,I18,I18,I18)*SELECCIONPATRON(SHEETOFFSET(-1,$I$200),SHEETOFFSET(-1,$I$161),SHEETOFFSET(-1,$I$162),SHEETOFFSET(-1,$I$125),SHEETOFFSET(-1,$I$132)/(SHEETOFFSET(-1,$G$11)*IF(SHEETOFFSET(-1,$G$37)<>\"\",SHEETOFFSET(-1,$G$37),SHEETOFFSET(-1,$G$42))),SHEETOFFSET(-1,$I$134)/(SHEETOFFSET(-1,$G$11)*IF(SHEETOFFSET(-1,$G$26)<>\"\",SHEETOFFSET(-1,$G$26),SHEETOFFSET(-1,$G$31))),SHEETOFFSET(-1,$I$119)/(SHEETOFFSET(-1,$G$11)*IF(SHEETOFFSET(-1,$G$25)=\"Mercancías a granel\",1,0.45))),0),0)","v":0},0,0,0,0,0,0,{"$f":"IFERROR(SHEETOFFSET(-1,$I$220)*$J18*$K18,0)","v":0},0,0,0,0,0,0,0,0,{"$f":"IFERROR(AA18+AE18,\"---\")","v":0},0,0,0,null,{"$f":"IFERROR(P18/($I18*$G18),\"\")","v":""},"",{"$f":"IFERROR(AG18/($I18*$G18),\"\")","v":""},"",null,0,{"$f":"IF(F18=\"Refrigerada\",AS18,0)","v":0}]
[3,{"$f":"SELECCIONPATRON(SHEETOFFSET(-1,C134),SHEETOFFSET(-1,C95),SHEETOFFSET(-1,C96),SHEETOFFSET(-1,C59),SHEETOFFSET(-1,C66),SHEETOFFSET(-1,C68),SHEETOFFSET(-1,C53))","v":0},{"$f":"SELECCIONPATRON(SHEETOFFSET(-1,D134),SHEETOFFSET(-1,D95),SHEETOFFSET(-1,D96),SHEETOFFSET(-1,D59),SHEETOFFSET(-1,D66),SHEETOFFSET(-1,D68),SHEETOFFSET(-1,D53))","v":0},{"$f":"SELECCIONPATRON(SHEETOFFSET(-1,M134),SHEETOFFSET(-1,M95),SHEETOFFSET(-1,M96),SHEETOFFSET(-1,M59),SHEETOFFSET(-1,$E$51),SHEETOFFSET(-1,$E$52),SHEETOFFSET(-1,$E$38))","v":0},{"$f":"SELECCIONPATRON(SHEETOFFSET(-1,P134),SHEETOFFSET(-1,P95),SHEETOFFSET(-1,P96),SHEETOFFSET(-1,P59),SHEETOFFSET(-1,$E$52),SHEETOFFSET(-1,$E$53),SHEETOFFSET(-1,$E$39))","v":0},{"$f":"SELECCIONPATRON(SHEETOFFSET(-1,H134),SHEETOFFSET(-1,H95),SHEETOFFSET(-1,H96),SHEETOFFSET(-1,H59),SHEETOFFSET(-1,H66),SHEETOFFSET(-1,H68),SHEETOFFSET(-1,H53))","v":0},{"$f":"SELECCIONPATRON(SHEETOFFSET(-1,R134),SHEETOFFSET(-1,R95),SHEETOFFSET(-1,S96),SHEETOFFSET(-1,S59),SHEETOFFSET(-1,$G$55),SHEETOFFSET(-1,$G$56),SHEETOFFSET(-1,$G$42))","v":0},{"$f":"SELECCIONPATRON(SHEETOFFSET(-1,S134),SHEETOFFSET(-1,S95),SHEETOFFSET(-1,T96),SHEETOFFSET(-1,T59),SHEETOFFSET(-1,$G$56),SHEETOFFSET(-1,$G$57),SHEETOFFSET(-1,$G$43))","v":0},{"$f":"SELECCIONPATRON(SHEETOFFSET(-1,G134),SHEETOFFSET(-1,G95),SHEETOFFSET(-1,G96),SHEETOFFSET(-1,G59),SHEETOFFSET(-1,G66),SHEETOFFSET(-1,G68),SHEETOFFSET(-1,G53))","v":0},{"$f":"SELECCIONPATRON(SHEETOFFSET(-1,I134),SHEETOFFSET(-1,I95),SHEETOFFSET(-1,I96),SHEETOFFSET(-1,I59),SHEETOFFSET(-1,I66),SHEETOFFSET(-1,I68),SHEETOFFSET(-1,I53))","v":0},{"$f":"SELECCIONPATRON(SHEETOFFSET(-1,J134),SHEETOFFSET(-1,J95),SHEETOFFSET(-1,J96),SHEETOFFSET(-1,J59),SHEETOFFSET(-1,J66),SHEETOFFSET(-1,J68),SHEETOFFSET(-1,J53))","v":0},"---",{"$f":"IFERROR(SELECCIONPATRON(L19,L19,L19,L19,H19*I19,H19*I19,H19*I19)*SELECCIONPATRON(SHEETOFFSET(-1,$T$122),SHEETOFFSET(-1,$T$85),SHEETOFFSET(-1,$V$86),SHEETOFFSET(-1,$V$49),SHEETOFFSET(-1,$G$29),SHEETOFFSET(-1,$G$44),SHEETOFFSET(-1,$G$30)),0)","v":0},0,0,0,0,"---",{"$f":"IFERROR(IF(F19=\"Refrigerada\",SELECCIONPATRON(R19,R19,R19,R19,I19,I19,I19)*SELECCIONPATRON(SHEETOFFSET(-1,$I$200),SHEETOFFSET(-1,$I$161),SHEETOFFSET(-1,$I$162),SHEETOFFSET(-1,$I$125),SHEETOFFSET(-1,$I$132)/(SHEETOFFSET(-1,$G$11)*IF(SHEETOFFSET(-1,$G$37)<>\"\",SHEETOFFSET(-1,$G$37),SHEETOFFSET(-1,$G$42))),SHEETOFFSET(-1,$I$134)/(SHEETOFFSET(-1,$G$11)*IF(SHEETOFFSET(-1,$G$26)<>\"\",SHEETOFFSET(-1,$G$26),SHEETOFFSET(-1,$G$31))),SHEETOFFSET(-1,$I$119)/(SHEETOFFSET(-1,$G$11)*IF(SHEETOFFSET(-1,$G$25)=\"Mercancías a granel\",1,0.45))),0),0)","v":0},0,0,0,0,0,0,0,0,0,0,0,0,0,0,0,0,0,0,0,null,"","","","",null,0,0]
[4,{"$f":"SELECCIONPATRON(SHEETOFFSET(-1,C135),SHEETOFFSET(-1,C96),SHEETOFFSET(-1,C97),SHEETOFFSET(-1,C60),SHEETOFFSET(-1,C67),SHEETOFFSET(-1,C69),SHEETOFFSET(-1,C54))","v":0},{"$f":"SELECCIONPATRON(SHEETOFFSET(-1,D135),SHEETOFFSET(-1,D96),SHEETOFFSET(-1,D97),SHEETOFFSET(-1,D60),SHEETOFFSET(-1,D67),SHEETOFFSET(-1,D69),SHEETOFFSET(-1,D54))","v":0},{"$f":"SELECCIONPATRON(SHEETOFFSET(-1,M135),SHEETOFFSET(-1,M96),SHEETOFFSET(-1,M97),SHEETOFFSET(-1,M60),SHEETOFFSET(-1,$E$51),SHEETOFFSET(-1,$E$52),SHEETOFFSET(-1,$E$38))","v":0},{"$f":"SELECCIONPATRON(SHEETOFFSET(-1,P135),SHEETOFFSET(-1,P96),SHEETOFFSET(-1,P97),SHEETOFFSET(-1,P60),SHEETOFFSET(-1,$E$52),SHEETOFFSET(-1,$E$53),SHEETOFFSET(-1,$E$39))","v":0},{"$f":"SELECCIONPATRON(SHEETOFFSET(-1,H135),SHEETOFFSET(-1,H96),SHEETOFFSET(-1,H97),SHEETOFFSET(-1,H60),SHEETOFFSET(-1,H67),SHEETOFFSET(-1,H69),SHEETOFFSET(-1,H54))","v":0},{"$f":"SELECCIONPATRON(SHEETOFFSET(-1,R135),SHEETOFFSET(-1,R96),SHEETOFFSET(-1,S97),SHEETOFFSET(-1,S60),SHEETOFFSET(-1,$G$55),SHEETOFFSET(-1,$G$56),SHEETOFFSET(-1,$G$42))","v":0},{"$f":"SELECCIONPATRON(SHEETOFFSET(-1,S135),SHEETOFFSET(-1,S96),SHEETOFFSET(-1,T97),SHEETOFFSET(-1,T60),SHEETOFFSET(-1,$G$56),SHEETOFFSET(-1,$G$57),SHEETOFFSET(-1,$G$43))","v":0},{"$f":"SELECCIONPATRON(SHEETOFFSET(-1,G135),SHEETOFFSET(-1,G96),SHEETOFFSET(-1,G97),SHEETOFFSET(-1,G60),SHEETOFFSET(-1,G67),SHEETOFFSET(-1,G69),SHEETOFFSET(-1,G54))","v":0},{"$f":"SELECCIONPATRON(SHEETOFFSET(-1,I135),SHEETOFFSET(-1,I96),SHEETOFFSET(-1,I97),SHEETOFFSET(-1,I60),SHEETOFFSET(-1,I67),SHEETOFFSET(-1,I69),SHEETOFFSET(-1,I54))","v":0},{"$f":"SELECCIONPATRON(SHEETOFFSET(-1,J135),SHEETOFFSET(-1,J96),SHEETOFFSET(-1,J97),SHEETOFFSET(-1,J60),SHEETOFFSET(-1,J67),SHEETOFFSET(-1,J69),SHEETOFFSET(-1,J54))","v":0},"---",{"$f":"IFERROR(SELECCIONPATRON(L20,L20,L20,L20,H20*I20,H20*I20,H20*I20)*SELECCIONPATRON(SHEETOFFSET(-1,$T$122),SHEETOFFSET(-1,$T$85),SHEETOFFSET(-1,$V$86),SHEETOFFSET(-1,$V$49),SHEETOFFSET(-1,$G$29),SHEETOFFSET(-1,$G$44),SHEETOFFSET(-1,$G$30)),0)","v":0},0,0,0,0,"---",{"$f":"IFERROR(IF(F20=\"Refrigerada\",SELECCIONPATRON(R20,R20,R20,R20,I20,I20,I20)*SELECCIONPATRON(SHEETOFFSET(-1,$I$200),SHEETOFFSET(-1,$I$161),SHEETOFFSET(-1,$I$162),SHEETOFFSET(-1,$I$125),SHEETOFFSET(-1,$I$132)/(SHEETOFFSET(-1,$G$11)*IF(SHEETOFFSET(-1,$G$37)<>\"\",SHEETOFFSET(-1,$G$37),SHEETOFFSET(-1,$G$42))),SHEETOFFSET(-1,$I$134)/(SHEETOFFSET(-1,$G$11)*IF(SHEETOFFSET(-1,$G$26)<>\"\",SHEETOFFSET(-1,$G$26),SHEETOFFSET(-1,$G$31))),SHEETOFFSET(-1,$I$119)/(SHEETOFFSET(-1,$G$11)*IF(SHEETOFFSET(-1,$G$25)=\"Mercancías a granel\",1,0.45))),0),0)","v":0},0,0,0,0,0,0,0,0,0,0,0,0,0,0,0,0,0,0,0,null,"","","","",null,0,0]
[5,{"$f":"SELECCIONPATRON(SHEETOFFSET(-1,C136),SHEETOFFSET(-1,C97),SHEETOFFSET(-1,C98),SHEETOFFSET(-1,C61),SHEETOFFSET(-1,C68),SHEETOFFSET(-1,C70),SHEETOFFSET(-1,C55))","v":0},{"$f":"SELECCIONPATRON(SHEETOFFSET(-1,D136),SHEETOFFSET(-1,D97),SHEETOFFSET(-1,D98),SHEETOFFSET(-1,D61),SHEETOFFSET(-1,D68),SHEETOFFSET(-1,D70),SHEETOFFSET(-1,D55))","v":0},{"$f":"SELECCIONPATRON(SHEETOFFSET(-1,M136),SHEETOFFSET(-1,M97),SHEETOFFSET(-1,M98),SHEETOFFSET(-1,M61),SHEETOFFSET(-1,$E$51),SHEETOFFSET(-1,$E$52),SHEETOFFSET(-1,$E$38))","v":0},{"$f":"SELECCIONPATRON(SHEETOFFSET(-1,P136),SHEETOFFSET(-1,P97),SHEETOFFSET(-1,P98),SHEETOFFSET(-1,P61),SHEETOFFSET(-1,$E$52),SHEETOFFSET(-1,$E$53),SHEETOFFSET(-1,$E$39))","v":0},{"$f":"SELECCIONPATRON(SHEETOFFSET(-1,H136),SHEETOFFSET(-1,H97),SHEETOFFSET(-1,H98),SHEETOFFSET(-1,H61),SHEETOFFSET(-1,H68),SHEETOFFSET(-1,H70),SHEETOFFSET(-1,H55))","v":0},{"$f":"SELECCIONPATRON(SHEETOFFSET(-1,R136),SHEETOFFSET(-1,R97),SHEETOFFSET(-1,S98),SHEETOFFSET(-1,S61),SHEETOFFSET(-1,$G$55),SHEETOFFSET(-1,$G$56),SHEETOFFSET(-1,$G$42))","v":0},{"$f":"SELECCIONPATRON(SHEETOFFSET(-1,S136),SHEETOFFSET(-1,S97),SHEETOFFSET(-1,T98),SHEETOFFSET(-1,T61),SHEETOFFSET(-1,$G$56),SHEETOFFSET(-1,$G$57),SHEETOFFSET(-1,$G$43))","v":0},{"$f":"SELECCIONPATRON(SHEETOFFSET(-1,G136),SHEETOFFSET(-1,G97),SHEETOFFSET(-1,G98),SHEETOFFSET(-1,G61),SHEETOFFSET(-1,G68),SHEETOFFSET(-1,G70),SHEETOFFSET(-1,G55))","v":0},{"$f":"SELECCIONPATRON(SHEETOFFSET(-1,I136),SHEETOFFSET(-1,I97),SHEETOFFSET(-1,I98),SHEETOFFSET(-1,I61),SHEETOFFSET(-1,I68),SHEETOFFSET(-1,I70),SHEETOFFSET(-1,I55))","v":0},{"$f":"SELECCIONPATRON(SHEETOFFSET(-1,J136),SHEETOFFSET(-1,J97),SHEETOFFSET(-1,J98),SHEETOFFSET(-1,J61),SHEETOFFSET(-1,J68),SHEETOFFSET(-1,J70),SHEETOFFSET(-1,J55))","v":0},"---",{"$f":"IFERROR(SELECCIONPATRON(L21,L21,L21,L21,H21*I21,H21*I21,H21*I21)*SELECCIONPATRON(SHEETOFFSET(-1,$T$122),SHEETOFFSET(-1,$T$85),SHEETOFFSET(-1,$V$86),SHEETOFFSET(-1,$V$49),SHEETOFFSET(-1,$G$29),SHEETOFFSET(-1,$G$44),SHEETOFFSET(-1,$G$30)),0)","v":0},0,0,0,0,"---",{"$f":"IFERROR(IF(F21=\"Refrigerada\",SELECCIONPATRON(R21,R21,R21,R21,I21,I21,I21)*SELECCIONPATRON(SHEETOFFSET(-1,$I$200),SHEETOFFSET(-1,$I$161),SHEETOFFSET(-1,$I$162),SHEETOFFSET(-1,$I$125),SHEETOFFSET(-1,$I$132)/(SHEETOFFSET(-1,$G$11)*IF(SHEETOFFSET(-1,$G$37)<>\"\",SHEETOFFSET(-1,$G$37),SHEETOFFSET(-1,$G$42))),SHEETOFFSET(-1,$I$134)/(SHEETOFFSET(-1,$G$11)*IF(SHEETOFFSET(-1,$G$26)<>\"\",SHEETOFFSET(-1,$G$26),SHEETOFFSET(-1,$G$31))),SHEETOFFSET(-1,$I$119)/(SHEETOFFSET(-1,$G$11)*IF(SHEETOFFSET(-1,$G$25)=\"Mercancías a granel\",1,0.45))),0),0)","v":0},0,0,0,0,0,0,0,0,0,0,0,0,0,0,0,0,0,0,0,null,"","","","",null,0,0]
[6,{"$f":"SELECCIONPATRON(SHEETOFFSET(-1,C137),SHEETOFFSET(-1,C98),SHEETOFFSET(-1,C99),SHEETOFFSET(-1,C62),SHEETOFFSET(-1,C69),SHEETOFFSET(-1,C71),SHEETOFFSET(-1,C56))","v":0},{"$f":"SELECCIONPATRON(SHEETOFFSET(-1,D137),SHEETOFFSET(-1,D98),SHEETOFFSET(-1,D99),SHEETOFFSET(-1,D62),SHEETOFFSET(-1,D69),SHEETOFFSET(-1,D71),SHEETOFFSET(-1,D56))","v":0},{"$f":"SELECCIONPATRON(SHEETOFFSET(-1,M137),SHEETOFFSET(-1,M98),SHEETOFFSET(-1,M99),SHEETOFFSET(-1,M62),SHEETOFFSET(-1,$E$51),SHEETOFFSET(-1,$E$52),SHEETOFFSET(-1,$E$38))","v":0},{"$f":"SELECCIONPATRON(SHEETOFFSET(-1,P137),SHEETOFFSET(-1,P98),SHEETOFFSET(-1,P99),SHEETOFFSET(-1,P62),SHEETOFFSET(-1,$E$52),SHEETOFFSET(-1,$E$53),SHEETOFFSET(-1,$E$39))","v":0},{"$f":"SELECCIONPATRON(SHEETOFFSET(-1,H137),SHEETOFFSET(-1,H98),SHEETOFFSET(-1,H99),SHEETOFFSET(-1,H62),SHEETOFFSET(-1,H69),SHEETOFFSET(-1,H71),SHEETOFFSET(-1,H56))","v":0},{"$f":"SELECCIONPATRON(SHEETOFFSET(-1,R137),SHEETOFFSET(-1,R98),SHEETOFFSET(-1,S99),SHEETOFFSET(-1,S62),SHEETOFFSET(-1,$G$55),SHEETOFFSET(-1,$G$56),SHEETOFFSET(-1,$G$42))","v":0},{"$f":"SELECCIONPATRON(SHEETOFFSET(-1,S137),SHEETOFFSET(-1,S98),SHEETOFFSET(-1,T99),SHEETOFFSET(-1,T62),SHEETOFFSET(-1,$G$56),SHEETOFFSET(-1,$G$57),SHEETOFFSET(-1,$G$43))","v":0},{"$f":"SELECCIONPATRON(SHEETOFFSET(-1,G137),SHEETOFFSET(-1,G98),SHEETOFFSET(-1,G99),SHEETOFFSET(-1,G62),SHEETOFFSET(-1,G69),SHEETOFFSET(-1,G71),SHEETOFFSET(-1,G56))","v":0},{"$f":"SELECCIONPATRON(SHEETOFFSET(-1,I137),SHEETOFFSET(-1,I98),SHEETOFFSET(-1,I99),SHEETOFFSET(-1,I62),SHEETOFFSET(-1,I69),SHEETOFFSET(-1,I71),SHEETOFFSET(-1,I56))","v":0},{"$f":"SELECCIONPATRON(SHEETOFFSET(-1,J137),SHEETOFFSET(-1,J98),SHEETOFFSET(-1,J99),SHEETOFFSET(-1,J62),SHEETOFFSET(-1,J69),SHEETOFFSET(-1,J71),SHEETOFFSET(-1,J56))","v":0},"---",{"$f":"IFERROR(SELECCIONPATRON(L22,L22,L22,L22,H22*I22,H22*I22,H22*I22)*SELECCIONPATRON(SHEETOFFSET(-1,$T$122),SHEETOFFSET(-1,$T$85),SHEETOFFSET(-1,$V$86),SHEETOFFSET(-1,$V$49),SHEETOFFSET(-1,$G$29),SHEETOFFSET(-1,$G$44),SHEETOFFSET(-1,$G$30)),0)","v":0},0,0,0,0,"---",{"$f":"IFERROR(IF(F22=\"Refrigerada\",SELECCIONPATRON(R22,R22,R22,R22,I22,I22,I22)*SELECCIONPATRON(SHEETOFFSET(-1,$I$200),SHEETOFFSET(-1,$I$161),SHEETOFFSET(-1,$I$162),SHEETOFFSET(-1,$I$125),SHEETOFFSET(-1,$I$132)/(SHEETOFFSET(-1,$G$11)*IF(SHEETOFFSET(-1,$G$37)<>\"\",SHEETOFFSET(-1,$G$37),SHEETOFFSET(-1,$G$42))),SHEETOFFSET(-1,$I$134)/(SHEETOFFSET(-1,$G$11)*IF(SHEETOFFSET(-1,$G$26)<>\"\",SHEETOFFSET(-1,$G$26),SHEETOFFSET(-1,$G$31))),SHEETOFFSET(-1,$I$119)/(SHEETOFFSET(-1,$G$11)*IF(SHEETOFFSET(-1,$G$25)=\"Mercancías a granel\",1,0.45))),0),0)","v":0},0,0,0,0,0,0,0,0,0,0,0,0,0,0,0,0,0,0,0,null,"","","","",null,0,0]
[7,{"$f":"SELECCIONPATRON(SHEETOFFSET(-1,C138),SHEETOFFSET(-1,C99),SHEETOFFSET(-1,C100),SHEETOFFSET(-1,C63),SHEETOFFSET(-1,C70),SHEETOFFSET(-1,C72),SHEETOFFSET(-1,C57))","v":0},{"$f":"SELECCIONPATRON(SHEETOFFSET(-1,D138),SHEETOFFSET(-1,D99),SHEETOFFSET(-1,D100),SHEETOFFSET(-1,D63),SHEETOFFSET(-1,D70),SHEETOFFSET(-1,D72),SHEETOFFSET(-1,D57))","v":0},{"$f":"SELECCIONPATRON(SHEETOFFSET(-1,M138),SHEETOFFSET(-1,M99),SHEETOFFSET(-1,M100),SHEETOFFSET(-1,M63),SHEETOFFSET(-1,$E$51),SHEETOFFSET(-1,$E$52),SHEETOFFSET(-1,$E$38))","v":0},{"$f":"SELECCIONPATRON(SHEETOFFSET(-1,P138),SHEETOFFSET(-1,P99),SHEETOFFSET(-1,P100),SHEETOFFSET(-1,P63),SHEETOFFSET(-1,$E$52),SHEETOFFSET(-1,$E$53),SHEETOFFSET(-1,$E$39))","v":0},{"$f":"SELECCIONPATRON(SHEETOFFSET(-1,H138),SHEETOFFSET(-1,H99),SHEETOFFSET(-1,H100),SHEETOFFSET(-1,H63),SHEETOFFSET(-1,H70),SHEETOFFSET(-1,H72),SHEETOFFSET(-1,H57))","v":0},{"$f":"SELECCIONPATRON(SHEETOFFSET(-1,R138),SHEETOFFSET(-1,R99),SHEETOFFSET(-1,S100),SHEETOFFSET(-1,S63),SHEETOFFSET(-1,$G$55),SHEETOFFSET(-1,$G$56),SHEETOFFSET(-1,$G$42))","v":0},{"$f":"SELECCIONPATRON(SHEETOFFSET(-1,S138),SHEETOFFSET(-1,S99),SHEETOFFSET(-1,T100),SHEETOFFSET(-1,T63),SHEETOFFSET(-1,$G$56),SHEETOFFSET(-1,$G$57),SHEETOFFSET(-1,$G$43))","v":0},{"$f":"SELECCIONPATRON(SHEETOFFSET(-1,G138),SHEETOFFSET(-1,G99),SHEETOFFSET(-1,G100),SHEETOFFSET(-1,G63),SHEETOFFSET(-1,G70),SHEETOFFSET(-1,G72),SHEETOFFSET(-1,G57))","v":0},{"$f":"SELECCIONPATRON(SHEETOFFSET(-1,I138),SHEETOFFSET(-1,I99),SHEETOFFSET(-1,I100),SHEETOFFSET(-1,I63),SHEETOFFSET(-1,I70),SHEETOFFSET(-1,I72),SHEETOFFSET(-1,I57))","v":0},{"$f":"SELECCIONPATRON(SHEETOFFSET(-1,J138),SHEETOFFSET(-1,J99),SHEETOFFSET(-1,J100),SHEETOFFSET(-1,J63),SHEETOFFSET(-1,J70),SHEETOFFSET(-1,J72),SHEETOFFSET(-1,J57))","v":0},"---",{"$f":"IFERROR(SELECCIONPATRON(L23,L23,L23,L23,H23*I23,H23*I23,H23*I23)*SELECCIONPATRON(SHEETOFFSET(-1,$T$122),SHEETOFFSET(-1,$T$85),SHEETOFFSET(-1,$V$86),SHEETOFFSET(-1,$V$49),SHEETOFFSET(-1,$G$29),SHEETOFFSET(-1,$G$44),SHEETOFFSET(-1,$G$30)),0)","v":0},0,0,0,0,"---",{"$f":"IFERROR(IF(F23=\"Refrigerada\",SELECCIONPATRON(R23,R23,R23,R23,I23,I23,I23)*SELECCIONPATRON(SHEETOFFSET(-1,$I$200),SHEETOFFSET(-1,$I$161),SHEETOFFSET(-1,$I$162),SHEETOFFSET(-1,$I$125),SHEETOFFSET(-1,$I$132)/(SHEETOFFSET(-1,$G$11)*IF(SHEETOFFSET(-1,$G$37)<>\"\",SHEETOFFSET(-1,$G$37),SHEETOFFSET(-1,$G$42))),SHEETOFFSET(-1,$I$134)/(SHEETOFFSET(-1,$G$11)*IF(SHEETOFFSET(-1,$G$26)<>\"\",SHEETOFFSET(-1,$G$26),SHEETOFFSET(-1,$G$31))),SHEETOFFSET(-1,$I$119)/(SHEETOFFSET(-1,$G$11)*IF(SHEETOFFSET(-1,$G$25)=\"Mercancías a granel\",1,0.45))),0),0)","v":0},0,0,0,0,0,0,0,0,0,0,0,0,0,0,0,0,0,0,0,null,"","","","",null,0,0]
[8,{"$f":"SELECCIONPATRON(SHEETOFFSET(-1,C139),SHEETOFFSET(-1,C100),SHEETOFFSET(-1,C101),SHEETOFFSET(-1,C64),SHEETOFFSET(-1,C71),SHEETOFFSET(-1,C73),SHEETOFFSET(-1,C58))","v":0},{"$f":"SELECCIONPATRON(SHEETOFFSET(-1,D139),SHEETOFFSET(-1,D100),SHEETOFFSET(-1,D101),SHEETOFFSET(-1,D64),SHEETOFFSET(-1,D71),SHEETOFFSET(-1,D73),SHEETOFFSET(-1,D58))","v":0},{"$f":"SELECCIONPATRON(SHEETOFFSET(-1,M139),SHEETOFFSET(-1,M100),SHEETOFFSET(-1,M101),SHEETOFFSET(-1,M64),SHEETOFFSET(-1,$E$51),SHEETOFFSET(-1,$E$52),SHEETOFFSET(-1,$E$38))","v":0},{"$f":"SELECCIONPATRON(SHEETOFFSET(-1,P139),SHEETOFFSET(-1,P100),SHEETOFFSET(-1,P101),SHEETOFFSET(-1,P64),SHEETOFFSET(-1,$E$52),SHEETOFFSET(-1,$E$53),SHEETOFFSET(-1,$E$39))","v":0},{"$f":"SELECCIONPATRON(SHEETOFFSET(-1,H139),SHEETOFFSET(-1,H100),SHEETOFFSET(-1,H101),SHEETOFFSET(-1,H64),SHEETOFFSET(-1,H71),SHEETOFFSET(-1,H73),SHEETOFFSET(-1,H58))","v":0},{"$f":"SELECCIONPATRON(SHEETOFFSET(-1,R139),SHEETOFFSET(-1,R100),SHEETOFFSET(-1,S101),SHEETOFFSET(-1,S64),SHEETOFFSET(-1,$G$55),SHEETOFFSET(-1,$G$56),SHEETOFFSET(-1,$G$42))","v":0},{"$f":"SELECCIONPATRON(SHEETOFFSET(-1,S139),SHEETOFFSET(-1,S100),SHEETOFFSET(-1,T101),SHEETOFFSET(-1,T64),SHEETOFFSET(-1,$G$56),SHEETOFFSET(-1,$G$57),SHEETOFFSET(-1,$G$43))","v":0},{"$f":"SELECCIONPATRON(SHEETOFFSET(-1,G139),SHEETOFFSET(-1,G100),SHEETOFFSET(-1,G101),SHEETOFFSET(-1,G64),SHEETOFFSET(-1,G71),SHEETOFFSET(-1,G73),SHEETOFFSET(-1,G58))","v":0},{"$f":"SELECCIONPATRON(SHEETOFFSET(-1,I139),SHEETOFFSET(-1,I100),SHEETOFFSET(-1,I101),SHEETOFFSET(-1,I64),SHEETOFFSET(-1,I71),SHEETOFFSET(-1,I73),SHEETOFFSET(-1,I58))","v":0},{"$f":"SELECCIONPATRON(SHEETOFFSET(-1,J139),SHEETOFFSET(-1,J100),SHEETOFFSET(-1,J101),SHEETOFFSET(-1,J64),SHEETOFFSET(-1,J71),SHEETOFFSET(-1,J73),SHEETOFFSET(-1,J58))","v":0},"---",{"$f":"IFERROR(SELECCIONPATRON(L24,L24,L24,L24,H24*I24,H24*I24,H24*I24)*SELECCIONPATRON(SHEETOFFSET(-1,$T$122),SHEETOFFSET(-1,$T$85),SHEETOFFSET(-1,$V$86),SHEETOFFSET(-1,$V$49),SHEETOFFSET(-1,$G$29),SHEETOFFSET(-1,$G$44),SHEETOFFSET(-1,$G$30)),0)","v":0},0,0,0,0,"---",{"$f":"IFERROR(IF(F24=\"Refrigerada\",SELECCIONPATRON(R24,R24,R24,R24,I24,I24,I24)*SELECCIONPATRON(SHEETOFFSET(-1,$I$200),SHEETOFFSET(-1,$I$161),SHEETOFFSET(-1,$I$162),SHEETOFFSET(-1,$I$125),SHEETOFFSET(-1,$I$132)/(SHEETOFFSET(-1,$G$11)*IF(SHEETOFFSET(-1,$G$37)<>\"\",SHEETOFFSET(-1,$G$37),SHEETOFFSET(-1,$G$42))),SHEETOFFSET(-1,$I$134)/(SHEETOFFSET(-1,$G$11)*IF(SHEETOFFSET(-1,$G$26)<>\"\",SHEETOFFSET(-1,$G$26),SHEETOFFSET(-1,$G$31))),SHEETOFFSET(-1,$I$119)/(SHEETOFFSET(-1,$G$11)*IF(SHEETOFFSET(-1,$G$25)=\"Mercancías a granel\",1,0.45))),0),0)","v":0},0,0,0,0,0,0,0,0,0,0,0,0,0,0,0,0,0,0,0,null,"","","","",null,0,0]
[9,{"$f":"SELECCIONPATRON(SHEETOFFSET(-1,C140),SHEETOFFSET(-1,C101),SHEETOFFSET(-1,C102),SHEETOFFSET(-1,C65),SHEETOFFSET(-1,C72),SHEETOFFSET(-1,C74),SHEETOFFSET(-1,C59))","v":0},{"$f":"SELECCIONPATRON(SHEETOFFSET(-1,D140),SHEETOFFSET(-1,D101),SHEETOFFSET(-1,D102),SHEETOFFSET(-1,D65),SHEETOFFSET(-1,D72),SHEETOFFSET(-1,D74),SHEETOFFSET(-1,D59))","v":0},{"$f":"SELECCIONPATRON(SHEETOFFSET(-1,M140),SHEETOFFSET(-1,M101),SHEETOFFSET(-1,M102),SHEETOFFSET(-1,M65),SHEETOFFSET(-1,$E$51),SHEETOFFSET(-1,$E$52),SHEETOFFSET(-1,$E$38))","v":0},{"$f":"SELECCIONPATRON(SHEETOFFSET(-1,P140),SHEETOFFSET(-1,P101),SHEETOFFSET(-1,P102),SHEETOFFSET(-1,P65),SHEETOFFSET(-1,$E$52),SHEETOFFSET(-1,$E$53),SHEETOFFSET(-1,$E$39))","v":0},{"$f":"SELECCIONPATRON(SHEETOFFSET(-1,H140),SHEETOFFSET(-1,H101),SHEETOFFSET(-1,H102),SHEETOFFSET(-1,H65),SHEETOFFSET(-1,H72),SHEETOFFSET(-1,H74),SHEETOFFSET(-1,H59))","v":0},{"$f":"SELECCIONPATRON(SHEETOFFSET(-1,R140),SHEETOFFSET(-1,R101),SHEETOFFSET(-1,S102),SHEETOFFSET(-1,S65),SHEETOFFSET(-1,$G$55),SHEETOFFSET(-1,$G$56),SHEETOFFSET(-1,$G$42))","v":0},{"$f":"SELECCIONPATRON(SHEETOFFSET(-1,S140),SHEETOFFSET(-1,S101),SHEETOFFSET(-1,T102),SHEETOFFSET(-1,T65),SHEETOFFSET(-1,$G$56),SHEETOFFSET(-1,$G$57),SHEETOFFSET(-1,$G$43))","v":0},{"$f":"SELECCIONPATRON(SHEETOFFSET(-1,G140),SHEETOFFSET(-1,G101),SHEETOFFSET(-1,G102),SHEETOFFSET(-1,G65),SHEETOFFSET(-1,G72),SHEETOFFSET(-1,G74),SHEETOFFSET(-1,G59))","v":0},{"$f":"SELECCIONPATRON(SHEETOFFSET(-1,I140),SHEETOFFSET(-1,I101),SHEETOFFSET(-1,I102),SHEETOFFSET(-1,I65),SHEETOFFSET(-1,I72),SHEETOFFSET(-1,I74),SHEETOFFSET(-1,I59))","v":0},{"$f":"SELECCIONPATRON(SHEETOFFSET(-1,J140),SHEETOFFSET(-1,J101),SHEETOFFSET(-1,J102),SHEETOFFSET(-1,J65),SHEETOFFSET(-1,J72),SHEETOFFSET(-1,J74),SHEETOFFSET(-1,J59))","v":0},"---",{"$f":"IFERROR(SELECCIONPATRON(L25,L25,L25,L25,H25*I25,H25*I25,H25*I25)*SELECCIONPATRON(SHEETOFFSET(-1,$T$122),SHEETOFFSET(-1,$T$85),SHEETOFFSET(-1,$V$86),SHEETOFFSET(-1,$V$49),SHEETOFFSET(-1,$G$29),SHEETOFFSET(-1,$G$44),SHEETOFFSET(-1,$G$30)),0)","v":0},0,0,0,0,"---",{"$f":"IFERROR(IF(F25=\"Refrigerada\",SELECCIONPATRON(R25,R25,R25,R25,I25,I25,I25)*SELECCIONPATRON(SHEETOFFSET(-1,$I$200),SHEETOFFSET(-1,$I$161),SHEETOFFSET(-1,$I$162),SHEETOFFSET(-1,$I$125),SHEETOFFSET(-1,$I$132)/(SHEETOFFSET(-1,$G$11)*IF(SHEETOFFSET(-1,$G$37)<>\"\",SHEETOFFSET(-1,$G$37),SHEETOFFSET(-1,$G$42))),SHEETOFFSET(-1,$I$134)/(SHEETOFFSET(-1,$G$11)*IF(SHEETOFFSET(-1,$G$26)<>\"\",SHEETOFFSET(-1,$G$26),SHEETOFFSET(-1,$G$31))),SHEETOFFSET(-1,$I$119)/(SHEETOFFSET(-1,$G$11)*IF(SHEETOFFSET(-1,$G$25)=\"Mercancías a granel\",1,0.45))),0),0)","v":0},0,0,0,0,0,0,0,0,0,0,0,0,0,0,0,0,0,0,0,null,"","","","",null,0,0]
[10,{"$f":"SELECCIONPATRON(SHEETOFFSET(-1,C141),SHEETOFFSET(-1,C102),SHEETOFFSET(-1,C103),SHEETOFFSET(-1,C66),SHEETOFFSET(-1,C73),SHEETOFFSET(-1,C75),SHEETOFFSET(-1,C60))","v":0},{"$f":"SELECCIONPATRON(SHEETOFFSET(-1,D141),SHEETOFFSET(-1,D102),SHEETOFFSET(-1,D103),SHEETOFFSET(-1,D66),SHEETOFFSET(-1,D73),SHEETOFFSET(-1,D75),SHEETOFFSET(-1,D60))","v":0},{"$f":"SELECCIONPATRON(SHEETOFFSET(-1,M141),SHEETOFFSET(-1,M102),SHEETOFFSET(-1,M103),SHEETOFFSET(-1,M66),SHEETOFFSET(-1,$E$51),SHEETOFFSET(-1,$E$52),SHEETOFFSET(-1,$E$38))","v":0},{"$f":"SELECCIONPATRON(SHEETOFFSET(-1,P141),SHEETOFFSET(-1,P102),SHEETOFFSET(-1,P103),SHEETOFFSET(-1,P66),SHEETOFFSET(-1,$E$52),SHEETOFFSET(-1,$E$53),SHEETOFFSET(-1,$E$39))","v":0},{"$f":"SELECCIONPATRON(SHEETOFFSET(-1,H141),SHEETOFFSET(-1,H102),SHEETOFFSET(-1,H103),SHEETOFFSET(-1,H66),SHEETOFFSET(-1,H73),SHEETOFFSET(-1,H75),SHEETOFFSET(-1,H60))","v":0},{"$f":"SELECCIONPATRON(SHEETOFFSET(-1,R141),SHEETOFFSET(-1,R102),SHEETOFFSET(-1,S103),SHEETOFFSET(-1,S66),SHEETOFFSET(-1,$G$55),SHEETOFFSET(-1,$G$56),SHEETOFFSET(-1,$G$42))","v":0},{"$f":"SELECCIONPATRON(SHEETOFFSET(-1,S141),SHEETOFFSET(-1,S102),SHEETOFFSET(-1,T103),SHEETOFFSET(-1,T66),SHEETOFFSET(-1,$G$56),SHEETOFFSET(-1,$G$57),SHEETOFFSET(-1,$G$43))","v":0},{"$f":"SELECCIONPATRON(SHEETOFFSET(-1,G141),SHEETOFFSET(-1,G102),SHEETOFFSET(-1,G103),SHEETOFFSET(-1,G66),SHEETOFFSET(-1,G73),SHEETOFFSET(-1,G75),SHEETOFFSET(-1,G60))","v":0},{"$f":"SELECCIONPATRON(SHEETOFFSET(-1,I141),SHEETOFFSET(-1,I102),SHEETOFFSET(-1,I103),SHEETOFFSET(-1,I66),SHEETOFFSET(-1,I73),SHEETOFFSET(-1,I75),SHEETOFFSET(-1,I60))","v":0},{"$f":"SELECCIONPATRON(SHEETOFFSET(-1,J141),SHEETOFFSET(-1,J102),SHEETOFFSET(-1,J103),SHEETOFFSET(-1,J66),SHEETOFFSET(-1,J73),SHEETOFFSET(-1,J75),SHEETOFFSET(-1,J60))","v":0},"---",{"$f":"IFERROR(SELECCIONPATRON(L26,L26,L26,L26,H26*I26,H26*I26,H26*I26)*SELECCIONPATRON(SHEETOFFSET(-1,$T$122),SHEETOFFSET(-1,$T$85),SHEETOFFSET(-1,$V$86),SHEETOFFSET(-1,$V$49),SHEETOFFSET(-1,$G$29),SHEETOFFSET(-1,$G$44),SHEETOFFSET(-1,$G$30)),0)","v":0},0,0,0,0,"---",{"$f":"IFERROR(IF(F26=\"Refrigerada\",SELECCIONPATRON(R26,R26,R26,R26,I26,I26,I26)*SELECCIONPATRON(SHEETOFFSET(-1,$I$200),SHEETOFFSET(-1,$I$161),SHEETOFFSET(-1,$I$162),SHEETOFFSET(-1,$I$125),SHEETOFFSET(-1,$I$132)/(SHEETOFFSET(-1,$G$11)*IF(SHEETOFFSET(-1,$G$37)<>\"\",SHEETOFFSET(-1,$G$37),SHEETOFFSET(-1,$G$42))),SHEETOFFSET(-1,$I$134)/(SHEETOFFSET(-1,$G$11)*IF(SHEETOFFSET(-1,$G$26)<>\"\",SHEETOFFSET(-1,$G$26),SHEETOFFSET(-1,$G$31))),SHEETOFFSET(-1,$I$119)/(SHEETOFFSET(-1,$G$11)*IF(SHEETOFFSET(-1,$G$25)=\"Mercancías a granel\",1,0.45))),0),0)","v":0},0,0,0,0,0,0,0,0,0,0,0,0,0,0,0,0,0,0,0,null,"","","","",null,0,0]
[11,{"$f":"SELECCIONPATRON(SHEETOFFSET(-1,C142),SHEETOFFSET(-1,C103),SHEETOFFSET(-1,C104),SHEETOFFSET(-1,C67),SHEETOFFSET(-1,C74),SHEETOFFSET(-1,C76),SHEETOFFSET(-1,C61))","v":0},{"$f":"SELECCIONPATRON(SHEETOFFSET(-1,D142),SHEETOFFSET(-1,D103),SHEETOFFSET(-1,D104),SHEETOFFSET(-1,D67),SHEETOFFSET(-1,D74),SHEETOFFSET(-1,D76),SHEETOFFSET(-1,D61))","v":0},{"$f":"SELECCIONPATRON(SHEETOFFSET(-1,M142),SHEETOFFSET(-1,M103),SHEETOFFSET(-1,M104),SHEETOFFSET(-1,M67),SHEETOFFSET(-1,$E$51),SHEETOFFSET(-1,$E$52),SHEETOFFSET(-1,$E$38))","v":0},{"$f":"SELECCIONPATRON(SHEETOFFSET(-1,P142),SHEETOFFSET(-1,P103),SHEETOFFSET(-1,P104),SHEETOFFSET(-1,P67),SHEETOFFSET(-1,$E$52),SHEETOFFSET(-1,$E$53),SHEETOFFSET(-1,$E$39))","v":0},{"$f":"SELECCIONPATRON(SHEETOFFSET(-1,H142),SHEETOFFSET(-1,H103),SHEETOFFSET(-1,H104),SHEETOFFSET(-1,H67),SHEETOFFSET(-1,H74),SHEETOFFSET(-1,H76),SHEETOFFSET(-1,H61))","v":0},{"$f":"SELECCIONPATRON(SHEETOFFSET(-1,R142),SHEETOFFSET(-1,R103),SHEETOFFSET(-1,S104),SHEETOFFSET(-1,S67),SHEETOFFSET(-1,$G$55),SHEETOFFSET(-1,$G$56),SHEETOFFSET(-1,$G$42))","v":0},{"$f":"SELECCIONPATRON(SHEETOFFSET(-1,S142),SHEETOFFSET(-1,S103),SHEETOFFSET(-1,T104),SHEETOFFSET(-1,T67),SHEETOFFSET(-1,$G$56),SHEETOFFSET(-1,$G$57),SHEETOFFSET(-1,$G$43))","v":0},{"$f":"SELECCIONPATRON(SHEETOFFSET(-1,G142),SHEETOFFSET(-1,G103),SHEETOFFSET(-1,G104),SHEETOFFSET(-1,G67),SHEETOFFSET(-1,G74),SHEETOFFSET(-1,G76),SHEETOFFSET(-1,G61))","v":0},{"$f":"SELECCIONPATRON(SHEETOFFSET(-1,I142),SHEETOFFSET(-1,I103),SHEETOFFSET(-1,I104),SHEETOFFSET(-1,I67),SHEETOFFSET(-1,I74),SHEETOFFSET(-1,I76),SHEETOFFSET(-1,I61))","v":0},{"$f":"SELECCIONPATRON(SHEETOFFSET(-1,J142),SHEETOFFSET(-1,J103),SHEETOFFSET(-1,J104),SHEETOFFSET(-1,J67),SHEETOFFSET(-1,J74),SHEETOFFSET(-1,J76),SHEETOFFSET(-1,J61))","v":0},"---",{"$f":"IFERROR(SELECCIONPATRON(L27,L27,L27,L27,H27*I27,H27*I27,H27*I27)*SELECCIONPATRON(SHEETOFFSET(-1,$T$122),SHEETOFFSET(-1,$T$85),SHEETOFFSET(-1,$V$86),SHEETOFFSET(-1,$V$49),SHEETOFFSET(-1,$G$29),SHEETOFFSET(-1,$G$44),SHEETOFFSET(-1,$G$30)),0)","v":0},0,0,0,0,"---",{"$f":"IFERROR(IF(F27=\"Refrigerada\",SELECCIONPATRON(R27,R27,R27,R27,I27,I27,I27)*SELECCIONPATRON(SHEETOFFSET(-1,$I$200),SHEETOFFSET(-1,$I$161),SHEETOFFSET(-1,$I$162),SHEETOFFSET(-1,$I$125),SHEETOFFSET(-1,$I$132)/(SHEETOFFSET(-1,$G$11)*IF(SHEETOFFSET(-1,$G$37)<>\"\",SHEETOFFSET(-1,$G$37),SHEETOFFSET(-1,$G$42))),SHEETOFFSET(-1,$I$134)/(SHEETOFFSET(-1,$G$11)*IF(SHEETOFFSET(-1,$G$26)<>\"\",SHEETOFFSET(-1,$G$26),SHEETOFFSET(-1,$G$31))),SHEETOFFSET(-1,$I$119)/(SHEETOFFSET(-1,$G$11)*IF(SHEETOFFSET(-1,$G$25)=\"Mercancías a granel\",1,0.45))),0),0)","v":0},0,0,0,0,0,0,0,0,0,0,0,0,0,0,0,0,0,0,0,null,"","","","",null,0,0]
[12,{"$f":"SELECCIONPATRON(SHEETOFFSET(-1,C143),SHEETOFFSET(-1,C104),SHEETOFFSET(-1,C105),SHEETOFFSET(-1,C68),SHEETOFFSET(-1,C75),SHEETOFFSET(-1,C77),SHEETOFFSET(-1,C62))","v":0},{"$f":"SELECCIONPATRON(SHEETOFFSET(-1,D143),SHEETOFFSET(-1,D104),SHEETOFFSET(-1,D105),SHEETOFFSET(-1,D68),SHEETOFFSET(-1,D75),SHEETOFFSET(-1,D77),SHEETOFFSET(-1,D62))","v":0},{"$f":"SELECCIONPATRON(SHEETOFFSET(-1,M143),SHEETOFFSET(-1,M104),SHEETOFFSET(-1,M105),SHEETOFFSET(-1,M68),SHEETOFFSET(-1,$E$51),SHEETOFFSET(-1,$E$52),SHEETOFFSET(-1,$E$38))","v":0},{"$f":"SELECCIONPATRON(SHEETOFFSET(-1,P143),SHEETOFFSET(-1,P104),SHEETOFFSET(-1,P105),SHEETOFFSET(-1,P68),SHEETOFFSET(-1,$E$52),SHEETOFFSET(-1,$E$53),SHEETOFFSET(-1,$E$39))","v":0},{"$f":"SELECCIONPATRON(SHEETOFFSET(-1,H143),SHEETOFFSET(-1,H104),SHEETOFFSET(-1,H105),SHEETOFFSET(-1,H68),SHEETOFFSET(-1,H75),SHEETOFFSET(-1,H77),SHEETOFFSET(-1,H62))","v":0},{"$f":"SELECCIONPATRON(SHEETOFFSET(-1,R143),SHEETOFFSET(-1,R104),SHEETOFFSET(-1,S105),SHEETOFFSET(-1,S68),SHEETOFFSET(-1,$G$55),SHEETOFFSET(-1,$G$56),SHEETOFFSET(-1,$G$42))","v":0},{"$f":"SELECCIONPATRON(SHEETOFFSET(-1,S143),SHEETOFFSET(-1,S104),SHEETOFFSET(-1,T105),SHEETOFFSET(-1,T68),SHEETOFFSET(-1,$G$56),SHEETOFFSET(-1,$G$57),SHEETOFFSET(-1,$G$43))","v":0},{"$f":"SELECCIONPATRON(SHEETOFFSET(-1,G143),SHEETOFFSET(-1,G104),SHEETOFFSET(-1,G105),SHEETOFFSET(-1,G68),SHEETOFFSET(-1,G75),SHEETOFFSET(-1,G77),SHEETOFFSET(-1,G62))","v":0},{"$f":"SELECCIONPATRON(SHEETOFFSET(-1,I143),SHEETOFFSET(-1,I104),SHEETOFFSET(-1,I105),SHEETOFFSET(-1,I68),SHEETOFFSET(-1,I75),SHEETOFFSET(-1,I77),SHEETOFFSET(-1,I62))","v":0},{"$f":"SELECCIONPATRON(SHEETOFFSET(-1,J143),SHEETOFFSET(-1,J104),SHEETOFFSET(-1,J105),SHEETOFFSET(-1,J68),SHEETOFFSET(-1,J75),SHEETOFFSET(-1,J77),SHEETOFFSET(-1,J62))","v":0},"---",{"$f":"IFERROR(SELECCIONPATRON(L28,L28,L28,L28,H28*I28,H28*I28,H28*I28)*SELECCIONPATRON(SHEETOFFSET(-1,$T$122),SHEETOFFSET(-1,$T$85),SHEETOFFSET(-1,$V$86),SHEETOFFSET(-1,$V$49),SHEETOFFSET(-1,$G$29),SHEETOFFSET(-1,$G$44),SHEETOFFSET(-1,$G$30)),0)","v":0},0,0,0,0,"---",{"$f":"IFERROR(IF(F28=\"Refrigerada\",SELECCIONPATRON(R28,R28,R28,R28,I28,I28,I28)*SELECCIONPATRON(SHEETOFFSET(-1,$I$200),SHEETOFFSET(-1,$I$161),SHEETOFFSET(-1,$I$162),SHEETOFFSET(-1,$I$125),SHEETOFFSET(-1,$I$132)/(SHEETOFFSET(-1,$G$11)*IF(SHEETOFFSET(-1,$G$37)<>\"\",SHEETOFFSET(-1,$G$37),SHEETOFFSET(-1,$G$42))),SHEETOFFSET(-1,$I$134)/(SHEETOFFSET(-1,$G$11)*IF(SHEETOFFSET(-1,$G$26)<>\"\",SHEETOFFSET(-1,$G$26),SHEETOFFSET(-1,$G$31))),SHEETOFFSET(-1,$I$119)/(SHEETOFFSET(-1,$G$11)*IF(SHEETOFFSET(-1,$G$25)=\"Mercancías a granel\",1,0.45))),0),0)","v":0},0,0,0,0,0,0,0,0,0,0,0,0,0,0,0,0,0,0,0,null,"","","","",null,0,0]
[13,{"$f":"SELECCIONPATRON(SHEETOFFSET(-1,C144),SHEETOFFSET(-1,C105),SHEETOFFSET(-1,C106),SHEETOFFSET(-1,C69),SHEETOFFSET(-1,C76),SHEETOFFSET(-1,C78),SHEETOFFSET(-1,C63))","v":0},{"$f":"SELECCIONPATRON(SHEETOFFSET(-1,D144),SHEETOFFSET(-1,D105),SHEETOFFSET(-1,D106),SHEETOFFSET(-1,D69),SHEETOFFSET(-1,D76),SHEETOFFSET(-1,D78),SHEETOFFSET(-1,D63))","v":0},{"$f":"SELECCIONPATRON(SHEETOFFSET(-1,M144),SHEETOFFSET(-1,M105),SHEETOFFSET(-1,M106),SHEETOFFSET(-1,M69),SHEETOFFSET(-1,$E$51),SHEETOFFSET(-1,$E$52),SHEETOFFSET(-1,$E$38))","v":0},{"$f":"SELECCIONPATRON(SHEETOFFSET(-1,P144),SHEETOFFSET(-1,P105),SHEETOFFSET(-1,P106),SHEETOFFSET(-1,P69),SHEETOFFSET(-1,$E$52),SHEETOFFSET(-1,$E$53),SHEETOFFSET(-1,$E$39))","v":0},{"$f":"SELECCIONPATRON(SHEETOFFSET(-1,H144),SHEETOFFSET(-1,H105),SHEETOFFSET(-1,H106),SHEETOFFSET(-1,H69),SHEETOFFSET(-1,H76),SHEETOFFSET(-1,H78),SHEETOFFSET(-1,H63))","v":0},{"$f":"SELECCIONPATRON(SHEETOFFSET(-1,R144),SHEETOFFSET(-1,R105),SHEETOFFSET(-1,S106),SHEETOFFSET(-1,S69),SHEETOFFSET(-1,$G$55),SHEETOFFSET(-1,$G$56),SHEETOFFSET(-1,$G$42))","v":0},{"$f":"SELECCIONPATRON(SHEETOFFSET(-1,S144),SHEETOFFSET(-1,S105),SHEETOFFSET(-1,T106),SHEETOFFSET(-1,T69),SHEETOFFSET(-1,$G$56),SHEETOFFSET(-1,$G$57),SHEETOFFSET(-1,$G$43))","v":0},{"$f":"SELECCIONPATRON(SHEETOFFSET(-1,G144),SHEETOFFSET(-1,G105),SHEETOFFSET(-1,G106),SHEETOFFSET(-1,G69),SHEETOFFSET(-1,G76),SHEETOFFSET(-1,G78),SHEETOFFSET(-1,G63))","v":0},{"$f":"SELECCIONPATRON(SHEETOFFSET(-1,I144),SHEETOFFSET(-1,I105),SHEETOFFSET(-1,I106),SHEETOFFSET(-1,I69),SHEETOFFSET(-1,I76),SHEETOFFSET(-1,I78),SHEETOFFSET(-1,I63))","v":0},{"$f":"SELECCIONPATRON(SHEETOFFSET(-1,J144),SHEETOFFSET(-1,J105),SHEETOFFSET(-1,J106),SHEETOFFSET(-1,J69),SHEETOFFSET(-1,J76),SHEETOFFSET(-1,J78),SHEETOFFSET(-1,J63))","v":0},"---",{"$f":"IFERROR(SELECCIONPATRON(L29,L29,L29,L29,H29*I29,H29*I29,H29*I29)*SELECCIONPATRON(SHEETOFFSET(-1,$T$122),SHEETOFFSET(-1,$T$85),SHEETOFFSET(-1,$V$86),SHEETOFFSET(-1,$V$49),SHEETOFFSET(-1,$G$29),SHEETOFFSET(-1,$G$44),SHEETOFFSET(-1,$G$30)),0)","v":0},0,0,0,0,"---",{"$f":"IFERROR(IF(F29=\"Refrigerada\",SELECCIONPATRON(R29,R29,R29,R29,I29,I29,I29)*SELECCIONPATRON(SHEETOFFSET(-1,$I$200),SHEETOFFSET(-1,$I$161),SHEETOFFSET(-1,$I$162),SHEETOFFSET(-1,$I$125),SHEETOFFSET(-1,$I$132)/(SHEETOFFSET(-1,$G$11)*IF(SHEETOFFSET(-1,$G$37)<>\"\",SHEETOFFSET(-1,$G$37),SHEETOFFSET(-1,$G$42))),SHEETOFFSET(-1,$I$134)/(SHEETOFFSET(-1,$G$11)*IF(SHEETOFFSET(-1,$G$26)<>\"\",SHEETOFFSET(-1,$G$26),SHEETOFFSET(-1,$G$31))),SHEETOFFSET(-1,$I$119)/(SHEETOFFSET(-1,$G$11)*IF(SHEETOFFSET(-1,$G$25)=\"Mercancías a granel\",1,0.45))),0),0)","v":0},0,0,0,0,0,0,0,0,0,0,0,0,0,0,0,0,0,0,0,null,"","","","",null,0,0]
[14,{"$f":"SELECCIONPATRON(SHEETOFFSET(-1,C145),SHEETOFFSET(-1,C106),SHEETOFFSET(-1,C107),SHEETOFFSET(-1,C70),SHEETOFFSET(-1,C77),SHEETOFFSET(-1,C79),SHEETOFFSET(-1,C64))","v":0},{"$f":"SELECCIONPATRON(SHEETOFFSET(-1,D145),SHEETOFFSET(-1,D106),SHEETOFFSET(-1,D107),SHEETOFFSET(-1,D70),SHEETOFFSET(-1,D77),SHEETOFFSET(-1,D79),SHEETOFFSET(-1,D64))","v":0},{"$f":"SELECCIONPATRON(SHEETOFFSET(-1,M145),SHEETOFFSET(-1,M106),SHEETOFFSET(-1,M107),SHEETOFFSET(-1,M70),SHEETOFFSET(-1,$E$51),SHEETOFFSET(-1,$E$52),SHEETOFFSET(-1,$E$38))","v":0},{"$f":"SELECCIONPATRON(SHEETOFFSET(-1,P145),SHEETOFFSET(-1,P106),SHEETOFFSET(-1,P107),SHEETOFFSET(-1,P70),SHEETOFFSET(-1,$E$52),SHEETOFFSET(-1,$E$53),SHEETOFFSET(-1,$E$39))","v":0},{"$f":"SELECCIONPATRON(SHEETOFFSET(-1,H145),SHEETOFFSET(-1,H106),SHEETOFFSET(-1,H107),SHEETOFFSET(-1,H70),SHEETOFFSET(-1,H77),SHEETOFFSET(-1,H79),SHEETOFFSET(-1,H64))","v":0},{"$f":"SELECCIONPATRON(SHEETOFFSET(-1,R145),SHEETOFFSET(-1,R106),SHEETOFFSET(-1,S107),SHEETOFFSET(-1,S70),SHEETOFFSET(-1,$G$55),SHEETOFFSET(-1,$G$56),SHEETOFFSET(-1,$G$42))","v":0},{"$f":"SELECCIONPATRON(SHEETOFFSET(-1,S145),SHEETOFFSET(-1,S106),SHEETOFFSET(-1,T107),SHEETOFFSET(-1,T70),SHEETOFFSET(-1,$G$56),SHEETOFFSET(-1,$G$57),SHEETOFFSET(-1,$G$43))","v":0},{"$f":"SELECCIONPATRON(SHEETOFFSET(-1,G145),SHEETOFFSET(-1,G106),SHEETOFFSET(-1,G107),SHEETOFFSET(-1,G70),SHEETOFFSET(-1,G77),SHEETOFFSET(-1,G79),SHEETOFFSET(-1,G64))","v":0},{"$f":"SELECCIONPATRON(SHEETOFFSET(-1,I145),SHEETOFFSET(-1,I106),SHEETOFFSET(-1,I107),SHEETOFFSET(-1,I70),SHEETOFFSET(-1,I77),SHEETOFFSET(-1,I79),SHEETOFFSET(-1,I64))","v":0},{"$f":"SELECCIONPATRON(SHEETOFFSET(-1,J145),SHEETOFFSET(-1,J106),SHEETOFFSET(-1,J107),SHEETOFFSET(-1,J70),SHEETOFFSET(-1,J77),SHEETOFFSET(-1,J79),SHEETOFFSET(-1,J64))","v":0},"---",{"$f":"IFERROR(SELECCIONPATRON(L30,L30,L30,L30,H30*I30,H30*I30,H30*I30)*SELECCIONPATRON(SHEETOFFSET(-1,$T$122),SHEETOFFSET(-1,$T$85),SHEETOFFSET(-1,$V$86),SHEETOFFSET(-1,$V$49),SHEETOFFSET(-1,$G$29),SHEETOFFSET(-1,$G$44),SHEETOFFSET(-1,$G$30)),0)","v":0},0,0,0,0,"---",{"$f":"IFERROR(IF(F30=\"Refrigerada\",SELECCIONPATRON(R30,R30,R30,R30,I30,I30,I30)*SELECCIONPATRON(SHEETOFFSET(-1,$I$200),SHEETOFFSET(-1,$I$161),SHEETOFFSET(-1,$I$162),SHEETOFFSET(-1,$I$125),SHEETOFFSET(-1,$I$132)/(SHEETOFFSET(-1,$G$11)*IF(SHEETOFFSET(-1,$G$37)<>\"\",SHEETOFFSET(-1,$G$37),SHEETOFFSET(-1,$G$42))),SHEETOFFSET(-1,$I$134)/(SHEETOFFSET(-1,$G$11)*IF(SHEETOFFSET(-1,$G$26)<>\"\",SHEETOFFSET(-1,$G$26),SHEETOFFSET(-1,$G$31))),SHEETOFFSET(-1,$I$119)/(SHEETOFFSET(-1,$G$11)*IF(SHEETOFFSET(-1,$G$25)=\"Mercancías a granel\",1,0.45))),0),0)","v":0},0,0,0,0,0,0,0,0,0,0,0,0,0,0,0,0,0,0,0,null,"","","","",null,0,0]
[15,{"$f":"SELECCIONPATRON(SHEETOFFSET(-1,C146),SHEETOFFSET(-1,C107),SHEETOFFSET(-1,C108),SHEETOFFSET(-1,C71),SHEETOFFSET(-1,C78),SHEETOFFSET(-1,C80),SHEETOFFSET(-1,C65))","v":0},{"$f":"SELECCIONPATRON(SHEETOFFSET(-1,D146),SHEETOFFSET(-1,D107),SHEETOFFSET(-1,D108),SHEETOFFSET(-1,D71),SHEETOFFSET(-1,D78),SHEETOFFSET(-1,D80),SHEETOFFSET(-1,D65))","v":0},{"$f":"SELECCIONPATRON(SHEETOFFSET(-1,M146),SHEETOFFSET(-1,M107),SHEETOFFSET(-1,M108),SHEETOFFSET(-1,M71),SHEETOFFSET(-1,$E$51),SHEETOFFSET(-1,$E$52),SHEETOFFSET(-1,$E$38))","v":0},{"$f":"SELECCIONPATRON(SHEETOFFSET(-1,P146),SHEETOFFSET(-1,P107),SHEETOFFSET(-1,P108),SHEETOFFSET(-1,P71),SHEETOFFSET(-1,$E$52),SHEETOFFSET(-1,$E$53),SHEETOFFSET(-1,$E$39))","v":0},{"$f":"SELECCIONPATRON(SHEETOFFSET(-1,H146),SHEETOFFSET(-1,H107),SHEETOFFSET(-1,H108),SHEETOFFSET(-1,H71),SHEETOFFSET(-1,H78),SHEETOFFSET(-1,H80),SHEETOFFSET(-1,H65))","v":0},{"$f":"SELECCIONPATRON(SHEETOFFSET(-1,R146),SHEETOFFSET(-1,R107),SHEETOFFSET(-1,S108),SHEETOFFSET(-1,S71),SHEETOFFSET(-1,$G$55),SHEETOFFSET(-1,$G$56),SHEETOFFSET(-1,$G$42))","v":0},{"$f":"SELECCIONPATRON(SHEETOFFSET(-1,S146),SHEETOFFSET(-1,S107),SHEETOFFSET(-1,T108),SHEETOFFSET(-1,T71),SHEETOFFSET(-1,$G$56),SHEETOFFSET(-1,$G$57),SHEETOFFSET(-1,$G$43))","v":0},{"$f":"SELECCIONPATRON(SHEETOFFSET(-1,G146),SHEETOFFSET(-1,G107),SHEETOFFSET(-1,G108),SHEETOFFSET(-1,G71),SHEETOFFSET(-1,G78),SHEETOFFSET(-1,G80),SHEETOFFSET(-1,G65))","v":0},{"$f":"SELECCIONPATRON(SHEETOFFSET(-1,I146),SHEETOFFSET(-1,I107),SHEETOFFSET(-1,I108),SHEETOFFSET(-1,I71),SHEETOFFSET(-1,I78),SHEETOFFSET(-1,I80),SHEETOFFSET(-1,I65))","v":0},{"$f":"SELECCIONPATRON(SHEETOFFSET(-1,J146),SHEETOFFSET(-1,J107),SHEETOFFSET(-1,J108),SHEETOFFSET(-1,J71),SHEETOFFSET(-1,J78),SHEETOFFSET(-1,J80),SHEETOFFSET(-1,J65))","v":0},"---",{"$f":"IFERROR(SELECCIONPATRON(L31,L31,L31,L31,H31*I31,H31*I31,H31*I31)*SELECCIONPATRON(SHEETOFFSET(-1,$T$122),SHEETOFFSET(-1,$T$85),SHEETOFFSET(-1,$V$86),SHEETOFFSET(-1,$V$49),SHEETOFFSET(-1,$G$29),SHEETOFFSET(-1,$G$44),SHEETOFFSET(-1,$G$30)),0)","v":0},0,0,0,0,"---",{"$f":"IFERROR(IF(F31=\"Refrigerada\",SELECCIONPATRON(R31,R31,R31,R31,I31,I31,I31)*SELECCIONPATRON(SHEETOFFSET(-1,$I$200),SHEETOFFSET(-1,$I$161),SHEETOFFSET(-1,$I$162),SHEETOFFSET(-1,$I$125),SHEETOFFSET(-1,$I$132)/(SHEETOFFSET(-1,$G$11)*IF(SHEETOFFSET(-1,$G$37)<>\"\",SHEETOFFSET(-1,$G$37),SHEETOFFSET(-1,$G$42))),SHEETOFFSET(-1,$I$134)/(SHEETOFFSET(-1,$G$11)*IF(SHEETOFFSET(-1,$G$26)<>\"\",SHEETOFFSET(-1,$G$26),SHEETOFFSET(-1,$G$31))),SHEETOFFSET(-1,$I$119)/(SHEETOFFSET(-1,$G$11)*IF(SHEETOFFSET(-1,$G$25)=\"Mercancías a granel\",1,0.45))),0),0)","v":0},0,0,0,0,0,0,0,0,0,0,0,0,0,0,0,0,0,0,0,null,"","","","",null,0,0]
[16,{"$f":"SELECCIONPATRON(SHEETOFFSET(-1,C147),SHEETOFFSET(-1,C108),SHEETOFFSET(-1,C109),SHEETOFFSET(-1,C72),SHEETOFFSET(-1,C79),SHEETOFFSET(-1,C81),SHEETOFFSET(-1,C66))","v":0},{"$f":"SELECCIONPATRON(SHEETOFFSET(-1,D147),SHEETOFFSET(-1,D108),SHEETOFFSET(-1,D109),SHEETOFFSET(-1,D72),SHEETOFFSET(-1,D79),SHEETOFFSET(-1,D81),SHEETOFFSET(-1,D66))","v":0},{"$f":"SELECCIONPATRON(SHEETOFFSET(-1,M147),SHEETOFFSET(-1,M108),SHEETOFFSET(-1,M109),SHEETOFFSET(-1,M72),SHEETOFFSET(-1,$E$51),SHEETOFFSET(-1,$E$52),SHEETOFFSET(-1,$E$38))","v":0},{"$f":"SELECCIONPATRON(SHEETOFFSET(-1,P147),SHEETOFFSET(-1,P108),SHEETOFFSET(-1,P109),SHEETOFFSET(-1,P72),SHEETOFFSET(-1,$E$52),SHEETOFFSET(-1,$E$53),SHEETOFFSET(-1,$E$39))","v":0},{"$f":"SELECCIONPATRON(SHEETOFFSET(-1,H147),SHEETOFFSET(-1,H108),SHEETOFFSET(-1,H109),SHEETOFFSET(-1,H72),SHEETOFFSET(-1,H79),SHEETOFFSET(-1,H81),SHEETOFFSET(-1,H66))","v":0},{"$f":"SELECCIONPATRON(SHEETOFFSET(-1,R147),SHEETOFFSET(-1,R108),SHEETOFFSET(-1,S109),SHEETOFFSET(-1,S72),SHEETOFFSET(-1,$G$55),SHEETOFFSET(-1,$G$56),SHEETOFFSET(-1,$G$42))","v":0},{"$f":"SELECCIONPATRON(SHEETOFFSET(-1,S147),SHEETOFFSET(-1,S108),SHEETOFFSET(-1,T109),SHEETOFFSET(-1,T72),SHEETOFFSET(-1,$G$56),SHEETOFFSET(-1,$G$57),SHEETOFFSET(-1,$G$43))","v":0},{"$f":"SELECCIONPATRON(SHEETOFFSET(-1,G147),SHEETOFFSET(-1,G108),SHEETOFFSET(-1,G109),SHEETOFFSET(-1,G72),SHEETOFFSET(-1,G79),SHEETOFFSET(-1,G81),SHEETOFFSET(-1,G66))","v":0},{"$f":"SELECCIONPATRON(SHEETOFFSET(-1,I147),SHEETOFFSET(-1,I108),SHEETOFFSET(-1,I109),SHEETOFFSET(-1,I72),SHEETOFFSET(-1,I79),SHEETOFFSET(-1,I81),SHEETOFFSET(-1,I66))","v":0},{"$f":"SELECCIONPATRON(SHEETOFFSET(-1,J147),SHEETOFFSET(-1,J108),SHEETOFFSET(-1,J109),SHEETOFFSET(-1,J72),SHEETOFFSET(-1,J79),SHEETOFFSET(-1,J81),SHEETOFFSET(-1,J66))","v":0},"---",{"$f":"IFERROR(SELECCIONPATRON(L32,L32,L32,L32,H32*I32,H32*I32,H32*I32)*SELECCIONPATRON(SHEETOFFSET(-1,$T$122),SHEETOFFSET(-1,$T$85),SHEETOFFSET(-1,$V$86),SHEETOFFSET(-1,$V$49),SHEETOFFSET(-1,$G$29),SHEETOFFSET(-1,$G$44),SHEETOFFSET(-1,$G$30)),0)","v":0},0,0,0,0,"---",{"$f":"IFERROR(IF(F32=\"Refrigerada\",SELECCIONPATRON(R32,R32,R32,R32,I32,I32,I32)*SELECCIONPATRON(SHEETOFFSET(-1,$I$200),SHEETOFFSET(-1,$I$161),SHEETOFFSET(-1,$I$162),SHEETOFFSET(-1,$I$125),SHEETOFFSET(-1,$I$132)/(SHEETOFFSET(-1,$G$11)*IF(SHEETOFFSET(-1,$G$37)<>\"\",SHEETOFFSET(-1,$G$37),SHEETOFFSET(-1,$G$42))),SHEETOFFSET(-1,$I$134)/(SHEETOFFSET(-1,$G$11)*IF(SHEETOFFSET(-1,$G$26)<>\"\",SHEETOFFSET(-1,$G$26),SHEETOFFSET(-1,$G$31))),SHEETOFFSET(-1,$I$119)/(SHEETOFFSET(-1,$G$11)*IF(SHEETOFFSET(-1,$G$25)=\"Mercancías a granel\",1,0.45))),0),0)","v":0},0,0,0,0,0,0,0,0,0,0,0,0,0,0,0,0,0,0,0,null,"","","","",null,0,0]
[17,{"$f":"SELECCIONPATRON(SHEETOFFSET(-1,C148),SHEETOFFSET(-1,C109),SHEETOFFSET(-1,C110),SHEETOFFSET(-1,C73),SHEETOFFSET(-1,C80),SHEETOFFSET(-1,C82),SHEETOFFSET(-1,C67))","v":0},{"$f":"SELECCIONPATRON(SHEETOFFSET(-1,D148),SHEETOFFSET(-1,D109),SHEETOFFSET(-1,D110),SHEETOFFSET(-1,D73),SHEETOFFSET(-1,D80),SHEETOFFSET(-1,D82),SHEETOFFSET(-1,D67))","v":0},{"$f":"SELECCIONPATRON(SHEETOFFSET(-1,M148),SHEETOFFSET(-1,M109),SHEETOFFSET(-1,M110),SHEETOFFSET(-1,M73),SHEETOFFSET(-1,$E$51),SHEETOFFSET(-1,$E$52),SHEETOFFSET(-1,$E$38))","v":0},{"$f":"SELECCIONPATRON(SHEETOFFSET(-1,P148),SHEETOFFSET(-1,P109),SHEETOFFSET(-1,P110),SHEETOFFSET(-1,P73),SHEETOFFSET(-1,$E$52),SHEETOFFSET(-1,$E$53),SHEETOFFSET(-1,$E$39))","v":0},{"$f":"SELECCIONPATRON(SHEETOFFSET(-1,H148),SHEETOFFSET(-1,H109),SHEETOFFSET(-1,H110),SHEETOFFSET(-1,H73),SHEETOFFSET(-1,H80),SHEETOFFSET(-1,H82),SHEETOFFSET(-1,H67))","v":0},{"$f":"SELECCIONPATRON(SHEETOFFSET(-1,R148),SHEETOFFSET(-1,R109),SHEETOFFSET(-1,S110),SHEETOFFSET(-1,S73),SHEETOFFSET(-1,$G$55),SHEETOFFSET(-1,$G$56),SHEETOFFSET(-1,$G$42))","v":0},{"$f":"SELECCIONPATRON(SHEETOFFSET(-1,S148),SHEETOFFSET(-1,S109),SHEETOFFSET(-1,T110),SHEETOFFSET(-1,T73),SHEETOFFSET(-1,$G$56),SHEETOFFSET(-1,$G$57),SHEETOFFSET(-1,$G$43))","v":0},{"$f":"SELECCIONPATRON(SHEETOFFSET(-1,G148),SHEETOFFSET(-1,G109),SHEETOFFSET(-1,G110),SHEETOFFSET(-1,G73),SHEETOFFSET(-1,G80),SHEETOFFSET(-1,G82),SHEETOFFSET(-1,G67))","v":0},{"$f":"SELECCIONPATRON(SHEETOFFSET(-1,I148),SHEETOFFSET(-1,I109),SHEETOFFSET(-1,I110),SHEETOFFSET(-1,I73),SHEETOFFSET(-1,I80),SHEETOFFSET(-1,I82),SHEETOFFSET(-1,I67))","v":0},{"$f":"SELECCIONPATRON(SHEETOFFSET(-1,J148),SHEETOFFSET(-1,J109),SHEETOFFSET(-1,J110),SHEETOFFSET(-1,J73),SHEETOFFSET(-1,J80),SHEETOFFSET(-1,J82),SHEETOFFSET(-1,J67))","v":0},"---",{"$f":"IFERROR(SELECCIONPATRON(L33,L33,L33,L33,H33*I33,H33*I33,H33*I33)*SELECCIONPATRON(SHEETOFFSET(-1,$T$122),SHEETOFFSET(-1,$T$85),SHEETOFFSET(-1,$V$86),SHEETOFFSET(-1,$V$49),SHEETOFFSET(-1,$G$29),SHEETOFFSET(-1,$G$44),SHEETOFFSET(-1,$G$30)),0)","v":0},0,0,0,0,"---",{"$f":"IFERROR(IF(F33=\"Refrigerada\",SELECCIONPATRON(R33,R33,R33,R33,I33,I33,I33)*SELECCIONPATRON(SHEETOFFSET(-1,$I$200),SHEETOFFSET(-1,$I$161),SHEETOFFSET(-1,$I$162),SHEETOFFSET(-1,$I$125),SHEETOFFSET(-1,$I$132)/(SHEETOFFSET(-1,$G$11)*IF(SHEETOFFSET(-1,$G$37)<>\"\",SHEETOFFSET(-1,$G$37),SHEETOFFSET(-1,$G$42))),SHEETOFFSET(-1,$I$134)/(SHEETOFFSET(-1,$G$11)*IF(SHEETOFFSET(-1,$G$26)<>\"\",SHEETOFFSET(-1,$G$26),SHEETOFFSET(-1,$G$31))),SHEETOFFSET(-1,$I$119)/(SHEETOFFSET(-1,$G$11)*IF(SHEETOFFSET(-1,$G$25)=\"Mercancías a granel\",1,0.45))),0),0)","v":0},0,0,0,0,0,0,0,0,0,0,0,{"$f":"N33+T33","v":0},0,0,0,0,0,0,0,null,"","","","",null,0,0]
[18,{"$f":"SELECCIONPATRON(SHEETOFFSET(-1,C149),SHEETOFFSET(-1,C110),SHEETOFFSET(-1,C111),SHEETOFFSET(-1,C74),SHEETOFFSET(-1,C81),SHEETOFFSET(-1,C83),SHEETOFFSET(-1,C68))","v":0},{"$f":"SELECCIONPATRON(SHEETOFFSET(-1,D149),SHEETOFFSET(-1,D110),SHEETOFFSET(-1,D111),SHEETOFFSET(-1,D74),SHEETOFFSET(-1,D81),SHEETOFFSET(-1,D83),SHEETOFFSET(-1,D68))","v":0},{"$f":"SELECCIONPATRON(SHEETOFFSET(-1,M149),SHEETOFFSET(-1,M110),SHEETOFFSET(-1,M111),SHEETOFFSET(-1,M74),SHEETOFFSET(-1,$E$51),SHEETOFFSET(-1,$E$52),SHEETOFFSET(-1,$E$38))","v":0},{"$f":"SELECCIONPATRON(SHEETOFFSET(-1,P149),SHEETOFFSET(-1,P110),SHEETOFFSET(-1,P111),SHEETOFFSET(-1,P74),SHEETOFFSET(-1,$E$52),SHEETOFFSET(-1,$E$53),SHEETOFFSET(-1,$E$39))","v":0},{"$f":"SELECCIONPATRON(SHEETOFFSET(-1,H149),SHEETOFFSET(-1,H110),SHEETOFFSET(-1,H111),SHEETOFFSET(-1,H74),SHEETOFFSET(-1,H81),SHEETOFFSET(-1,H83),SHEETOFFSET(-1,H68))","v":0},{"$f":"SELECCIONPATRON(SHEETOFFSET(-1,R149),SHEETOFFSET(-1,R110),SHEETOFFSET(-1,S111),SHEETOFFSET(-1,S74),SHEETOFFSET(-1,$G$55),SHEETOFFSET(-1,$G$56),SHEETOFFSET(-1,$G$42))","v":0},{"$f":"SELECCIONPATRON(SHEETOFFSET(-1,S149),SHEETOFFSET(-1,S110),SHEETOFFSET(-1,T111),SHEETOFFSET(-1,T74),SHEETOFFSET(-1,$G$56),SHEETOFFSET(-1,$G$57),SHEETOFFSET(-1,$G$43))","v":0},{"$f":"SELECCIONPATRON(SHEETOFFSET(-1,G149),SHEETOFFSET(-1,G110),SHEETOFFSET(-1,G111),SHEETOFFSET(-1,G74),SHEETOFFSET(-1,G81),SHEETOFFSET(-1,G83),SHEETOFFSET(-1,G68))","v":0},{"$f":"SELECCIONPATRON(SHEETOFFSET(-1,I149),SHEETOFFSET(-1,I110),SHEETOFFSET(-1,I111),SHEETOFFSET(-1,I74),SHEETOFFSET(-1,I81),SHEETOFFSET(-1,I83),SHEETOFFSET(-1,I68))","v":0},{"$f":"SELECCIONPATRON(SHEETOFFSET(-1,J149),SHEETOFFSET(-1,J110),SHEETOFFSET(-1,J111),SHEETOFFSET(-1,J74),SHEETOFFSET(-1,J81),SHEETOFFSET(-1,J83),SHEETOFFSET(-1,J68))","v":0},"---",{"$f":"IFERROR(SELECCIONPATRON(L34,L34,L34,L34,H34*I34,H34*I34,H34*I34)*SELECCIONPATRON(SHEETOFFSET(-1,$T$122),SHEETOFFSET(-1,$T$85),SHEETOFFSET(-1,$V$86),SHEETOFFSET(-1,$V$49),SHEETOFFSET(-1,$G$29),SHEETOFFSET(-1,$G$44),SHEETOFFSET(-1,$G$30)),0)","v":0},0,0,0,0,"---",{"$f":"IFERROR(IF(F34=\"Refrigerada\",SELECCIONPATRON(R34,R34,R34,R34,I34,I34,I34)*SELECCIONPATRON(SHEETOFFSET(-1,$I$200),SHEETOFFSET(-1,$I$161),SHEETOFFSET(-1,$I$162),SHEETOFFSET(-1,$I$125),SHEETOFFSET(-1,$I$132)/(SHEETOFFSET(-1,$G$11)*IF(SHEETOFFSET(-1,$G$37)<>\"\",SHEETOFFSET(-1,$G$37),SHEETOFFSET(-1,$G$42))),SHEETOFFSET(-1,$I$134)/(SHEETOFFSET(-1,$G$11)*IF(SHEETOFFSET(-1,$G$26)<>\"\",SHEETOFFSET(-1,$G$26),SHEETOFFSET(-1,$G$31))),SHEETOFFSET(-1,$I$119)/(SHEETOFFSET(-1,$G$11)*IF(SHEETOFFSET(-1,$G$25)=\"Mercancías a granel\",1,0.45))),0),0)","v":0},0,0,0,0,0,0,0,0,0,0,0,0,0,0,0,0,0,0,0,null,"","","","",null,0,0]
[19,{"$f":"SELECCIONPATRON(SHEETOFFSET(-1,C150),SHEETOFFSET(-1,C111),SHEETOFFSET(-1,C112),SHEETOFFSET(-1,C75),SHEETOFFSET(-1,C82),SHEETOFFSET(-1,C84),SHEETOFFSET(-1,C69))","v":0},{"$f":"SELECCIONPATRON(SHEETOFFSET(-1,D150),SHEETOFFSET(-1,D111),SHEETOFFSET(-1,D112),SHEETOFFSET(-1,D75),SHEETOFFSET(-1,D82),SHEETOFFSET(-1,D84),SHEETOFFSET(-1,D69))","v":0},{"$f":"SELECCIONPATRON(SHEETOFFSET(-1,M150),SHEETOFFSET(-1,M111),SHEETOFFSET(-1,M112),SHEETOFFSET(-1,M75),SHEETOFFSET(-1,$E$51),SHEETOFFSET(-1,$E$52),SHEETOFFSET(-1,$E$38))","v":0},{"$f":"SELECCIONPATRON(SHEETOFFSET(-1,P150),SHEETOFFSET(-1,P111),SHEETOFFSET(-1,P112),SHEETOFFSET(-1,P75),SHEETOFFSET(-1,$E$52),SHEETOFFSET(-1,$E$53),SHEETOFFSET(-1,$E$39))","v":0},{"$f":"SELECCIONPATRON(SHEETOFFSET(-1,H150),SHEETOFFSET(-1,H111),SHEETOFFSET(-1,H112),SHEETOFFSET(-1,H75),SHEETOFFSET(-1,H82),SHEETOFFSET(-1,H84),SHEETOFFSET(-1,H69))","v":0},{"$f":"SELECCIONPATRON(SHEETOFFSET(-1,R150),SHEETOFFSET(-1,R111),SHEETOFFSET(-1,S112),SHEETOFFSET(-1,S75),SHEETOFFSET(-1,$G$55),SHEETOFFSET(-1,$G$56),SHEETOFFSET(-1,$G$42))","v":0},{"$f":"SELECCIONPATRON(SHEETOFFSET(-1,S150),SHEETOFFSET(-1,S111),SHEETOFFSET(-1,T112),SHEETOFFSET(-1,T75),SHEETOFFSET(-1,$G$56),SHEETOFFSET(-1,$G$57),SHEETOFFSET(-1,$G$43))","v":0},{"$f":"SELECCIONPATRON(SHEETOFFSET(-1,G150),SHEETOFFSET(-1,G111),SHEETOFFSET(-1,G112),SHEETOFFSET(-1,G75),SHEETOFFSET(-1,G82),SHEETOFFSET(-1,G84),SHEETOFFSET(-1,G69))","v":0},{"$f":"SELECCIONPATRON(SHEETOFFSET(-1,I150),SHEETOFFSET(-1,I111),SHEETOFFSET(-1,I112),SHEETOFFSET(-1,I75),SHEETOFFSET(-1,I82),SHEETOFFSET(-1,I84),SHEETOFFSET(-1,I69))","v":0},{"$f":"SELECCIONPATRON(SHEETOFFSET(-1,J150),SHEETOFFSET(-1,J111),SHEETOFFSET(-1,J112),SHEETOFFSET(-1,J75),SHEETOFFSET(-1,J82),SHEETOFFSET(-1,J84),SHEETOFFSET(-1,J69))","v":0},"---",{"$f":"IFERROR(SELECCIONPATRON(L35,L35,L35,L35,H35*I35,H35*I35,H35*I35)*SELECCIONPATRON(SHEETOFFSET(-1,$T$122),SHEETOFFSET(-1,$T$85),SHEETOFFSET(-1,$V$86),SHEETOFFSET(-1,$V$49),SHEETOFFSET(-1,$G$29),SHEETOFFSET(-1,$G$44),SHEETOFFSET(-1,$G$30)),0)","v":0},0,0,0,0,"---",{"$f":"IFERROR(IF(F35=\"Refrigerada\",SELECCIONPATRON(R35,R35,R35,R35,I35,I35,I35)*SELECCIONPATRON(SHEETOFFSET(-1,$I$200),SHEETOFFSET(-1,$I$161),SHEETOFFSET(-1,$I$162),SHEETOFFSET(-1,$I$125),SHEETOFFSET(-1,$I$132)/(SHEETOFFSET(-1,$G$11)*IF(SHEETOFFSET(-1,$G$37)<>\"\",SHEETOFFSET(-1,$G$37),SHEETOFFSET(-1,$G$42))),SHEETOFFSET(-1,$I$134)/(SHEETOFFSET(-1,$G$11)*IF(SHEETOFFSET(-1,$G$26)<>\"\",SHEETOFFSET(-1,$G$26),SHEETOFFSET(-1,$G$31))),SHEETOFFSET(-1,$I$119)/(SHEETOFFSET(-1,$G$11)*IF(SHEETOFFSET(-1,$G$25)=\"Mercancías a granel\",1,0.45))),0),0)","v":0},0,0,0,0,0,0,0,0,0,0,0,0,0,0,0,0,0,0,0,null,"","","","",null,0,0]
[20,{"$f":"SELECCIONPATRON(SHEETOFFSET(-1,C151),SHEETOFFSET(-1,C112),SHEETOFFSET(-1,C113),SHEETOFFSET(-1,C76),SHEETOFFSET(-1,C83),SHEETOFFSET(-1,C85),SHEETOFFSET(-1,C70))","v":0},{"$f":"SELECCIONPATRON(SHEETOFFSET(-1,D151),SHEETOFFSET(-1,D112),SHEETOFFSET(-1,D113),SHEETOFFSET(-1,D76),SHEETOFFSET(-1,D83),SHEETOFFSET(-1,D85),SHEETOFFSET(-1,D70))","v":0},{"$f":"SELECCIONPATRON(SHEETOFFSET(-1,M151),SHEETOFFSET(-1,M112),SHEETOFFSET(-1,M113),SHEETOFFSET(-1,M76),SHEETOFFSET(-1,$E$51),SHEETOFFSET(-1,$E$52),SHEETOFFSET(-1,$E$38))","v":0},{"$f":"SELECCIONPATRON(SHEETOFFSET(-1,P151),SHEETOFFSET(-1,P112),SHEETOFFSET(-1,P113),SHEETOFFSET(-1,P76),SHEETOFFSET(-1,$E$52),SHEETOFFSET(-1,$E$53),SHEETOFFSET(-1,$E$39))","v":0},{"$f":"SELECCIONPATRON(SHEETOFFSET(-1,H151),SHEETOFFSET(-1,H112),SHEETOFFSET(-1,H113),SHEETOFFSET(-1,H76),SHEETOFFSET(-1,H83),SHEETOFFSET(-1,H85),SHEETOFFSET(-1,H70))","v":0},{"$f":"SELECCIONPATRON(SHEETOFFSET(-1,R151),SHEETOFFSET(-1,R112),SHEETOFFSET(-1,S113),SHEETOFFSET(-1,S76),SHEETOFFSET(-1,$G$55),SHEETOFFSET(-1,$G$56),SHEETOFFSET(-1,$G$42))","v":0},{"$f":"SELECCIONPATRON(SHEETOFFSET(-1,S151),SHEETOFFSET(-1,S112),SHEETOFFSET(-1,T113),SHEETOFFSET(-1,T76),SHEETOFFSET(-1,$G$56),SHEETOFFSET(-1,$G$57),SHEETOFFSET(-1,$G$43))","v":0},{"$f":"SELECCIONPATRON(SHEETOFFSET(-1,G151),SHEETOFFSET(-1,G112),SHEETOFFSET(-1,G113),SHEETOFFSET(-1,G76),SHEETOFFSET(-1,G83),SHEETOFFSET(-1,G85),SHEETOFFSET(-1,G70))","v":0},{"$f":"SELECCIONPATRON(SHEETOFFSET(-1,I151),SHEETOFFSET(-1,I112),SHEETOFFSET(-1,I113),SHEETOFFSET(-1,I76),SHEETOFFSET(-1,I83),SHEETOFFSET(-1,I85),SHEETOFFSET(-1,I70))","v":0},{"$f":"SELECCIONPATRON(SHEETOFFSET(-1,J151),SHEETOFFSET(-1,J112),SHEETOFFSET(-1,J113),SHEETOFFSET(-1,J76),SHEETOFFSET(-1,J83),SHEETOFFSET(-1,J85),SHEETOFFSET(-1,J70))","v":0},"---",{"$f":"IFERROR(SELECCIONPATRON(L36,L36,L36,L36,H36*I36,H36*I36,H36*I36)*SELECCIONPATRON(SHEETOFFSET(-1,$T$122),SHEETOFFSET(-1,$T$85),SHEETOFFSET(-1,$V$86),SHEETOFFSET(-1,$V$49),SHEETOFFSET(-1,$G$29),SHEETOFFSET(-1,$G$44),SHEETOFFSET(-1,$G$30)),0)","v":0},0,0,0,0,"---",{"$f":"IFERROR(IF(F36=\"Refrigerada\",SELECCIONPATRON(R36,R36,R36,R36,I36,I36,I36)*SELECCIONPATRON(SHEETOFFSET(-1,$I$200),SHEETOFFSET(-1,$I$161),SHEETOFFSET(-1,$I$162),SHEETOFFSET(-1,$I$125),SHEETOFFSET(-1,$I$132)/(SHEETOFFSET(-1,$G$11)*IF(SHEETOFFSET(-1,$G$37)<>\"\",SHEETOFFSET(-1,$G$37),SHEETOFFSET(-1,$G$42))),SHEETOFFSET(-1,$I$134)/(SHEETOFFSET(-1,$G$11)*IF(SHEETOFFSET(-1,$G$26)<>\"\",SHEETOFFSET(-1,$G$26),SHEETOFFSET(-1,$G$31))),SHEETOFFSET(-1,$I$119)/(SHEETOFFSET(-1,$G$11)*IF(SHEETOFFSET(-1,$G$25)=\"Mercancías a granel\",1,0.45))),0),0)","v":0},0,0,0,0,0,0,0,0,0,0,0,0,0,0,0,0,0,0,0,null,"","","","",null,0,0]
[21,{"$f":"SELECCIONPATRON(SHEETOFFSET(-1,C152),SHEETOFFSET(-1,C113),SHEETOFFSET(-1,C114),SHEETOFFSET(-1,C77),SHEETOFFSET(-1,C84),SHEETOFFSET(-1,C86),SHEETOFFSET(-1,C71))","v":0},{"$f":"SELECCIONPATRON(SHEETOFFSET(-1,D152),SHEETOFFSET(-1,D113),SHEETOFFSET(-1,D114),SHEETOFFSET(-1,D77),SHEETOFFSET(-1,D84),SHEETOFFSET(-1,D86),SHEETOFFSET(-1,D71))","v":0},{"$f":"SELECCIONPATRON(SHEETOFFSET(-1,M152),SHEETOFFSET(-1,M113),SHEETOFFSET(-1,M114),SHEETOFFSET(-1,M77),SHEETOFFSET(-1,$E$51),SHEETOFFSET(-1,$E$52),SHEETOFFSET(-1,$E$38))","v":0},{"$f":"SELECCIONPATRON(SHEETOFFSET(-1,P152),SHEETOFFSET(-1,P113),SHEETOFFSET(-1,P114),SHEETOFFSET(-1,P77),SHEETOFFSET(-1,$E$52),SHEETOFFSET(-1,$E$53),SHEETOFFSET(-1,$E$39))","v":0},{"$f":"SELECCIONPATRON(SHEETOFFSET(-1,H152),SHEETOFFSET(-1,H113),SHEETOFFSET(-1,H114),SHEETOFFSET(-1,H77),SHEETOFFSET(-1,H84),SHEETOFFSET(-1,H86),SHEETOFFSET(-1,H71))","v":0},{"$f":"SELECCIONPATRON(SHEETOFFSET(-1,R152),SHEETOFFSET(-1,R113),SHEETOFFSET(-1,S114),SHEETOFFSET(-1,S77),SHEETOFFSET(-1,$G$55),SHEETOFFSET(-1,$G$56),SHEETOFFSET(-1,$G$42))","v":0},{"$f":"SELECCIONPATRON(SHEETOFFSET(-1,S152),SHEETOFFSET(-1,S113),SHEETOFFSET(-1,T114),SHEETOFFSET(-1,T77),SHEETOFFSET(-1,$G$56),SHEETOFFSET(-1,$G$57),SHEETOFFSET(-1,$G$43))","v":0},{"$f":"SELECCIONPATRON(SHEETOFFSET(-1,G152),SHEETOFFSET(-1,G113),SHEETOFFSET(-1,G114),SHEETOFFSET(-1,G77),SHEETOFFSET(-1,G84),SHEETOFFSET(-1,G86),SHEETOFFSET(-1,G71))","v":0},{"$f":"SELECCIONPATRON(SHEETOFFSET(-1,I152),SHEETOFFSET(-1,I113),SHEETOFFSET(-1,I114),SHEETOFFSET(-1,I77),SHEETOFFSET(-1,I84),SHEETOFFSET(-1,I86),SHEETOFFSET(-1,I71))","v":0},{"$f":"SELECCIONPATRON(SHEETOFFSET(-1,J152),SHEETOFFSET(-1,J113),SHEETOFFSET(-1,J114),SHEETOFFSET(-1,J77),SHEETOFFSET(-1,J84),SHEETOFFSET(-1,J86),SHEETOFFSET(-1,J71))","v":0},"---",{"$f":"IFERROR(SELECCIONPATRON(L37,L37,L37,L37,H37*I37,H37*I37,H37*I37)*SELECCIONPATRON(SHEETOFFSET(-1,$T$122),SHEETOFFSET(-1,$T$85),SHEETOFFSET(-1,$V$86),SHEETOFFSET(-1,$V$49),SHEETOFFSET(-1,$G$29),SHEETOFFSET(-1,$G$44),SHEETOFFSET(-1,$G$30)),0)","v":0},0,0,0,0,"---",{"$f":"IFERROR(IF(F37=\"Refrigerada\",SELECCIONPATRON(R37,R37,R37,R37,I37,I37,I37)*SELECCIONPATRON(SHEETOFFSET(-1,$I$200),SHEETOFFSET(-1,$I$161),SHEETOFFSET(-1,$I$162),SHEETOFFSET(-1,$I$125),SHEETOFFSET(-1,$I$132)/(SHEETOFFSET(-1,$G$11)*IF(SHEETOFFSET(-1,$G$37)<>\"\",SHEETOFFSET(-1,$G$37),SHEETOFFSET(-1,$G$42))),SHEETOFFSET(-1,$I$134)/(SHEETOFFSET(-1,$G$11)*IF(SHEETOFFSET(-1,$G$26)<>\"\",SHEETOFFSET(-1,$G$26),SHEETOFFSET(-1,$G$31))),SHEETOFFSET(-1,$I$119)/(SHEETOFFSET(-1,$G$11)*IF(SHEETOFFSET(-1,$G$25)=\"Mercancías a granel\",1,0.45))),0),0)","v":0},0,0,0,0,0,0,0,0,0,0,0,0,0,0,0,0,0,0,0,null,"","","","",null,0,0]
[22,{"$f":"SELECCIONPATRON(SHEETOFFSET(-1,C153),SHEETOFFSET(-1,C114),SHEETOFFSET(-1,C115),SHEETOFFSET(-1,C78),SHEETOFFSET(-1,C85),SHEETOFFSET(-1,C87),SHEETOFFSET(-1,C72))","v":0},{"$f":"SELECCIONPATRON(SHEETOFFSET(-1,D153),SHEETOFFSET(-1,D114),SHEETOFFSET(-1,D115),SHEETOFFSET(-1,D78),SHEETOFFSET(-1,D85),SHEETOFFSET(-1,D87),SHEETOFFSET(-1,D72))","v":0},{"$f":"SELECCIONPATRON(SHEETOFFSET(-1,M153),SHEETOFFSET(-1,M114),SHEETOFFSET(-1,M115),SHEETOFFSET(-1,M78),SHEETOFFSET(-1,$E$51),SHEETOFFSET(-1,$E$52),SHEETOFFSET(-1,$E$38))","v":0},{"$f":"SELECCIONPATRON(SHEETOFFSET(-1,P153),SHEETOFFSET(-1,P114),SHEETOFFSET(-1,P115),SHEETOFFSET(-1,P78),SHEETOFFSET(-1,$E$52),SHEETOFFSET(-1,$E$53),SHEETOFFSET(-1,$E$39))","v":0},{"$f":"SELECCIONPATRON(SHEETOFFSET(-1,H153),SHEETOFFSET(-1,H114),SHEETOFFSET(-1,H115),SHEETOFFSET(-1,H78),SHEETOFFSET(-1,H85),SHEETOFFSET(-1,H87),SHEETOFFSET(-1,H72))","v":0},{"$f":"SELECCIONPATRON(SHEETOFFSET(-1,R153),SHEETOFFSET(-1,R114),SHEETOFFSET(-1,S115),SHEETOFFSET(-1,S78),SHEETOFFSET(-1,$G$55),SHEETOFFSET(-1,$G$56),SHEETOFFSET(-1,$G$42))","v":0},{"$f":"SELECCIONPATRON(SHEETOFFSET(-1,S153),SHEETOFFSET(-1,S114),SHEETOFFSET(-1,T115),SHEETOFFSET(-1,T78),SHEETOFFSET(-1,$G$56),SHEETOFFSET(-1,$G$57),SHEETOFFSET(-1,$G$43))","v":0},{"$f":"SELECCIONPATRON(SHEETOFFSET(-1,G153),SHEETOFFSET(-1,G114),SHEETOFFSET(-1,G115),SHEETOFFSET(-1,G78),SHEETOFFSET(-1,G85),SHEETOFFSET(-1,G87),SHEETOFFSET(-1,G72))","v":0},{"$f":"SELECCIONPATRON(SHEETOFFSET(-1,I153),SHEETOFFSET(-1,I114),SHEETOFFSET(-1,I115),SHEETOFFSET(-1,I78),SHEETOFFSET(-1,I85),SHEETOFFSET(-1,I87),SHEETOFFSET(-1,I72))","v":0},{"$f":"SELECCIONPATRON(SHEETOFFSET(-1,J153),SHEETOFFSET(-1,J114),SHEETOFFSET(-1,J115),SHEETOFFSET(-1,J78),SHEETOFFSET(-1,J85),SHEETOFFSET(-1,J87),SHEETOFFSET(-1,J72))","v":0},"---",{"$f":"IFERROR(SELECCIONPATRON(L38,L38,L38,L38,H38*I38,H38*I38,H38*I38)*SELECCIONPATRON(SHEETOFFSET(-1,$T$122),SHEETOFFSET(-1,$T$85),SHEETOFFSET(-1,$V$86),SHEETOFFSET(-1,$V$49),SHEETOFFSET(-1,$G$29),SHEETOFFSET(-1,$G$44),SHEETOFFSET(-1,$G$30)),0)","v":0},0,0,0,0,"---",{"$f":"IFERROR(IF(F38=\"Refrigerada\",SELECCIONPATRON(R38,R38,R38,R38,I38,I38,I38)*SELECCIONPATRON(SHEETOFFSET(-1,$I$200),SHEETOFFSET(-1,$I$161),SHEETOFFSET(-1,$I$162),SHEETOFFSET(-1,$I$125),SHEETOFFSET(-1,$I$132)/(SHEETOFFSET(-1,$G$11)*IF(SHEETOFFSET(-1,$G$37)<>\"\",SHEETOFFSET(-1,$G$37),SHEETOFFSET(-1,$G$42))),SHEETOFFSET(-1,$I$134)/(SHEETOFFSET(-1,$G$11)*IF(SHEETOFFSET(-1,$G$26)<>\"\",SHEETOFFSET(-1,$G$26),SHEETOFFSET(-1,$G$31))),SHEETOFFSET(-1,$I$119)/(SHEETOFFSET(-1,$G$11)*IF(SHEETOFFSET(-1,$G$25)=\"Mercancías a granel\",1,0.45))),0),0)","v":0},0,0,0,0,0,0,0,0,0,0,0,0,0,0,0,0,0,0,0,null,"","","","",null,0,0]
[23,{"$f":"SELECCIONPATRON(SHEETOFFSET(-1,C154),SHEETOFFSET(-1,C115),SHEETOFFSET(-1,C116),SHEETOFFSET(-1,C79),SHEETOFFSET(-1,C86),SHEETOFFSET(-1,C88),SHEETOFFSET(-1,C73))","v":0},{"$f":"SELECCIONPATRON(SHEETOFFSET(-1,D154),SHEETOFFSET(-1,D115),SHEETOFFSET(-1,D116),SHEETOFFSET(-1,D79),SHEETOFFSET(-1,D86),SHEETOFFSET(-1,D88),SHEETOFFSET(-1,D73))","v":0},{"$f":"SELECCIONPATRON(SHEETOFFSET(-1,M154),SHEETOFFSET(-1,M115),SHEETOFFSET(-1,M116),SHEETOFFSET(-1,M79),SHEETOFFSET(-1,$E$51),SHEETOFFSET(-1,$E$52),SHEETOFFSET(-1,$E$38))","v":0},{"$f":"SELECCIONPATRON(SHEETOFFSET(-1,P154),SHEETOFFSET(-1,P115),SHEETOFFSET(-1,P116),SHEETOFFSET(-1,P79),SHEETOFFSET(-1,$E$52),SHEETOFFSET(-1,$E$53),SHEETOFFSET(-1,$E$39))","v":0},{"$f":"SELECCIONPATRON(SHEETOFFSET(-1,H154),SHEETOFFSET(-1,H115),SHEETOFFSET(-1,H116),SHEETOFFSET(-1,H79),SHEETOFFSET(-1,H86),SHEETOFFSET(-1,H88),SHEETOFFSET(-1,H73))","v":0},{"$f":"SELECCIONPATRON(SHEETOFFSET(-1,R154),SHEETOFFSET(-1,R115),SHEETOFFSET(-1,S116),SHEETOFFSET(-1,S79),SHEETOFFSET(-1,$G$55),SHEETOFFSET(-1,$G$56),SHEETOFFSET(-1,$G$42))","v":0},{"$f":"SELECCIONPATRON(SHEETOFFSET(-1,S154),SHEETOFFSET(-1,S115),SHEETOFFSET(-1,T116),SHEETOFFSET(-1,T79),SHEETOFFSET(-1,$G$56),SHEETOFFSET(-1,$G$57),SHEETOFFSET(-1,$G$43))","v":0},{"$f":"SELECCIONPATRON(SHEETOFFSET(-1,G154),SHEETOFFSET(-1,G115),SHEETOFFSET(-1,G116),SHEETOFFSET(-1,G79),SHEETOFFSET(-1,G86),SHEETOFFSET(-1,G88),SHEETOFFSET(-1,G73))","v":0},{"$f":"SELECCIONPATRON(SHEETOFFSET(-1,I154),SHEETOFFSET(-1,I115),SHEETOFFSET(-1,I116),SHEETOFFSET(-1,I79),SHEETOFFSET(-1,I86),SHEETOFFSET(-1,I88),SHEETOFFSET(-1,I73))","v":0},{"$f":"SELECCIONPATRON(SHEETOFFSET(-1,J154),SHEETOFFSET(-1,J115),SHEETOFFSET(-1,J116),SHEETOFFSET(-1,J79),SHEETOFFSET(-1,J86),SHEETOFFSET(-1,J88),SHEETOFFSET(-1,J73))","v":0},"---",{"$f":"IFERROR(SELECCIONPATRON(L39,L39,L39,L39,H39*I39,H39*I39,H39*I39)*SELECCIONPATRON(SHEETOFFSET(-1,$T$122),SHEETOFFSET(-1,$T$85),SHEETOFFSET(-1,$V$86),SHEETOFFSET(-1,$V$49),SHEETOFFSET(-1,$G$29),SHEETOFFSET(-1,$G$44),SHEETOFFSET(-1,$G$30)),0)","v":0},0,0,0,0,"---",{"$f":"IFERROR(IF(F39=\"Refrigerada\",SELECCIONPATRON(R39,R39,R39,R39,I39,I39,I39)*SELECCIONPATRON(SHEETOFFSET(-1,$I$200),SHEETOFFSET(-1,$I$161),SHEETOFFSET(-1,$I$162),SHEETOFFSET(-1,$I$125),SHEETOFFSET(-1,$I$132)/(SHEETOFFSET(-1,$G$11)*IF(SHEETOFFSET(-1,$G$37)<>\"\",SHEETOFFSET(-1,$G$37),SHEETOFFSET(-1,$G$42))),SHEETOFFSET(-1,$I$134)/(SHEETOFFSET(-1,$G$11)*IF(SHEETOFFSET(-1,$G$26)<>\"\",SHEETOFFSET(-1,$G$26),SHEETOFFSET(-1,$G$31))),SHEETOFFSET(-1,$I$119)/(SHEETOFFSET(-1,$G$11)*IF(SHEETOFFSET(-1,$G$25)=\"Mercancías a granel\",1,0.45))),0),0)","v":0},0,0,0,0,0,0,0,0,0,0,0,0,0,0,0,0,0,0,0,null,"","","","",null,0,0]
[24,{"$f":"SELECCIONPATRON(SHEETOFFSET(-1,C155),SHEETOFFSET(-1,C116),SHEETOFFSET(-1,C117),SHEETOFFSET(-1,C80),SHEETOFFSET(-1,C87),SHEETOFFSET(-1,C89),SHEETOFFSET(-1,C74))","v":0},{"$f":"SELECCIONPATRON(SHEETOFFSET(-1,D155),SHEETOFFSET(-1,D116),SHEETOFFSET(-1,D117),SHEETOFFSET(-1,D80),SHEETOFFSET(-1,D87),SHEETOFFSET(-1,D89),SHEETOFFSET(-1,D74))","v":0},{"$f":"SELECCIONPATRON(SHEETOFFSET(-1,M155),SHEETOFFSET(-1,M116),SHEETOFFSET(-1,M117),SHEETOFFSET(-1,M80),SHEETOFFSET(-1,$E$51),SHEETOFFSET(-1,$E$52),SHEETOFFSET(-1,$E$38))","v":0},{"$f":"SELECCIONPATRON(SHEETOFFSET(-1,P155),SHEETOFFSET(-1,P116),SHEETOFFSET(-1,P117),SHEETOFFSET(-1,P80),SHEETOFFSET(-1,$E$52),SHEETOFFSET(-1,$E$53),SHEETOFFSET(-1,$E$39))","v":0},{"$f":"SELECCIONPATRON(SHEETOFFSET(-1,H155),SHEETOFFSET(-1,H116),SHEETOFFSET(-1,H117),SHEETOFFSET(-1,H80),SHEETOFFSET(-1,H87),SHEETOFFSET(-1,H89),SHEETOFFSET(-1,H74))","v":0},{"$f":"SELECCIONPATRON(SHEETOFFSET(-1,R155),SHEETOFFSET(-1,R116),SHEETOFFSET(-1,S117),SHEETOFFSET(-1,S80),SHEETOFFSET(-1,$G$55),SHEETOFFSET(-1,$G$56),SHEETOFFSET(-1,$G$42))","v":0},{"$f":"SELECCIONPATRON(SHEETOFFSET(-1,S155),SHEETOFFSET(-1,S116),SHEETOFFSET(-1,T117),SHEETOFFSET(-1,T80),SHEETOFFSET(-1,$G$56),SHEETOFFSET(-1,$G$57),SHEETOFFSET(-1,$G$43))","v":0},{"$f":"SELECCIONPATRON(SHEETOFFSET(-1,G155),SHEETOFFSET(-1,G116),SHEETOFFSET(-1,G117),SHEETOFFSET(-1,G80),SHEETOFFSET(-1,G87),SHEETOFFSET(-1,G89),SHEETOFFSET(-1,G74))","v":0},{"$f":"SELECCIONPATRON(SHEETOFFSET(-1,I155),SHEETOFFSET(-1,I116),SHEETOFFSET(-1,I117),SHEETOFFSET(-1,I80),SHEETOFFSET(-1,I87),SHEETOFFSET(-1,I89),SHEETOFFSET(-1,I74))","v":0},{"$f":"SELECCIONPATRON(SHEETOFFSET(-1,J155),SHEETOFFSET(-1,J116),SHEETOFFSET(-1,J117),SHEETOFFSET(-1,J80),SHEETOFFSET(-1,J87),SHEETOFFSET(-1,J89),SHEETOFFSET(-1,J74))","v":0},"---",{"$f":"IFERROR(SELECCIONPATRON(L40,L40,L40,L40,H40*I40,H40*I40,H40*I40)*SELECCIONPATRON(SHEETOFFSET(-1,$T$122),SHEETOFFSET(-1,$T$85),SHEETOFFSET(-1,$V$86),SHEETOFFSET(-1,$V$49),SHEETOFFSET(-1,$G$29),SHEETOFFSET(-1,$G$44),SHEETOFFSET(-1,$G$30)),0)","v":0},0,0,0,0,"---",{"$f":"IFERROR(IF(F40=\"Refrigerada\",SELECCIONPATRON(R40,R40,R40,R40,I40,I40,I40)*SELECCIONPATRON(SHEETOFFSET(-1,$I$200),SHEETOFFSET(-1,$I$161),SHEETOFFSET(-1,$I$162),SHEETOFFSET(-1,$I$125),SHEETOFFSET(-1,$I$132)/(SHEETOFFSET(-1,$G$11)*IF(SHEETOFFSET(-1,$G$37)<>\"\",SHEETOFFSET(-1,$G$37),SHEETOFFSET(-1,$G$42))),SHEETOFFSET(-1,$I$134)/(SHEETOFFSET(-1,$G$11)*IF(SHEETOFFSET(-1,$G$26)<>\"\",SHEETOFFSET(-1,$G$26),SHEETOFFSET(-1,$G$31))),SHEETOFFSET(-1,$I$119)/(SHEETOFFSET(-1,$G$11)*IF(SHEETOFFSET(-1,$G$25)=\"Mercancías a granel\",1,0.45))),0),0)","v":0},0,0,0,0,0,0,0,0,0,0,0,0,0,0,0,0,0,0,0,null,"","","","",null,0,0]
[25,{"$f":"SELECCIONPATRON(SHEETOFFSET(-1,C156),SHEETOFFSET(-1,C117),SHEETOFFSET(-1,C118),SHEETOFFSET(-1,C81),SHEETOFFSET(-1,C88),SHEETOFFSET(-1,C90),SHEETOFFSET(-1,C75))","v":0},{"$f":"SELECCIONPATRON(SHEETOFFSET(-1,D156),SHEETOFFSET(-1,D117),SHEETOFFSET(-1,D118),SHEETOFFSET(-1,D81),SHEETOFFSET(-1,D88),SHEETOFFSET(-1,D90),SHEETOFFSET(-1,D75))","v":0},{"$f":"SELECCIONPATRON(SHEETOFFSET(-1,M156),SHEETOFFSET(-1,M117),SHEETOFFSET(-1,M118),SHEETOFFSET(-1,M81),SHEETOFFSET(-1,$E$51),SHEETOFFSET(-1,$E$52),SHEETOFFSET(-1,$E$38))","v":0},{"$f":"SELECCIONPATRON(SHEETOFFSET(-1,P156),SHEETOFFSET(-1,P117),SHEETOFFSET(-1,P118),SHEETOFFSET(-1,P81),SHEETOFFSET(-1,$E$52),SHEETOFFSET(-1,$E$53),SHEETOFFSET(-1,$E$39))","v":0},{"$f":"SELECCIONPATRON(SHEETOFFSET(-1,H156),SHEETOFFSET(-1,H117),SHEETOFFSET(-1,H118),SHEETOFFSET(-1,H81),SHEETOFFSET(-1,H88),SHEETOFFSET(-1,H90),SHEETOFFSET(-1,H75))","v":0},{"$f":"SELECCIONPATRON(SHEETOFFSET(-1,R156),SHEETOFFSET(-1,R117),SHEETOFFSET(-1,S118),SHEETOFFSET(-1,S81),SHEETOFFSET(-1,$G$55),SHEETOFFSET(-1,$G$56),SHEETOFFSET(-1,$G$42))","v":0},{"$f":"SELECCIONPATRON(SHEETOFFSET(-1,S156),SHEETOFFSET(-1,S117),SHEETOFFSET(-1,T118),SHEETOFFSET(-1,T81),SHEETOFFSET(-1,$G$56),SHEETOFFSET(-1,$G$57),SHEETOFFSET(-1,$G$43))","v":0},{"$f":"SELECCIONPATRON(SHEETOFFSET(-1,G156),SHEETOFFSET(-1,G117),SHEETOFFSET(-1,G118),SHEETOFFSET(-1,G81),SHEETOFFSET(-1,G88),SHEETOFFSET(-1,G90),SHEETOFFSET(-1,G75))","v":0},{"$f":"SELECCIONPATRON(SHEETOFFSET(-1,I156),SHEETOFFSET(-1,I117),SHEETOFFSET(-1,I118),SHEETOFFSET(-1,I81),SHEETOFFSET(-1,I88),SHEETOFFSET(-1,I90),SHEETOFFSET(-1,I75))","v":0},{"$f":"SELECCIONPATRON(SHEETOFFSET(-1,J156),SHEETOFFSET(-1,J117),SHEETOFFSET(-1,J118),SHEETOFFSET(-1,J81),SHEETOFFSET(-1,J88),SHEETOFFSET(-1,J90),SHEETOFFSET(-1,J75))","v":0},"---",{"$f":"IFERROR(SELECCIONPATRON(L41,L41,L41,L41,H41*I41,H41*I41,H41*I41)*SELECCIONPATRON(SHEETOFFSET(-1,$T$122),SHEETOFFSET(-1,$T$85),SHEETOFFSET(-1,$V$86),SHEETOFFSET(-1,$V$49),SHEETOFFSET(-1,$G$29),SHEETOFFSET(-1,$G$44),SHEETOFFSET(-1,$G$30)),0)","v":0},0,0,0,0,"---",{"$f":"IFERROR(IF(F41=\"Refrigerada\",SELECCIONPATRON(R41,R41,R41,R41,I41,I41,I41)*SELECCIONPATRON(SHEETOFFSET(-1,$I$200),SHEETOFFSET(-1,$I$161),SHEETOFFSET(-1,$I$162),SHEETOFFSET(-1,$I$125),SHEETOFFSET(-1,$I$132)/(SHEETOFFSET(-1,$G$11)*IF(SHEETOFFSET(-1,$G$37)<>\"\",SHEETOFFSET(-1,$G$37),SHEETOFFSET(-1,$G$42))),SHEETOFFSET(-1,$I$134)/(SHEETOFFSET(-1,$G$11)*IF(SHEETOFFSET(-1,$G$26)<>\"\",SHEETOFFSET(-1,$G$26),SHEETOFFSET(-1,$G$31))),SHEETOFFSET(-1,$I$119)/(SHEETOFFSET(-1,$G$11)*IF(SHEETOFFSET(-1,$G$25)=\"Mercancías a granel\",1,0.45))),0),0)","v":0},0,0,0,0,0,0,0,0,0,0,0,0,0,0,0,0,0,0,0,null,"","","","",null,0,0]
[26,{"$f":"SELECCIONPATRON(SHEETOFFSET(-1,C157),SHEETOFFSET(-1,C118),SHEETOFFSET(-1,C119),SHEETOFFSET(-1,C82),SHEETOFFSET(-1,C89),SHEETOFFSET(-1,C91),SHEETOFFSET(-1,C76))","v":0},{"$f":"SELECCIONPATRON(SHEETOFFSET(-1,D157),SHEETOFFSET(-1,D118),SHEETOFFSET(-1,D119),SHEETOFFSET(-1,D82),SHEETOFFSET(-1,D89),SHEETOFFSET(-1,D91),SHEETOFFSET(-1,D76))","v":0},{"$f":"SELECCIONPATRON(SHEETOFFSET(-1,M157),SHEETOFFSET(-1,M118),SHEETOFFSET(-1,M119),SHEETOFFSET(-1,M82),SHEETOFFSET(-1,$E$51),SHEETOFFSET(-1,$E$52),SHEETOFFSET(-1,$E$38))","v":0},{"$f":"SELECCIONPATRON(SHEETOFFSET(-1,P157),SHEETOFFSET(-1,P118),SHEETOFFSET(-1,P119),SHEETOFFSET(-1,P82),SHEETOFFSET(-1,$E$52),SHEETOFFSET(-1,$E$53),SHEETOFFSET(-1,$E$39))","v":0},{"$f":"SELECCIONPATRON(SHEETOFFSET(-1,H157),SHEETOFFSET(-1,H118),SHEETOFFSET(-1,H119),SHEETOFFSET(-1,H82),SHEETOFFSET(-1,H89),SHEETOFFSET(-1,H91),SHEETOFFSET(-1,H76))","v":0},{"$f":"SELECCIONPATRON(SHEETOFFSET(-1,R157),SHEETOFFSET(-1,R118),SHEETOFFSET(-1,S119),SHEETOFFSET(-1,S82),SHEETOFFSET(-1,$G$55),SHEETOFFSET(-1,$G$56),SHEETOFFSET(-1,$G$42))","v":0},{"$f":"SELECCIONPATRON(SHEETOFFSET(-1,S157),SHEETOFFSET(-1,S118),SHEETOFFSET(-1,T119),SHEETOFFSET(-1,T82),SHEETOFFSET(-1,$G$56),SHEETOFFSET(-1,$G$57),SHEETOFFSET(-1,$G$43))","v":0},{"$f":"SELECCIONPATRON(SHEETOFFSET(-1,G157),SHEETOFFSET(-1,G118),SHEETOFFSET(-1,G119),SHEETOFFSET(-1,G82),SHEETOFFSET(-1,G89),SHEETOFFSET(-1,G91),SHEETOFFSET(-1,G76))","v":0},{"$f":"SELECCIONPATRON(SHEETOFFSET(-1,I157),SHEETOFFSET(-1,I118),SHEETOFFSET(-1,I119),SHEETOFFSET(-1,I82),SHEETOFFSET(-1,I89),SHEETOFFSET(-1,I91),SHEETOFFSET(-1,I76))","v":0},{"$f":"SELECCIONPATRON(SHEETOFFSET(-1,J157),SHEETOFFSET(-1,J118),SHEETOFFSET(-1,J119),SHEETOFFSET(-1,J82),SHEETOFFSET(-1,J89),SHEETOFFSET(-1,J91),SHEETOFFSET(-1,J76))","v":0},"---",{"$f":"IFERROR(SELECCIONPATRON(L42,L42,L42,L42,H42*I42,H42*I42,H42*I42)*SELECCIONPATRON(SHEETOFFSET(-1,$T$122),SHEETOFFSET(-1,$T$85),SHEETOFFSET(-1,$V$86),SHEETOFFSET(-1,$V$49),SHEETOFFSET(-1,$G$29),SHEETOFFSET(-1,$G$44),SHEETOFFSET(-1,$G$30)),0)","v":0},0,0,0,0,"---",{"$f":"IFERROR(IF(F42=\"Refrigerada\",SELECCIONPATRON(R42,R42,R42,R42,I42,I42,I42)*SELECCIONPATRON(SHEETOFFSET(-1,$I$200),SHEETOFFSET(-1,$I$161),SHEETOFFSET(-1,$I$162),SHEETOFFSET(-1,$I$125),SHEETOFFSET(-1,$I$132)/(SHEETOFFSET(-1,$G$11)*IF(SHEETOFFSET(-1,$G$37)<>\"\",SHEETOFFSET(-1,$G$37),SHEETOFFSET(-1,$G$42))),SHEETOFFSET(-1,$I$134)/(SHEETOFFSET(-1,$G$11)*IF(SHEETOFFSET(-1,$G$26)<>\"\",SHEETOFFSET(-1,$G$26),SHEETOFFSET(-1,$G$31))),SHEETOFFSET(-1,$I$119)/(SHEETOFFSET(-1,$G$11)*IF(SHEETOFFSET(-1,$G$25)=\"Mercancías a granel\",1,0.45))),0),0)","v":0},0,0,0,0,0,0,0,0,0,0,0,0,0,0,0,0,0,0,0,null,"","","","",null,0,0]
[27,{"$f":"SELECCIONPATRON(SHEETOFFSET(-1,C158),SHEETOFFSET(-1,C119),SHEETOFFSET(-1,C120),SHEETOFFSET(-1,C83),SHEETOFFSET(-1,C90),SHEETOFFSET(-1,C92),SHEETOFFSET(-1,C77))","v":0},{"$f":"SELECCIONPATRON(SHEETOFFSET(-1,D158),SHEETOFFSET(-1,D119),SHEETOFFSET(-1,D120),SHEETOFFSET(-1,D83),SHEETOFFSET(-1,D90),SHEETOFFSET(-1,D92),SHEETOFFSET(-1,D77))","v":0},{"$f":"SELECCIONPATRON(SHEETOFFSET(-1,M158),SHEETOFFSET(-1,M119),SHEETOFFSET(-1,M120),SHEETOFFSET(-1,M83),SHEETOFFSET(-1,$E$51),SHEETOFFSET(-1,$E$52),SHEETOFFSET(-1,$E$38))","v":0},{"$f":"SELECCIONPATRON(SHEETOFFSET(-1,P158),SHEETOFFSET(-1,P119),SHEETOFFSET(-1,P120),SHEETOFFSET(-1,P83),SHEETOFFSET(-1,$E$52),SHEETOFFSET(-1,$E$53),SHEETOFFSET(-1,$E$39))","v":0},{"$f":"SELECCIONPATRON(SHEETOFFSET(-1,H158),SHEETOFFSET(-1,H119),SHEETOFFSET(-1,H120),SHEETOFFSET(-1,H83),SHEETOFFSET(-1,H90),SHEETOFFSET(-1,H92),SHEETOFFSET(-1,H77))","v":0},{"$f":"SELECCIONPATRON(SHEETOFFSET(-1,R158),SHEETOFFSET(-1,R119),SHEETOFFSET(-1,S120),SHEETOFFSET(-1,S83),SHEETOFFSET(-1,$G$55),SHEETOFFSET(-1,$G$56),SHEETOFFSET(-1,$G$42))","v":0},{"$f":"SELECCIONPATRON(SHEETOFFSET(-1,S158),SHEETOFFSET(-1,S119),SHEETOFFSET(-1,T120),SHEETOFFSET(-1,T83),SHEETOFFSET(-1,$G$56),SHEETOFFSET(-1,$G$57),SHEETOFFSET(-1,$G$43))","v":0},{"$f":"SELECCIONPATRON(SHEETOFFSET(-1,G158),SHEETOFFSET(-1,G119),SHEETOFFSET(-1,G120),SHEETOFFSET(-1,G83),SHEETOFFSET(-1,G90),SHEETOFFSET(-1,G92),SHEETOFFSET(-1,G77))","v":0},{"$f":"SELECCIONPATRON(SHEETOFFSET(-1,I158),SHEETOFFSET(-1,I119),SHEETOFFSET(-1,I120),SHEETOFFSET(-1,I83),SHEETOFFSET(-1,I90),SHEETOFFSET(-1,I92),SHEETOFFSET(-1,I77))","v":0},{"$f":"SELECCIONPATRON(SHEETOFFSET(-1,J158),SHEETOFFSET(-1,J119),SHEETOFFSET(-1,J120),SHEETOFFSET(-1,J83),SHEETOFFSET(-1,J90),SHEETOFFSET(-1,J92),SHEETOFFSET(-1,J77))","v":0},"---",{"$f":"IFERROR(SELECCIONPATRON(L43,L43,L43,L43,H43*I43,H43*I43,H43*I43)*SELECCIONPATRON(SHEETOFFSET(-1,$T$122),SHEETOFFSET(-1,$T$85),SHEETOFFSET(-1,$V$86),SHEETOFFSET(-1,$V$49),SHEETOFFSET(-1,$G$29),SHEETOFFSET(-1,$G$44),SHEETOFFSET(-1,$G$30)),0)","v":0},0,0,0,0,"---",{"$f":"IFERROR(IF(F43=\"Refrigerada\",SELECCIONPATRON(R43,R43,R43,R43,I43,I43,I43)*SELECCIONPATRON(SHEETOFFSET(-1,$I$200),SHEETOFFSET(-1,$I$161),SHEETOFFSET(-1,$I$162),SHEETOFFSET(-1,$I$125),SHEETOFFSET(-1,$I$132)/(SHEETOFFSET(-1,$G$11)*IF(SHEETOFFSET(-1,$G$37)<>\"\",SHEETOFFSET(-1,$G$37),SHEETOFFSET(-1,$G$42))),SHEETOFFSET(-1,$I$134)/(SHEETOFFSET(-1,$G$11)*IF(SHEETOFFSET(-1,$G$26)<>\"\",SHEETOFFSET(-1,$G$26),SHEETOFFSET(-1,$G$31))),SHEETOFFSET(-1,$I$119)/(SHEETOFFSET(-1,$G$11)*IF(SHEETOFFSET(-1,$G$25)=\"Mercancías a granel\",1,0.45))),0),0)","v":0},0,0,0,0,0,0,0,0,0,0,0,0,0,0,0,0,0,0,0,null,"","","","",null,0,0]
[28,{"$f":"SELECCIONPATRON(SHEETOFFSET(-1,C159),SHEETOFFSET(-1,C120),SHEETOFFSET(-1,C121),SHEETOFFSET(-1,C84),SHEETOFFSET(-1,C91),SHEETOFFSET(-1,C93),SHEETOFFSET(-1,C78))","v":0},{"$f":"SELECCIONPATRON(SHEETOFFSET(-1,D159),SHEETOFFSET(-1,D120),SHEETOFFSET(-1,D121),SHEETOFFSET(-1,D84),SHEETOFFSET(-1,D91),SHEETOFFSET(-1,D93),SHEETOFFSET(-1,D78))","v":0},{"$f":"SELECCIONPATRON(SHEETOFFSET(-1,M159),SHEETOFFSET(-1,M120),SHEETOFFSET(-1,M121),SHEETOFFSET(-1,M84),SHEETOFFSET(-1,$E$51),SHEETOFFSET(-1,$E$52),SHEETOFFSET(-1,$E$38))","v":0},{"$f":"SELECCIONPATRON(SHEETOFFSET(-1,P159),SHEETOFFSET(-1,P120),SHEETOFFSET(-1,P121),SHEETOFFSET(-1,P84),SHEETOFFSET(-1,$E$52),SHEETOFFSET(-1,$E$53),SHEETOFFSET(-1,$E$39))","v":0},{"$f":"SELECCIONPATRON(SHEETOFFSET(-1,H159),SHEETOFFSET(-1,H120),SHEETOFFSET(-1,H121),SHEETOFFSET(-1,H84),SHEETOFFSET(-1,H91),SHEETOFFSET(-1,H93),SHEETOFFSET(-1,H78))","v":0},{"$f":"SELECCIONPATRON(SHEETOFFSET(-1,R159),SHEETOFFSET(-1,R120),SHEETOFFSET(-1,S121),SHEETOFFSET(-1,S84),SHEETOFFSET(-1,$G$55),SHEETOFFSET(-1,$G$56),SHEETOFFSET(-1,$G$42))","v":0},{"$f":"SELECCIONPATRON(SHEETOFFSET(-1,S159),SHEETOFFSET(-1,S120),SHEETOFFSET(-1,T121),SHEETOFFSET(-1,T84),SHEETOFFSET(-1,$G$56),SHEETOFFSET(-1,$G$57),SHEETOFFSET(-1,$G$43))","v":0},{"$f":"SELECCIONPATRON(SHEETOFFSET(-1,G159),SHEETOFFSET(-1,G120),SHEETOFFSET(-1,G121),SHEETOFFSET(-1,G84),SHEETOFFSET(-1,G91),SHEETOFFSET(-1,G93),SHEETOFFSET(-1,G78))","v":0},{"$f":"SELECCIONPATRON(SHEETOFFSET(-1,I159),SHEETOFFSET(-1,I120),SHEETOFFSET(-1,I121),SHEETOFFSET(-1,I84),SHEETOFFSET(-1,I91),SHEETOFFSET(-1,I93),SHEETOFFSET(-1,I78))","v":0},{"$f":"SELECCIONPATRON(SHEETOFFSET(-1,J159),SHEETOFFSET(-1,J120),SHEETOFFSET(-1,J121),SHEETOFFSET(-1,J84),SHEETOFFSET(-1,J91),SHEETOFFSET(-1,J93),SHEETOFFSET(-1,J78))","v":0},"---",{"$f":"IFERROR(SELECCIONPATRON(L44,L44,L44,L44,H44*I44,H44*I44,H44*I44)*SELECCIONPATRON(SHEETOFFSET(-1,$T$122),SHEETOFFSET(-1,$T$85),SHEETOFFSET(-1,$V$86),SHEETOFFSET(-1,$V$49),SHEETOFFSET(-1,$G$29),SHEETOFFSET(-1,$G$44),SHEETOFFSET(-1,$G$30)),0)","v":0},0,0,0,0,"---",{"$f":"IFERROR(IF(F44=\"Refrigerada\",SELECCIONPATRON(R44,R44,R44,R44,I44,I44,I44)*SELECCIONPATRON(SHEETOFFSET(-1,$I$200),SHEETOFFSET(-1,$I$161),SHEETOFFSET(-1,$I$162),SHEETOFFSET(-1,$I$125),SHEETOFFSET(-1,$I$132)/(SHEETOFFSET(-1,$G$11)*IF(SHEETOFFSET(-1,$G$37)<>\"\",SHEETOFFSET(-1,$G$37),SHEETOFFSET(-1,$G$42))),SHEETOFFSET(-1,$I$134)/(SHEETOFFSET(-1,$G$11)*IF(SHEETOFFSET(-1,$G$26)<>\"\",SHEETOFFSET(-1,$G$26),SHEETOFFSET(-1,$G$31))),SHEETOFFSET(-1,$I$119)/(SHEETOFFSET(-1,$G$11)*IF(SHEETOFFSET(-1,$G$25)=\"Mercancías a granel\",1,0.45))),0),0)","v":0},0,0,0,0,0,0,0,0,0,0,0,0,0,0,0,0,0,0,0,null,"","","","",null,0,0]
[29,{"$f":"SELECCIONPATRON(SHEETOFFSET(-1,C160),SHEETOFFSET(-1,C121),SHEETOFFSET(-1,C122),SHEETOFFSET(-1,C85),SHEETOFFSET(-1,C92),SHEETOFFSET(-1,C94),SHEETOFFSET(-1,C79))","v":0},{"$f":"SELECCIONPATRON(SHEETOFFSET(-1,D160),SHEETOFFSET(-1,D121),SHEETOFFSET(-1,D122),SHEETOFFSET(-1,D85),SHEETOFFSET(-1,D92),SHEETOFFSET(-1,D94),SHEETOFFSET(-1,D79))","v":0},{"$f":"SELECCIONPATRON(SHEETOFFSET(-1,M160),SHEETOFFSET(-1,M121),SHEETOFFSET(-1,M122),SHEETOFFSET(-1,M85),SHEETOFFSET(-1,$E$51),SHEETOFFSET(-1,$E$52),SHEETOFFSET(-1,$E$38))","v":0},{"$f":"SELECCIONPATRON(SHEETOFFSET(-1,P160),SHEETOFFSET(-1,P121),SHEETOFFSET(-1,P122),SHEETOFFSET(-1,P85),SHEETOFFSET(-1,$E$52),SHEETOFFSET(-1,$E$53),SHEETOFFSET(-1,$E$39))","v":0},{"$f":"SELECCIONPATRON(SHEETOFFSET(-1,H160),SHEETOFFSET(-1,H121),SHEETOFFSET(-1,H122),SHEETOFFSET(-1,H85),SHEETOFFSET(-1,H92),SHEETOFFSET(-1,H94),SHEETOFFSET(-1,H79))","v":0},{"$f":"SELECCIONPATRON(SHEETOFFSET(-1,R160),SHEETOFFSET(-1,R121),SHEETOFFSET(-1,S122),SHEETOFFSET(-1,S85),SHEETOFFSET(-1,$G$55),SHEETOFFSET(-1,$G$56),SHEETOFFSET(-1,$G$42))","v":0},{"$f":"SELECCIONPATRON(SHEETOFFSET(-1,S160),SHEETOFFSET(-1,S121),SHEETOFFSET(-1,T122),SHEETOFFSET(-1,T85),SHEETOFFSET(-1,$G$56),SHEETOFFSET(-1,$G$57),SHEETOFFSET(-1,$G$43))","v":0},{"$f":"SELECCIONPATRON(SHEETOFFSET(-1,G160),SHEETOFFSET(-1,G121),SHEETOFFSET(-1,G122),SHEETOFFSET(-1,G85),SHEETOFFSET(-1,G92),SHEETOFFSET(-1,G94),SHEETOFFSET(-1,G79))","v":0},{"$f":"SELECCIONPATRON(SHEETOFFSET(-1,I160),SHEETOFFSET(-1,I121),SHEETOFFSET(-1,I122),SHEETOFFSET(-1,I85),SHEETOFFSET(-1,I92),SHEETOFFSET(-1,I94),SHEETOFFSET(-1,I79))","v":0},{"$f":"SELECCIONPATRON(SHEETOFFSET(-1,J160),SHEETOFFSET(-1,J121),SHEETOFFSET(-1,J122),SHEETOFFSET(-1,J85),SHEETOFFSET(-1,J92),SHEETOFFSET(-1,J94),SHEETOFFSET(-1,J79))","v":0},"---",{"$f":"IFERROR(SELECCIONPATRON(L45,L45,L45,L45,H45*I45,H45*I45,H45*I45)*SELECCIONPATRON(SHEETOFFSET(-1,$T$122),SHEETOFFSET(-1,$T$85),SHEETOFFSET(-1,$V$86),SHEETOFFSET(-1,$V$49),SHEETOFFSET(-1,$G$29),SHEETOFFSET(-1,$G$44),SHEETOFFSET(-1,$G$30)),0)","v":0},0,0,0,0,"---",{"$f":"IFERROR(IF(F45=\"Refrigerada\",SELECCIONPATRON(R45,R45,R45,R45,I45,I45,I45)*SELECCIONPATRON(SHEETOFFSET(-1,$I$200),SHEETOFFSET(-1,$I$161),SHEETOFFSET(-1,$I$162),SHEETOFFSET(-1,$I$125),SHEETOFFSET(-1,$I$132)/(SHEETOFFSET(-1,$G$11)*IF(SHEETOFFSET(-1,$G$37)<>\"\",SHEETOFFSET(-1,$G$37),SHEETOFFSET(-1,$G$42))),SHEETOFFSET(-1,$I$134)/(SHEETOFFSET(-1,$G$11)*IF(SHEETOFFSET(-1,$G$26)<>\"\",SHEETOFFSET(-1,$G$26),SHEETOFFSET(-1,$G$31))),SHEETOFFSET(-1,$I$119)/(SHEETOFFSET(-1,$G$11)*IF(SHEETOFFSET(-1,$G$25)=\"Mercancías a granel\",1,0.45))),0),0)","v":0},0,0,0,0,0,0,0,0,0,0,0,0,0,0,0,0,0,0,0,null,"","","","",null,0,0]
[30,{"$f":"SELECCIONPATRON(SHEETOFFSET(-1,C161),SHEETOFFSET(-1,C122),SHEETOFFSET(-1,C123),SHEETOFFSET(-1,C86),SHEETOFFSET(-1,C93),SHEETOFFSET(-1,C95),SHEETOFFSET(-1,C80))","v":0},{"$f":"SELECCIONPATRON(SHEETOFFSET(-1,D161),SHEETOFFSET(-1,D122),SHEETOFFSET(-1,D123),SHEETOFFSET(-1,D86),SHEETOFFSET(-1,D93),SHEETOFFSET(-1,D95),SHEETOFFSET(-1,D80))","v":0},{"$f":"SELECCIONPATRON(SHEETOFFSET(-1,M161),SHEETOFFSET(-1,M122),SHEETOFFSET(-1,M123),SHEETOFFSET(-1,M86),SHEETOFFSET(-1,$E$51),SHEETOFFSET(-1,$E$52),SHEETOFFSET(-1,$E$38))","v":0},{"$f":"SELECCIONPATRON(SHEETOFFSET(-1,P161),SHEETOFFSET(-1,P122),SHEETOFFSET(-1,P123),SHEETOFFSET(-1,P86),SHEETOFFSET(-1,$E$52),SHEETOFFSET(-1,$E$53),SHEETOFFSET(-1,$E$39))","v":0},{"$f":"SELECCIONPATRON(SHEETOFFSET(-1,H161),SHEETOFFSET(-1,H122),SHEETOFFSET(-1,H123),SHEETOFFSET(-1,H86),SHEETOFFSET(-1,H93),SHEETOFFSET(-1,H95),SHEETOFFSET(-1,H80))","v":0},{"$f":"SELECCIONPATRON(SHEETOFFSET(-1,R161),SHEETOFFSET(-1,R122),SHEETOFFSET(-1,S123),SHEETOFFSET(-1,S86),SHEETOFFSET(-1,$G$55),SHEETOFFSET(-1,$G$56),SHEETOFFSET(-1,$G$42))","v":0},{"$f":"SELECCIONPATRON(SHEETOFFSET(-1,S161),SHEETOFFSET(-1,S122),SHEETOFFSET(-1,T123),SHEETOFFSET(-1,T86),SHEETOFFSET(-1,$G$56),SHEETOFFSET(-1,$G$57),SHEETOFFSET(-1,$G$43))","v":0},{"$f":"SELECCIONPATRON(SHEETOFFSET(-1,G161),SHEETOFFSET(-1,G122),SHEETOFFSET(-1,G123),SHEETOFFSET(-1,G86),SHEETOFFSET(-1,G93),SHEETOFFSET(-1,G95),SHEETOFFSET(-1,G80))","v":0},{"$f":"SELECCIONPATRON(SHEETOFFSET(-1,I161),SHEETOFFSET(-1,I122),SHEETOFFSET(-1,I123),SHEETOFFSET(-1,I86),SHEETOFFSET(-1,I93),SHEETOFFSET(-1,I95),SHEETOFFSET(-1,I80))","v":0},{"$f":"SELECCIONPATRON(SHEETOFFSET(-1,J161),SHEETOFFSET(-1,J122),SHEETOFFSET(-1,J123),SHEETOFFSET(-1,J86),SHEETOFFSET(-1,J93),SHEETOFFSET(-1,J95),SHEETOFFSET(-1,J80))","v":0},"---",{"$f":"IFERROR(SELECCIONPATRON(L46,L46,L46,L46,H46*I46,H46*I46,H46*I46)*SELECCIONPATRON(SHEETOFFSET(-1,$T$122),SHEETOFFSET(-1,$T$85),SHEETOFFSET(-1,$V$86),SHEETOFFSET(-1,$V$49),SHEETOFFSET(-1,$G$29),SHEETOFFSET(-1,$G$44),SHEETOFFSET(-1,$G$30)),0)","v":0},0,0,0,0,"---",{"$f":"IFERROR(IF(F46=\"Refrigerada\",SELECCIONPATRON(R46,R46,R46,R46,I46,I46,I46)*SELECCIONPATRON(SHEETOFFSET(-1,$I$200),SHEETOFFSET(-1,$I$161),SHEETOFFSET(-1,$I$162),SHEETOFFSET(-1,$I$125),SHEETOFFSET(-1,$I$132)/(SHEETOFFSET(-1,$G$11)*IF(SHEETOFFSET(-1,$G$37)<>\"\",SHEETOFFSET(-1,$G$37),SHEETOFFSET(-1,$G$42))),SHEETOFFSET(-1,$I$134)/(SHEETOFFSET(-1,$G$11)*IF(SHEETOFFSET(-1,$G$26)<>\"\",SHEETOFFSET(-1,$G$26),SHEETOFFSET(-1,$G$31))),SHEETOFFSET(-1,$I$119)/(SHEETOFFSET(-1,$G$11)*IF(SHEETOFFSET(-1,$G$25)=\"Mercancías a granel\",1,0.45))),0),0)","v":0},0,0,0,0,0,0,0,0,0,0,0,0,0,0,0,0,0,0,0,null,"","","","",null,0,0]
[31,{"$f":"SELECCIONPATRON(SHEETOFFSET(-1,C162),SHEETOFFSET(-1,C123),SHEETOFFSET(-1,C124),SHEETOFFSET(-1,C87),SHEETOFFSET(-1,C94),SHEETOFFSET(-1,C96),SHEETOFFSET(-1,C81))","v":0},{"$f":"SELECCIONPATRON(SHEETOFFSET(-1,D162),SHEETOFFSET(-1,D123),SHEETOFFSET(-1,D124),SHEETOFFSET(-1,D87),SHEETOFFSET(-1,D94),SHEETOFFSET(-1,D96),SHEETOFFSET(-1,D81))","v":0},{"$f":"SELECCIONPATRON(SHEETOFFSET(-1,M162),SHEETOFFSET(-1,M123),SHEETOFFSET(-1,M124),SHEETOFFSET(-1,M87),SHEETOFFSET(-1,$E$51),SHEETOFFSET(-1,$E$52),SHEETOFFSET(-1,$E$38))","v":0},{"$f":"SELECCIONPATRON(SHEETOFFSET(-1,P162),SHEETOFFSET(-1,P123),SHEETOFFSET(-1,P124),SHEETOFFSET(-1,P87),SHEETOFFSET(-1,$E$52),SHEETOFFSET(-1,$E$53),SHEETOFFSET(-1,$E$39))","v":0},{"$f":"SELECCIONPATRON(SHEETOFFSET(-1,H162),SHEETOFFSET(-1,H123),SHEETOFFSET(-1,H124),SHEETOFFSET(-1,H87),SHEETOFFSET(-1,H94),SHEETOFFSET(-1,H96),SHEETOFFSET(-1,H81))","v":0},{"$f":"SELECCIONPATRON(SHEETOFFSET(-1,R162),SHEETOFFSET(-1,R123),SHEETOFFSET(-1,S124),SHEETOFFSET(-1,S87),SHEETOFFSET(-1,$G$55),SHEETOFFSET(-1,$G$56),SHEETOFFSET(-1,$G$42))","v":0},{"$f":"SELECCIONPATRON(SHEETOFFSET(-1,S162),SHEETOFFSET(-1,S123),SHEETOFFSET(-1,T124),SHEETOFFSET(-1,T87),SHEETOFFSET(-1,$G$56),SHEETOFFSET(-1,$G$57),SHEETOFFSET(-1,$G$43))","v":0},{"$f":"SELECCIONPATRON(SHEETOFFSET(-1,G162),SHEETOFFSET(-1,G123),SHEETOFFSET(-1,G124),SHEETOFFSET(-1,G87),SHEETOFFSET(-1,G94),SHEETOFFSET(-1,G96),SHEETOFFSET(-1,G81))","v":0},{"$f":"SELECCIONPATRON(SHEETOFFSET(-1,I162),SHEETOFFSET(-1,I123),SHEETOFFSET(-1,I124),SHEETOFFSET(-1,I87),SHEETOFFSET(-1,I94),SHEETOFFSET(-1,I96),SHEETOFFSET(-1,I81))","v":0},{"$f":"SELECCIONPATRON(SHEETOFFSET(-1,J162),SHEETOFFSET(-1,J123),SHEETOFFSET(-1,J124),SHEETOFFSET(-1,J87),SHEETOFFSET(-1,J94),SHEETOFFSET(-1,J96),SHEETOFFSET(-1,J81))","v":0},"---",{"$f":"IFERROR(SELECCIONPATRON(L47,L47,L47,L47,H47*I47,H47*I47,H47*I47)*SELECCIONPATRON(SHEETOFFSET(-1,$T$122),SHEETOFFSET(-1,$T$85),SHEETOFFSET(-1,$V$86),SHEETOFFSET(-1,$V$49),SHEETOFFSET(-1,$G$29),SHEETOFFSET(-1,$G$44),SHEETOFFSET(-1,$G$30)),0)","v":0},0,0,0,0,"---",{"$f":"IFERROR(IF(F47=\"Refrigerada\",SELECCIONPATRON(R47,R47,R47,R47,I47,I47,I47)*SELECCIONPATRON(SHEETOFFSET(-1,$I$200),SHEETOFFSET(-1,$I$161),SHEETOFFSET(-1,$I$162),SHEETOFFSET(-1,$I$125),SHEETOFFSET(-1,$I$132)/(SHEETOFFSET(-1,$G$11)*IF(SHEETOFFSET(-1,$G$37)<>\"\",SHEETOFFSET(-1,$G$37),SHEETOFFSET(-1,$G$42))),SHEETOFFSET(-1,$I$134)/(SHEETOFFSET(-1,$G$11)*IF(SHEETOFFSET(-1,$G$26)<>\"\",SHEETOFFSET(-1,$G$26),SHEETOFFSET(-1,$G$31))),SHEETOFFSET(-1,$I$119)/(SHEETOFFSET(-1,$G$11)*IF(SHEETOFFSET(-1,$G$25)=\"Mercancías a granel\",1,0.45))),0),0)","v":0},0,0,0,0,0,0,0,0,0,0,0,0,0,0,0,0,0,0,0,null,"","","","",null,0,0]
[32,{"$f":"SELECCIONPATRON(SHEETOFFSET(-1,C163),SHEETOFFSET(-1,C124),SHEETOFFSET(-1,C125),SHEETOFFSET(-1,C88),SHEETOFFSET(-1,C95),SHEETOFFSET(-1,C97),SHEETOFFSET(-1,C82))","v":0},{"$f":"SELECCIONPATRON(SHEETOFFSET(-1,D163),SHEETOFFSET(-1,D124),SHEETOFFSET(-1,D125),SHEETOFFSET(-1,D88),SHEETOFFSET(-1,D95),SHEETOFFSET(-1,D97),SHEETOFFSET(-1,D82))","v":0},{"$f":"SELECCIONPATRON(SHEETOFFSET(-1,M163),SHEETOFFSET(-1,M124),SHEETOFFSET(-1,M125),SHEETOFFSET(-1,M88),SHEETOFFSET(-1,$E$51),SHEETOFFSET(-1,$E$52),SHEETOFFSET(-1,$E$38))","v":0},{"$f":"SELECCIONPATRON(SHEETOFFSET(-1,P163),SHEETOFFSET(-1,P124),SHEETOFFSET(-1,P125),SHEETOFFSET(-1,P88),SHEETOFFSET(-1,$E$52),SHEETOFFSET(-1,$E$53),SHEETOFFSET(-1,$E$39))","v":0},{"$f":"SELECCIONPATRON(SHEETOFFSET(-1,H163),SHEETOFFSET(-1,H124),SHEETOFFSET(-1,H125),SHEETOFFSET(-1,H88),SHEETOFFSET(-1,H95),SHEETOFFSET(-1,H97),SHEETOFFSET(-1,H82))","v":0},{"$f":"SELECCIONPATRON(SHEETOFFSET(-1,R163),SHEETOFFSET(-1,R124),SHEETOFFSET(-1,S125),SHEETOFFSET(-1,S88),SHEETOFFSET(-1,$G$55),SHEETOFFSET(-1,$G$56),SHEETOFFSET(-1,$G$42))","v":0},{"$f":"SELECCIONPATRON(SHEETOFFSET(-1,S163),SHEETOFFSET(-1,S124),SHEETOFFSET(-1,T125),SHEETOFFSET(-1,T88),SHEETOFFSET(-1,$G$56),SHEETOFFSET(-1,$G$57),SHEETOFFSET(-1,$G$43))","v":0},{"$f":"SELECCIONPATRON(SHEETOFFSET(-1,G163),SHEETOFFSET(-1,G124),SHEETOFFSET(-1,G125),SHEETOFFSET(-1,G88),SHEETOFFSET(-1,G95),SHEETOFFSET(-1,G97),SHEETOFFSET(-1,G82))","v":0},{"$f":"SELECCIONPATRON(SHEETOFFSET(-1,I163),SHEETOFFSET(-1,I124),SHEETOFFSET(-1,I125),SHEETOFFSET(-1,I88),SHEETOFFSET(-1,I95),SHEETOFFSET(-1,I97),SHEETOFFSET(-1,I82))","v":0},{"$f":"SELECCIONPATRON(SHEETOFFSET(-1,J163),SHEETOFFSET(-1,J124),SHEETOFFSET(-1,J125),SHEETOFFSET(-1,J88),SHEETOFFSET(-1,J95),SHEETOFFSET(-1,J97),SHEETOFFSET(-1,J82))","v":0},"---",{"$f":"IFERROR(SELECCIONPATRON(L48,L48,L48,L48,H48*I48,H48*I48,H48*I48)*SELECCIONPATRON(SHEETOFFSET(-1,$T$122),SHEETOFFSET(-1,$T$85),SHEETOFFSET(-1,$V$86),SHEETOFFSET(-1,$V$49),SHEETOFFSET(-1,$G$29),SHEETOFFSET(-1,$G$44),SHEETOFFSET(-1,$G$30)),0)","v":0},0,0,0,0,"---",{"$f":"IFERROR(IF(F48=\"Refrigerada\",SELECCIONPATRON(R48,R48,R48,R48,I48,I48,I48)*SELECCIONPATRON(SHEETOFFSET(-1,$I$200),SHEETOFFSET(-1,$I$161),SHEETOFFSET(-1,$I$162),SHEETOFFSET(-1,$I$125),SHEETOFFSET(-1,$I$132)/(SHEETOFFSET(-1,$G$11)*IF(SHEETOFFSET(-1,$G$37)<>\"\",SHEETOFFSET(-1,$G$37),SHEETOFFSET(-1,$G$42))),SHEETOFFSET(-1,$I$134)/(SHEETOFFSET(-1,$G$11)*IF(SHEETOFFSET(-1,$G$26)<>\"\",SHEETOFFSET(-1,$G$26),SHEETOFFSET(-1,$G$31))),SHEETOFFSET(-1,$I$119)/(SHEETOFFSET(-1,$G$11)*IF(SHEETOFFSET(-1,$G$25)=\"Mercancías a granel\",1,0.45))),0),0)","v":0},0,0,0,0,0,0,0,0,0,0,0,0,0,0,0,0,0,0,0,null,"","","","",null,0,0]
[33,{"$f":"SELECCIONPATRON(SHEETOFFSET(-1,C164),SHEETOFFSET(-1,C125),SHEETOFFSET(-1,C126),SHEETOFFSET(-1,C89),SHEETOFFSET(-1,C96),SHEETOFFSET(-1,C98),SHEETOFFSET(-1,C83))","v":0},{"$f":"SELECCIONPATRON(SHEETOFFSET(-1,D164),SHEETOFFSET(-1,D125),SHEETOFFSET(-1,D126),SHEETOFFSET(-1,D89),SHEETOFFSET(-1,D96),SHEETOFFSET(-1,D98),SHEETOFFSET(-1,D83))","v":0},{"$f":"SELECCIONPATRON(SHEETOFFSET(-1,M164),SHEETOFFSET(-1,M125),SHEETOFFSET(-1,M126),SHEETOFFSET(-1,M89),SHEETOFFSET(-1,$E$51),SHEETOFFSET(-1,$E$52),SHEETOFFSET(-1,$E$38))","v":0},{"$f":"SELECCIONPATRON(SHEETOFFSET(-1,P164),SHEETOFFSET(-1,P125),SHEETOFFSET(-1,P126),SHEETOFFSET(-1,P89),SHEETOFFSET(-1,$E$52),SHEETOFFSET(-1,$E$53),SHEETOFFSET(-1,$E$39))","v":0},{"$f":"SELECCIONPATRON(SHEETOFFSET(-1,H164),SHEETOFFSET(-1,H125),SHEETOFFSET(-1,H126),SHEETOFFSET(-1,H89),SHEETOFFSET(-1,H96),SHEETOFFSET(-1,H98),SHEETOFFSET(-1,H83))","v":0},{"$f":"SELECCIONPATRON(SHEETOFFSET(-1,R164),SHEETOFFSET(-1,R125),SHEETOFFSET(-1,S126),SHEETOFFSET(-1,S89),SHEETOFFSET(-1,$G$55),SHEETOFFSET(-1,$G$56),SHEETOFFSET(-1,$G$42))","v":0},{"$f":"SELECCIONPATRON(SHEETOFFSET(-1,S164),SHEETOFFSET(-1,S125),SHEETOFFSET(-1,T126),SHEETOFFSET(-1,T89),SHEETOFFSET(-1,$G$56),SHEETOFFSET(-1,$G$57),SHEETOFFSET(-1,$G$43))","v":0},{"$f":"SELECCIONPATRON(SHEETOFFSET(-1,G164),SHEETOFFSET(-1,G125),SHEETOFFSET(-1,G126),SHEETOFFSET(-1,G89),SHEETOFFSET(-1,G96),SHEETOFFSET(-1,G98),SHEETOFFSET(-1,G83))","v":0},{"$f":"SELECCIONPATRON(SHEETOFFSET(-1,I164),SHEETOFFSET(-1,I125),SHEETOFFSET(-1,I126),SHEETOFFSET(-1,I89),SHEETOFFSET(-1,I96),SHEETOFFSET(-1,I98),SHEETOFFSET(-1,I83))","v":0},{"$f":"SELECCIONPATRON(SHEETOFFSET(-1,J164),SHEETOFFSET(-1,J125),SHEETOFFSET(-1,J126),SHEETOFFSET(-1,J89),SHEETOFFSET(-1,J96),SHEETOFFSET(-1,J98),SHEETOFFSET(-1,J83))","v":0},"---",{"$f":"IFERROR(SELECCIONPATRON(L49,L49,L49,L49,H49*I49,H49*I49,H49*I49)*SELECCIONPATRON(SHEETOFFSET(-1,$T$122),SHEETOFFSET(-1,$T$85),SHEETOFFSET(-1,$V$86),SHEETOFFSET(-1,$V$49),SHEETOFFSET(-1,$G$29),SHEETOFFSET(-1,$G$44),SHEETOFFSET(-1,$G$30)),0)","v":0},0,0,0,0,"---",{"$f":"IFERROR(IF(F49=\"Refrigerada\",SELECCIONPATRON(R49,R49,R49,R49,I49,I49,I49)*SELECCIONPATRON(SHEETOFFSET(-1,$I$200),SHEETOFFSET(-1,$I$161),SHEETOFFSET(-1,$I$162),SHEETOFFSET(-1,$I$125),SHEETOFFSET(-1,$I$132)/(SHEETOFFSET(-1,$G$11)*IF(SHEETOFFSET(-1,$G$37)<>\"\",SHEETOFFSET(-1,$G$37),SHEETOFFSET(-1,$G$42))),SHEETOFFSET(-1,$I$134)/(SHEETOFFSET(-1,$G$11)*IF(SHEETOFFSET(-1,$G$26)<>\"\",SHEETOFFSET(-1,$G$26),SHEETOFFSET(-1,$G$31))),SHEETOFFSET(-1,$I$119)/(SHEETOFFSET(-1,$G$11)*IF(SHEETOFFSET(-1,$G$25)=\"Mercancías a granel\",1,0.45))),0),0)","v":0},0,0,0,0,0,0,0,0,0,0,0,0,0,0,0,0,0,0,0,null,"","","","",null,0,0]
[34,{"$f":"SELECCIONPATRON(SHEETOFFSET(-1,C165),SHEETOFFSET(-1,C126),SHEETOFFSET(-1,C127),SHEETOFFSET(-1,C90),SHEETOFFSET(-1,C97),SHEETOFFSET(-1,C99),SHEETOFFSET(-1,C84))","v":0},{"$f":"SELECCIONPATRON(SHEETOFFSET(-1,D165),SHEETOFFSET(-1,D126),SHEETOFFSET(-1,D127),SHEETOFFSET(-1,D90),SHEETOFFSET(-1,D97),SHEETOFFSET(-1,D99),SHEETOFFSET(-1,D84))","v":0},{"$f":"SELECCIONPATRON(SHEETOFFSET(-1,M165),SHEETOFFSET(-1,M126),SHEETOFFSET(-1,M127),SHEETOFFSET(-1,M90),SHEETOFFSET(-1,$E$51),SHEETOFFSET(-1,$E$52),SHEETOFFSET(-1,$E$38))","v":0},{"$f":"SELECCIONPATRON(SHEETOFFSET(-1,P165),SHEETOFFSET(-1,P126),SHEETOFFSET(-1,P127),SHEETOFFSET(-1,P90),SHEETOFFSET(-1,$E$52),SHEETOFFSET(-1,$E$53),SHEETOFFSET(-1,$E$39))","v":0},{"$f":"SELECCIONPATRON(SHEETOFFSET(-1,H165),SHEETOFFSET(-1,H126),SHEETOFFSET(-1,H127),SHEETOFFSET(-1,H90),SHEETOFFSET(-1,H97),SHEETOFFSET(-1,H99),SHEETOFFSET(-1,H84))","v":0},{"$f":"SELECCIONPATRON(SHEETOFFSET(-1,R165),SHEETOFFSET(-1,R126),SHEETOFFSET(-1,S127),SHEETOFFSET(-1,S90),SHEETOFFSET(-1,$G$55),SHEETOFFSET(-1,$G$56),SHEETOFFSET(-1,$G$42))","v":0},{"$f":"SELECCIONPATRON(SHEETOFFSET(-1,S165),SHEETOFFSET(-1,S126),SHEETOFFSET(-1,T127),SHEETOFFSET(-1,T90),SHEETOFFSET(-1,$G$56),SHEETOFFSET(-1,$G$57),SHEETOFFSET(-1,$G$43))","v":0},{"$f":"SELECCIONPATRON(SHEETOFFSET(-1,G165),SHEETOFFSET(-1,G126),SHEETOFFSET(-1,G127),SHEETOFFSET(-1,G90),SHEETOFFSET(-1,G97),SHEETOFFSET(-1,G99),SHEETOFFSET(-1,G84))","v":0},{"$f":"SELECCIONPATRON(SHEETOFFSET(-1,I165),SHEETOFFSET(-1,I126),SHEETOFFSET(-1,I127),SHEETOFFSET(-1,I90),SHEETOFFSET(-1,I97),SHEETOFFSET(-1,I99),SHEETOFFSET(-1,I84))","v":0},{"$f":"SELECCIONPATRON(SHEETOFFSET(-1,J165),SHEETOFFSET(-1,J126),SHEETOFFSET(-1,J127),SHEETOFFSET(-1,J90),SHEETOFFSET(-1,J97),SHEETOFFSET(-1,J99),SHEETOFFSET(-1,J84))","v":0},"---",{"$f":"IFERROR(SELECCIONPATRON(L50,L50,L50,L50,H50*I50,H50*I50,H50*I50)*SELECCIONPATRON(SHEETOFFSET(-1,$T$122),SHEETOFFSET(-1,$T$85),SHEETOFFSET(-1,$V$86),SHEETOFFSET(-1,$V$49),SHEETOFFSET(-1,$G$29),SHEETOFFSET(-1,$G$44),SHEETOFFSET(-1,$G$30)),0)","v":0},0,0,0,0,"---",{"$f":"IFERROR(IF(F50=\"Refrigerada\",SELECCIONPATRON(R50,R50,R50,R50,I50,I50,I50)*SELECCIONPATRON(SHEETOFFSET(-1,$I$200),SHEETOFFSET(-1,$I$161),SHEETOFFSET(-1,$I$162),SHEETOFFSET(-1,$I$125),SHEETOFFSET(-1,$I$132)/(SHEETOFFSET(-1,$G$11)*IF(SHEETOFFSET(-1,$G$37)<>\"\",SHEETOFFSET(-1,$G$37),SHEETOFFSET(-1,$G$42))),SHEETOFFSET(-1,$I$134)/(SHEETOFFSET(-1,$G$11)*IF(SHEETOFFSET(-1,$G$26)<>\"\",SHEETOFFSET(-1,$G$26),SHEETOFFSET(-1,$G$31))),SHEETOFFSET(-1,$I$119)/(SHEETOFFSET(-1,$G$11)*IF(SHEETOFFSET(-1,$G$25)=\"Mercancías a granel\",1,0.45))),0),0)","v":0},0,0,0,0,0,0,0,0,0,0,0,0,0,0,0,0,0,0,0,null,"","","","",null,0,0]
[35,{"$f":"SELECCIONPATRON(SHEETOFFSET(-1,C166),SHEETOFFSET(-1,C127),SHEETOFFSET(-1,C128),SHEETOFFSET(-1,C91),SHEETOFFSET(-1,C98),SHEETOFFSET(-1,C100),SHEETOFFSET(-1,C85))","v":0},{"$f":"SELECCIONPATRON(SHEETOFFSET(-1,D166),SHEETOFFSET(-1,D127),SHEETOFFSET(-1,D128),SHEETOFFSET(-1,D91),SHEETOFFSET(-1,D98),SHEETOFFSET(-1,D100),SHEETOFFSET(-1,D85))","v":0},{"$f":"SELECCIONPATRON(SHEETOFFSET(-1,M166),SHEETOFFSET(-1,M127),SHEETOFFSET(-1,M128),SHEETOFFSET(-1,M91),SHEETOFFSET(-1,$E$51),SHEETOFFSET(-1,$E$52),SHEETOFFSET(-1,$E$38))","v":0},{"$f":"SELECCIONPATRON(SHEETOFFSET(-1,P166),SHEETOFFSET(-1,P127),SHEETOFFSET(-1,P128),SHEETOFFSET(-1,P91),SHEETOFFSET(-1,$E$52),SHEETOFFSET(-1,$E$53),SHEETOFFSET(-1,$E$39))","v":0},{"$f":"SELECCIONPATRON(SHEETOFFSET(-1,H166),SHEETOFFSET(-1,H127),SHEETOFFSET(-1,H128),SHEETOFFSET(-1,H91),SHEETOFFSET(-1,H98),SHEETOFFSET(-1,H100),SHEETOFFSET(-1,H85))","v":0},{"$f":"SELECCIONPATRON(SHEETOFFSET(-1,R166),SHEETOFFSET(-1,R127),SHEETOFFSET(-1,S128),SHEETOFFSET(-1,S91),SHEETOFFSET(-1,$G$55),SHEETOFFSET(-1,$G$56),SHEETOFFSET(-1,$G$42))","v":0},{"$f":"SELECCIONPATRON(SHEETOFFSET(-1,S166),SHEETOFFSET(-1,S127),SHEETOFFSET(-1,T128),SHEETOFFSET(-1,T91),SHEETOFFSET(-1,$G$56),SHEETOFFSET(-1,$G$57),SHEETOFFSET(-1,$G$43))","v":0},{"$f":"SELECCIONPATRON(SHEETOFFSET(-1,G166),SHEETOFFSET(-1,G127),SHEETOFFSET(-1,G128),SHEETOFFSET(-1,G91),SHEETOFFSET(-1,G98),SHEETOFFSET(-1,G100),SHEETOFFSET(-1,G85))","v":0},{"$f":"SELECCIONPATRON(SHEETOFFSET(-1,I166),SHEETOFFSET(-1,I127),SHEETOFFSET(-1,I128),SHEETOFFSET(-1,I91),SHEETOFFSET(-1,I98),SHEETOFFSET(-1,I100),SHEETOFFSET(-1,I85))","v":0},{"$f":"SELECCIONPATRON(SHEETOFFSET(-1,J166),SHEETOFFSET(-1,J127),SHEETOFFSET(-1,J128),SHEETOFFSET(-1,J91),SHEETOFFSET(-1,J98),SHEETOFFSET(-1,J100),SHEETOFFSET(-1,J85))","v":0},"---",{"$f":"IFERROR(SELECCIONPATRON(L51,L51,L51,L51,H51*I51,H51*I51,H51*I51)*SELECCIONPATRON(SHEETOFFSET(-1,$T$122),SHEETOFFSET(-1,$T$85),SHEETOFFSET(-1,$V$86),SHEETOFFSET(-1,$V$49),SHEETOFFSET(-1,$G$29),SHEETOFFSET(-1,$G$44),SHEETOFFSET(-1,$G$30)),0)","v":0},0,0,0,0,"---",{"$f":"IFERROR(IF(F51=\"Refrigerada\",SELECCIONPATRON(R51,R51,R51,R51,I51,I51,I51)*SELECCIONPATRON(SHEETOFFSET(-1,$I$200),SHEETOFFSET(-1,$I$161),SHEETOFFSET(-1,$I$162),SHEETOFFSET(-1,$I$125),SHEETOFFSET(-1,$I$132)/(SHEETOFFSET(-1,$G$11)*IF(SHEETOFFSET(-1,$G$37)<>\"\",SHEETOFFSET(-1,$G$37),SHEETOFFSET(-1,$G$42))),SHEETOFFSET(-1,$I$134)/(SHEETOFFSET(-1,$G$11)*IF(SHEETOFFSET(-1,$G$26)<>\"\",SHEETOFFSET(-1,$G$26),SHEETOFFSET(-1,$G$31))),SHEETOFFSET(-1,$I$119)/(SHEETOFFSET(-1,$G$11)*IF(SHEETOFFSET(-1,$G$25)=\"Mercancías a granel\",1,0.45))),0),0)","v":0},0,0,0,0,0,0,0,0,0,0,0,0,0,0,0,0,0,0,0,null,"","","","",null,0,0]
[36,{"$f":"SELECCIONPATRON(SHEETOFFSET(-1,C167),SHEETOFFSET(-1,C128),SHEETOFFSET(-1,C129),SHEETOFFSET(-1,C92),SHEETOFFSET(-1,C99),SHEETOFFSET(-1,C101),SHEETOFFSET(-1,C86))","v":0},{"$f":"SELECCIONPATRON(SHEETOFFSET(-1,D167),SHEETOFFSET(-1,D128),SHEETOFFSET(-1,D129),SHEETOFFSET(-1,D92),SHEETOFFSET(-1,D99),SHEETOFFSET(-1,D101),SHEETOFFSET(-1,D86))","v":0},{"$f":"SELECCIONPATRON(SHEETOFFSET(-1,M167),SHEETOFFSET(-1,M128),SHEETOFFSET(-1,M129),SHEETOFFSET(-1,M92),SHEETOFFSET(-1,$E$51),SHEETOFFSET(-1,$E$52),SHEETOFFSET(-1,$E$38))","v":0},{"$f":"SELECCIONPATRON(SHEETOFFSET(-1,P167),SHEETOFFSET(-1,P128),SHEETOFFSET(-1,P129),SHEETOFFSET(-1,P92),SHEETOFFSET(-1,$E$52),SHEETOFFSET(-1,$E$53),SHEETOFFSET(-1,$E$39))","v":0},{"$f":"SELECCIONPATRON(SHEETOFFSET(-1,H167),SHEETOFFSET(-1,H128),SHEETOFFSET(-1,H129),SHEETOFFSET(-1,H92),SHEETOFFSET(-1,H99),SHEETOFFSET(-1,H101),SHEETOFFSET(-1,H86))","v":0},{"$f":"SELECCIONPATRON(SHEETOFFSET(-1,R167),SHEETOFFSET(-1,R128),SHEETOFFSET(-1,S129),SHEETOFFSET(-1,S92),SHEETOFFSET(-1,$G$55),SHEETOFFSET(-1,$G$56),SHEETOFFSET(-1,$G$42))","v":0},{"$f":"SELECCIONPATRON(SHEETOFFSET(-1,S167),SHEETOFFSET(-1,S128),SHEETOFFSET(-1,T129),SHEETOFFSET(-1,T92),SHEETOFFSET(-1,$G$56),SHEETOFFSET(-1,$G$57),SHEETOFFSET(-1,$G$43))","v":0},{"$f":"SELECCIONPATRON(SHEETOFFSET(-1,G167),SHEETOFFSET(-1,G128),SHEETOFFSET(-1,G129),SHEETOFFSET(-1,G92),SHEETOFFSET(-1,G99),SHEETOFFSET(-1,G101),SHEETOFFSET(-1,G86))","v":0},{"$f":"SELECCIONPATRON(SHEETOFFSET(-1,I167),SHEETOFFSET(-1,I128),SHEETOFFSET(-1,I129),SHEETOFFSET(-1,I92),SHEETOFFSET(-1,I99),SHEETOFFSET(-1,I101),SHEETOFFSET(-1,I86))","v":0},{"$f":"SELECCIONPATRON(SHEETOFFSET(-1,J167),SHEETOFFSET(-1,J128),SHEETOFFSET(-1,J129),SHEETOFFSET(-1,J92),SHEETOFFSET(-1,J99),SHEETOFFSET(-1,J101),SHEETOFFSET(-1,J86))","v":0},"---",{"$f":"IFERROR(SELECCIONPATRON(L52,L52,L52,L52,H52*I52,H52*I52,H52*I52)*SELECCIONPATRON(SHEETOFFSET(-1,$T$122),SHEETOFFSET(-1,$T$85),SHEETOFFSET(-1,$V$86),SHEETOFFSET(-1,$V$49),SHEETOFFSET(-1,$G$29),SHEETOFFSET(-1,$G$44),SHEETOFFSET(-1,$G$30)),0)","v":0},0,0,0,0,"---",{"$f":"IFERROR(IF(F52=\"Refrigerada\",SELECCIONPATRON(R52,R52,R52,R52,I52,I52,I52)*SELECCIONPATRON(SHEETOFFSET(-1,$I$200),SHEETOFFSET(-1,$I$161),SHEETOFFSET(-1,$I$162),SHEETOFFSET(-1,$I$125),SHEETOFFSET(-1,$I$132)/(SHEETOFFSET(-1,$G$11)*IF(SHEETOFFSET(-1,$G$37)<>\"\",SHEETOFFSET(-1,$G$37),SHEETOFFSET(-1,$G$42))),SHEETOFFSET(-1,$I$134)/(SHEETOFFSET(-1,$G$11)*IF(SHEETOFFSET(-1,$G$26)<>\"\",SHEETOFFSET(-1,$G$26),SHEETOFFSET(-1,$G$31))),SHEETOFFSET(-1,$I$119)/(SHEETOFFSET(-1,$G$11)*IF(SHEETOFFSET(-1,$G$25)=\"Mercancías a granel\",1,0.45))),0),0)","v":0},0,0,0,0,0,0,0,0,0,0,0,0,0,0,0,0,0,0,0,null,"","","","",null,0,0]
[37,{"$f":"SELECCIONPATRON(SHEETOFFSET(-1,C168),SHEETOFFSET(-1,C129),SHEETOFFSET(-1,C130),SHEETOFFSET(-1,C93),SHEETOFFSET(-1,C100),SHEETOFFSET(-1,C102),SHEETOFFSET(-1,C87))","v":0},{"$f":"SELECCIONPATRON(SHEETOFFSET(-1,D168),SHEETOFFSET(-1,D129),SHEETOFFSET(-1,D130),SHEETOFFSET(-1,D93),SHEETOFFSET(-1,D100),SHEETOFFSET(-1,D102),SHEETOFFSET(-1,D87))","v":0},{"$f":"SELECCIONPATRON(SHEETOFFSET(-1,M168),SHEETOFFSET(-1,M129),SHEETOFFSET(-1,M130),SHEETOFFSET(-1,M93),SHEETOFFSET(-1,$E$51),SHEETOFFSET(-1,$E$52),SHEETOFFSET(-1,$E$38))","v":0},{"$f":"SELECCIONPATRON(SHEETOFFSET(-1,P168),SHEETOFFSET(-1,P129),SHEETOFFSET(-1,P130),SHEETOFFSET(-1,P93),SHEETOFFSET(-1,$E$52),SHEETOFFSET(-1,$E$53),SHEETOFFSET(-1,$E$39))","v":0},{"$f":"SELECCIONPATRON(SHEETOFFSET(-1,H168),SHEETOFFSET(-1,H129),SHEETOFFSET(-1,H130),SHEETOFFSET(-1,H93),SHEETOFFSET(-1,H100),SHEETOFFSET(-1,H102),SHEETOFFSET(-1,H87))","v":0},{"$f":"SELECCIONPATRON(SHEETOFFSET(-1,R168),SHEETOFFSET(-1,R129),SHEETOFFSET(-1,S130),SHEETOFFSET(-1,S93),SHEETOFFSET(-1,$G$55),SHEETOFFSET(-1,$G$56),SHEETOFFSET(-1,$G$42))","v":0},{"$f":"SELECCIONPATRON(SHEETOFFSET(-1,S168),SHEETOFFSET(-1,S129),SHEETOFFSET(-1,T130),SHEETOFFSET(-1,T93),SHEETOFFSET(-1,$G$56),SHEETOFFSET(-1,$G$57),SHEETOFFSET(-1,$G$43))","v":0},{"$f":"SELECCIONPATRON(SHEETOFFSET(-1,G168),SHEETOFFSET(-1,G129),SHEETOFFSET(-1,G130),SHEETOFFSET(-1,G93),SHEETOFFSET(-1,G100),SHEETOFFSET(-1,G102),SHEETOFFSET(-1,G87))","v":0},{"$f":"SELECCIONPATRON(SHEETOFFSET(-1,I168),SHEETOFFSET(-1,I129),SHEETOFFSET(-1,I130),SHEETOFFSET(-1,I93),SHEETOFFSET(-1,I100),SHEETOFFSET(-1,I102),SHEETOFFSET(-1,I87))","v":0},{"$f":"SELECCIONPATRON(SHEETOFFSET(-1,J168),SHEETOFFSET(-1,J129),SHEETOFFSET(-1,J130),SHEETOFFSET(-1,J93),SHEETOFFSET(-1,J100),SHEETOFFSET(-1,J102),SHEETOFFSET(-1,J87))","v":0},"---",{"$f":"IFERROR(SELECCIONPATRON(L53,L53,L53,L53,H53*I53,H53*I53,H53*I53)*SELECCIONPATRON(SHEETOFFSET(-1,$T$122),SHEETOFFSET(-1,$T$85),SHEETOFFSET(-1,$V$86),SHEETOFFSET(-1,$V$49),SHEETOFFSET(-1,$G$29),SHEETOFFSET(-1,$G$44),SHEETOFFSET(-1,$G$30)),0)","v":0},0,0,0,0,"---",{"$f":"IFERROR(IF(F53=\"Refrigerada\",SELECCIONPATRON(R53,R53,R53,R53,I53,I53,I53)*SELECCIONPATRON(SHEETOFFSET(-1,$I$200),SHEETOFFSET(-1,$I$161),SHEETOFFSET(-1,$I$162),SHEETOFFSET(-1,$I$125),SHEETOFFSET(-1,$I$132)/(SHEETOFFSET(-1,$G$11)*IF(SHEETOFFSET(-1,$G$37)<>\"\",SHEETOFFSET(-1,$G$37),SHEETOFFSET(-1,$G$42))),SHEETOFFSET(-1,$I$134)/(SHEETOFFSET(-1,$G$11)*IF(SHEETOFFSET(-1,$G$26)<>\"\",SHEETOFFSET(-1,$G$26),SHEETOFFSET(-1,$G$31))),SHEETOFFSET(-1,$I$119)/(SHEETOFFSET(-1,$G$11)*IF(SHEETOFFSET(-1,$G$25)=\"Mercancías a granel\",1,0.45))),0),0)","v":0},0,0,0,0,0,0,0,0,0,0,0,0,0,0,0,0,0,0,0,null,"","","","",null,0,0]
[38,{"$f":"SELECCIONPATRON(SHEETOFFSET(-1,C169),SHEETOFFSET(-1,C130),SHEETOFFSET(-1,C131),SHEETOFFSET(-1,C94),SHEETOFFSET(-1,C101),SHEETOFFSET(-1,C103),SHEETOFFSET(-1,C88))","v":0},{"$f":"SELECCIONPATRON(SHEETOFFSET(-1,D169),SHEETOFFSET(-1,D130),SHEETOFFSET(-1,D131),SHEETOFFSET(-1,D94),SHEETOFFSET(-1,D101),SHEETOFFSET(-1,D103),SHEETOFFSET(-1,D88))","v":0},{"$f":"SELECCIONPATRON(SHEETOFFSET(-1,M169),SHEETOFFSET(-1,M130),SHEETOFFSET(-1,M131),SHEETOFFSET(-1,M94),SHEETOFFSET(-1,$E$51),SHEETOFFSET(-1,$E$52),SHEETOFFSET(-1,$E$38))","v":0},{"$f":"SELECCIONPATRON(SHEETOFFSET(-1,P169),SHEETOFFSET(-1,P130),SHEETOFFSET(-1,P131),SHEETOFFSET(-1,P94),SHEETOFFSET(-1,$E$52),SHEETOFFSET(-1,$E$53),SHEETOFFSET(-1,$E$39))","v":0},{"$f":"SELECCIONPATRON(SHEETOFFSET(-1,H169),SHEETOFFSET(-1,H130),SHEETOFFSET(-1,H131),SHEETOFFSET(-1,H94),SHEETOFFSET(-1,H101),SHEETOFFSET(-1,H103),SHEETOFFSET(-1,H88))","v":0},{"$f":"SELECCIONPATRON(SHEETOFFSET(-1,R169),SHEETOFFSET(-1,R130),SHEETOFFSET(-1,S131),SHEETOFFSET(-1,S94),SHEETOFFSET(-1,$G$55),SHEETOFFSET(-1,$G$56),SHEETOFFSET(-1,$G$42))","v":0},{"$f":"SELECCIONPATRON(SHEETOFFSET(-1,S169),SHEETOFFSET(-1,S130),SHEETOFFSET(-1,T131),SHEETOFFSET(-1,T94),SHEETOFFSET(-1,$G$56),SHEETOFFSET(-1,$G$57),SHEETOFFSET(-1,$G$43))","v":0},{"$f":"SELECCIONPATRON(SHEETOFFSET(-1,G169),SHEETOFFSET(-1,G130),SHEETOFFSET(-1,G131),SHEETOFFSET(-1,G94),SHEETOFFSET(-1,G101),SHEETOFFSET(-1,G103),SHEETOFFSET(-1,G88))","v":0},{"$f":"SELECCIONPATRON(SHEETOFFSET(-1,I169),SHEETOFFSET(-1,I130),SHEETOFFSET(-1,I131),SHEETOFFSET(-1,I94),SHEETOFFSET(-1,I101),SHEETOFFSET(-1,I103),SHEETOFFSET(-1,I88))","v":0},{"$f":"SELECCIONPATRON(SHEETOFFSET(-1,J169),SHEETOFFSET(-1,J130),SHEETOFFSET(-1,J131),SHEETOFFSET(-1,J94),SHEETOFFSET(-1,J101),SHEETOFFSET(-1,J103),SHEETOFFSET(-1,J88))","v":0},"---",{"$f":"IFERROR(SELECCIONPATRON(L54,L54,L54,L54,H54*I54,H54*I54,H54*I54)*SELECCIONPATRON(SHEETOFFSET(-1,$T$122),SHEETOFFSET(-1,$T$85),SHEETOFFSET(-1,$V$86),SHEETOFFSET(-1,$V$49),SHEETOFFSET(-1,$G$29),SHEETOFFSET(-1,$G$44),SHEETOFFSET(-1,$G$30)),0)","v":0},0,0,0,0,"---",{"$f":"IFERROR(IF(F54=\"Refrigerada\",SELECCIONPATRON(R54,R54,R54,R54,I54,I54,I54)*SELECCIONPATRON(SHEETOFFSET(-1,$I$200),SHEETOFFSET(-1,$I$161),SHEETOFFSET(-1,$I$162),SHEETOFFSET(-1,$I$125),SHEETOFFSET(-1,$I$132)/(SHEETOFFSET(-1,$G$11)*IF(SHEETOFFSET(-1,$G$37)<>\"\",SHEETOFFSET(-1,$G$37),SHEETOFFSET(-1,$G$42))),SHEETOFFSET(-1,$I$134)/(SHEETOFFSET(-1,$G$11)*IF(SHEETOFFSET(-1,$G$26)<>\"\",SHEETOFFSET(-1,$G$26),SHEETOFFSET(-1,$G$31))),SHEETOFFSET(-1,$I$119)/(SHEETOFFSET(-1,$G$11)*IF(SHEETOFFSET(-1,$G$25)=\"Mercancías a granel\",1,0.45))),0),0)","v":0},0,0,0,0,0,0,0,0,0,0,0,0,0,0,0,0,0,0,0,null,"","","","",null,0,0]
[39,{"$f":"SELECCIONPATRON(SHEETOFFSET(-1,C170),SHEETOFFSET(-1,C131),SHEETOFFSET(-1,C132),SHEETOFFSET(-1,C95),SHEETOFFSET(-1,C102),SHEETOFFSET(-1,C104),SHEETOFFSET(-1,C89))","v":0},{"$f":"SELECCIONPATRON(SHEETOFFSET(-1,D170),SHEETOFFSET(-1,D131),SHEETOFFSET(-1,D132),SHEETOFFSET(-1,D95),SHEETOFFSET(-1,D102),SHEETOFFSET(-1,D104),SHEETOFFSET(-1,D89))","v":0},{"$f":"SELECCIONPATRON(SHEETOFFSET(-1,M170),SHEETOFFSET(-1,M131),SHEETOFFSET(-1,M132),SHEETOFFSET(-1,M95),SHEETOFFSET(-1,$E$51),SHEETOFFSET(-1,$E$52),SHEETOFFSET(-1,$E$38))","v":0},{"$f":"SELECCIONPATRON(SHEETOFFSET(-1,P170),SHEETOFFSET(-1,P131),SHEETOFFSET(-1,P132),SHEETOFFSET(-1,P95),SHEETOFFSET(-1,$E$52),SHEETOFFSET(-1,$E$53),SHEETOFFSET(-1,$E$39))","v":0},{"$f":"SELECCIONPATRON(SHEETOFFSET(-1,H170),SHEETOFFSET(-1,H131),SHEETOFFSET(-1,H132),SHEETOFFSET(-1,H95),SHEETOFFSET(-1,H102),SHEETOFFSET(-1,H104),SHEETOFFSET(-1,H89))","v":0},{"$f":"SELECCIONPATRON(SHEETOFFSET(-1,R170),SHEETOFFSET(-1,R131),SHEETOFFSET(-1,S132),SHEETOFFSET(-1,S95),SHEETOFFSET(-1,$G$55),SHEETOFFSET(-1,$G$56),SHEETOFFSET(-1,$G$42))","v":0},{"$f":"SELECCIONPATRON(SHEETOFFSET(-1,S170),SHEETOFFSET(-1,S131),SHEETOFFSET(-1,T132),SHEETOFFSET(-1,T95),SHEETOFFSET(-1,$G$56),SHEETOFFSET(-1,$G$57),SHEETOFFSET(-1,$G$43))","v":0},{"$f":"SELECCIONPATRON(SHEETOFFSET(-1,G170),SHEETOFFSET(-1,G131),SHEETOFFSET(-1,G132),SHEETOFFSET(-1,G95),SHEETOFFSET(-1,G102),SHEETOFFSET(-1,G104),SHEETOFFSET(-1,G89))","v":0},{"$f":"SELECCIONPATRON(SHEETOFFSET(-1,I170),SHEETOFFSET(-1,I131),SHEETOFFSET(-1,I132),SHEETOFFSET(-1,I95),SHEETOFFSET(-1,I102),SHEETOFFSET(-1,I104),SHEETOFFSET(-1,I89))","v":0},{"$f":"SELECCIONPATRON(SHEETOFFSET(-1,J170),SHEETOFFSET(-1,J131),SHEETOFFSET(-1,J132),SHEETOFFSET(-1,J95),SHEETOFFSET(-1,J102),SHEETOFFSET(-1,J104),SHEETOFFSET(-1,J89))","v":0},"---",{"$f":"IFERROR(SELECCIONPATRON(L55,L55,L55,L55,H55*I55,H55*I55,H55*I55)*SELECCIONPATRON(SHEETOFFSET(-1,$T$122),SHEETOFFSET(-1,$T$85),SHEETOFFSET(-1,$V$86),SHEETOFFSET(-1,$V$49),SHEETOFFSET(-1,$G$29),SHEETOFFSET(-1,$G$44),SHEETOFFSET(-1,$G$30)),0)","v":0},0,0,0,0,"---",{"$f":"IFERROR(IF(F55=\"Refrigerada\",SELECCIONPATRON(R55,R55,R55,R55,I55,I55,I55)*SELECCIONPATRON(SHEETOFFSET(-1,$I$200),SHEETOFFSET(-1,$I$161),SHEETOFFSET(-1,$I$162),SHEETOFFSET(-1,$I$125),SHEETOFFSET(-1,$I$132)/(SHEETOFFSET(-1,$G$11)*IF(SHEETOFFSET(-1,$G$37)<>\"\",SHEETOFFSET(-1,$G$37),SHEETOFFSET(-1,$G$42))),SHEETOFFSET(-1,$I$134)/(SHEETOFFSET(-1,$G$11)*IF(SHEETOFFSET(-1,$G$26)<>\"\",SHEETOFFSET(-1,$G$26),SHEETOFFSET(-1,$G$31))),SHEETOFFSET(-1,$I$119)/(SHEETOFFSET(-1,$G$11)*IF(SHEETOFFSET(-1,$G$25)=\"Mercancías a granel\",1,0.45))),0),0)","v":0},0,0,0,0,0,0,0,0,0,0,0,0,0,0,0,0,0,0,0,null,"","","","",null,0,0]
[40,{"$f":"SELECCIONPATRON(SHEETOFFSET(-1,C171),SHEETOFFSET(-1,C132),SHEETOFFSET(-1,C133),SHEETOFFSET(-1,C96),SHEETOFFSET(-1,C103),SHEETOFFSET(-1,C105),SHEETOFFSET(-1,C90))","v":0},{"$f":"SELECCIONPATRON(SHEETOFFSET(-1,D171),SHEETOFFSET(-1,D132),SHEETOFFSET(-1,D133),SHEETOFFSET(-1,D96),SHEETOFFSET(-1,D103),SHEETOFFSET(-1,D105),SHEETOFFSET(-1,D90))","v":0},{"$f":"SELECCIONPATRON(SHEETOFFSET(-1,M171),SHEETOFFSET(-1,M132),SHEETOFFSET(-1,M133),SHEETOFFSET(-1,M96),SHEETOFFSET(-1,$E$51),SHEETOFFSET(-1,$E$52),SHEETOFFSET(-1,$E$38))","v":0},{"$f":"SELECCIONPATRON(SHEETOFFSET(-1,P171),SHEETOFFSET(-1,P132),SHEETOFFSET(-1,P133),SHEETOFFSET(-1,P96),SHEETOFFSET(-1,$E$52),SHEETOFFSET(-1,$E$53),SHEETOFFSET(-1,$E$39))","v":0},{"$f":"SELECCIONPATRON(SHEETOFFSET(-1,H171),SHEETOFFSET(-1,H132),SHEETOFFSET(-1,H133),SHEETOFFSET(-1,H96),SHEETOFFSET(-1,H103),SHEETOFFSET(-1,H105),SHEETOFFSET(-1,H90))","v":0},{"$f":"SELECCIONPATRON(SHEETOFFSET(-1,R171),SHEETOFFSET(-1,R132),SHEETOFFSET(-1,S133),SHEETOFFSET(-1,S96),SHEETOFFSET(-1,$G$55),SHEETOFFSET(-1,$G$56),SHEETOFFSET(-1,$G$42))","v":0},{"$f":"SELECCIONPATRON(SHEETOFFSET(-1,S171),SHEETOFFSET(-1,S132),SHEETOFFSET(-1,T133),SHEETOFFSET(-1,T96),SHEETOFFSET(-1,$G$56),SHEETOFFSET(-1,$G$57),SHEETOFFSET(-1,$G$43))","v":0},{"$f":"SELECCIONPATRON(SHEETOFFSET(-1,G171),SHEETOFFSET(-1,G132),SHEETOFFSET(-1,G133),SHEETOFFSET(-1,G96),SHEETOFFSET(-1,G103),SHEETOFFSET(-1,G105),SHEETOFFSET(-1,G90))","v":0},{"$f":"SELECCIONPATRON(SHEETOFFSET(-1,I171),SHEETOFFSET(-1,I132),SHEETOFFSET(-1,I133),SHEETOFFSET(-1,I96),SHEETOFFSET(-1,I103),SHEETOFFSET(-1,I105),SHEETOFFSET(-1,I90))","v":0},{"$f":"SELECCIONPATRON(SHEETOFFSET(-1,J171),SHEETOFFSET(-1,J132),SHEETOFFSET(-1,J133),SHEETOFFSET(-1,J96),SHEETOFFSET(-1,J103),SHEETOFFSET(-1,J105),SHEETOFFSET(-1,J90))","v":0},"---",{"$f":"IFERROR(SELECCIONPATRON(L56,L56,L56,L56,H56*I56,H56*I56,H56*I56)*SELECCIONPATRON(SHEETOFFSET(-1,$T$122),SHEETOFFSET(-1,$T$85),SHEETOFFSET(-1,$V$86),SHEETOFFSET(-1,$V$49),SHEETOFFSET(-1,$G$29),SHEETOFFSET(-1,$G$44),SHEETOFFSET(-1,$G$30)),0)","v":0},0,0,0,0,"---",{"$f":"IFERROR(IF(F56=\"Refrigerada\",SELECCIONPATRON(R56,R56,R56,R56,I56,I56,I56)*SELECCIONPATRON(SHEETOFFSET(-1,$I$200),SHEETOFFSET(-1,$I$161),SHEETOFFSET(-1,$I$162),SHEETOFFSET(-1,$I$125),SHEETOFFSET(-1,$I$132)/(SHEETOFFSET(-1,$G$11)*IF(SHEETOFFSET(-1,$G$37)<>\"\",SHEETOFFSET(-1,$G$37),SHEETOFFSET(-1,$G$42))),SHEETOFFSET(-1,$I$134)/(SHEETOFFSET(-1,$G$11)*IF(SHEETOFFSET(-1,$G$26)<>\"\",SHEETOFFSET(-1,$G$26),SHEETOFFSET(-1,$G$31))),SHEETOFFSET(-1,$I$119)/(SHEETOFFSET(-1,$G$11)*IF(SHEETOFFSET(-1,$G$25)=\"Mercancías a granel\",1,0.45))),0),0)","v":0},0,0,0,0,0,0,0,0,0,0,0,0,0,0,0,0,0,0,0,null,"","","","",null,0,0]
[41,{"$f":"SELECCIONPATRON(SHEETOFFSET(-1,C172),SHEETOFFSET(-1,C133),SHEETOFFSET(-1,C134),SHEETOFFSET(-1,C97),SHEETOFFSET(-1,C104),SHEETOFFSET(-1,C106),SHEETOFFSET(-1,C91))","v":0},{"$f":"SELECCIONPATRON(SHEETOFFSET(-1,D172),SHEETOFFSET(-1,D133),SHEETOFFSET(-1,D134),SHEETOFFSET(-1,D97),SHEETOFFSET(-1,D104),SHEETOFFSET(-1,D106),SHEETOFFSET(-1,D91))","v":0},{"$f":"SELECCIONPATRON(SHEETOFFSET(-1,M172),SHEETOFFSET(-1,M133),SHEETOFFSET(-1,M134),SHEETOFFSET(-1,M97),SHEETOFFSET(-1,$E$51),SHEETOFFSET(-1,$E$52),SHEETOFFSET(-1,$E$38))","v":0},{"$f":"SELECCIONPATRON(SHEETOFFSET(-1,P172),SHEETOFFSET(-1,P133),SHEETOFFSET(-1,P134),SHEETOFFSET(-1,P97),SHEETOFFSET(-1,$E$52),SHEETOFFSET(-1,$E$53),SHEETOFFSET(-1,$E$39))","v":0},{"$f":"SELECCIONPATRON(SHEETOFFSET(-1,H172),SHEETOFFSET(-1,H133),SHEETOFFSET(-1,H134),SHEETOFFSET(-1,H97),SHEETOFFSET(-1,H104),SHEETOFFSET(-1,H106),SHEETOFFSET(-1,H91))","v":0},{"$f":"SELECCIONPATRON(SHEETOFFSET(-1,R172),SHEETOFFSET(-1,R133),SHEETOFFSET(-1,S134),SHEETOFFSET(-1,S97),SHEETOFFSET(-1,$G$55),SHEETOFFSET(-1,$G$56),SHEETOFFSET(-1,$G$42))","v":0},{"$f":"SELECCIONPATRON(SHEETOFFSET(-1,S172),SHEETOFFSET(-1,S133),SHEETOFFSET(-1,T134),SHEETOFFSET(-1,T97),SHEETOFFSET(-1,$G$56),SHEETOFFSET(-1,$G$57),SHEETOFFSET(-1,$G$43))","v":0},{"$f":"SELECCIONPATRON(SHEETOFFSET(-1,G172),SHEETOFFSET(-1,G133),SHEETOFFSET(-1,G134),SHEETOFFSET(-1,G97),SHEETOFFSET(-1,G104),SHEETOFFSET(-1,G106),SHEETOFFSET(-1,G91))","v":0},{"$f":"SELECCIONPATRON(SHEETOFFSET(-1,I172),SHEETOFFSET(-1,I133),SHEETOFFSET(-1,I134),SHEETOFFSET(-1,I97),SHEETOFFSET(-1,I104),SHEETOFFSET(-1,I106),SHEETOFFSET(-1,I91))","v":0},{"$f":"SELECCIONPATRON(SHEETOFFSET(-1,J172),SHEETOFFSET(-1,J133),SHEETOFFSET(-1,J134),SHEETOFFSET(-1,J97),SHEETOFFSET(-1,J104),SHEETOFFSET(-1,J106),SHEETOFFSET(-1,J91))","v":0},"---",{"$f":"IFERROR(SELECCIONPATRON(L57,L57,L57,L57,H57*I57,H57*I57,H57*I57)*SELECCIONPATRON(SHEETOFFSET(-1,$T$122),SHEETOFFSET(-1,$T$85),SHEETOFFSET(-1,$V$86),SHEETOFFSET(-1,$V$49),SHEETOFFSET(-1,$G$29),SHEETOFFSET(-1,$G$44),SHEETOFFSET(-1,$G$30)),0)","v":0},0,0,0,0,"---",{"$f":"IFERROR(IF(F57=\"Refrigerada\",SELECCIONPATRON(R57,R57,R57,R57,I57,I57,I57)*SELECCIONPATRON(SHEETOFFSET(-1,$I$200),SHEETOFFSET(-1,$I$161),SHEETOFFSET(-1,$I$162),SHEETOFFSET(-1,$I$125),SHEETOFFSET(-1,$I$132)/(SHEETOFFSET(-1,$G$11)*IF(SHEETOFFSET(-1,$G$37)<>\"\",SHEETOFFSET(-1,$G$37),SHEETOFFSET(-1,$G$42))),SHEETOFFSET(-1,$I$134)/(SHEETOFFSET(-1,$G$11)*IF(SHEETOFFSET(-1,$G$26)<>\"\",SHEETOFFSET(-1,$G$26),SHEETOFFSET(-1,$G$31))),SHEETOFFSET(-1,$I$119)/(SHEETOFFSET(-1,$G$11)*IF(SHEETOFFSET(-1,$G$25)=\"Mercancías a granel\",1,0.45))),0),0)","v":0},0,0,0,0,0,0,0,0,0,0,0,0,0,0,0,0,0,0,0,null,"","","","",null,0,0]
[42,{"$f":"SELECCIONPATRON(SHEETOFFSET(-1,C173),SHEETOFFSET(-1,C134),SHEETOFFSET(-1,C135),SHEETOFFSET(-1,C98),SHEETOFFSET(-1,C105),SHEETOFFSET(-1,C107),SHEETOFFSET(-1,C92))","v":0},{"$f":"SELECCIONPATRON(SHEETOFFSET(-1,D173),SHEETOFFSET(-1,D134),SHEETOFFSET(-1,D135),SHEETOFFSET(-1,D98),SHEETOFFSET(-1,D105),SHEETOFFSET(-1,D107),SHEETOFFSET(-1,D92))","v":0},{"$f":"SELECCIONPATRON(SHEETOFFSET(-1,M173),SHEETOFFSET(-1,M134),SHEETOFFSET(-1,M135),SHEETOFFSET(-1,M98),SHEETOFFSET(-1,$E$51),SHEETOFFSET(-1,$E$52),SHEETOFFSET(-1,$E$38))","v":0},{"$f":"SELECCIONPATRON(SHEETOFFSET(-1,P173),SHEETOFFSET(-1,P134),SHEETOFFSET(-1,P135),SHEETOFFSET(-1,P98),SHEETOFFSET(-1,$E$52),SHEETOFFSET(-1,$E$53),SHEETOFFSET(-1,$E$39))","v":0},{"$f":"SELECCIONPATRON(SHEETOFFSET(-1,H173),SHEETOFFSET(-1,H134),SHEETOFFSET(-1,H135),SHEETOFFSET(-1,H98),SHEETOFFSET(-1,H105),SHEETOFFSET(-1,H107),SHEETOFFSET(-1,H92))","v":0},{"$f":"SELECCIONPATRON(SHEETOFFSET(-1,R173),SHEETOFFSET(-1,R134),SHEETOFFSET(-1,S135),SHEETOFFSET(-1,S98),SHEETOFFSET(-1,$G$55),SHEETOFFSET(-1,$G$56),SHEETOFFSET(-1,$G$42))","v":0},{"$f":"SELECCIONPATRON(SHEETOFFSET(-1,S173),SHEETOFFSET(-1,S134),SHEETOFFSET(-1,T135),SHEETOFFSET(-1,T98),SHEETOFFSET(-1,$G$56),SHEETOFFSET(-1,$G$57),SHEETOFFSET(-1,$G$43))","v":0},{"$f":"SELECCIONPATRON(SHEETOFFSET(-1,G173),SHEETOFFSET(-1,G134),SHEETOFFSET(-1,G135),SHEETOFFSET(-1,G98),SHEETOFFSET(-1,G105),SHEETOFFSET(-1,G107),SHEETOFFSET(-1,G92))","v":0},{"$f":"SELECCIONPATRON(SHEETOFFSET(-1,I173),SHEETOFFSET(-1,I134),SHEETOFFSET(-1,I135),SHEETOFFSET(-1,I98),SHEETOFFSET(-1,I105),SHEETOFFSET(-1,I107),SHEETOFFSET(-1,I92))","v":0},{"$f":"SELECCIONPATRON(SHEETOFFSET(-1,J173),SHEETOFFSET(-1,J134),SHEETOFFSET(-1,J135),SHEETOFFSET(-1,J98),SHEETOFFSET(-1,J105),SHEETOFFSET(-1,J107),SHEETOFFSET(-1,J92))","v":0},"---",{"$f":"IFERROR(SELECCIONPATRON(L58,L58,L58,L58,H58*I58,H58*I58,H58*I58)*SELECCIONPATRON(SHEETOFFSET(-1,$T$122),SHEETOFFSET(-1,$T$85),SHEETOFFSET(-1,$V$86),SHEETOFFSET(-1,$V$49),SHEETOFFSET(-1,$G$29),SHEETOFFSET(-1,$G$44),SHEETOFFSET(-1,$G$30)),0)","v":0},0,0,0,0,"---",{"$f":"IFERROR(IF(F58=\"Refrigerada\",SELECCIONPATRON(R58,R58,R58,R58,I58,I58,I58)*SELECCIONPATRON(SHEETOFFSET(-1,$I$200),SHEETOFFSET(-1,$I$161),SHEETOFFSET(-1,$I$162),SHEETOFFSET(-1,$I$125),SHEETOFFSET(-1,$I$132)/(SHEETOFFSET(-1,$G$11)*IF(SHEETOFFSET(-1,$G$37)<>\"\",SHEETOFFSET(-1,$G$37),SHEETOFFSET(-1,$G$42))),SHEETOFFSET(-1,$I$134)/(SHEETOFFSET(-1,$G$11)*IF(SHEETOFFSET(-1,$G$26)<>\"\",SHEETOFFSET(-1,$G$26),SHEETOFFSET(-1,$G$31))),SHEETOFFSET(-1,$I$119)/(SHEETOFFSET(-1,$G$11)*IF(SHEETOFFSET(-1,$G$25)=\"Mercancías a granel\",1,0.45))),0),0)","v":0},0,0,0,0,0,0,0,0,0,0,0,0,0,0,0,0,0,0,0,null,"","","","",null,0,0]
[43,{"$f":"SELECCIONPATRON(SHEETOFFSET(-1,C174),SHEETOFFSET(-1,C135),SHEETOFFSET(-1,C136),SHEETOFFSET(-1,C99),SHEETOFFSET(-1,C106),SHEETOFFSET(-1,C108),SHEETOFFSET(-1,C93))","v":0},{"$f":"SELECCIONPATRON(SHEETOFFSET(-1,D174),SHEETOFFSET(-1,D135),SHEETOFFSET(-1,D136),SHEETOFFSET(-1,D99),SHEETOFFSET(-1,D106),SHEETOFFSET(-1,D108),SHEETOFFSET(-1,D93))","v":0},{"$f":"SELECCIONPATRON(SHEETOFFSET(-1,M174),SHEETOFFSET(-1,M135),SHEETOFFSET(-1,M136),SHEETOFFSET(-1,M99),SHEETOFFSET(-1,$E$51),SHEETOFFSET(-1,$E$52),SHEETOFFSET(-1,$E$38))","v":0},{"$f":"SELECCIONPATRON(SHEETOFFSET(-1,P174),SHEETOFFSET(-1,P135),SHEETOFFSET(-1,P136),SHEETOFFSET(-1,P99),SHEETOFFSET(-1,$E$52),SHEETOFFSET(-1,$E$53),SHEETOFFSET(-1,$E$39))","v":0},{"$f":"SELECCIONPATRON(SHEETOFFSET(-1,H174),SHEETOFFSET(-1,H135),SHEETOFFSET(-1,H136),SHEETOFFSET(-1,H99),SHEETOFFSET(-1,H106),SHEETOFFSET(-1,H108),SHEETOFFSET(-1,H93))","v":0},{"$f":"SELECCIONPATRON(SHEETOFFSET(-1,R174),SHEETOFFSET(-1,R135),SHEETOFFSET(-1,S136),SHEETOFFSET(-1,S99),SHEETOFFSET(-1,$G$55),SHEETOFFSET(-1,$G$56),SHEETOFFSET(-1,$G$42))","v":0},{"$f":"SELECCIONPATRON(SHEETOFFSET(-1,S174),SHEETOFFSET(-1,S135),SHEETOFFSET(-1,T136),SHEETOFFSET(-1,T99),SHEETOFFSET(-1,$G$56),SHEETOFFSET(-1,$G$57),SHEETOFFSET(-1,$G$43))","v":0},{"$f":"SELECCIONPATRON(SHEETOFFSET(-1,G174),SHEETOFFSET(-1,G135),SHEETOFFSET(-1,G136),SHEETOFFSET(-1,G99),SHEETOFFSET(-1,G106),SHEETOFFSET(-1,G108),SHEETOFFSET(-1,G93))","v":0},{"$f":"SELECCIONPATRON(SHEETOFFSET(-1,I174),SHEETOFFSET(-1,I135),SHEETOFFSET(-1,I136),SHEETOFFSET(-1,I99),SHEETOFFSET(-1,I106),SHEETOFFSET(-1,I108),SHEETOFFSET(-1,I93))","v":0},{"$f":"SELECCIONPATRON(SHEETOFFSET(-1,J174),SHEETOFFSET(-1,J135),SHEETOFFSET(-1,J136),SHEETOFFSET(-1,J99),SHEETOFFSET(-1,J106),SHEETOFFSET(-1,J108),SHEETOFFSET(-1,J93))","v":0},"---",{"$f":"IFERROR(SELECCIONPATRON(L59,L59,L59,L59,H59*I59,H59*I59,H59*I59)*SELECCIONPATRON(SHEETOFFSET(-1,$T$122),SHEETOFFSET(-1,$T$85),SHEETOFFSET(-1,$V$86),SHEETOFFSET(-1,$V$49),SHEETOFFSET(-1,$G$29),SHEETOFFSET(-1,$G$44),SHEETOFFSET(-1,$G$30)),0)","v":0},0,0,0,0,"---",{"$f":"IFERROR(IF(F59=\"Refrigerada\",SELECCIONPATRON(R59,R59,R59,R59,I59,I59,I59)*SELECCIONPATRON(SHEETOFFSET(-1,$I$200),SHEETOFFSET(-1,$I$161),SHEETOFFSET(-1,$I$162),SHEETOFFSET(-1,$I$125),SHEETOFFSET(-1,$I$132)/(SHEETOFFSET(-1,$G$11)*IF(SHEETOFFSET(-1,$G$37)<>\"\",SHEETOFFSET(-1,$G$37),SHEETOFFSET(-1,$G$42))),SHEETOFFSET(-1,$I$134)/(SHEETOFFSET(-1,$G$11)*IF(SHEETOFFSET(-1,$G$26)<>\"\",SHEETOFFSET(-1,$G$26),SHEETOFFSET(-1,$G$31))),SHEETOFFSET(-1,$I$119)/(SHEETOFFSET(-1,$G$11)*IF(SHEETOFFSET(-1,$G$25)=\"Mercancías a granel\",1,0.45))),0),0)","v":0},0,0,0,0,0,0,0,0,0,0,0,0,0,0,0,0,0,0,0,null,"","","","",null,0,0]
[44,{"$f":"SELECCIONPATRON(SHEETOFFSET(-1,C175),SHEETOFFSET(-1,C136),SHEETOFFSET(-1,C137),SHEETOFFSET(-1,C100),SHEETOFFSET(-1,C107),SHEETOFFSET(-1,C109),SHEETOFFSET(-1,C94))","v":0},{"$f":"SELECCIONPATRON(SHEETOFFSET(-1,D175),SHEETOFFSET(-1,D136),SHEETOFFSET(-1,D137),SHEETOFFSET(-1,D100),SHEETOFFSET(-1,D107),SHEETOFFSET(-1,D109),SHEETOFFSET(-1,D94))","v":0},{"$f":"SELECCIONPATRON(SHEETOFFSET(-1,M175),SHEETOFFSET(-1,M136),SHEETOFFSET(-1,M137),SHEETOFFSET(-1,M100),SHEETOFFSET(-1,$E$51),SHEETOFFSET(-1,$E$52),SHEETOFFSET(-1,$E$38))","v":0},{"$f":"SELECCIONPATRON(SHEETOFFSET(-1,P175),SHEETOFFSET(-1,P136),SHEETOFFSET(-1,P137),SHEETOFFSET(-1,P100),SHEETOFFSET(-1,$E$52),SHEETOFFSET(-1,$E$53),SHEETOFFSET(-1,$E$39))","v":0},{"$f":"SELECCIONPATRON(SHEETOFFSET(-1,H175),SHEETOFFSET(-1,H136),SHEETOFFSET(-1,H137),SHEETOFFSET(-1,H100),SHEETOFFSET(-1,H107),SHEETOFFSET(-1,H109),SHEETOFFSET(-1,H94))","v":0},{"$f":"SELECCIONPATRON(SHEETOFFSET(-1,R175),SHEETOFFSET(-1,R136),SHEETOFFSET(-1,S137),SHEETOFFSET(-1,S100),SHEETOFFSET(-1,$G$55),SHEETOFFSET(-1,$G$56),SHEETOFFSET(-1,$G$42))","v":0},{"$f":"SELECCIONPATRON(SHEETOFFSET(-1,S175),SHEETOFFSET(-1,S136),SHEETOFFSET(-1,T137),SHEETOFFSET(-1,T100),SHEETOFFSET(-1,$G$56),SHEETOFFSET(-1,$G$57),SHEETOFFSET(-1,$G$43))","v":0},{"$f":"SELECCIONPATRON(SHEETOFFSET(-1,G175),SHEETOFFSET(-1,G136),SHEETOFFSET(-1,G137),SHEETOFFSET(-1,G100),SHEETOFFSET(-1,G107),SHEETOFFSET(-1,G109),SHEETOFFSET(-1,G94))","v":0},{"$f":"SELECCIONPATRON(SHEETOFFSET(-1,I175),SHEETOFFSET(-1,I136),SHEETOFFSET(-1,I137),SHEETOFFSET(-1,I100),SHEETOFFSET(-1,I107),SHEETOFFSET(-1,I109),SHEETOFFSET(-1,I94))","v":0},{"$f":"SELECCIONPATRON(SHEETOFFSET(-1,J175),SHEETOFFSET(-1,J136),SHEETOFFSET(-1,J137),SHEETOFFSET(-1,J100),SHEETOFFSET(-1,J107),SHEETOFFSET(-1,J109),SHEETOFFSET(-1,J94))","v":0},"---",{"$f":"IFERROR(SELECCIONPATRON(L60,L60,L60,L60,H60*I60,H60*I60,H60*I60)*SELECCIONPATRON(SHEETOFFSET(-1,$T$122),SHEETOFFSET(-1,$T$85),SHEETOFFSET(-1,$V$86),SHEETOFFSET(-1,$V$49),SHEETOFFSET(-1,$G$29),SHEETOFFSET(-1,$G$44),SHEETOFFSET(-1,$G$30)),0)","v":0},0,0,0,0,"---",{"$f":"IFERROR(IF(F60=\"Refrigerada\",SELECCIONPATRON(R60,R60,R60,R60,I60,I60,I60)*SELECCIONPATRON(SHEETOFFSET(-1,$I$200),SHEETOFFSET(-1,$I$161),SHEETOFFSET(-1,$I$162),SHEETOFFSET(-1,$I$125),SHEETOFFSET(-1,$I$132)/(SHEETOFFSET(-1,$G$11)*IF(SHEETOFFSET(-1,$G$37)<>\"\",SHEETOFFSET(-1,$G$37),SHEETOFFSET(-1,$G$42))),SHEETOFFSET(-1,$I$134)/(SHEETOFFSET(-1,$G$11)*IF(SHEETOFFSET(-1,$G$26)<>\"\",SHEETOFFSET(-1,$G$26),SHEETOFFSET(-1,$G$31))),SHEETOFFSET(-1,$I$119)/(SHEETOFFSET(-1,$G$11)*IF(SHEETOFFSET(-1,$G$25)=\"Mercancías a granel\",1,0.45))),0),0)","v":0},0,0,0,0,0,0,0,0,0,0,0,0,0,0,0,0,0,0,0,null,"","","","",null,0,0]
[45,{"$f":"SELECCIONPATRON(SHEETOFFSET(-1,C176),SHEETOFFSET(-1,C137),SHEETOFFSET(-1,C138),SHEETOFFSET(-1,C101),SHEETOFFSET(-1,C108),SHEETOFFSET(-1,C110),SHEETOFFSET(-1,C95))","v":0},{"$f":"SELECCIONPATRON(SHEETOFFSET(-1,D176),SHEETOFFSET(-1,D137),SHEETOFFSET(-1,D138),SHEETOFFSET(-1,D101),SHEETOFFSET(-1,D108),SHEETOFFSET(-1,D110),SHEETOFFSET(-1,D95))","v":0},{"$f":"SELECCIONPATRON(SHEETOFFSET(-1,M176),SHEETOFFSET(-1,M137),SHEETOFFSET(-1,M138),SHEETOFFSET(-1,M101),SHEETOFFSET(-1,$E$51),SHEETOFFSET(-1,$E$52),SHEETOFFSET(-1,$E$38))","v":0},{"$f":"SELECCIONPATRON(SHEETOFFSET(-1,P176),SHEETOFFSET(-1,P137),SHEETOFFSET(-1,P138),SHEETOFFSET(-1,P101),SHEETOFFSET(-1,$E$52),SHEETOFFSET(-1,$E$53),SHEETOFFSET(-1,$E$39))","v":0},{"$f":"SELECCIONPATRON(SHEETOFFSET(-1,H176),SHEETOFFSET(-1,H137),SHEETOFFSET(-1,H138),SHEETOFFSET(-1,H101),SHEETOFFSET(-1,H108),SHEETOFFSET(-1,H110),SHEETOFFSET(-1,H95))","v":0},{"$f":"SELECCIONPATRON(SHEETOFFSET(-1,R176),SHEETOFFSET(-1,R137),SHEETOFFSET(-1,S138),SHEETOFFSET(-1,S101),SHEETOFFSET(-1,$G$55),SHEETOFFSET(-1,$G$56),SHEETOFFSET(-1,$G$42))","v":0},{"$f":"SELECCIONPATRON(SHEETOFFSET(-1,S176),SHEETOFFSET(-1,S137),SHEETOFFSET(-1,T138),SHEETOFFSET(-1,T101),SHEETOFFSET(-1,$G$56),SHEETOFFSET(-1,$G$57),SHEETOFFSET(-1,$G$43))","v":0},{"$f":"SELECCIONPATRON(SHEETOFFSET(-1,G176),SHEETOFFSET(-1,G137),SHEETOFFSET(-1,G138),SHEETOFFSET(-1,G101),SHEETOFFSET(-1,G108),SHEETOFFSET(-1,G110),SHEETOFFSET(-1,G95))","v":0},{"$f":"SELECCIONPATRON(SHEETOFFSET(-1,I176),SHEETOFFSET(-1,I137),SHEETOFFSET(-1,I138),SHEETOFFSET(-1,I101),SHEETOFFSET(-1,I108),SHEETOFFSET(-1,I110),SHEETOFFSET(-1,I95))","v":0},{"$f":"SELECCIONPATRON(SHEETOFFSET(-1,J176),SHEETOFFSET(-1,J137),SHEETOFFSET(-1,J138),SHEETOFFSET(-1,J101),SHEETOFFSET(-1,J108),SHEETOFFSET(-1,J110),SHEETOFFSET(-1,J95))","v":0},"---",{"$f":"IFERROR(SELECCIONPATRON(L61,L61,L61,L61,H61*I61,H61*I61,H61*I61)*SELECCIONPATRON(SHEETOFFSET(-1,$T$122),SHEETOFFSET(-1,$T$85),SHEETOFFSET(-1,$V$86),SHEETOFFSET(-1,$V$49),SHEETOFFSET(-1,$G$29),SHEETOFFSET(-1,$G$44),SHEETOFFSET(-1,$G$30)),0)","v":0},0,0,0,0,"---",{"$f":"IFERROR(IF(F61=\"Refrigerada\",SELECCIONPATRON(R61,R61,R61,R61,I61,I61,I61)*SELECCIONPATRON(SHEETOFFSET(-1,$I$200),SHEETOFFSET(-1,$I$161),SHEETOFFSET(-1,$I$162),SHEETOFFSET(-1,$I$125),SHEETOFFSET(-1,$I$132)/(SHEETOFFSET(-1,$G$11)*IF(SHEETOFFSET(-1,$G$37)<>\"\",SHEETOFFSET(-1,$G$37),SHEETOFFSET(-1,$G$42))),SHEETOFFSET(-1,$I$134)/(SHEETOFFSET(-1,$G$11)*IF(SHEETOFFSET(-1,$G$26)<>\"\",SHEETOFFSET(-1,$G$26),SHEETOFFSET(-1,$G$31))),SHEETOFFSET(-1,$I$119)/(SHEETOFFSET(-1,$G$11)*IF(SHEETOFFSET(-1,$G$25)=\"Mercancías a granel\",1,0.45))),0),0)","v":0},0,0,0,0,0,0,0,0,0,0,0,0,0,0,0,0,0,0,0,null,"","","","",null,0,0]
[46,{"$f":"SELECCIONPATRON(SHEETOFFSET(-1,C177),SHEETOFFSET(-1,C138),SHEETOFFSET(-1,C139),SHEETOFFSET(-1,C102),SHEETOFFSET(-1,C109),SHEETOFFSET(-1,C111),SHEETOFFSET(-1,C96))","v":0},{"$f":"SELECCIONPATRON(SHEETOFFSET(-1,D177),SHEETOFFSET(-1,D138),SHEETOFFSET(-1,D139),SHEETOFFSET(-1,D102),SHEETOFFSET(-1,D109),SHEETOFFSET(-1,D111),SHEETOFFSET(-1,D96))","v":0},{"$f":"SELECCIONPATRON(SHEETOFFSET(-1,M177),SHEETOFFSET(-1,M138),SHEETOFFSET(-1,M139),SHEETOFFSET(-1,M102),SHEETOFFSET(-1,$E$51),SHEETOFFSET(-1,$E$52),SHEETOFFSET(-1,$E$38))","v":0},{"$f":"SELECCIONPATRON(SHEETOFFSET(-1,P177),SHEETOFFSET(-1,P138),SHEETOFFSET(-1,P139),SHEETOFFSET(-1,P102),SHEETOFFSET(-1,$E$52),SHEETOFFSET(-1,$E$53),SHEETOFFSET(-1,$E$39))","v":0},{"$f":"SELECCIONPATRON(SHEETOFFSET(-1,H177),SHEETOFFSET(-1,H138),SHEETOFFSET(-1,H139),SHEETOFFSET(-1,H102),SHEETOFFSET(-1,H109),SHEETOFFSET(-1,H111),SHEETOFFSET(-1,H96))","v":0},{"$f":"SELECCIONPATRON(SHEETOFFSET(-1,R177),SHEETOFFSET(-1,R138),SHEETOFFSET(-1,S139),SHEETOFFSET(-1,S102),SHEETOFFSET(-1,$G$55),SHEETOFFSET(-1,$G$56),SHEETOFFSET(-1,$G$42))","v":0},{"$f":"SELECCIONPATRON(SHEETOFFSET(-1,S177),SHEETOFFSET(-1,S138),SHEETOFFSET(-1,T139),SHEETOFFSET(-1,T102),SHEETOFFSET(-1,$G$56),SHEETOFFSET(-1,$G$57),SHEETOFFSET(-1,$G$43))","v":0},{"$f":"SELECCIONPATRON(SHEETOFFSET(-1,G177),SHEETOFFSET(-1,G138),SHEETOFFSET(-1,G139),SHEETOFFSET(-1,G102),SHEETOFFSET(-1,G109),SHEETOFFSET(-1,G111),SHEETOFFSET(-1,G96))","v":0},{"$f":"SELECCIONPATRON(SHEETOFFSET(-1,I177),SHEETOFFSET(-1,I138),SHEETOFFSET(-1,I139),SHEETOFFSET(-1,I102),SHEETOFFSET(-1,I109),SHEETOFFSET(-1,I111),SHEETOFFSET(-1,I96))","v":0},{"$f":"SELECCIONPATRON(SHEETOFFSET(-1,J177),SHEETOFFSET(-1,J138),SHEETOFFSET(-1,J139),SHEETOFFSET(-1,J102),SHEETOFFSET(-1,J109),SHEETOFFSET(-1,J111),SHEETOFFSET(-1,J96))","v":0},"---",{"$f":"IFERROR(SELECCIONPATRON(L62,L62,L62,L62,H62*I62,H62*I62,H62*I62)*SELECCIONPATRON(SHEETOFFSET(-1,$T$122),SHEETOFFSET(-1,$T$85),SHEETOFFSET(-1,$V$86),SHEETOFFSET(-1,$V$49),SHEETOFFSET(-1,$G$29),SHEETOFFSET(-1,$G$44),SHEETOFFSET(-1,$G$30)),0)","v":0},0,0,0,0,"---",{"$f":"IFERROR(IF(F62=\"Refrigerada\",SELECCIONPATRON(R62,R62,R62,R62,I62,I62,I62)*SELECCIONPATRON(SHEETOFFSET(-1,$I$200),SHEETOFFSET(-1,$I$161),SHEETOFFSET(-1,$I$162),SHEETOFFSET(-1,$I$125),SHEETOFFSET(-1,$I$132)/(SHEETOFFSET(-1,$G$11)*IF(SHEETOFFSET(-1,$G$37)<>\"\",SHEETOFFSET(-1,$G$37),SHEETOFFSET(-1,$G$42))),SHEETOFFSET(-1,$I$134)/(SHEETOFFSET(-1,$G$11)*IF(SHEETOFFSET(-1,$G$26)<>\"\",SHEETOFFSET(-1,$G$26),SHEETOFFSET(-1,$G$31))),SHEETOFFSET(-1,$I$119)/(SHEETOFFSET(-1,$G$11)*IF(SHEETOFFSET(-1,$G$25)=\"Mercancías a granel\",1,0.45))),0),0)","v":0},0,0,0,0,0,0,0,0,0,0,0,0,0,0,0,0,0,0,0,null,"","","","",null,0,0]
[47,{"$f":"SELECCIONPATRON(SHEETOFFSET(-1,C178),SHEETOFFSET(-1,C139),SHEETOFFSET(-1,C140),SHEETOFFSET(-1,C103),SHEETOFFSET(-1,C110),SHEETOFFSET(-1,C112),SHEETOFFSET(-1,C97))","v":0},{"$f":"SELECCIONPATRON(SHEETOFFSET(-1,D178),SHEETOFFSET(-1,D139),SHEETOFFSET(-1,D140),SHEETOFFSET(-1,D103),SHEETOFFSET(-1,D110),SHEETOFFSET(-1,D112),SHEETOFFSET(-1,D97))","v":0},{"$f":"SELECCIONPATRON(SHEETOFFSET(-1,M178),SHEETOFFSET(-1,M139),SHEETOFFSET(-1,M140),SHEETOFFSET(-1,M103),SHEETOFFSET(-1,$E$51),SHEETOFFSET(-1,$E$52),SHEETOFFSET(-1,$E$38))","v":0},{"$f":"SELECCIONPATRON(SHEETOFFSET(-1,P178),SHEETOFFSET(-1,P139),SHEETOFFSET(-1,P140),SHEETOFFSET(-1,P103),SHEETOFFSET(-1,$E$52),SHEETOFFSET(-1,$E$53),SHEETOFFSET(-1,$E$39))","v":0},{"$f":"SELECCIONPATRON(SHEETOFFSET(-1,H178),SHEETOFFSET(-1,H139),SHEETOFFSET(-1,H140),SHEETOFFSET(-1,H103),SHEETOFFSET(-1,H110),SHEETOFFSET(-1,H112),SHEETOFFSET(-1,H97))","v":0},{"$f":"SELECCIONPATRON(SHEETOFFSET(-1,R178),SHEETOFFSET(-1,R139),SHEETOFFSET(-1,S140),SHEETOFFSET(-1,S103),SHEETOFFSET(-1,$G$55),SHEETOFFSET(-1,$G$56),SHEETOFFSET(-1,$G$42))","v":0},{"$f":"SELECCIONPATRON(SHEETOFFSET(-1,S178),SHEETOFFSET(-1,S139),SHEETOFFSET(-1,T140),SHEETOFFSET(-1,T103),SHEETOFFSET(-1,$G$56),SHEETOFFSET(-1,$G$57),SHEETOFFSET(-1,$G$43))","v":0},{"$f":"SELECCIONPATRON(SHEETOFFSET(-1,G178),SHEETOFFSET(-1,G139),SHEETOFFSET(-1,G140),SHEETOFFSET(-1,G103),SHEETOFFSET(-1,G110),SHEETOFFSET(-1,G112),SHEETOFFSET(-1,G97))","v":0},{"$f":"SELECCIONPATRON(SHEETOFFSET(-1,I178),SHEETOFFSET(-1,I139),SHEETOFFSET(-1,I140),SHEETOFFSET(-1,I103),SHEETOFFSET(-1,I110),SHEETOFFSET(-1,I112),SHEETOFFSET(-1,I97))","v":0},{"$f":"SELECCIONPATRON(SHEETOFFSET(-1,J178),SHEETOFFSET(-1,J139),SHEETOFFSET(-1,J140),SHEETOFFSET(-1,J103),SHEETOFFSET(-1,J110),SHEETOFFSET(-1,J112),SHEETOFFSET(-1,J97))","v":0},"---",{"$f":"IFERROR(SELECCIONPATRON(L63,L63,L63,L63,H63*I63,H63*I63,H63*I63)*SELECCIONPATRON(SHEETOFFSET(-1,$T$122),SHEETOFFSET(-1,$T$85),SHEETOFFSET(-1,$V$86),SHEETOFFSET(-1,$V$49),SHEETOFFSET(-1,$G$29),SHEETOFFSET(-1,$G$44),SHEETOFFSET(-1,$G$30)),0)","v":0},0,0,0,0,"---",{"$f":"IFERROR(IF(F63=\"Refrigerada\",SELECCIONPATRON(R63,R63,R63,R63,I63,I63,I63)*SELECCIONPATRON(SHEETOFFSET(-1,$I$200),SHEETOFFSET(-1,$I$161),SHEETOFFSET(-1,$I$162),SHEETOFFSET(-1,$I$125),SHEETOFFSET(-1,$I$132)/(SHEETOFFSET(-1,$G$11)*IF(SHEETOFFSET(-1,$G$37)<>\"\",SHEETOFFSET(-1,$G$37),SHEETOFFSET(-1,$G$42))),SHEETOFFSET(-1,$I$134)/(SHEETOFFSET(-1,$G$11)*IF(SHEETOFFSET(-1,$G$26)<>\"\",SHEETOFFSET(-1,$G$26),SHEETOFFSET(-1,$G$31))),SHEETOFFSET(-1,$I$119)/(SHEETOFFSET(-1,$G$11)*IF(SHEETOFFSET(-1,$G$25)=\"Mercancías a granel\",1,0.45))),0),0)","v":0},0,0,0,0,0,0,0,0,0,0,0,0,0,0,0,0,0,0,0,null,"","","","",null,0,0]
[48,{"$f":"SELECCIONPATRON(SHEETOFFSET(-1,C179),SHEETOFFSET(-1,C140),SHEETOFFSET(-1,C141),SHEETOFFSET(-1,C104),SHEETOFFSET(-1,C111),SHEETOFFSET(-1,C113),SHEETOFFSET(-1,C98))","v":0},{"$f":"SELECCIONPATRON(SHEETOFFSET(-1,D179),SHEETOFFSET(-1,D140),SHEETOFFSET(-1,D141),SHEETOFFSET(-1,D104),SHEETOFFSET(-1,D111),SHEETOFFSET(-1,D113),SHEETOFFSET(-1,D98))","v":0},{"$f":"SELECCIONPATRON(SHEETOFFSET(-1,M179),SHEETOFFSET(-1,M140),SHEETOFFSET(-1,M141),SHEETOFFSET(-1,M104),SHEETOFFSET(-1,$E$51),SHEETOFFSET(-1,$E$52),SHEETOFFSET(-1,$E$38))","v":0},{"$f":"SELECCIONPATRON(SHEETOFFSET(-1,P179),SHEETOFFSET(-1,P140),SHEETOFFSET(-1,P141),SHEETOFFSET(-1,P104),SHEETOFFSET(-1,$E$52),SHEETOFFSET(-1,$E$53),SHEETOFFSET(-1,$E$39))","v":0},{"$f":"SELECCIONPATRON(SHEETOFFSET(-1,H179),SHEETOFFSET(-1,H140),SHEETOFFSET(-1,H141),SHEETOFFSET(-1,H104),SHEETOFFSET(-1,H111),SHEETOFFSET(-1,H113),SHEETOFFSET(-1,H98))","v":0},{"$f":"SELECCIONPATRON(SHEETOFFSET(-1,R179),SHEETOFFSET(-1,R140),SHEETOFFSET(-1,S141),SHEETOFFSET(-1,S104),SHEETOFFSET(-1,$G$55),SHEETOFFSET(-1,$G$56),SHEETOFFSET(-1,$G$42))","v":0},{"$f":"SELECCIONPATRON(SHEETOFFSET(-1,S179),SHEETOFFSET(-1,S140),SHEETOFFSET(-1,T141),SHEETOFFSET(-1,T104),SHEETOFFSET(-1,$G$56),SHEETOFFSET(-1,$G$57),SHEETOFFSET(-1,$G$43))","v":0},{"$f":"SELECCIONPATRON(SHEETOFFSET(-1,G179),SHEETOFFSET(-1,G140),SHEETOFFSET(-1,G141),SHEETOFFSET(-1,G104),SHEETOFFSET(-1,G111),SHEETOFFSET(-1,G113),SHEETOFFSET(-1,G98))","v":0},{"$f":"SELECCIONPATRON(SHEETOFFSET(-1,I179),SHEETOFFSET(-1,I140),SHEETOFFSET(-1,I141),SHEETOFFSET(-1,I104),SHEETOFFSET(-1,I111),SHEETOFFSET(-1,I113),SHEETOFFSET(-1,I98))","v":0},{"$f":"SELECCIONPATRON(SHEETOFFSET(-1,J179),SHEETOFFSET(-1,J140),SHEETOFFSET(-1,J141),SHEETOFFSET(-1,J104),SHEETOFFSET(-1,J111),SHEETOFFSET(-1,J113),SHEETOFFSET(-1,J98))","v":0},"---",{"$f":"IFERROR(SELECCIONPATRON(L64,L64,L64,L64,H64*I64,H64*I64,H64*I64)*SELECCIONPATRON(SHEETOFFSET(-1,$T$122),SHEETOFFSET(-1,$T$85),SHEETOFFSET(-1,$V$86),SHEETOFFSET(-1,$V$49),SHEETOFFSET(-1,$G$29),SHEETOFFSET(-1,$G$44),SHEETOFFSET(-1,$G$30)),0)","v":0},0,0,0,0,"---",{"$f":"IFERROR(IF(F64=\"Refrigerada\",SELECCIONPATRON(R64,R64,R64,R64,I64,I64,I64)*SELECCIONPATRON(SHEETOFFSET(-1,$I$200),SHEETOFFSET(-1,$I$161),SHEETOFFSET(-1,$I$162),SHEETOFFSET(-1,$I$125),SHEETOFFSET(-1,$I$132)/(SHEETOFFSET(-1,$G$11)*IF(SHEETOFFSET(-1,$G$37)<>\"\",SHEETOFFSET(-1,$G$37),SHEETOFFSET(-1,$G$42))),SHEETOFFSET(-1,$I$134)/(SHEETOFFSET(-1,$G$11)*IF(SHEETOFFSET(-1,$G$26)<>\"\",SHEETOFFSET(-1,$G$26),SHEETOFFSET(-1,$G$31))),SHEETOFFSET(-1,$I$119)/(SHEETOFFSET(-1,$G$11)*IF(SHEETOFFSET(-1,$G$25)=\"Mercancías a granel\",1,0.45))),0),0)","v":0},0,0,0,0,0,0,0,0,0,0,0,0,0,0,0,0,0,0,0,null,"","","","",null,0,0]
[49,{"$f":"SELECCIONPATRON(SHEETOFFSET(-1,C180),SHEETOFFSET(-1,C141),SHEETOFFSET(-1,C142),SHEETOFFSET(-1,C105),SHEETOFFSET(-1,C112),SHEETOFFSET(-1,C114),SHEETOFFSET(-1,C99))","v":0},{"$f":"SELECCIONPATRON(SHEETOFFSET(-1,D180),SHEETOFFSET(-1,D141),SHEETOFFSET(-1,D142),SHEETOFFSET(-1,D105),SHEETOFFSET(-1,D112),SHEETOFFSET(-1,D114),SHEETOFFSET(-1,D99))","v":0},{"$f":"SELECCIONPATRON(SHEETOFFSET(-1,M180),SHEETOFFSET(-1,M141),SHEETOFFSET(-1,M142),SHEETOFFSET(-1,M105),SHEETOFFSET(-1,$E$51),SHEETOFFSET(-1,$E$52),SHEETOFFSET(-1,$E$38))","v":0},{"$f":"SELECCIONPATRON(SHEETOFFSET(-1,P180),SHEETOFFSET(-1,P141),SHEETOFFSET(-1,P142),SHEETOFFSET(-1,P105),SHEETOFFSET(-1,$E$52),SHEETOFFSET(-1,$E$53),SHEETOFFSET(-1,$E$39))","v":0},{"$f":"SELECCIONPATRON(SHEETOFFSET(-1,H180),SHEETOFFSET(-1,H141),SHEETOFFSET(-1,H142),SHEETOFFSET(-1,H105),SHEETOFFSET(-1,H112),SHEETOFFSET(-1,H114),SHEETOFFSET(-1,H99))","v":0},{"$f":"SELECCIONPATRON(SHEETOFFSET(-1,R180),SHEETOFFSET(-1,R141),SHEETOFFSET(-1,S142),SHEETOFFSET(-1,S105),SHEETOFFSET(-1,$G$55),SHEETOFFSET(-1,$G$56),SHEETOFFSET(-1,$G$42))","v":0},{"$f":"SELECCIONPATRON(SHEETOFFSET(-1,S180),SHEETOFFSET(-1,S141),SHEETOFFSET(-1,T142),SHEETOFFSET(-1,T105),SHEETOFFSET(-1,$G$56),SHEETOFFSET(-1,$G$57),SHEETOFFSET(-1,$G$43))","v":0},{"$f":"SELECCIONPATRON(SHEETOFFSET(-1,G180),SHEETOFFSET(-1,G141),SHEETOFFSET(-1,G142),SHEETOFFSET(-1,G105),SHEETOFFSET(-1,G112),SHEETOFFSET(-1,G114),SHEETOFFSET(-1,G99))","v":0},{"$f":"SELECCIONPATRON(SHEETOFFSET(-1,I180),SHEETOFFSET(-1,I141),SHEETOFFSET(-1,I142),SHEETOFFSET(-1,I105),SHEETOFFSET(-1,I112),SHEETOFFSET(-1,I114),SHEETOFFSET(-1,I99))","v":0},{"$f":"SELECCIONPATRON(SHEETOFFSET(-1,J180),SHEETOFFSET(-1,J141),SHEETOFFSET(-1,J142),SHEETOFFSET(-1,J105),SHEETOFFSET(-1,J112),SHEETOFFSET(-1,J114),SHEETOFFSET(-1,J99))","v":0},"---",{"$f":"IFERROR(SELECCIONPATRON(L65,L65,L65,L65,H65*I65,H65*I65,H65*I65)*SELECCIONPATRON(SHEETOFFSET(-1,$T$122),SHEETOFFSET(-1,$T$85),SHEETOFFSET(-1,$V$86),SHEETOFFSET(-1,$V$49),SHEETOFFSET(-1,$G$29),SHEETOFFSET(-1,$G$44),SHEETOFFSET(-1,$G$30)),0)","v":0},0,0,0,0,"---",{"$f":"IFERROR(IF(F65=\"Refrigerada\",SELECCIONPATRON(R65,R65,R65,R65,I65,I65,I65)*SELECCIONPATRON(SHEETOFFSET(-1,$I$200),SHEETOFFSET(-1,$I$161),SHEETOFFSET(-1,$I$162),SHEETOFFSET(-1,$I$125),SHEETOFFSET(-1,$I$132)/(SHEETOFFSET(-1,$G$11)*IF(SHEETOFFSET(-1,$G$37)<>\"\",SHEETOFFSET(-1,$G$37),SHEETOFFSET(-1,$G$42))),SHEETOFFSET(-1,$I$134)/(SHEETOFFSET(-1,$G$11)*IF(SHEETOFFSET(-1,$G$26)<>\"\",SHEETOFFSET(-1,$G$26),SHEETOFFSET(-1,$G$31))),SHEETOFFSET(-1,$I$119)/(SHEETOFFSET(-1,$G$11)*IF(SHEETOFFSET(-1,$G$25)=\"Mercancías a granel\",1,0.45))),0),0)","v":0},0,0,0,0,0,0,0,0,0,0,0,0,0,0,0,0,0,0,0,null,"","","","",null,0,0]
[50,{"$f":"SELECCIONPATRON(SHEETOFFSET(-1,C181),SHEETOFFSET(-1,C142),SHEETOFFSET(-1,C143),SHEETOFFSET(-1,C106),SHEETOFFSET(-1,C113),SHEETOFFSET(-1,C115),SHEETOFFSET(-1,C100))","v":0},{"$f":"SELECCIONPATRON(SHEETOFFSET(-1,D181),SHEETOFFSET(-1,D142),SHEETOFFSET(-1,D143),SHEETOFFSET(-1,D106),SHEETOFFSET(-1,D113),SHEETOFFSET(-1,D115),SHEETOFFSET(-1,D100))","v":0},{"$f":"SELECCIONPATRON(SHEETOFFSET(-1,M181),SHEETOFFSET(-1,M142),SHEETOFFSET(-1,M143),SHEETOFFSET(-1,M106),SHEETOFFSET(-1,$E$51),SHEETOFFSET(-1,$E$52),SHEETOFFSET(-1,$E$38))","v":0},{"$f":"SELECCIONPATRON(SHEETOFFSET(-1,P181),SHEETOFFSET(-1,P142),SHEETOFFSET(-1,P143),SHEETOFFSET(-1,P106),SHEETOFFSET(-1,$E$52),SHEETOFFSET(-1,$E$53),SHEETOFFSET(-1,$E$39))","v":0},{"$f":"SELECCIONPATRON(SHEETOFFSET(-1,H181),SHEETOFFSET(-1,H142),SHEETOFFSET(-1,H143),SHEETOFFSET(-1,H106),SHEETOFFSET(-1,H113),SHEETOFFSET(-1,H115),SHEETOFFSET(-1,H100))","v":0},{"$f":"SELECCIONPATRON(SHEETOFFSET(-1,R181),SHEETOFFSET(-1,R142),SHEETOFFSET(-1,S143),SHEETOFFSET(-1,S106),SHEETOFFSET(-1,$G$55),SHEETOFFSET(-1,$G$56),SHEETOFFSET(-1,$G$42))","v":0},{"$f":"SELECCIONPATRON(SHEETOFFSET(-1,S181),SHEETOFFSET(-1,S142),SHEETOFFSET(-1,T143),SHEETOFFSET(-1,T106),SHEETOFFSET(-1,$G$56),SHEETOFFSET(-1,$G$57),SHEETOFFSET(-1,$G$43))","v":0},{"$f":"SELECCIONPATRON(SHEETOFFSET(-1,G181),SHEETOFFSET(-1,G142),SHEETOFFSET(-1,G143),SHEETOFFSET(-1,G106),SHEETOFFSET(-1,G113),SHEETOFFSET(-1,G115),SHEETOFFSET(-1,G100))","v":0},{"$f":"SELECCIONPATRON(SHEETOFFSET(-1,I181),SHEETOFFSET(-1,I142),SHEETOFFSET(-1,I143),SHEETOFFSET(-1,I106),SHEETOFFSET(-1,I113),SHEETOFFSET(-1,I115),SHEETOFFSET(-1,I100))","v":0},{"$f":"SELECCIONPATRON(SHEETOFFSET(-1,J181),SHEETOFFSET(-1,J142),SHEETOFFSET(-1,J143),SHEETOFFSET(-1,J106),SHEETOFFSET(-1,J113),SHEETOFFSET(-1,J115),SHEETOFFSET(-1,J100))","v":0},"---",{"$f":"IFERROR(SELECCIONPATRON(L66,L66,L66,L66,H66*I66,H66*I66,H66*I66)*SELECCIONPATRON(SHEETOFFSET(-1,$T$122),SHEETOFFSET(-1,$T$85),SHEETOFFSET(-1,$V$86),SHEETOFFSET(-1,$V$49),SHEETOFFSET(-1,$G$29),SHEETOFFSET(-1,$G$44),SHEETOFFSET(-1,$G$30)),0)","v":0},0,0,0,0,"---",{"$f":"IFERROR(IF(F66=\"Refrigerada\",SELECCIONPATRON(R66,R66,R66,R66,I66,I66,I66)*SELECCIONPATRON(SHEETOFFSET(-1,$I$200),SHEETOFFSET(-1,$I$161),SHEETOFFSET(-1,$I$162),SHEETOFFSET(-1,$I$125),SHEETOFFSET(-1,$I$132)/(SHEETOFFSET(-1,$G$11)*IF(SHEETOFFSET(-1,$G$37)<>\"\",SHEETOFFSET(-1,$G$37),SHEETOFFSET(-1,$G$42))),SHEETOFFSET(-1,$I$134)/(SHEETOFFSET(-1,$G$11)*IF(SHEETOFFSET(-1,$G$26)<>\"\",SHEETOFFSET(-1,$G$26),SHEETOFFSET(-1,$G$31))),SHEETOFFSET(-1,$I$119)/(SHEETOFFSET(-1,$G$11)*IF(SHEETOFFSET(-1,$G$25)=\"Mercancías a granel\",1,0.45))),0),0)","v":0},0,0,0,0,0,0,0,0,0,0,0,0,0,0,0,0,0,0,0,null,"","","","",null,0,0]
[null,null,null,null,null,null,null,"TOTAL",{"$f":"SUM(I17:I66)","v":0},{"$f":"SUM(J17:J66)","v":0},0,0,0,0,0,0,0,0,0,0,0,0,0,{"$f":"SUM(X17:X66)","v":0},0,0,0,0,0,0,0,0,0,0,0,0,0,0]
[]
[null,null,null,null,null,null,null,null,null,null,null,null,null,null,"Tipo de combustible empleado ",{"$f":"SELECCIONPATRON(IF(SHEETOFFSET(-1,E29)<>\"\",SHEETOFFSET(-1,E29),SHEETOFFSET(-1,E59)),IF(SHEETOFFSET(-1,E29)<>\"\",SHEETOFFSET(-1,E29),SHEETOFFSET(-1,E59)),SHEETOFFSET(-1,E18),SHEETOFFSET(-1,E18),SHEETOFFSET(-1,E18),SHEETOFFSET(-1,E18),SHEETOFFSET(-1,E18))","v":0},null,null,null,null,"Tipo de combustible empleado ",{"$f":"SELECCIONPATRON(SHEETOFFSET(-1,G192),SHEETOFFSET(-1,G153),SHEETOFFSET(-1,G154),SHEETOFFSET(-1,G117),SHEETOFFSET(-1,G124),SHEETOFFSET(-1,G126),SHEETOFFSET(-1,G111))","v":0},null,null,null,null,null,"Tipos de fuente de energía empleadas",{"$f":"IF(SHEETOFFSET(-1,G208)<>\"\",SHEETOFFSET(-1,G208),SHEETOFFSET(-1,H224))","v":"---"}]
[null,null,null,null,null,null,null,null,null,null,null,null,null,null,null,null,null,null,null,null,null,null,null,null,null,null,null,"\"\"",{"$f":"IF(SHEETOFFSET(-1,G211)<>\"\",SHEETOFFSET(-1,G211),IF(SHEETOFFSET(-1,H223)<>\"\",\"Gas natural: potencia calorífica neta\",0))","v":"---"}]
[null,null,null,null,null,null,null,null,null,null,null,null,null,null,null,null,null,null,null,null,null,null,null,null,null,null,null,"\"\"",{"$f":"SHEETOFFSET(-1,G214)","v":"---"}]
["RESULTADOS POR CLIENTE"]
[]
[null,"Cliente del envío",null,null,null,null,null,null,"Peso bruto de los envíos del cliente (t)","Volumen del conjunto de envíos del cliente en almacenamiento (m3) - en caso de que la carga sea almacenada","Días de almacenamiento - en caso de que la carga sea almacenada",{"$f":"L15","v":"RESULTADOS: PROPULSIÓN DE LA CARGA"},null,null,null,null,null,{"$f":"R15","v":"---"},null,null,null,null,null,"RESULTADOS: ALMACENAMIENTO DE LA CARGA",null,null,null,null,null,null,"RESULTADOS TOTALES DEL SERVICIO DE TRANSPORTE DE LA CARGA",null,null,null,"RESULTADOS TOTALES DEL SERVICIO DE TRANSPORTE Y ALMACENAMIENTO DE LA CARGA"]
[null,null,null,null,null,null,null,null,null,null,null,"Proporción de cupo para cada cliente (%)",{"$f":"\"Consumo de combustible: \"&P128","v":"Consumo de combustible: "},"Consumo energético del tanque a las ruedas","Consumo energético del pozo a las ruedas","Emisiones de GEI del tanque a las ruedas","Emisiones de GEI del pozo a las ruedas","Proporción de cupo para cada cliente (%)",{"$f":"\"Consumo de combustible: \"&V128","v":"Consumo de combustible: "},"Consumo energético del tanque a las ruedas","Consumo energético del pozo a las ruedas","Emisiones de GEI del tanque a las ruedas","Emisiones de GEI del pozo a las ruedas",{"$f":"\"Consumo por fuente de energía: \"&AC128","v":"Consumo por fuente de energía: "},{"$f":"\"Consumo por fuente de energía: \"&AD128","v":"Consumo por fuente de energía: "},{"$f":"\"Consumo por fuente de energía: \"&AE128","v":"Consumo por fuente de energía: "},"Consumo energético directo","Consumo energético directo e indirecto","Emisiones de GEI directas","Emisiones de GEI directas e indirectas","Consumo energético del tanque a las ruedas","Consumo energético del pozo a las ruedas","Emisiones de GEI del tanque a las ruedas","Emisiones de GEI del pozo a las ruedas","Consumo energético del tanque a las ruedas","Consumo energético del pozo a las ruedas","Emisiones de GEI del tanque a las ruedas","Emisiones de GEI del pozo a las ruedas"]
[null,{"$f":"'MENÚ DE INICIO'!AG10","v":0},null,null,null,null,null,null,{"$f":"IF($B76=0,0,SUMIF($B$17:$B$66,$B76,I$17:I$66))","v":0},{"$f":"IF($B76=0,0,SUMIF($B$17:$B$66,$B76,J$17:J$66))","v":0},0,0,0,0,0,0,0,0,0,0,0,0,0,0,0,{"$f":"IF($B76=0,0,SUMIF($B$17:$B$66,$B76,Z$17:Z$66))","v":0},0,0,0,0,0,0,0,0,0,0,0,0]
[null,{"$f":"'MENÚ DE INICIO'!AG11","v":0},null,null,null,null,null,null,{"$f":"IF($B77=0,0,SUMIF($B$17:$B$66,$B77,I$17:I$66))","v":0},0,0,0,0,0,0,0,0,0,0,0,0,0,0,0,0,0,0,0,0,0,0,0,0,0,0,0,0,0]
[null,{"$f":"'MENÚ DE INICIO'!AG12","v":0},null,null,null,null,null,null,0,0,0,0,0,0,0,0,0,0,0,0,0,0,0,0,0,0,0,0,0,0,0,0,0,0,0,0,0,0]
[null,{"$f":"'MENÚ DE INICIO'!AG13","v":0},null,null,null,null,null,null,0,0,0,0,0,0,0,0,0,0,0,0,0,0,0,0,0,0,0,0,0,0,0,0,0,0,0,0,0,0]
[null,{"$f":"'MENÚ DE INICIO'!AG14","v":0},null,null,null,null,null,null,0,0,0,0,0,0,0,0,0,0,0,0,0,0,0,0,0,0,0,0,0,0,0,0,0,0,0,0,0,0]
[null,{"$f":"'MENÚ DE INICIO'!AG15","v":0},null,null,null,null,null,null,0,0,0,0,0,0,0,0,0,0,0,0,0,0,0,0,0,0,0,0,0,0,0,0,0,0,0,0,0,0]
[null,{"$f":"'MENÚ DE INICIO'!AG16","v":0},null,null,null,null,null,null,0,0,0,0,0,0,0,0,0,0,0,0,0,0,0,0,0,0,0,0,0,0,0,0,0,0,0,0,0,0]
[null,{"$f":"'MENÚ DE INICIO'!AG17","v":0},null,null,null,null,null,null,0,0,0,0,0,0,0,0,0,0,0,0,0,0,0,0,0,0,0,0,0,0,0,0,0,0,0,0,0,0]
[null,{"$f":"'MENÚ DE INICIO'!AG18","v":0},null,null,null,null,null,null,0,0,0,0,0,0,0,0,0,0,0,0,0,0,0,0,0,0,0,0,0,0,0,0,0,0,0,0,0,0]
[null,{"$f":"'MENÚ DE INICIO'!AG19","v":0},null,null,null,null,null,null,0,0,0,0,0,0,0,0,0,0,0,0,0,0,0,0,0,0,0,0,0,0,0,0,0,0,0,0,0,0]
[null,{"$f":"'MENÚ DE INICIO'!AG20","v":0},null,null,null,null,null,null,0,0,0,0,0,0,0,0,0,0,0,0,0,0,0,0,0,0,0,0,0,0,0,0,0,0,0,0,0,0]
[null,{"$f":"'MENÚ DE INICIO'!AG21","v":0},null,null,null,null,null,null,0,0,0,0,0,0,0,0,0,0,0,0,0,0,0,0,0,0,0,0,0,0,0,0,0,0,0,0,0,0]
[null,{"$f":"'MENÚ DE INICIO'!AG22","v":0},null,null,null,null,null,null,0,0,0,0,0,0,0,0,0,0,0,0,0,0,0,0,0,0,0,0,0,0,0,0,0,0,0,0,0,0]
[null,{"$f":"'MENÚ DE INICIO'!AG23","v":0},null,null,null,null,null,null,0,0,0,0,0,0,0,0,0,0,0,0,0,0,0,0,0,0,0,0,0,0,0,0,0,0,0,0,0,0]
[null,{"$f":"'MENÚ DE INICIO'!AG24","v":0},null,null,null,null,null,null,0,0,0,0,0,0,0,0,0,0,0,0,0,0,0,0,0,0,0,0,0,0,0,0,0,0,0,0,0,0]
[null,{"$f":"'MENÚ DE INICIO'!AG25","v":0},null,null,null,null,null,null,0,0,0,0,0,0,0,0,0,0,0,0,0,0,0,0,{"$f":"IF($B91=0,0,SUMIF($B$17:$B$66,$B91,Y$17:Y$66))","v":0},0,0,0,0,0,0,0,0,0,0,0,0,0]
[null,{"$f":"'MENÚ DE INICIO'!AG26","v":0},null,null,null,null,null,null,0,0,0,0,0,0,0,0,0,0,0,0,0,0,0,0,0,0,0,0,0,0,0,0,0,0,0,0,0,0]
[null,{"$f":"'MENÚ DE INICIO'!AG27","v":0},null,null,null,null,null,null,{"$f":"IF($B93=0,0,SUMIF($B$17:$B$66,$B93,I$17:I$66))","v":0},0,0,0,0,0,0,0,0,0,0,0,0,0,0,0,0,0,0,0,0,0,0,0,0,0,0,0,0,0]
[null,{"$f":"'MENÚ DE INICIO'!AG28","v":0},null,null,null,null,null,null,0,0,0,0,0,0,0,0,0,0,0,0,0,0,0,0,0,0,0,0,0,0,0,0,0,0,0,0,0,0]
[null,{"$f":"'MENÚ DE INICIO'!AG29","v":0},null,null,null,null,null,null,0,0,0,0,0,0,0,0,0,0,0,0,0,0,0,0,0,0,0,0,0,0,0,0,0,0,0,0,0,0]
[null,{"$f":"'MENÚ DE INICIO'!AG30","v":0},null,null,null,null,null,null,0,0,0,0,0,0,0,0,0,0,0,0,0,0,0,0,0,0,0,0,0,0,0,0,0,0,0,0,0,0]
[null,{"$f":"'MENÚ DE INICIO'!AG31","v":0},null,null,null,null,null,null,0,0,0,0,0,0,0,0,0,0,0,0,0,0,0,0,0,0,0,0,0,0,0,0,0,0,0,0,0,0]
[null,{"$f":"'MENÚ DE INICIO'!AG32","v":0},null,null,null,null,null,null,0,0,0,0,0,0,0,0,0,0,0,0,0,0,0,0,0,0,0,0,0,0,0,0,0,0,0,0,0,0]
[null,{"$f":"'MENÚ DE INICIO'!AG33","v":0},null,null,null,null,null,null,0,0,0,0,0,0,0,0,0,0,0,0,0,0,0,0,0,0,0,0,0,0,0,0,0,0,0,0,0,0]
[null,{"$f":"'MENÚ DE INICIO'!AG34","v":0},null,null,null,null,null,null,0,0,0,0,0,0,0,0,0,0,0,0,0,0,0,0,0,0,0,0,0,0,0,0,0,0,0,0,0,0]
[null,{"$f":"'MENÚ DE INICIO'!AG35","v":0},null,null,null,null,null,null,0,0,0,0,0,0,0,0,0,0,0,0,0,0,0,0,0,0,0,0,0,0,0,0,0,0,0,0,0,0]
[null,{"$f":"'MENÚ DE INICIO'!AG36","v":0},null,null,null,null,null,null,0,0,0,0,0,0,0,0,0,0,0,0,0,0,0,0,0,0,0,0,0,0,0,0,0,0,0,0,0,0]
[null,{"$f":"'MENÚ DE INICIO'!AG37","v":0},null,null,null,null,null,null,0,0,0,0,0,0,0,0,0,0,0,0,0,0,0,0,0,0,0,0,0,0,0,0,0,0,0,0,0,0]
[null,{"$f":"'MENÚ DE INICIO'!AG38","v":0},null,null,null,null,null,null,0,0,0,0,0,0,0,0,0,0,0,0,0,0,0,0,0,0,0,0,0,0,0,0,0,0,0,0,0,0]
[null,{"$f":"'MENÚ DE INICIO'!AG39","v":0},null,null,null,null,null,null,0,0,0,0,0,0,0,0,0,0,0,0,0,0,0,0,0,0,0,0,0,0,0,0,0,0,0,0,0,0]
[null,{"$f":"'MENÚ DE INICIO'!AG40","v":0},null,null,null,null,null,null,0,0,0,0,0,0,0,0,0,0,0,0,0,0,0,0,0,0,0,0,0,0,0,0,0,0,0,0,0,0]
[null,{"$f":"'MENÚ DE INICIO'!AG41","v":0},null,null,null,null,null,null,0,0,0,0,0,0,0,0,0,0,0,0,0,0,0,0,{"$f":"IF($B107=0,0,SUMIF($B$17:$B$66,$B107,Y$17:Y$66))","v":0},0,0,0,0,0,0,0,0,0,0,0,0,0]
[null,{"$f":"'MENÚ DE INICIO'!AG42","v":0},null,null,null,null,null,null,0,0,0,0,0,0,0,0,0,0,0,0,0,0,0,{"$f":"IF($B108=0,0,SUMIF($B$17:$B$66,$B108,X$17:X$66))","v":0},0,0,0,0,0,0,0,0,0,0,0,0,0,0]
[null,{"$f":"'MENÚ DE INICIO'!AG43","v":0},null,null,null,null,null,null,{"$f":"IF($B109=0,0,SUMIF($B$17:$B$66,$B109,I$17:I$66))","v":0},0,0,0,0,0,0,0,0,0,0,0,0,0,0,0,0,0,0,0,0,0,0,0,0,0,0,0,0,0]
[null,{"$f":"'MENÚ DE INICIO'!AG44","v":0},null,null,null,null,null,null,0,0,0,0,0,0,0,0,0,0,0,0,0,0,0,0,0,0,0,0,0,0,0,0,0,0,0,0,0,0]
[null,{"$f":"'MENÚ DE INICIO'!AG45","v":0},null,null,null,null,null,null,0,0,0,0,0,0,0,0,0,0,0,0,0,0,0,0,0,0,0,0,0,0,0,0,0,0,0,0,0,0]
[null,{"$f":"'MENÚ DE INICIO'!AG46","v":0},null,null,null,null,null,null,0,0,0,0,0,0,0,0,0,0,0,0,0,0,0,0,0,0,0,0,0,0,0,0,0,0,0,0,0,0]
[null,{"$f":"'MENÚ DE INICIO'!AG47","v":0},null,null,null,null,null,null,0,0,0,0,0,0,0,0,0,0,0,0,0,0,0,0,0,0,0,0,0,0,0,0,0,0,0,0,0,0]
[null,{"$f":"'MENÚ DE INICIO'!AG48","v":0},null,null,null,null,null,null,0,0,0,0,0,0,0,0,0,0,0,0,0,0,0,0,0,0,0,0,0,0,0,0,0,0,0,0,0,0]
[null,{"$f":"'MENÚ DE INICIO'!AG49","v":0},null,null,null,null,null,null,0,0,0,0,0,0,0,0,0,0,0,0,0,0,0,0,0,0,0,0,0,0,0,0,0,0,0,0,0,0]
[null,{"$f":"'MENÚ DE INICIO'!AG50","v":0},null,null,null,null,null,null,0,0,0,0,0,0,0,0,0,0,0,0,0,0,0,0,0,0,0,0,0,0,0,0,0,0,0,0,0,0]
[null,{"$f":"'MENÚ DE INICIO'!AG51","v":0},null,null,null,null,null,null,0,0,0,0,0,0,0,0,0,0,0,0,0,0,0,0,0,0,0,0,0,0,0,0,0,0,0,0,0,0]
[null,{"$f":"'MENÚ DE INICIO'!AG52","v":0},null,null,null,null,null,null,0,0,0,0,0,0,0,0,0,0,0,0,0,0,0,0,0,0,0,0,0,0,0,0,0,0,0,0,0,0]
[null,{"$f":"'MENÚ DE INICIO'!AG53","v":0},null,null,null,null,null,null,0,0,0,0,0,0,0,0,0,0,0,0,0,0,0,0,0,0,0,0,0,0,0,0,0,0,0,0,0,0]
[null,{"$f":"'MENÚ DE INICIO'!AG54","v":0},null,null,null,null,null,null,0,0,0,0,0,0,0,0,0,0,0,0,0,0,0,0,0,0,0,0,0,0,0,0,0,0,0,0,0,0]
[null,{"$f":"'MENÚ DE INICIO'!AG55","v":0},null,null,null,null,null,null,0,0,0,0,0,0,0,0,0,0,0,0,0,0,0,0,0,0,0,0,0,0,0,0,0,0,0,0,0,0]
[null,{"$f":"'MENÚ DE INICIO'!AG56","v":0},null,null,null,null,null,null,0,0,0,0,0,0,0,0,0,0,0,0,0,0,0,0,0,0,0,0,0,0,0,0,0,0,0,0,0,0]
[null,{"$f":"'MENÚ DE INICIO'!AG57","v":0},null,null,null,null,null,null,0,0,0,0,0,0,0,0,0,0,0,0,0,0,0,0,0,0,0,0,0,0,0,0,0,0,0,0,0,0]
[null,{"$f":"'MENÚ DE INICIO'!AG58","v":0},null,null,null,null,null,null,0,0,0,0,0,0,0,0,0,0,0,0,0,0,0,0,{"$f":"IF($B124=0,0,SUMIF($B$17:$B$66,$B124,Y$17:Y$66))","v":0},0,0,0,0,0,0,0,0,0,0,0,0,0]
[null,{"$f":"'MENÚ DE INICIO'!AG59","v":0},null,null,null,null,null,null,{"$f":"IF($B125=0,0,SUMIF($B$17:$B$66,$B125,I$17:I$66))","v":0},0,0,0,0,0,0,0,0,0,0,0,0,0,0,0,0,0,0,0,0,0,0,0,0,0,0,0,0,0]
[null,null,null,null,null,null,null,"TOTAL",{"$f":"SUM(I76:I125)","v":0},0,0,0,0,0,0,0,0,0,0,0,0,0,0,0,0,0,0,0,0,0,0,0,0,0,0,0,0,0]

{"sheet":"PUBLICACIÓN_A1_1","index":5,"n_rows":936,"n_cols":14,"rows_kept":936,"cut":false,"hidden":false,"merged":[[915,2,915,3],[915,4,915,5],[921,0,921,13],[926,2,926,3],[926,4,926,5],[933,2,933,3],[933,4,933,5],[900,2,900,4],[900,6,900,8],[901,2,901,4],[901,6,901,8],[905,0,905,13],[909,2,909,3],[909,4,909,5],[879,2,879,3],[879,4,879,5],[886,2,886,3],[886,4,886,5],[895,4,895,6],[896,4,896,6],[858,0,858,13],[862,2,862,3],[862,4,862,5],[868,2,868,3],[868,4,868,5],[874,0,874,13],[848,4,848,6],[849,4,849,6],[853,2,853,4],[853,6,853,8],[854,2,854,4],[854,6,854,8],[821,2,821,3],[821,4,821,5],[827,0,827,13],[832,2,832,3],[832,4,832,5],[839,2,839,3],[839,4,839,5],[806,2,806,4],[806,6,806,8],[807,2,807,4],[807,6,807,8],[811,0,811,13],[815,2,815,3],[815,4,815,5],[785,2,785,3],[785,4,785,5],[792,2,792,3],[792,4,792,5],[801,4,801,6],[802,4,802,6],[764,0,764,13],[768,2,768,3],[768,4,768,5],[774,2,774,3],[774,4,774,5],[780,0,780,13],[754,4,754,6],[755,4,755,6],[759,2,759,4],[759,6,759,8],[760,2,760,4],[760,6,760,8],[727,2,727,3],[727,4,727,5],[733,0,733,13],[738,2,738,3],[738,4,738,5],[745,2,745,3],[745,4,745,5],[712,2,712,4],[712,6,712,8],[713,2,713,4],[713,6,713,8],[717,0,717,13],[721,2,721,3],[721,4,721,5],[691,2,691,3],[691,4,691,5],[698,2,698,3],[698,4,698,5],[707,4,707,6],[708,4,708,6],[670,0,670,13],[674,2,674,3],[674,4,674,5],[680,2,680,3],[680,4,680,5],[686,0,686,13],[660,4,660,6],[661,4,661,6],[665,2,665,4],[665,6,665,8],[666,2,666,4],[666,6,666,8],[633,2,633,3],[633,4,633,5],[639,0,639,13],[644,2,644,3],[644,4,644,5],[651,2,651,3],[651,4,651,5],[618,2,618,4],[618,6,618,8],[619,2,619,4],[619,6,619,8],[623,0,623,13],[627,2,627,3],[627,4,627,5],[597,2,597,3],[597,4,597,5],[604,2,604,3],[604,4,604,5],[613,4,613,6],[614,4,614,6],[576,0,576,13],[580,2,580,3],[580,4,580,5],[586,2,586,3],[586,4,586,5],[592,0,592,13],[566,4,566,6],[567,4,567,6],[571,2,571,4],[571,6,571,8],[572,2,572,4],[572,6,572,8],[539,2,539,3],[539,4,539,5],[545,0,545,13],[550,2,550,3],[550,4,550,5],[557,2,557,3],[557,4,557,5],[524,2,524,4],[524,6,524,8],[525,2,525,4],[525,6,525,8],[529,0,529,13],[533,2,533,3],[533,4,533,5],[503,2,503,3],[503,4,503,5],[510,2,510,3],[510,4,510,5],[519,4,519,6],[520,4,520,6],[482,0,482,13],[486,2,486,3],[486,4,486,5],[492,2,492,3],[492,4,492,5],[498,0,498,13],[472,4,472,6],[473,4,473,6],[477,2,477,4],[477,6,477,8],[478,2,478,4],[478,6,478,8],[445,2,445,3],[445,4,445,5],[451,0,451,13],[456,2,456,3],[456,4,456,5],[463,2,463,3],[463,4,463,5],[430,2,430,4],[430,6,430,8],[431,2,431,4],[431,6,431,8],[435,0,435,13],[439,2,439,3],[439,4,439,5],[409,2,409,3],[409,4,409,5],[416,2,416,3],[416,4,416,5],[425,4,425,6],[426,4,426,6],[388,0,388,13],[392,2,392,3],[392,4,392,5],[398,2,398,3],[398,4,398,5],[404,0,404,13],[378,4,378,6],[379,4,379,6],[383,2,383,4],[383,6,383,8],[384,2,384,4],[384,6,384,8],[351,2,351,3],[351,4,351,5],[357,0,357,13],[362,2,362,3],[362,4,362,5],[369,2,369,3],[369,4,369,5],[336,2,336,4],[336,6,336,8],[337,2,337,4],[337,6,337,8],[341,0,341,13],[345,2,345,3],[345,4,345,5],[315,2,315,3],[315,4,315,5],[322,2,322,3],[322,4,322,5],[331,4,331,6],[332,4,332,6],[294,0,294,13],[298,2,298,3],[298,4,298,5],[304,2,304,3],[304,4,304,5],[310,0,310,13],[284,4,284,6],[285,4,285,6],[289,2,289,4],[289,6,289,8],[290,2,290,4],[290,6,290,8],[257,2,257,3],[257,4,257,5],[263,0,263,13],[268,2,268,3],[268,4,268,5],[275,2,275,3],[275,4,275,5],[242,2,242,4],[242,6,242,8],[243,2,243,4],[243,6,243,8],[247,0,247,13],[251,2,251,3],[251,4,251,5],[221,2,221,3],[221,4,221,5],[228,2,228,3],[228,4,228,5],[237,4,237,6],[238,4,238,6],[200,0,200,13],[204,2,204,3],[204,4,204,5],[210,2,210,3],[210,4,210,5],[216,0,216,13],[190,4,190,6],[191,4,191,6],[195,2,195,4],[195,6,195,8],[196,2,196,4],[196,6,196,8],[163,2,163,3],[163,4,163,5],[169,0,169,13],[174,2,174,3],[174,4,174,5],[181,2,181,3],[181,4,181,5],[148,2,148,4],[148,6,148,8],[149,2,149,4],[149,6,149,8],[153,0,153,13],[157,2,157,3],[157,4,157,5],[127,2,127,3],[127,4,127,5],[134,2,134,3],[134,4,134,5],[143,4,143,6],[144,4,144,6],[106,0,106,13],[110,2,110,3],[110,4,110,5],[116,2,116,3],[116,4,116,5],[122,0,122,13],[96,4,96,6],[97,4,97,6],[101,2,101,4],[101,6,101,8],[102,2,102,4],[102,6,102,8],[69,2,69,3],[69,4,69,5],[75,0,75,13],[80,2,80,3],[80,4,80,5],[87,2,87,3],[87,4,87,5],[54,2,54,4],[54,6,54,8],[55,2,55,4],[55,6,55,8],[59,0,59,13],[63,2,63,3],[63,4,63,5],[33,2,33,3],[33,4,33,5],[40,2,40,3],[40,4,40,5],[49,4,49,6],[50,4,50,6],[12,0,12,13],[16,2,16,3],[16,4,16,5],[22,2,22,3],[22,4,22,5],[28,0,28,13],[2,4,2,6],[3,4,3,6],[7,2,7,4],[7,6,7,8],[8,2,8,4],[8,6,8,8]]}
[{"$f":"\"PUBLICACIÓN DE RESULTADOS: ENVÍO \" & N1","v":"PUBLICACIÓN DE RESULTADOS: ENVÍO 1"},null,null,null,null,null,null,null,null,null,null,null,null,{"$f":"(ROW(A1)-1)/47+1","v":1}]
[]
[null,"Cliente del envío",null,null,{"$f":"SHEETOFFSET(-1,INDIRECT(\"B\"&16+N1))","v":0}]
[null,"Denominación del envío",null,null,{"$f":"SHEETOFFSET(-1,INDIRECT(\"C\"&16+N1))","v":0}]
[]
[null,"Trayecto del que se compone el servicio de transporte"]
[]
[null,null,"Denominación del origen",null,null,null,"Denominación del destino"]
[null,"Trayecto 1:",{"$f":"SHEETOFFSET(-1,INDIRECT(\"D\"&16+N1))","v":0},null,null,"a",{"$f":"SHEETOFFSET(-1,INDIRECT(\"E\"&16+N1))","v":0}]
[]
[]
[]
["CONSUMO ENERGÉTICO Y EMISIONES DE GEI DEL SERVICIO DE TRANSPORTE, DE ACUERDO AL ALCANCE DE LA NORMA EN 16258"]
[]
[null,"Consumo energético (MJ)"]
[]
[null,null,"\"Del tanque a la rueda\" (TtW)",null,"\"Del pozo a la rueda\" (WtW)"]
[null,"Trayecto 1:",{"$f":"SHEETOFFSET(-1,INDIRECT(\"AE\"&16+N1))","v":0},"MJ",{"$f":"SHEETOFFSET(-1,INDIRECT(\"AF\"&16+N1))","v":0},"MJ"]
[null,"TOTAL",{"$f":"SUM(C18:C18)","v":0},"MJ",{"$f":"SUM(E18:E18)","v":0},"MJ"]
[]
[null,"Emisiones de GEI (kgCO2e)"]
[]
[null,null,"\"Del tanque a la rueda\" (TtW)",null,"\"Del pozo a la rueda\" (WtW)"]
[null,"Trayecto 1:",{"$f":"SHEETOFFSET(-1,INDIRECT(\"AG\"&16+N1))","v":0},"kg CO2e",{"$f":"SHEETOFFSET(-1,INDIRECT(\"AH\"&16+N1))","v":0},"kg CO2e"]
[null,"TOTAL",{"$f":"SUM(C24:C24)","v":0},"kg CO2e",{"$f":"SUM(E24:E24)","v":0},"kg CO2e"]
[]
[]
[]
["CONSUMO ENERGÉTICO Y EMISIONES DE GEI DEL SERVICIO DE TRANSPORTE. INFORMACIÓN ADICIONAL"]
[]
[]
[null,"Consumo energético (MJ)"]
[]
[null,null,"\"Del tanque a la rueda\" (TtW)",null,"\"Del pozo a la rueda\" (WtW)"]
[null,"Trayecto 1:",{"$f":"SHEETOFFSET(-1,INDIRECT(\"AA\"&16+N1))","v":0},"MJ",{"$f":"SHEETOFFSET(-1,INDIRECT(\"AB\"&16+N1))","v":0},"MJ"]
[null,"TOTAL",{"$f":"SUM(C35:C35)","v":0},"MJ",{"$f":"SUM(E35:E35)","v":0},"MJ"]
[]
[]
[null,"Emisiones de GEI (kgCO2e)"]
[]
[null,null,"\"Del tanque a la rueda\" (TtW)",null,"\"Del pozo a la rueda\" (WtW)"]
[null,"Trayecto 1:",{"$f":"SHEETOFFSET(-1,INDIRECT(\"AC\"&16+N1))","v":0},"kg CO2e",{"$f":"SHEETOFFSET(-1,INDIRECT(\"AD\"&16+N1))","v":0},"kg CO2e"]
[null,"TOTAL",{"$f":"SUM(C42:C42)","v":0},"kg CO2e",{"$f":"SUM(E42:E42)","v":0},"kg CO2e"]
[]
[]
[]
[]
[{"$f":"\"PUBLICACIÓN DE RESULTADOS: ENVÍO \" & N48","v":"PUBLICACIÓN DE RESULTADOS: ENVÍO 2"},null,null,null,null,null,null,null,null,null,null,null,null,{"$f":"(ROW(A48)-1)/47+1","v":2}]
[]
[null,"Cliente del envío",null,null,{"$f":"SHEETOFFSET(-1,INDIRECT(\"B\"&16+N48))","v":0}]
[null,"Denominación del envío",null,null,{"$f":"SHEETOFFSET(-1,INDIRECT(\"C\"&16+N49))","v":0}]
[]
[null,"Trayecto del que se compone el servicio de transporte"]
[]
[null,null,"Denominación del origen",null,null,null,"Denominación del destino"]
[null,"Trayecto 1:",{"$f":"SHEETOFFSET(-1,INDIRECT(\"D\"&16+N48))","v":0},null,null,"a",{"$f":"SHEETOFFSET(-1,INDIRECT(\"E\"&16+N48))","v":0}]
[]
[]
[]
["CONSUMO ENERGÉTICO Y EMISIONES DE GEI DEL SERVICIO DE TRANSPORTE, DE ACUERDO AL ALCANCE DE LA NORMA EN 16258"]
[]
[null,"Consumo energético (MJ)"]
[]
[null,null,"\"Del tanque a la rueda\" (TtW)",null,"\"Del pozo a la rueda\" (WtW)"]
[null,"Trayecto 1:",{"$f":"SHEETOFFSET(-1,INDIRECT(\"AE\"&16+N48))","v":0},"MJ",{"$f":"SHEETOFFSET(-1,INDIRECT(\"AF\"&16+N48))","v":0},"MJ"]
[null,"TOTAL",{"$f":"SUM(C65:C65)","v":0},"MJ",{"$f":"SUM(E65:E65)","v":0},"MJ"]
[]
[null,"Emisiones de GEI (kgCO2e)"]
[]
[null,null,"\"Del tanque a la rueda\" (TtW)",null,"\"Del pozo a la rueda\" (WtW)"]
[null,"Trayecto 1:",{"$f":"SHEETOFFSET(-1,INDIRECT(\"AG\"&16+N48))","v":0},"kg CO2e",{"$f":"SHEETOFFSET(-1,INDIRECT(\"AH\"&16+N48))","v":0},"kg CO2e"]
[null,"TOTAL",{"$f":"SUM(C71:C71)","v":0},"kg CO2e",{"$f":"SUM(E71:E71)","v":0},"kg CO2e"]
[]
[]
[]
["CONSUMO ENERGÉTICO Y EMISIONES DE GEI DEL SERVICIO DE TRANSPORTE. INFORMACIÓN ADICIONAL"]
[]
[]
[null,"Consumo energético (MJ)"]
[]
[null,null,"\"Del tanque a la rueda\" (TtW)",null,"\"Del pozo a la rueda\" (WtW)"]
[null,"Trayecto 1:",{"$f":"SHEETOFFSET(-1,INDIRECT(\"AA\"&16+N48))","v":0},"MJ",{"$f":"SHEETOFFSET(-1,INDIRECT(\"AB\"&16+N48))","v":0},"MJ"]
[null,"TOTAL",{"$f":"SUM(C82:C82)","v":0},"MJ",{"$f":"SUM(E82:E82)","v":0},"MJ"]
[]
[]
[null,"Emisiones de GEI (kgCO2e)"]
[]
[null,null,"\"Del tanque a la rueda\" (TtW)",null,"\"Del pozo a la rueda\" (WtW)"]
[null,"Trayecto 1:",{"$f":"SHEETOFFSET(-1,INDIRECT(\"AC\"&16+N48))","v":0},"kg CO2e",{"$f":"SHEETOFFSET(-1,INDIRECT(\"AD\"&16+N48))","v":0},"kg CO2e"]
[null,"TOTAL",{"$f":"SUM(C89:C89)","v":0},"kg CO2e",{"$f":"SUM(E89:E89)","v":0},"kg CO2e"]
[]
[]
[]
[]
[{"$f":"\"PUBLICACIÓN DE RESULTADOS: ENVÍO \" & N95","v":"PUBLICACIÓN DE RESULTADOS: ENVÍO 3"},null,null,null,null,null,null,null,null,null,null,null,null,{"$f":"(ROW(A95)-1)/47+1","v":3}]
[]
[null,"Cliente del envío",null,null,{"$f":"SHEETOFFSET(-1,INDIRECT(\"B\"&16+N95))","v":0}]
[null,"Denominación del envío",null,null,{"$f":"SHEETOFFSET(-1,INDIRECT(\"C\"&16+N96))","v":0}]
[]
[null,"Trayecto del que se compone el servicio de transporte"]
[]
[null,null,"Denominación del origen",null,null,null,"Denominación del destino"]
[null,"Trayecto 1:",{"$f":"SHEETOFFSET(-1,INDIRECT(\"D\"&16+N95))","v":0},null,null,"a",{"$f":"SHEETOFFSET(-1,INDIRECT(\"E\"&16+N95))","v":0}]
[]
[]
[]
["CONSUMO ENERGÉTICO Y EMISIONES DE GEI DEL SERVICIO DE TRANSPORTE, DE ACUERDO AL ALCANCE DE LA NORMA EN 16258"]
[]
[null,"Consumo energético (MJ)"]
[]
[null,null,"\"Del tanque a la rueda\" (TtW)",null,"\"Del pozo a la rueda\" (WtW)"]
[null,"Trayecto 1:",{"$f":"SHEETOFFSET(-1,INDIRECT(\"AE\"&16+N95))","v":0},"MJ",{"$f":"SHEETOFFSET(-1,INDIRECT(\"AF\"&16+N95))","v":0},"MJ"]
[null,"TOTAL",{"$f":"SUM(C112:C112)","v":0},"MJ",{"$f":"SUM(E112:E112)","v":0},"MJ"]
[]
[null,"Emisiones de GEI (kgCO2e)"]
[]
[null,null,"\"Del tanque a la rueda\" (TtW)",null,"\"Del pozo a la rueda\" (WtW)"]
[null,"Trayecto 1:",{"$f":"SHEETOFFSET(-1,INDIRECT(\"AG\"&16+N95))","v":0},"kg CO2e",{"$f":"SHEETOFFSET(-1,INDIRECT(\"AH\"&16+N95))","v":0},"kg CO2e"]
[null,"TOTAL",{"$f":"SUM(C118:C118)","v":0},"kg CO2e",{"$f":"SUM(E118:E118)","v":0},"kg CO2e"]
[]
[]
[]
["CONSUMO ENERGÉTICO Y EMISIONES DE GEI DEL SERVICIO DE TRANSPORTE. INFORMACIÓN ADICIONAL"]
[]
[]
[null,"Consumo energético (MJ)"]
[]
[null,null,"\"Del tanque a la rueda\" (TtW)",null,"\"Del pozo a la rueda\" (WtW)"]
[null,"Trayecto 1:",{"$f":"SHEETOFFSET(-1,INDIRECT(\"AA\"&16+N95))","v":0},"MJ",{"$f":"SHEETOFFSET(-1,INDIRECT(\"AB\"&16+N95))","v":0},"MJ"]
[null,"TOTAL",{"$f":"SUM(C129:C129)","v":0},"MJ",{"$f":"SUM(E129:E129)","v":0},"MJ"]
[]
[]
[null,"Emisiones de GEI (kgCO2e)"]
[]
[null,null,"\"Del tanque a la rueda\" (TtW)",null,"\"Del pozo a la rueda\" (WtW)"]
[null,"Trayecto 1:",{"$f":"SHEETOFFSET(-1,INDIRECT(\"AC\"&16+N95))","v":0},"kg CO2e",{"$f":"SHEETOFFSET(-1,INDIRECT(\"AD\"&16+N95))","v":0},"kg CO2e"]
[null,"TOTAL",{"$f":"SUM(C136:C136)","v":0},"kg CO2e",{"$f":"SUM(E136:E136)","v":0},"kg CO2e"]
[]
[]
[]
[]
[{"$f":"\"PUBLICACIÓN DE RESULTADOS: ENVÍO \" & N142","v":"PUBLICACIÓN DE RESULTADOS: ENVÍO 4"},null,null,null,null,null,null,null,null,null,null,null,null,{"$f":"(ROW(A142)-1)/47+1","v":4}]
[]
[null,"Cliente del envío",null,null,{"$f":"SHEETOFFSET(-1,INDIRECT(\"B\"&16+N142))","v":0}]
[null,"Denominación del envío",null,null,{"$f":"SHEETOFFSET(-1,INDIRECT(\"C\"&16+N143))","v":0}]
[]
[null,"Trayecto del que se compone el servicio de transporte"]
[]
[null,null,"Denominación del origen",null,null,null,"Denominación del destino"]
[null,"Trayecto 1:",{"$f":"SHEETOFFSET(-1,INDIRECT(\"D\"&16+N142))","v":0},null,null,"a",{"$f":"SHEETOFFSET(-1,INDIRECT(\"E\"&16+N142))","v":0}]
[]
[]
[]
["CONSUMO ENERGÉTICO Y EMISIONES DE GEI DEL SERVICIO DE TRANSPORTE, DE ACUERDO AL ALCANCE DE LA NORMA EN 16258"]
[]
[null,"Consumo energético (MJ)"]
[]
[null,null,"\"Del tanque a la rueda\" (TtW)",null,"\"Del pozo a la rueda\" (WtW)"]
[null,"Trayecto 1:",{"$f":"SHEETOFFSET(-1,INDIRECT(\"AE\"&16+N142))","v":0},"MJ",{"$f":"SHEETOFFSET(-1,INDIRECT(\"AF\"&16+N142))","v":0},"MJ"]
[null,"TOTAL",{"$f":"SUM(C159:C159)","v":0},"MJ",{"$f":"SUM(E159:E159)","v":0},"MJ"]
[]
[null,"Emisiones de GEI (kgCO2e)"]
[]
[null,null,"\"Del tanque a la rueda\" (TtW)",null,"\"Del pozo a la rueda\" (WtW)"]
[null,"Trayecto 1:",{"$f":"SHEETOFFSET(-1,INDIRECT(\"AG\"&16+N142))","v":0},"kg CO2e",{"$f":"SHEETOFFSET(-1,INDIRECT(\"AH\"&16+N142))","v":0},"kg CO2e"]
[null,"TOTAL",{"$f":"SUM(C165:C165)","v":0},"kg CO2e",{"$f":"SUM(E165:E165)","v":0},"kg CO2e"]
[]
[]
[]
["CONSUMO ENERGÉTICO Y EMISIONES DE GEI DEL SERVICIO DE TRANSPORTE. INFORMACIÓN ADICIONAL"]
[]
[]
[null,"Consumo energético (MJ)"]
[]
[null,null,"\"Del tanque a la rueda\" (TtW)",null,"\"Del pozo a la rueda\" (WtW)"]
[null,"Trayecto 1:",{"$f":"SHEETOFFSET(-1,INDIRECT(\"AA\"&16+N142))","v":0},"MJ",{"$f":"SHEETOFFSET(-1,INDIRECT(\"AB\"&16+N142))","v":0},"MJ"]
[null,"TOTAL",{"$f":"SUM(C176:C176)","v":0},"MJ",{"$f":"SUM(E176:E176)","v":0},"MJ"]
[]
[]
[null,"Emisiones de GEI (kgCO2e)"]
[]
[null,null,"\"Del tanque a la rueda\" (TtW)",null,"\"Del pozo a la rueda\" (WtW)"]
[null,"Trayecto 1:",{"$f":"SHEETOFFSET(-1,INDIRECT(\"AC\"&16+N142))","v":0},"kg CO2e",{"$f":"SHEETOFFSET(-1,INDIRECT(\"AD\"&16+N142))","v":0},"kg CO2e"]
[null,"TOTAL",{"$f":"SUM(C183:C183)","v":0},"kg CO2e",{"$f":"SUM(E183:E183)","v":0},"kg CO2e"]
[]
[]
[]
[]
[{"$f":"\"PUBLICACIÓN DE RESULTADOS: ENVÍO \" & N189","v":"PUBLICACIÓN DE RESULTADOS: ENVÍO 5"},null,null,null,null,null,null,null,null,null,null,null,null,{"$f":"(ROW(A189)-1)/47+1","v":5}]
[]
[null,"Cliente del envío",null,null,{"$f":"SHEETOFFSET(-1,INDIRECT(\"B\"&16+N189))","v":0}]
[null,"Denominación del envío",null,null,{"$f":"SHEETOFFSET(-1,INDIRECT(\"C\"&16+N190))","v":0}]
[]
[null,"Trayecto del que se compone el servicio de transporte"]
[]
[null,null,"Denominación del origen",null,null,null,"Denominación del destino"]
[null,"Trayecto 1:",{"$f":"SHEETOFFSET(-1,INDIRECT(\"D\"&16+N189))","v":0},null,null,"a",{"$f":"SHEETOFFSET(-1,INDIRECT(\"E\"&16+N189))","v":0}]
[]
[]
[]
["CONSUMO ENERGÉTICO Y EMISIONES DE GEI DEL SERVICIO DE TRANSPORTE, DE ACUERDO AL ALCANCE DE LA NORMA EN 16258"]
[]
[null,"Consumo energético (MJ)"]
[]
[null,null,"\"Del tanque a la rueda\" (TtW)",null,"\"Del pozo a la rueda\" (WtW)"]
[null,"Trayecto 1:",{"$f":"SHEETOFFSET(-1,INDIRECT(\"AE\"&16+N189))","v":0},"MJ",{"$f":"SHEETOFFSET(-1,INDIRECT(\"AF\"&16+N189))","v":0},"MJ"]
[null,"TOTAL",{"$f":"SUM(C206:C206)","v":0},"MJ",{"$f":"SUM(E206:E206)","v":0},"MJ"]
[]
[null,"Emisiones de GEI (kgCO2e)"]
[]
[null,null,"\"Del tanque a la rueda\" (TtW)",null,"\"Del pozo a la rueda\" (WtW)"]
[null,"Trayecto 1:",{"$f":"SHEETOFFSET(-1,INDIRECT(\"AG\"&16+N189))","v":0},"kg CO2e",{"$f":"SHEETOFFSET(-1,INDIRECT(\"AH\"&16+N189))","v":0},"kg CO2e"]
[null,"TOTAL",{"$f":"SUM(C212:C212)","v":0},"kg CO2e",{"$f":"SUM(E212:E212)","v":0},"kg CO2e"]
[]
[]
[]
["CONSUMO ENERGÉTICO Y EMISIONES DE GEI DEL SERVICIO DE TRANSPORTE. INFORMACIÓN ADICIONAL"]
[]
[]
[null,"Consumo energético (MJ)"]
[]
[null,null,"\"Del tanque a la rueda\" (TtW)",null,"\"Del pozo a la rueda\" (WtW)"]
[null,"Trayecto 1:",{"$f":"SHEETOFFSET(-1,INDIRECT(\"AA\"&16+N189))","v":0},"MJ",{"$f":"SHEETOFFSET(-1,INDIRECT(\"AB\"&16+N189))","v":0},"MJ"]
[null,"TOTAL",{"$f":"SUM(C223:C223)","v":0},"MJ",{"$f":"SUM(E223:E223)","v":0},"MJ"]
[]
[]
[null,"Emisiones de GEI (kgCO2e)"]
[]
[null,null,"\"Del tanque a la rueda\" (TtW)",null,"\"Del pozo a la rueda\" (WtW)"]
[null,"Trayecto 1:",{"$f":"SHEETOFFSET(-1,INDIRECT(\"AC\"&16+N189))","v":0},"kg CO2e",{"$f":"SHEETOFFSET(-1,INDIRECT(\"AD\"&16+N189))","v":0},"kg CO2e"]
[null,"TOTAL",{"$f":"SUM(C230:C230)","v":0},"kg CO2e",{"$f":"SUM(E230:E230)","v":0},"kg CO2e"]
[]
[]
[]
[]
[{"$f":"\"PUBLICACIÓN DE RESULTADOS: ENVÍO \" & N136","v":"PUBLICACIÓN DE RESULTADOS: ENVÍO "},null,null,null,null,null,null,null,null,null,null,null,null,{"$f":"(ROW(A236)-1)/47+1","v":6}]
[]
[null,"Cliente del envío",null,null,{"$f":"SHEETOFFSET(-1,INDIRECT(\"B\"&16+N136))","v":0}]
[null,"Denominación del envío",null,null,{"$f":"SHEETOFFSET(-1,INDIRECT(\"C\"&16+N137))","v":0}]
[]
[null,"Trayecto del que se compone el servicio de transporte"]
[]
[null,null,"Denominación del origen",null,null,null,"Denominación del destino"]
[null,"Trayecto 1:",{"$f":"SHEETOFFSET(-1,INDIRECT(\"D\"&16+N136))","v":0},null,null,"a",{"$f":"SHEETOFFSET(-1,INDIRECT(\"E\"&16+N136))","v":0}]
[]
[]
[]
["CONSUMO ENERGÉTICO Y EMISIONES DE GEI DEL SERVICIO DE TRANSPORTE, DE ACUERDO AL ALCANCE DE LA NORMA EN 16258"]
[]
[null,"Consumo energético (MJ)"]
[]
[null,null,"\"Del tanque a la rueda\" (TtW)",null,"\"Del pozo a la rueda\" (WtW)"]
[null,"Trayecto 1:",{"$f":"SHEETOFFSET(-1,INDIRECT(\"AE\"&16+N136))","v":"Consumo energético del tanque a las ruedas"},"MJ",{"$f":"SHEETOFFSET(-1,INDIRECT(\"AF\"&16+N136))","v":"Consumo energético del pozo a las ruedas"},"MJ"]
[null,"TOTAL",{"$f":"SUM(C253:C253)","v":0},"MJ",{"$f":"SUM(E253:E253)","v":0},"MJ"]
[]
[null,"Emisiones de GEI (kgCO2e)"]
[]
[null,null,"\"Del tanque a la rueda\" (TtW)",null,"\"Del pozo a la rueda\" (WtW)"]
[null,"Trayecto 1:",{"$f":"SHEETOFFSET(-1,INDIRECT(\"AG\"&16+N136))","v":"Emisiones de GEI del tanque a las ruedas"},"kg CO2e",{"$f":"SHEETOFFSET(-1,INDIRECT(\"AH\"&16+N136))","v":"Emisiones de GEI del pozo a las ruedas"},"kg CO2e"]
[null,"TOTAL",{"$f":"SUM(C259:C259)","v":0},"kg CO2e",{"$f":"SUM(E259:E259)","v":0},"kg CO2e"]
[]
[]
[]
["CONSUMO ENERGÉTICO Y EMISIONES DE GEI DEL SERVICIO DE TRANSPORTE. INFORMACIÓN ADICIONAL"]
[]
[]
[null,"Consumo energético (MJ)"]
[]
[null,null,"\"Del tanque a la rueda\" (TtW)",null,"\"Del pozo a la rueda\" (WtW)"]
[null,"Trayecto 1:",{"$f":"SHEETOFFSET(-1,INDIRECT(\"AA\"&16+N136))","v":"Consumo energético directo"},"MJ",{"$f":"SHEETOFFSET(-1,INDIRECT(\"AB\"&16+N136))","v":"Consumo energético directo e indirecto"},"MJ"]
[null,"TOTAL",{"$f":"SUM(C270:C270)","v":0},"MJ",{"$f":"SUM(E270:E270)","v":0},"MJ"]
[]
[]
[null,"Emisiones de GEI (kgCO2e)"]
[]
[null,null,"\"Del tanque a la rueda\" (TtW)",null,"\"Del pozo a la rueda\" (WtW)"]
[null,"Trayecto 1:",{"$f":"SHEETOFFSET(-1,INDIRECT(\"AC\"&16+N136))","v":"Emisiones de GEI directas"},"kg CO2e",{"$f":"SHEETOFFSET(-1,INDIRECT(\"AD\"&16+N136))","v":"Emisiones de GEI directas e indirectas"},"kg CO2e"]
[null,"TOTAL",{"$f":"SUM(C277:C277)","v":0},"kg CO2e",{"$f":"SUM(E277:E277)","v":0},"kg CO2e"]
[]
[]
[]
[]
[{"$f":"\"PUBLICACIÓN DE RESULTADOS: ENVÍO \" & N183","v":"PUBLICACIÓN DE RESULTADOS: ENVÍO "},null,null,null,null,null,null,null,null,null,null,null,null,{"$f":"(ROW(A283)-1)/47+1","v":7}]
[]
[null,"Cliente del envío",null,null,{"$f":"SHEETOFFSET(-1,INDIRECT(\"B\"&16+N183))","v":0}]
[null,"Denominación del envío",null,null,{"$f":"SHEETOFFSET(-1,INDIRECT(\"C\"&16+N184))","v":0}]
[]
[null,"Trayecto del que se compone el servicio de transporte"]
[]
[null,null,"Denominación del origen",null,null,null,"Denominación del destino"]
[null,"Trayecto 1:",{"$f":"SHEETOFFSET(-1,INDIRECT(\"D\"&16+N183))","v":0},null,null,"a",{"$f":"SHEETOFFSET(-1,INDIRECT(\"E\"&16+N183))","v":0}]
[]
[]
[]
["CONSUMO ENERGÉTICO Y EMISIONES DE GEI DEL SERVICIO DE TRANSPORTE, DE ACUERDO AL ALCANCE DE LA NORMA EN 16258"]
[]
[null,"Consumo energético (MJ)"]
[]
[null,null,"\"Del tanque a la rueda\" (TtW)",null,"\"Del pozo a la rueda\" (WtW)"]
[null,"Trayecto 1:",{"$f":"SHEETOFFSET(-1,INDIRECT(\"AE\"&16+N183))","v":"Consumo energético del tanque a las ruedas"},"MJ",{"$f":"SHEETOFFSET(-1,INDIRECT(\"AF\"&16+N183))","v":"Consumo energético del pozo a las ruedas"},"MJ"]
[null,"TOTAL",{"$f":"SUM(C300:C300)","v":0},"MJ",{"$f":"SUM(E300:E300)","v":0},"MJ"]
[]
[null,"Emisiones de GEI (kgCO2e)"]
[]
[null,null,"\"Del tanque a la rueda\" (TtW)",null,"\"Del pozo a la rueda\" (WtW)"]
[null,"Trayecto 1:",{"$f":"SHEETOFFSET(-1,INDIRECT(\"AG\"&16+N183))","v":"Emisiones de GEI del tanque a las ruedas"},"kg CO2e",{"$f":"SHEETOFFSET(-1,INDIRECT(\"AH\"&16+N183))","v":"Emisiones de GEI del pozo a las ruedas"},"kg CO2e"]
[null,"TOTAL",{"$f":"SUM(C306:C306)","v":0},"kg CO2e",{"$f":"SUM(E306:E306)","v":0},"kg CO2e"]
[]
[]
[]
["CONSUMO ENERGÉTICO Y EMISIONES DE GEI DEL SERVICIO DE TRANSPORTE. INFORMACIÓN ADICIONAL"]
[]
[]
[null,"Consumo energético (MJ)"]
[]
[null,null,"\"Del tanque a la rueda\" (TtW)",null,"\"Del pozo a la rueda\" (WtW)"]
[null,"Trayecto 1:",{"$f":"SHEETOFFSET(-1,INDIRECT(\"AA\"&16+N183))","v":"Consumo energético directo"},"MJ",{"$f":"SHEETOFFSET(-1,INDIRECT(\"AB\"&16+N183))","v":"Consumo energético directo e indirecto"},"MJ"]
[null,"TOTAL",{"$f":"SUM(C317:C317)","v":0},"MJ",{"$f":"SUM(E317:E317)","v":0},"MJ"]
[]
[]
[null,"Emisiones de GEI (kgCO2e)"]
[]
[null,null,"\"Del tanque a la rueda\" (TtW)",null,"\"Del pozo a la rueda\" (WtW)"]
[null,"Trayecto 1:",{"$f":"SHEETOFFSET(-1,INDIRECT(\"AC\"&16+N183))","v":"Emisiones de GEI directas"},"kg CO2e",{"$f":"SHEETOFFSET(-1,INDIRECT(\"AD\"&16+N183))","v":"Emisiones de GEI directas e indirectas"},"kg CO2e"]
[null,"TOTAL",{"$f":"SUM(C324:C324)","v":0},"kg CO2e",{"$f":"SUM(E324:E324)","v":0},"kg CO2e"]
[]
[]
[]
[]
[{"$f":"\"PUBLICACIÓN DE RESULTADOS: ENVÍO \" & N330","v":"PUBLICACIÓN DE RESULTADOS: ENVÍO 8"},null,null,null,null,null,null,null,null,null,null,null,null,{"$f":"(ROW(A330)-1)/47+1","v":8}]
[]
[null,"Cliente del envío",null,null,{"$f":"SHEETOFFSET(-1,INDIRECT(\"B\"&16+N330))","v":0}]
[null,"Denominación del envío",null,null,{"$f":"SHEETOFFSET(-1,INDIRECT(\"C\"&16+N331))","v":0}]
[]
[null,"Trayecto del que se compone el servicio de transporte"]
[]
[null,null,"Denominación del origen",null,null,null,"Denominación del destino"]
[null,"Trayecto 1:",{"$f":"SHEETOFFSET(-1,INDIRECT(\"D\"&16+N330))","v":0},null,null,"a",{"$f":"SHEETOFFSET(-1,INDIRECT(\"E\"&16+N330))","v":0}]
[]
[]
[]
["CONSUMO ENERGÉTICO Y EMISIONES DE GEI DEL SERVICIO DE TRANSPORTE, DE ACUERDO AL ALCANCE DE LA NORMA EN 16258"]
[]
[null,"Consumo energético (MJ)"]
[]
[null,null,"\"Del tanque a la rueda\" (TtW)",null,"\"Del pozo a la rueda\" (WtW)"]
[null,"Trayecto 1:",{"$f":"SHEETOFFSET(-1,INDIRECT(\"AE\"&16+N330))","v":0},"MJ",{"$f":"SHEETOFFSET(-1,INDIRECT(\"AF\"&16+N330))","v":0},"MJ"]
[null,"TOTAL",{"$f":"SUM(C347:C347)","v":0},"MJ",{"$f":"SUM(E347:E347)","v":0},"MJ"]
[]
[null,"Emisiones de GEI (kgCO2e)"]
[]
[null,null,"\"Del tanque a la rueda\" (TtW)",null,"\"Del pozo a la rueda\" (WtW)"]
[null,"Trayecto 1:",{"$f":"SHEETOFFSET(-1,INDIRECT(\"AG\"&16+N330))","v":0},"kg CO2e",{"$f":"SHEETOFFSET(-1,INDIRECT(\"AH\"&16+N330))","v":0},"kg CO2e"]
[null,"TOTAL",{"$f":"SUM(C353:C353)","v":0},"kg CO2e",{"$f":"SUM(E353:E353)","v":0},"kg CO2e"]
[]
[]
[]
["CONSUMO ENERGÉTICO Y EMISIONES DE GEI DEL SERVICIO DE TRANSPORTE. INFORMACIÓN ADICIONAL"]
[]
[]
[null,"Consumo energético (MJ)"]
[]
[null,null,"\"Del tanque a la rueda\" (TtW)",null,"\"Del pozo a la rueda\" (WtW)"]
[null,"Trayecto 1:",{"$f":"SHEETOFFSET(-1,INDIRECT(\"AA\"&16+N330))","v":0},"MJ",{"$f":"SHEETOFFSET(-1,INDIRECT(\"AB\"&16+N330))","v":0},"MJ"]
[null,"TOTAL",{"$f":"SUM(C364:C364)","v":0},"MJ",{"$f":"SUM(E364:E364)","v":0},"MJ"]
[]
[]
[null,"Emisiones de GEI (kgCO2e)"]
[]
[null,null,"\"Del tanque a la rueda\" (TtW)",null,"\"Del pozo a la rueda\" (WtW)"]
[null,"Trayecto 1:",{"$f":"SHEETOFFSET(-1,INDIRECT(\"AC\"&16+N330))","v":0},"kg CO2e",{"$f":"SHEETOFFSET(-1,INDIRECT(\"AD\"&16+N330))","v":0},"kg CO2e"]
[null,"TOTAL",{"$f":"SUM(C371:C371)","v":0},"kg CO2e",{"$f":"SUM(E371:E371)","v":0},"kg CO2e"]
[]
[]
[]
[]
[{"$f":"\"PUBLICACIÓN DE RESULTADOS: ENVÍO \" & N377","v":"PUBLICACIÓN DE RESULTADOS: ENVÍO 9"},null,null,null,null,null,null,null,null,null,null,null,null,{"$f":"(ROW(A377)-1)/47+1","v":9}]
[]
[null,"Cliente del envío",null,null,{"$f":"SHEETOFFSET(-1,INDIRECT(\"B\"&16+N377))","v":0}]
[null,"Denominación del envío",null,null,{"$f":"SHEETOFFSET(-1,INDIRECT(\"C\"&16+N378))","v":0}]
[]
[null,"Trayecto del que se compone el servicio de transporte"]
[]
[null,null,"Denominación del origen",null,null,null,"Denominación del destino"]
[null,"Trayecto 1:",{"$f":"SHEETOFFSET(-1,INDIRECT(\"D\"&16+N377))","v":0},null,null,"a",{"$f":"SHEETOFFSET(-1,INDIRECT(\"E\"&16+N377))","v":0}]
[]
[]
[]
["CONSUMO ENERGÉTICO Y EMISIONES DE GEI DEL SERVICIO DE TRANSPORTE, DE ACUERDO AL ALCANCE DE LA NORMA EN 16258"]
[]
[null,"Consumo energético (MJ)"]
[]
[null,null,"\"Del tanque a la rueda\" (TtW)",null,"\"Del pozo a la rueda\" (WtW)"]
[null,"Trayecto 1:",{"$f":"SHEETOFFSET(-1,INDIRECT(\"AE\"&16+N377))","v":0},"MJ",{"$f":"SHEETOFFSET(-1,INDIRECT(\"AF\"&16+N377))","v":0},"MJ"]
[null,"TOTAL",{"$f":"SUM(C394:C394)","v":0},"MJ",{"$f":"SUM(E394:E394)","v":0},"MJ"]
[]
[null,"Emisiones de GEI (kgCO2e)"]
[]
[null,null,"\"Del tanque a la rueda\" (TtW)",null,"\"Del pozo a la rueda\" (WtW)"]
[null,"Trayecto 1:",{"$f":"SHEETOFFSET(-1,INDIRECT(\"AG\"&16+N377))","v":0},"kg CO2e",{"$f":"SHEETOFFSET(-1,INDIRECT(\"AH\"&16+N377))","v":0},"kg CO2e"]
[null,"TOTAL",{"$f":"SUM(C400:C400)","v":0},"kg CO2e",{"$f":"SUM(E400:E400)","v":0},"kg CO2e"]
[]
[]
[]
["CONSUMO ENERGÉTICO Y EMISIONES DE GEI DEL SERVICIO DE TRANSPORTE. INFORMACIÓN ADICIONAL"]
[]
[]
[null,"Consumo energético (MJ)"]
[]
[null,null,"\"Del tanque a la rueda\" (TtW)",null,"\"Del pozo a la rueda\" (WtW)"]
[null,"Trayecto 1:",{"$f":"SHEETOFFSET(-1,INDIRECT(\"AA\"&16+N377))","v":0},"MJ",{"$f":"SHEETOFFSET(-1,INDIRECT(\"AB\"&16+N377))","v":0},"MJ"]
[null,"TOTAL",{"$f":"SUM(C411:C411)","v":0},"MJ",{"$f":"SUM(E411:E411)","v":0},"MJ"]
[]
[]
[null,"Emisiones de GEI (kgCO2e)"]
[]
[null,null,"\"Del tanque a la rueda\" (TtW)",null,"\"Del pozo a la rueda\" (WtW)"]
[null,"Trayecto 1:",{"$f":"SHEETOFFSET(-1,INDIRECT(\"AC\"&16+N377))","v":0},"kg CO2e",{"$f":"SHEETOFFSET(-1,INDIRECT(\"AD\"&16+N377))","v":0},"kg CO2e"]
[null,"TOTAL",{"$f":"SUM(C418:C418)","v":0},"kg CO2e",{"$f":"SUM(E418:E418)","v":0},"kg CO2e"]
[]
[]
[]
[]
[{"$f":"\"PUBLICACIÓN DE RESULTADOS: ENVÍO \" & N424","v":"PUBLICACIÓN DE RESULTADOS: ENVÍO 10"},null,null,null,null,null,null,null,null,null,null,null,null,{"$f":"(ROW(A424)-1)/47+1","v":10}]
[]
[null,"Cliente del envío",null,null,{"$f":"SHEETOFFSET(-1,INDIRECT(\"B\"&16+N424))","v":0}]
[null,"Denominación del envío",null,null,{"$f":"SHEETOFFSET(-1,INDIRECT(\"C\"&16+N425))","v":0}]
[]
[null,"Trayecto del que se compone el servicio de transporte"]
[]
[null,null,"Denominación del origen",null,null,null,"Denominación del destino"]
[null,"Trayecto 1:",{"$f":"SHEETOFFSET(-1,INDIRECT(\"D\"&16+N424))","v":0},null,null,"a",{"$f":"SHEETOFFSET(-1,INDIRECT(\"E\"&16+N424))","v":0}]
[]
[]
[]
["CONSUMO ENERGÉTICO Y EMISIONES DE GEI DEL SERVICIO DE TRANSPORTE, DE ACUERDO AL ALCANCE DE LA NORMA EN 16258"]
[]
[null,"Consumo energético (MJ)"]
[]
[null,null,"\"Del tanque a la rueda\" (TtW)",null,"\"Del pozo a la rueda\" (WtW)"]
[null,"Trayecto 1:",{"$f":"SHEETOFFSET(-1,INDIRECT(\"AE\"&16+N424))","v":0},"MJ",{"$f":"SHEETOFFSET(-1,INDIRECT(\"AF\"&16+N424))","v":0},"MJ"]
[null,"TOTAL",{"$f":"SUM(C441:C441)","v":0},"MJ",{"$f":"SUM(E441:E441)","v":0},"MJ"]
[]
[null,"Emisiones de GEI (kgCO2e)"]
[]
[null,null,"\"Del tanque a la rueda\" (TtW)",null,"\"Del pozo a la rueda\" (WtW)"]
[null,"Trayecto 1:",{"$f":"SHEETOFFSET(-1,INDIRECT(\"AG\"&16+N424))","v":0},"kg CO2e",{"$f":"SHEETOFFSET(-1,INDIRECT(\"AH\"&16+N424))","v":0},"kg CO2e"]
[null,"TOTAL",{"$f":"SUM(C447:C447)","v":0},"kg CO2e",{"$f":"SUM(E447:E447)","v":0},"kg CO2e"]
[]
[]
[]
["CONSUMO ENERGÉTICO Y EMISIONES DE GEI DEL SERVICIO DE TRANSPORTE. INFORMACIÓN ADICIONAL"]
[]
[]
[null,"Consumo energético (MJ)"]
[]
[null,null,"\"Del tanque a la rueda\" (TtW)",null,"\"Del pozo a la rueda\" (WtW)"]
[null,"Trayecto 1:",{"$f":"SHEETOFFSET(-1,INDIRECT(\"AA\"&16+N424))","v":0},"MJ",{"$f":"SHEETOFFSET(-1,INDIRECT(\"AB\"&16+N424))","v":0},"MJ"]
[null,"TOTAL",{"$f":"SUM(C458:C458)","v":0},"MJ",{"$f":"SUM(E458:E458)","v":0},"MJ"]
[]
[]
[null,"Emisiones de GEI (kgCO2e)"]
[]
[null,null,"\"Del tanque a la rueda\" (TtW)",null,"\"Del pozo a la rueda\" (WtW)"]
[null,"Trayecto 1:",{"$f":"SHEETOFFSET(-1,INDIRECT(\"AC\"&16+N424))","v":0},"kg CO2e",{"$f":"SHEETOFFSET(-1,INDIRECT(\"AD\"&16+N424))","v":0},"kg CO2e"]
[null,"TOTAL",{"$f":"SUM(C465:C465)","v":0},"kg CO2e",{"$f":"SUM(E465:E465)","v":0},"kg CO2e"]
[]
[]
[]
[]
[{"$f":"\"PUBLICACIÓN DE RESULTADOS: ENVÍO \" & N471","v":"PUBLICACIÓN DE RESULTADOS: ENVÍO 11"},null,null,null,null,null,null,null,null,null,null,null,null,{"$f":"(ROW(A471)-1)/47+1","v":11}]
[]
[null,"Cliente del envío",null,null,{"$f":"SHEETOFFSET(-1,INDIRECT(\"B\"&16+N471))","v":0}]
[null,"Denominación del envío",null,null,{"$f":"SHEETOFFSET(-1,INDIRECT(\"C\"&16+N472))","v":0}]
[]
[null,"Trayecto del que se compone el servicio de transporte"]
[]
[null,null,"Denominación del origen",null,null,null,"Denominación del destino"]
[null,"Trayecto 1:",{"$f":"SHEETOFFSET(-1,INDIRECT(\"D\"&16+N471))","v":0},null,null,"a",{"$f":"SHEETOFFSET(-1,INDIRECT(\"E\"&16+N471))","v":0}]
[]
[]
[]
["CONSUMO ENERGÉTICO Y EMISIONES DE GEI DEL SERVICIO DE TRANSPORTE, DE ACUERDO AL ALCANCE DE LA NORMA EN 16258"]
[]
[null,"Consumo energético (MJ)"]
[]
[null,null,"\"Del tanque a la rueda\" (TtW)",null,"\"Del pozo a la rueda\" (WtW)"]
[null,"Trayecto 1:",{"$f":"SHEETOFFSET(-1,INDIRECT(\"AE\"&16+N471))","v":0},"MJ",{"$f":"SHEETOFFSET(-1,INDIRECT(\"AF\"&16+N471))","v":0},"MJ"]
[null,"TOTAL",{"$f":"SUM(C488:C488)","v":0},"MJ",{"$f":"SUM(E488:E488)","v":0},"MJ"]
[]
[null,"Emisiones de GEI (kgCO2e)"]
[]
[null,null,"\"Del tanque a la rueda\" (TtW)",null,"\"Del pozo a la rueda\" (WtW)"]
[null,"Trayecto 1:",{"$f":"SHEETOFFSET(-1,INDIRECT(\"AG\"&16+N471))","v":0},"kg CO2e",{"$f":"SHEETOFFSET(-1,INDIRECT(\"AH\"&16+N471))","v":0},"kg CO2e"]
[null,"TOTAL",{"$f":"SUM(C494:C494)","v":0},"kg CO2e",{"$f":"SUM(E494:E494)","v":0},"kg CO2e"]
[]
[]
[]
["CONSUMO ENERGÉTICO Y EMISIONES DE GEI DEL SERVICIO DE TRANSPORTE. INFORMACIÓN ADICIONAL"]
[]
[]
[null,"Consumo energético (MJ)"]
[]
[null,null,"\"Del tanque a la rueda\" (TtW)",null,"\"Del pozo a la rueda\" (WtW)"]
[null,"Trayecto 1:",{"$f":"SHEETOFFSET(-1,INDIRECT(\"AA\"&16+N471))","v":0},"MJ",{"$f":"SHEETOFFSET(-1,INDIRECT(\"AB\"&16+N471))","v":0},"MJ"]
[null,"TOTAL",{"$f":"SUM(C505:C505)","v":0},"MJ",{"$f":"SUM(E505:E505)","v":0},"MJ"]
[]
[]
[null,"Emisiones de GEI (kgCO2e)"]
[]
[null,null,"\"Del tanque a la rueda\" (TtW)",null,"\"Del pozo a la rueda\" (WtW)"]
[null,"Trayecto 1:",{"$f":"SHEETOFFSET(-1,INDIRECT(\"AC\"&16+N471))","v":0},"kg CO2e",{"$f":"SHEETOFFSET(-1,INDIRECT(\"AD\"&16+N471))","v":0},"kg CO2e"]
[null,"TOTAL",{"$f":"SUM(C512:C512)","v":0},"kg CO2e",{"$f":"SUM(E512:E512)","v":0},"kg CO2e"]
[]
[]
[]
[]
[{"$f":"\"PUBLICACIÓN DE RESULTADOS: ENVÍO \" & N518","v":"PUBLICACIÓN DE RESULTADOS: ENVÍO 12"},null,null,null,null,null,null,null,null,null,null,null,null,{"$f":"(ROW(A518)-1)/47+1","v":12}]
[]
[null,"Cliente del envío",null,null,{"$f":"SHEETOFFSET(-1,INDIRECT(\"B\"&16+N518))","v":0}]
[null,"Denominación del envío",null,null,{"$f":"SHEETOFFSET(-1,INDIRECT(\"C\"&16+N519))","v":0}]
[]
[null,"Trayecto del que se compone el servicio de transporte"]
[]
[null,null,"Denominación del origen",null,null,null,"Denominación del destino"]
[null,"Trayecto 1:",{"$f":"SHEETOFFSET(-1,INDIRECT(\"D\"&16+N518))","v":0},null,null,"a",{"$f":"SHEETOFFSET(-1,INDIRECT(\"E\"&16+N518))","v":0}]
[]
[]
[]
["CONSUMO ENERGÉTICO Y EMISIONES DE GEI DEL SERVICIO DE TRANSPORTE, DE ACUERDO AL ALCANCE DE LA NORMA EN 16258"]
[]
[null,"Consumo energético (MJ)"]
[]
[null,null,"\"Del tanque a la rueda\" (TtW)",null,"\"Del pozo a la rueda\" (WtW)"]
[null,"Trayecto 1:",{"$f":"SHEETOFFSET(-1,INDIRECT(\"AE\"&16+N518))","v":0},"MJ",{"$f":"SHEETOFFSET(-1,INDIRECT(\"AF\"&16+N518))","v":0},"MJ"]
[null,"TOTAL",{"$f":"SUM(C535:C535)","v":0},"MJ",{"$f":"SUM(E535:E535)","v":0},"MJ"]
[]
[null,"Emisiones de GEI (kgCO2e)"]
[]
[null,null,"\"Del tanque a la rueda\" (TtW)",null,"\"Del pozo a la rueda\" (WtW)"]
[null,"Trayecto 1:",{"$f":"SHEETOFFSET(-1,INDIRECT(\"AG\"&16+N518))","v":0},"kg CO2e",{"$f":"SHEETOFFSET(-1,INDIRECT(\"AH\"&16+N518))","v":0},"kg CO2e"]
[null,"TOTAL",{"$f":"SUM(C541:C541)","v":0},"kg CO2e",{"$f":"SUM(E541:E541)","v":0},"kg CO2e"]
[]
[]
[]
["CONSUMO ENERGÉTICO Y EMISIONES DE GEI DEL SERVICIO DE TRANSPORTE. INFORMACIÓN ADICIONAL"]
[]
[]
[null,"Consumo energético (MJ)"]
[]
[null,null,"\"Del tanque a la rueda\" (TtW)",null,"\"Del pozo a la rueda\" (WtW)"]
[null,"Trayecto 1:",{"$f":"SHEETOFFSET(-1,INDIRECT(\"AA\"&16+N518))","v":0},"MJ",{"$f":"SHEETOFFSET(-1,INDIRECT(\"AB\"&16+N518))","v":0},"MJ"]
[null,"TOTAL",{"$f":"SUM(C552:C552)","v":0},"MJ",{"$f":"SUM(E552:E552)","v":0},"MJ"]
[]
[]
[null,"Emisiones de GEI (kgCO2e)"]
[]
[null,null,"\"Del tanque a la rueda\" (TtW)",null,"\"Del pozo a la rueda\" (WtW)"]
[null,"Trayecto 1:",{"$f":"SHEETOFFSET(-1,INDIRECT(\"AC\"&16+N518))","v":0},"kg CO2e",{"$f":"SHEETOFFSET(-1,INDIRECT(\"AD\"&16+N518))","v":0},"kg CO2e"]
[null,"TOTAL",{"$f":"SUM(C559:C559)","v":0},"kg CO2e",{"$f":"SUM(E559:E559)","v":0},"kg CO2e"]
[]
[]
[]
[]
[{"$f":"\"PUBLICACIÓN DE RESULTADOS: ENVÍO \" & N565","v":"PUBLICACIÓN DE RESULTADOS: ENVÍO 13"},null,null,null,null,null,null,null,null,null,null,null,null,{"$f":"(ROW(A565)-1)/47+1","v":13}]
[]
[null,"Cliente del envío",null,null,{"$f":"SHEETOFFSET(-1,INDIRECT(\"B\"&16+N565))","v":0}]
[null,"Denominación del envío",null,null,{"$f":"SHEETOFFSET(-1,INDIRECT(\"C\"&16+N566))","v":0}]
[]
[null,"Trayecto del que se compone el servicio de transporte"]
[]
[null,null,"Denominación del origen",null,null,null,"Denominación del destino"]
[null,"Trayecto 1:",{"$f":"SHEETOFFSET(-1,INDIRECT(\"D\"&16+N565))","v":0},null,null,"a",{"$f":"SHEETOFFSET(-1,INDIRECT(\"E\"&16+N565))","v":0}]
[]
[]
[]
["CONSUMO ENERGÉTICO Y EMISIONES DE GEI DEL SERVICIO DE TRANSPORTE, DE ACUERDO AL ALCANCE DE LA NORMA EN 16258"]
[]
[null,"Consumo energético (MJ)"]
[]
[null,null,"\"Del tanque a la rueda\" (TtW)",null,"\"Del pozo a la rueda\" (WtW)"]
[null,"Trayecto 1:",{"$f":"SHEETOFFSET(-1,INDIRECT(\"AE\"&16+N565))","v":0},"MJ",{"$f":"SHEETOFFSET(-1,INDIRECT(\"AF\"&16+N565))","v":0},"MJ"]
[null,"TOTAL",{"$f":"SUM(C582:C582)","v":0},"MJ",{"$f":"SUM(E582:E582)","v":0},"MJ"]
[]
[null,"Emisiones de GEI (kgCO2e)"]
[]
[null,null,"\"Del tanque a la rueda\" (TtW)",null,"\"Del pozo a la rueda\" (WtW)"]
[null,"Trayecto 1:",{"$f":"SHEETOFFSET(-1,INDIRECT(\"AG\"&16+N565))","v":0},"kg CO2e",{"$f":"SHEETOFFSET(-1,INDIRECT(\"AH\"&16+N565))","v":0},"kg CO2e"]
[null,"TOTAL",{"$f":"SUM(C588:C588)","v":0},"kg CO2e",{"$f":"SUM(E588:E588)","v":0},"kg CO2e"]
[]
[]
[]
["CONSUMO ENERGÉTICO Y EMISIONES DE GEI DEL SERVICIO DE TRANSPORTE. INFORMACIÓN ADICIONAL"]
[]
[]
[null,"Consumo energético (MJ)"]
[]
[null,null,"\"Del tanque a la rueda\" (TtW)",null,"\"Del pozo a la rueda\" (WtW)"]
[null,"Trayecto 1:",{"$f":"SHEETOFFSET(-1,INDIRECT(\"AA\"&16+N565))","v":0},"MJ",{"$f":"SHEETOFFSET(-1,INDIRECT(\"AB\"&16+N565))","v":0},"MJ"]
[null,"TOTAL",{"$f":"SUM(C599:C599)","v":0},"MJ",{"$f":"SUM(E599:E599)","v":0},"MJ"]
[]
[]
[null,"Emisiones de GEI (kgCO2e)"]
[]
[null,null,"\"Del tanque a la rueda\" (TtW)",null,"\"Del pozo a la rueda\" (WtW)"]
[null,"Trayecto 1:",{"$f":"SHEETOFFSET(-1,INDIRECT(\"AC\"&16+N565))","v":0},"kg CO2e",{"$f":"SHEETOFFSET(-1,INDIRECT(\"AD\"&16+N565))","v":0},"kg CO2e"]
[null,"TOTAL",{"$f":"SUM(C606:C606)","v":0},"kg CO2e",{"$f":"SUM(E606:E606)","v":0},"kg CO2e"]
[]
[]
[]
[]
[{"$f":"\"PUBLICACIÓN DE RESULTADOS: ENVÍO \" & N612","v":"PUBLICACIÓN DE RESULTADOS: ENVÍO 14"},null,null,null,null,null,null,null,null,null,null,null,null,{"$f":"(ROW(A612)-1)/47+1","v":14}]
[]
[null,"Cliente del envío",null,null,{"$f":"SHEETOFFSET(-1,INDIRECT(\"B\"&16+N612))","v":0}]
[null,"Denominación del envío",null,null,{"$f":"SHEETOFFSET(-1,INDIRECT(\"C\"&16+N613))","v":0}]
[]
[null,"Trayecto del que se compone el servicio de transporte"]
[]
[null,null,"Denominación del origen",null,null,null,"Denominación del destino"]
[null,"Trayecto 1:",{"$f":"SHEETOFFSET(-1,INDIRECT(\"D\"&16+N612))","v":0},null,null,"a",{"$f":"SHEETOFFSET(-1,INDIRECT(\"E\"&16+N612))","v":0}]
[]
[]
[]
["CONSUMO ENERGÉTICO Y EMISIONES DE GEI DEL SERVICIO DE TRANSPORTE, DE ACUERDO AL ALCANCE DE LA NORMA EN 16258"]
[]
[null,"Consumo energético (MJ)"]
[]
[null,null,"\"Del tanque a la rueda\" (TtW)",null,"\"Del pozo a la rueda\" (WtW)"]
[null,"Trayecto 1:",{"$f":"SHEETOFFSET(-1,INDIRECT(\"AE\"&16+N612))","v":0},"MJ",{"$f":"SHEETOFFSET(-1,INDIRECT(\"AF\"&16+N612))","v":0},"MJ"]
[null,"TOTAL",{"$f":"SUM(C629:C629)","v":0},"MJ",{"$f":"SUM(E629:E629)","v":0},"MJ"]
[]
[null,"Emisiones de GEI (kgCO2e)"]
[]
[null,null,"\"Del tanque a la rueda\" (TtW)",null,"\"Del pozo a la rueda\" (WtW)"]
[null,"Trayecto 1:",{"$f":"SHEETOFFSET(-1,INDIRECT(\"AG\"&16+N612))","v":0},"kg CO2e",{"$f":"SHEETOFFSET(-1,INDIRECT(\"AH\"&16+N612))","v":0},"kg CO2e"]
[null,"TOTAL",{"$f":"SUM(C635:C635)","v":0},"kg CO2e",{"$f":"SUM(E635:E635)","v":0},"kg CO2e"]
[]
[]
[]
["CONSUMO ENERGÉTICO Y EMISIONES DE GEI DEL SERVICIO DE TRANSPORTE. INFORMACIÓN ADICIONAL"]
[]
[]
[null,"Consumo energético (MJ)"]
[]
[null,null,"\"Del tanque a la rueda\" (TtW)",null,"\"Del pozo a la rueda\" (WtW)"]
[null,"Trayecto 1:",{"$f":"SHEETOFFSET(-1,INDIRECT(\"AA\"&16+N612))","v":0},"MJ",{"$f":"SHEETOFFSET(-1,INDIRECT(\"AB\"&16+N612))","v":0},"MJ"]
[null,"TOTAL",{"$f":"SUM(C646:C646)","v":0},"MJ",{"$f":"SUM(E646:E646)","v":0},"MJ"]
[]
[]
[null,"Emisiones de GEI (kgCO2e)"]
[]
[null,null,"\"Del tanque a la rueda\" (TtW)",null,"\"Del pozo a la rueda\" (WtW)"]
[null,"Trayecto 1:",{"$f":"SHEETOFFSET(-1,INDIRECT(\"AC\"&16+N612))","v":0},"kg CO2e",{"$f":"SHEETOFFSET(-1,INDIRECT(\"AD\"&16+N612))","v":0},"kg CO2e"]
[null,"TOTAL",{"$f":"SUM(C653:C653)","v":0},"kg CO2e",{"$f":"SUM(E653:E653)","v":0},"kg CO2e"]
[]
[]
[]
[]
[{"$f":"\"PUBLICACIÓN DE RESULTADOS: ENVÍO \" & N659","v":"PUBLICACIÓN DE RESULTADOS: ENVÍO 15"},null,null,null,null,null,null,null,null,null,null,null,null,{"$f":"(ROW(A659)-1)/47+1","v":15}]
[]
[null,"Cliente del envío",null,null,{"$f":"SHEETOFFSET(-1,INDIRECT(\"B\"&16+N659))","v":0}]
[null,"Denominación del envío",null,null,{"$f":"SHEETOFFSET(-1,INDIRECT(\"C\"&16+N660))","v":0}]
[]
[null,"Trayecto del que se compone el servicio de transporte"]
[]
[null,null,"Denominación del origen",null,null,null,"Denominación del destino"]
[null,"Trayecto 1:",{"$f":"SHEETOFFSET(-1,INDIRECT(\"D\"&16+N659))","v":0},null,null,"a",{"$f":"SHEETOFFSET(-1,INDIRECT(\"E\"&16+N659))","v":0}]
[]
[]
[]
["CONSUMO ENERGÉTICO Y EMISIONES DE GEI DEL SERVICIO DE TRANSPORTE, DE ACUERDO AL ALCANCE DE LA NORMA EN 16258"]
[]
[null,"Consumo energético (MJ)"]
[]
[null,null,"\"Del tanque a la rueda\" (TtW)",null,"\"Del pozo a la rueda\" (WtW)"]
[null,"Trayecto 1:",{"$f":"SHEETOFFSET(-1,INDIRECT(\"AE\"&16+N659))","v":0},"MJ",{"$f":"SHEETOFFSET(-1,INDIRECT(\"AF\"&16+N659))","v":0},"MJ"]
[null,"TOTAL",{"$f":"SUM(C676:C676)","v":0},"MJ",{"$f":"SUM(E676:E676)","v":0},"MJ"]
[]
[null,"Emisiones de GEI (kgCO2e)"]
[]
[null,null,"\"Del tanque a la rueda\" (TtW)",null,"\"Del pozo a la rueda\" (WtW)"]
[null,"Trayecto 1:",{"$f":"SHEETOFFSET(-1,INDIRECT(\"AG\"&16+N659))","v":0},"kg CO2e",{"$f":"SHEETOFFSET(-1,INDIRECT(\"AH\"&16+N659))","v":0},"kg CO2e"]
[null,"TOTAL",{"$f":"SUM(C682:C682)","v":0},"kg CO2e",{"$f":"SUM(E682:E682)","v":0},"kg CO2e"]
[]
[]
[]
["CONSUMO ENERGÉTICO Y EMISIONES DE GEI DEL SERVICIO DE TRANSPORTE. INFORMACIÓN ADICIONAL"]
[]
[]
[null,"Consumo energético (MJ)"]
[]
[null,null,"\"Del tanque a la rueda\" (TtW)",null,"\"Del pozo a la rueda\" (WtW)"]
[null,"Trayecto 1:",{"$f":"SHEETOFFSET(-1,INDIRECT(\"AA\"&16+N659))","v":0},"MJ",{"$f":"SHEETOFFSET(-1,INDIRECT(\"AB\"&16+N659))","v":0},"MJ"]
[null,"TOTAL",{"$f":"SUM(C693:C693)","v":0},"MJ",{"$f":"SUM(E693:E693)","v":0},"MJ"]
[]
[]
[null,"Emisiones de GEI (kgCO2e)"]
[]
[null,null,"\"Del tanque a la rueda\" (TtW)",null,"\"Del pozo a la rueda\" (WtW)"]
[null,"Trayecto 1:",{"$f":"SHEETOFFSET(-1,INDIRECT(\"AC\"&16+N659))","v":0},"kg CO2e",{"$f":"SHEETOFFSET(-1,INDIRECT(\"AD\"&16+N659))","v":0},"kg CO2e"]
[null,"TOTAL",{"$f":"SUM(C700:C700)","v":0},"kg CO2e",{"$f":"SUM(E700:E700)","v":0},"kg CO2e"]
[]
[]
[]
[]
[{"$f":"\"PUBLICACIÓN DE RESULTADOS: ENVÍO \" & N706","v":"PUBLICACIÓN DE RESULTADOS: ENVÍO 16"},null,null,null,null,null,null,null,null,null,null,null,null,{"$f":"(ROW(A706)-1)/47+1","v":16}]
[]
[null,"Cliente del envío",null,null,{"$f":"SHEETOFFSET(-1,INDIRECT(\"B\"&16+N706))","v":0}]
[null,"Denominación del envío",null,null,{"$f":"SHEETOFFSET(-1,INDIRECT(\"C\"&16+N707))","v":0}]
[]
[null,"Trayecto del que se compone el servicio de transporte"]
[]
[null,null,"Denominación del origen",null,null,null,"Denominación del destino"]
[null,"Trayecto 1:",{"$f":"SHEETOFFSET(-1,INDIRECT(\"D\"&16+N706))","v":0},null,null,"a",{"$f":"SHEETOFFSET(-1,INDIRECT(\"E\"&16+N706))","v":0}]
[]
[]
[]
["CONSUMO ENERGÉTICO Y EMISIONES DE GEI DEL SERVICIO DE TRANSPORTE, DE ACUERDO AL ALCANCE DE LA NORMA EN 16258"]
[]
[null,"Consumo energético (MJ)"]
[]
[null,null,"\"Del tanque a la rueda\" (TtW)",null,"\"Del pozo a la rueda\" (WtW)"]
[null,"Trayecto 1:",{"$f":"SHEETOFFSET(-1,INDIRECT(\"AE\"&16+N706))","v":0},"MJ",{"$f":"SHEETOFFSET(-1,INDIRECT(\"AF\"&16+N706))","v":0},"MJ"]
[null,"TOTAL",{"$f":"SUM(C723:C723)","v":0},"MJ",{"$f":"SUM(E723:E723)","v":0},"MJ"]
[]
[null,"Emisiones de GEI (kgCO2e)"]
[]
[null,null,"\"Del tanque a la rueda\" (TtW)",null,"\"Del pozo a la rueda\" (WtW)"]
[null,"Trayecto 1:",{"$f":"SHEETOFFSET(-1,INDIRECT(\"AG\"&16+N706))","v":0},"kg CO2e",{"$f":"SHEETOFFSET(-1,INDIRECT(\"AH\"&16+N706))","v":0},"kg CO2e"]
[null,"TOTAL",{"$f":"SUM(C729:C729)","v":0},"kg CO2e",{"$f":"SUM(E729:E729)","v":0},"kg CO2e"]
[]
[]
[]
["CONSUMO ENERGÉTICO Y EMISIONES DE GEI DEL SERVICIO DE TRANSPORTE. INFORMACIÓN ADICIONAL"]
[]
[]
[null,"Consumo energético (MJ)"]
[]
[null,null,"\"Del tanque a la rueda\" (TtW)",null,"\"Del pozo a la rueda\" (WtW)"]
[null,"Trayecto 1:",{"$f":"SHEETOFFSET(-1,INDIRECT(\"AA\"&16+N706))","v":0},"MJ",{"$f":"SHEETOFFSET(-1,INDIRECT(\"AB\"&16+N706))","v":0},"MJ"]
[null,"TOTAL",{"$f":"SUM(C740:C740)","v":0},"MJ",{"$f":"SUM(E740:E740)","v":0},"MJ"]
[]
[]
[null,"Emisiones de GEI (kgCO2e)"]
[]
[null,null,"\"Del tanque a la rueda\" (TtW)",null,"\"Del pozo a la rueda\" (WtW)"]
[null,"Trayecto 1:",{"$f":"SHEETOFFSET(-1,INDIRECT(\"AC\"&16+N706))","v":0},"kg CO2e",{"$f":"SHEETOFFSET(-1,INDIRECT(\"AD\"&16+N706))","v":0},"kg CO2e"]
[null,"TOTAL",{"$f":"SUM(C747:C747)","v":0},"kg CO2e",{"$f":"SUM(E747:E747)","v":0},"kg CO2e"]
[]
[]
[]
[]
[{"$f":"\"PUBLICACIÓN DE RESULTADOS: ENVÍO \" & N753","v":"PUBLICACIÓN DE RESULTADOS: ENVÍO 17"},null,null,null,null,null,null,null,null,null,null,null,null,{"$f":"(ROW(A753)-1)/47+1","v":17}]
[]
[null,"Cliente del envío",null,null,{"$f":"SHEETOFFSET(-1,INDIRECT(\"B\"&16+N753))","v":0}]
[null,"Denominación del envío",null,null,{"$f":"SHEETOFFSET(-1,INDIRECT(\"C\"&16+N754))","v":0}]
[]
[null,"Trayecto del que se compone el servicio de transporte"]
[]
[null,null,"Denominación del origen",null,null,null,"Denominación del destino"]
[null,"Trayecto 1:",{"$f":"SHEETOFFSET(-1,INDIRECT(\"D\"&16+N753))","v":0},null,null,"a",{"$f":"SHEETOFFSET(-1,INDIRECT(\"E\"&16+N753))","v":0}]
[]
[]
[]
["CONSUMO ENERGÉTICO Y EMISIONES DE GEI DEL SERVICIO DE TRANSPORTE, DE ACUERDO AL ALCANCE DE LA NORMA EN 16258"]
[]
[null,"Consumo energético (MJ)"]
[]
[null,null,"\"Del tanque a la rueda\" (TtW)",null,"\"Del pozo a la rueda\" (WtW)"]
[null,"Trayecto 1:",{"$f":"SHEETOFFSET(-1,INDIRECT(\"AE\"&16+N753))","v":0},"MJ",{"$f":"SHEETOFFSET(-1,INDIRECT(\"AF\"&16+N753))","v":0},"MJ"]
[null,"TOTAL",{"$f":"SUM(C770:C770)","v":0},"MJ",{"$f":"SUM(E770:E770)","v":0},"MJ"]
[]
[null,"Emisiones de GEI (kgCO2e)"]
[]
[null,null,"\"Del tanque a la rueda\" (TtW)",null,"\"Del pozo a la rueda\" (WtW)"]
[null,"Trayecto 1:",{"$f":"SHEETOFFSET(-1,INDIRECT(\"AG\"&16+N753))","v":0},"kg CO2e",{"$f":"SHEETOFFSET(-1,INDIRECT(\"AH\"&16+N753))","v":0},"kg CO2e"]
[null,"TOTAL",{"$f":"SUM(C776:C776)","v":0},"kg CO2e",{"$f":"SUM(E776:E776)","v":0},"kg CO2e"]
[]
[]
[]
["CONSUMO ENERGÉTICO Y EMISIONES DE GEI DEL SERVICIO DE TRANSPORTE. INFORMACIÓN ADICIONAL"]
[]
[]
[null,"Consumo energético (MJ)"]
[]
[null,null,"\"Del tanque a la rueda\" (TtW)",null,"\"Del pozo a la rueda\" (WtW)"]
[null,"Trayecto 1:",{"$f":"SHEETOFFSET(-1,INDIRECT(\"AA\"&16+N753))","v":0},"MJ",{"$f":"SHEETOFFSET(-1,INDIRECT(\"AB\"&16+N753))","v":0},"MJ"]
[null,"TOTAL",{"$f":"SUM(C787:C787)","v":0},"MJ",{"$f":"SUM(E787:E787)","v":0},"MJ"]
[]
[]
[null,"Emisiones de GEI (kgCO2e)"]
[]
[null,null,"\"Del tanque a la rueda\" (TtW)",null,"\"Del pozo a la rueda\" (WtW)"]
[null,"Trayecto 1:",{"$f":"SHEETOFFSET(-1,INDIRECT(\"AC\"&16+N753))","v":0},"kg CO2e",{"$f":"SHEETOFFSET(-1,INDIRECT(\"AD\"&16+N753))","v":0},"kg CO2e"]
[null,"TOTAL",{"$f":"SUM(C794:C794)","v":0},"kg CO2e",{"$f":"SUM(E794:E794)","v":0},"kg CO2e"]
[]
[]
[]
[]
[{"$f":"\"PUBLICACIÓN DE RESULTADOS: ENVÍO \" & N800","v":"PUBLICACIÓN DE RESULTADOS: ENVÍO 18"},null,null,null,null,null,null,null,null,null,null,null,null,{"$f":"(ROW(A800)-1)/47+1","v":18}]
[]
[null,"Cliente del envío",null,null,{"$f":"SHEETOFFSET(-1,INDIRECT(\"B\"&16+N800))","v":0}]
[null,"Denominación del envío",null,null,{"$f":"SHEETOFFSET(-1,INDIRECT(\"C\"&16+N801))","v":0}]
[]
[null,"Trayecto del que se compone el servicio de transporte"]
[]
[null,null,"Denominación del origen",null,null,null,"Denominación del destino"]
[null,"Trayecto 1:",{"$f":"SHEETOFFSET(-1,INDIRECT(\"D\"&16+N800))","v":0},null,null,"a",{"$f":"SHEETOFFSET(-1,INDIRECT(\"E\"&16+N800))","v":0}]
[]
[]
[]
["CONSUMO ENERGÉTICO Y EMISIONES DE GEI DEL SERVICIO DE TRANSPORTE, DE ACUERDO AL ALCANCE DE LA NORMA EN 16258"]
[]
[null,"Consumo energético (MJ)"]
[]
[null,null,"\"Del tanque a la rueda\" (TtW)",null,"\"Del pozo a la rueda\" (WtW)"]
[null,"Trayecto 1:",{"$f":"SHEETOFFSET(-1,INDIRECT(\"AE\"&16+N800))","v":0},"MJ",{"$f":"SHEETOFFSET(-1,INDIRECT(\"AF\"&16+N800))","v":0},"MJ"]
[null,"TOTAL",{"$f":"SUM(C817:C817)","v":0},"MJ",{"$f":"SUM(E817:E817)","v":0},"MJ"]
[]
[null,"Emisiones de GEI (kgCO2e)"]
[]
[null,null,"\"Del tanque a la rueda\" (TtW)",null,"\"Del pozo a la rueda\" (WtW)"]
[null,"Trayecto 1:",{"$f":"SHEETOFFSET(-1,INDIRECT(\"AG\"&16+N800))","v":0},"kg CO2e",{"$f":"SHEETOFFSET(-1,INDIRECT(\"AH\"&16+N800))","v":0},"kg CO2e"]
[null,"TOTAL",{"$f":"SUM(C823:C823)","v":0},"kg CO2e",{"$f":"SUM(E823:E823)","v":0},"kg CO2e"]
[]
[]
[]
["CONSUMO ENERGÉTICO Y EMISIONES DE GEI DEL SERVICIO DE TRANSPORTE. INFORMACIÓN ADICIONAL"]
[]
[]
[null,"Consumo energético (MJ)"]
[]
[null,null,"\"Del tanque a la rueda\" (TtW)",null,"\"Del pozo a la rueda\" (WtW)"]
[null,"Trayecto 1:",{"$f":"SHEETOFFSET(-1,INDIRECT(\"AA\"&16+N800))","v":0},"MJ",{"$f":"SHEETOFFSET(-1,INDIRECT(\"AB\"&16+N800))","v":0},"MJ"]
[null,"TOTAL",{"$f":"SUM(C834:C834)","v":0},"MJ",{"$f":"SUM(E834:E834)","v":0},"MJ"]
[]
[]
[null,"Emisiones de GEI (kgCO2e)"]
[]
[null,null,"\"Del tanque a la rueda\" (TtW)",null,"\"Del pozo a la rueda\" (WtW)"]
[null,"Trayecto 1:",{"$f":"SHEETOFFSET(-1,INDIRECT(\"AC\"&16+N800))","v":0},"kg CO2e",{"$f":"SHEETOFFSET(-1,INDIRECT(\"AD\"&16+N800))","v":0},"kg CO2e"]
[null,"TOTAL",{"$f":"SUM(C841:C841)","v":0},"kg CO2e",{"$f":"SUM(E841:E841)","v":0},"kg CO2e"]
[]
[]
[]
[]
[{"$f":"\"PUBLICACIÓN DE RESULTADOS: ENVÍO \" & N847","v":"PUBLICACIÓN DE RESULTADOS: ENVÍO 19"},null,null,null,null,null,null,null,null,null,null,null,null,{"$f":"(ROW(A847)-1)/47+1","v":19}]
[]
[null,"Cliente del envío",null,null,{"$f":"SHEETOFFSET(-1,INDIRECT(\"B\"&16+N847))","v":0}]
[null,"Denominación del envío",null,null,{"$f":"SHEETOFFSET(-1,INDIRECT(\"C\"&16+N848))","v":0}]
[]
[null,"Trayecto del que se compone el servicio de transporte"]
[]
[null,null,"Denominación del origen",null,null,null,"Denominación del destino"]
[null,"Trayecto 1:",{"$f":"SHEETOFFSET(-1,INDIRECT(\"D\"&16+N847))","v":0},null,null,"a",{"$f":"SHEETOFFSET(-1,INDIRECT(\"E\"&16+N847))","v":0}]
[]
[]
[]
["CONSUMO ENERGÉTICO Y EMISIONES DE GEI DEL SERVICIO DE TRANSPORTE, DE ACUERDO AL ALCANCE DE LA NORMA EN 16258"]
[]
[null,"Consumo energético (MJ)"]
[]
[null,null,"\"Del tanque a la rueda\" (TtW)",null,"\"Del pozo a la rueda\" (WtW)"]
[null,"Trayecto 1:",{"$f":"SHEETOFFSET(-1,INDIRECT(\"AE\"&16+N847))","v":0},"MJ",{"$f":"SHEETOFFSET(-1,INDIRECT(\"AF\"&16+N847))","v":0},"MJ"]
[null,"TOTAL",{"$f":"SUM(C864:C864)","v":0},"MJ",{"$f":"SUM(E864:E864)","v":0},"MJ"]
[]
[null,"Emisiones de GEI (kgCO2e)"]
[]
[null,null,"\"Del tanque a la rueda\" (TtW)",null,"\"Del pozo a la rueda\" (WtW)"]
[null,"Trayecto 1:",{"$f":"SHEETOFFSET(-1,INDIRECT(\"AG\"&16+N847))","v":0},"kg CO2e",{"$f":"SHEETOFFSET(-1,INDIRECT(\"AH\"&16+N847))","v":0},"kg CO2e"]
[null,"TOTAL",{"$f":"SUM(C870:C870)","v":0},"kg CO2e",{"$f":"SUM(E870:E870)","v":0},"kg CO2e"]
[]
[]
[]
["CONSUMO ENERGÉTICO Y EMISIONES DE GEI DEL SERVICIO DE TRANSPORTE. INFORMACIÓN ADICIONAL"]
[]
[]
[null,"Consumo energético (MJ)"]
[]
[null,null,"\"Del tanque a la rueda\" (TtW)",null,"\"Del pozo a la rueda\" (WtW)"]
[null,"Trayecto 1:",{"$f":"SHEETOFFSET(-1,INDIRECT(\"AA\"&16+N847))","v":0},"MJ",{"$f":"SHEETOFFSET(-1,INDIRECT(\"AB\"&16+N847))","v":0},"MJ"]
[null,"TOTAL",{"$f":"SUM(C881:C881)","v":0},"MJ",{"$f":"SUM(E881:E881)","v":0},"MJ"]
[]
[]
[null,"Emisiones de GEI (kgCO2e)"]
[]
[null,null,"\"Del tanque a la rueda\" (TtW)",null,"\"Del pozo a la rueda\" (WtW)"]
[null,"Trayecto 1:",{"$f":"SHEETOFFSET(-1,INDIRECT(\"AC\"&16+N847))","v":0},"kg CO2e",{"$f":"SHEETOFFSET(-1,INDIRECT(\"AD\"&16+N847))","v":0},"kg CO2e"]
[null,"TOTAL",{"$f":"SUM(C888:C888)","v":0},"kg CO2e",{"$f":"SUM(E888:E888)","v":0},"kg CO2e"]
[]
[]
[]
[]
[{"$f":"\"PUBLICACIÓN DE RESULTADOS: ENVÍO \" & N894","v":"PUBLICACIÓN DE RESULTADOS: ENVÍO 20"},null,null,null,null,null,null,null,null,null,null,null,null,{"$f":"(ROW(A894)-1)/47+1","v":20}]
[]
[null,"Cliente del envío",null,null,{"$f":"SHEETOFFSET(-1,INDIRECT(\"B\"&16+N894))","v":0}]
[null,"Denominación del envío",null,null,{"$f":"SHEETOFFSET(-1,INDIRECT(\"C\"&16+N895))","v":0}]
[]
[null,"Trayecto del que se compone el servicio de transporte"]
[]
[null,null,"Denominación del origen",null,null,null,"Denominación del destino"]
[null,"Trayecto 1:",{"$f":"SHEETOFFSET(-1,INDIRECT(\"D\"&16+N894))","v":0},null,null,"a",{"$f":"SHEETOFFSET(-1,INDIRECT(\"E\"&16+N894))","v":0}]
[]
[]
[]
["CONSUMO ENERGÉTICO Y EMISIONES DE GEI DEL SERVICIO DE TRANSPORTE, DE ACUERDO AL ALCANCE DE LA NORMA EN 16258"]
[]
[null,"Consumo energético (MJ)"]
[]
[null,null,"\"Del tanque a la rueda\" (TtW)",null,"\"Del pozo a la rueda\" (WtW)"]
[null,"Trayecto 1:",{"$f":"SHEETOFFSET(-1,INDIRECT(\"AE\"&16+N894))","v":0},"MJ",{"$f":"SHEETOFFSET(-1,INDIRECT(\"AF\"&16+N894))","v":0},"MJ"]
[null,"TOTAL",{"$f":"SUM(C911:C911)","v":0},"MJ",{"$f":"SUM(E911:E911)","v":0},"MJ"]
[]
[null,"Emisiones de GEI (kgCO2e)"]
[]
[null,null,"\"Del tanque a la rueda\" (TtW)",null,"\"Del pozo a la rueda\" (WtW)"]
[null,"Trayecto 1:",{"$f":"SHEETOFFSET(-1,INDIRECT(\"AG\"&16+N894))","v":0},"kg CO2e",{"$f":"SHEETOFFSET(-1,INDIRECT(\"AH\"&16+N894))","v":0},"kg CO2e"]
[null,"TOTAL",{"$f":"SUM(C917:C917)","v":0},"kg CO2e",{"$f":"SUM(E917:E917)","v":0},"kg CO2e"]
[]
[]
[]
["CONSUMO ENERGÉTICO Y EMISIONES DE GEI DEL SERVICIO DE TRANSPORTE. INFORMACIÓN ADICIONAL"]
[]
[]
[null,"Consumo energético (MJ)"]
[]
[null,null,"\"Del tanque a la rueda\" (TtW)",null,"\"Del pozo a la rueda\" (WtW)"]
[null,"Trayecto 1:",{"$f":"SHEETOFFSET(-1,INDIRECT(\"AA\"&16+N894))","v":0},"MJ",{"$f":"SHEETOFFSET(-1,INDIRECT(\"AB\"&16+N894))","v":0},"MJ"]
[null,"TOTAL",{"$f":"SUM(C928:C928)","v":0},"MJ",{"$f":"SUM(E928:E928)","v":0},"MJ"]
[]
[]
[null,"Emisiones de GEI (kgCO2e)"]
[]
[null,null,"\"Del tanque a la rueda\" (TtW)",null,"\"Del pozo a la rueda\" (WtW)"]
[null,"Trayecto 1:",{"$f":"SHEETOFFSET(-1,INDIRECT(\"AC\"&16+N894))","v":0},"kg CO2e",{"$f":"SHEETOFFSET(-1,INDIRECT(\"AD\"&16+N894))","v":0},"kg CO2e"]
[null,"TOTAL",{"$f":"SUM(C935:C935)","v":0},"kg CO2e",{"$f":"SUM(E935:E935)","v":0},"kg CO2e"]

{"sheet":"A1","index":6,"n_rows":256,"n_cols":37,"rows_kept":256,"cut":false,"hidden":true,"merged":[[229,22,234,25],[116,2,116,3],[117,2,117,3],[118,2,118,3],[98,4,98,8],[99,4,99,8],[100,4,100,8],[101,4,101,8],[102,4,102,8],[103,4,103,8],[104,4,104,8],[105,4,105,8],[106,4,106,8],[107,4,107,8],[108,4,108,8],[109,4,109,8],[110,4,110,8],[111,4,111,8],[112,4,112,8],[113,4,113,8],[114,4,114,8],[115,4,115,8],[116,4,116,8],[117,4,117,8],[98,2,98,3],[99,2,99,3],[100,2,100,3],[101,2,101,3],[102,2,102,3],[103,2,103,3],[104,2,104,3],[105,2,105,3],[116,10,116,11],[98,10,98,11],[99,10,99,11],[100,10,100,11],[101,10,101,11],[102,10,102,11],[103,10,103,11],[104,10,104,11],[105,10,105,11],[107,2,107,3],[108,2,108,3],[109,2,109,3],[110,2,110,3],[111,2,111,3],[112,2,112,3],[113,2,113,3],[117,10,117,11],[118,10,118,11],[106,2,106,3],[107,10,107,11],[108,10,108,11],[109,10,109,11],[110,10,110,11],[111,10,111,11],[112,10,112,11],[113,10,113,11],[114,10,114,11],[115,10,115,11],[106,10,106,11],[118,4,118,8],[114,2,114,3],[115,2,115,3],[170,3,170,4],[171,3,171,4],[172,3,172,4],[173,3,173,4],[174,3,174,4],[175,3,175,4],[139,3,139,4],[140,3,140,4],[141,3,141,4],[142,3,142,4],[143,3,143,4],[144,3,144,4],[223,7,223,8],[80,3,80,5],[222,7,222,8],[196,7,196,8],[207,6,207,8],[210,6,210,8],[213,6,213,8],[146,3,146,4],[147,3,147,4],[148,3,148,4],[149,3,149,4],[150,3,150,4],[151,3,151,4],[152,3,152,4],[153,3,153,4],[154,3,154,4],[92,3,92,5],[91,3,91,5],[91,6,91,11],[80,6,80,11],[81,3,81,5],[81,6,81,11],[82,3,82,5],[145,3,145,4],[75,3,75,5],[75,6,75,11],[76,3,76,5],[76,6,76,11],[77,3,77,5],[77,6,77,11],[78,3,78,5],[78,6,78,11],[79,3,79,5],[79,6,79,11],[58,4,58,6],[1,1,1,20],[8,4,8,6],[28,4,28,6],[20,2,20,3],[20,4,20,6],[73,3,73,5],[73,6,73,11],[74,3,74,5],[74,6,74,11],[82,6,82,11],[83,3,83,5],[83,6,83,11],[84,3,84,5],[84,6,84,11],[85,3,85,5],[85,6,85,11],[86,3,86,5],[86,6,86,11],[87,3,87,5],[87,6,87,11],[88,3,88,5],[88,6,88,11],[89,3,89,5],[89,6,89,11],[90,3,90,5],[90,6,90,11],[172,12,172,13],[167,12,167,13],[170,12,170,13],[164,3,164,4],[165,3,165,4],[166,3,166,4],[163,3,163,4],[155,3,155,4],[156,3,156,4],[157,3,157,4],[158,3,158,4],[159,3,159,4],[160,3,160,4],[161,3,161,4],[162,3,162,4],[132,3,132,4],[191,6,191,8],[188,6,188,8],[177,12,177,13],[178,3,178,4],[179,3,179,4],[180,3,180,4],[92,6,92,11],[93,3,93,5],[93,6,93,11],[94,3,94,5],[94,6,94,11],[131,12,131,13],[171,12,171,13],[133,3,133,4],[134,3,134,4],[135,3,135,4],[136,3,136,4],[137,3,137,4],[138,3,138,4],[176,3,176,4],[177,3,177,4],[167,3,167,4],[168,3,168,4],[169,3,169,4],[131,15,131,16],[130,14,130,16],[130,11,130,13],[130,3,130,4],[131,3,131,4],[138,12,138,13],[138,15,138,16],[132,12,132,13],[139,12,139,13],[139,15,139,16],[137,12,137,13],[132,15,132,16],[133,12,133,13],[133,15,133,16],[134,15,134,16],[135,12,135,13],[135,15,135,16],[136,12,136,13],[136,15,136,16],[137,15,137,16],[134,12,134,13],[147,15,147,16],[148,12,148,13],[148,15,148,16],[140,12,140,13],[149,12,149,13],[149,15,149,16],[150,12,150,13],[150,15,150,16],[142,15,142,16],[143,12,143,13],[143,15,143,16],[144,12,144,13],[144,15,144,16],[145,12,145,13],[145,15,145,16],[146,12,146,13],[146,15,146,16],[147,12,147,13],[142,12,142,13],[140,15,140,16],[141,12,141,13],[141,15,141,16],[152,15,152,16],[153,12,153,13],[153,15,153,16],[154,12,154,13],[154,15,154,16],[155,12,155,13],[155,15,155,16],[156,12,156,13],[156,15,156,16],[152,12,152,13],[157,15,157,16],[158,12,158,13],[158,15,158,16],[159,12,159,13],[159,15,159,16],[160,12,160,13],[160,15,160,16],[161,12,161,13],[161,15,161,16],[157,12,157,13],[170,15,170,16],[171,15,171,16],[162,15,162,16],[163,12,163,13],[163,15,163,16],[164,12,164,13],[164,15,164,16],[165,12,165,13],[165,15,165,16],[166,12,166,13],[166,15,166,16],[162,12,162,13],[229,36,234,36],[177,15,177,16],[178,12,178,13],[178,15,178,16],[179,12,179,13],[179,15,179,16],[180,12,180,13],[180,15,180,16],[151,15,151,16],[151,12,151,13],[172,15,172,16],[173,12,173,13],[173,15,173,16],[174,12,174,13],[174,15,174,16],[175,12,175,13],[175,15,175,16],[176,12,176,13],[176,15,176,16],[167,15,167,16],[168,12,168,13],[168,15,168,16],[169,12,169,13],[169,15,169,16]]}
["A.1."]
[null,"PATRÓN A.1. CONSUMOS DE LA FLOTA. RUTA GENÉRICA"]
[]
[]
[]
[]
[null,"Tipo de vehículo"]
[]
[null,null,"Tipo de vehículo (MMA)"]
[]
[null,null,"Carga útil del camión",null,null,null,null,"t"]
[]
[]
[]
[]
[null,"Proporción de viajes en vacío"]
[null,null,"Si la ruta es abierta, introduzca la siguiente información"]
[null,null,"Proporción de recorrido adicional en vacío (%)"]
[]
[null,null,"En caso de no conocer la proporción de viajes en vacío, introduzca la siguiente información:"]
[null,null,"Tipo de transporte"]
[null,null,"Proporción de recorrido adicional en vacío estimada",null,null,null,{"$f":"IFERROR(VLOOKUP($E$21,t_porcentaje_vacio,2,0),\"\")","v":""}]
[]
[]
[]
[]
[null,"Consumo y tipo de combustible. Enfoque: valores individuales de medida"]
[]
[null,null,"Tipo de combustible"]
[]
[null,null,"Introduzca los siguientes datos sobre los repostajes realizados antes, durante y después de la ruta"]
[null,null,null,null,"Km tacógrafo",null,"Litros repostados"]
[null,null,null,"Repostaje anterior a la ruta",null,"km"]
[]
[null,null,null,"Repostaje en ruta (1)",null,"km",null,"l."]
[null,null,null,"Repostaje en ruta (2)",null,"km",null,"l."]
[null,null,null,"Repostaje en ruta (3)",null,"km",null,"l."]
[null,null,null,"Repostaje en ruta (4)",null,"km",null,"l."]
[null,null,null,"Repostaje en ruta (5)",null,"km",null,"l."]
[null,null,null,"Repostaje en ruta (6)",null,"km",null,"l."]
[null,null,null,"Repostaje en ruta (7)",null,"km",null,"l."]
[null,null,null,"Repostaje en ruta (8)",null,"km",null,"l."]
[]
[null,null,null,"Repostaje posterior a la ruta",null,"km",null,"l."]
[]
[null,null,"Introduzca los siguientes datos sobre el inicio y final de la ruta"]
[null,null,null,"Inicio de la ruta",null,"km"]
[null,null,null,"Final de la ruta",null,"km"]
[]
[null,null,"Si la ruta es abierta, introduzca la siguiente información"]
[null,null,"Consumo específico de combustible en vacío",null,null,null,null,"l/100km"]
[]
[null,null,"Consumo de combustible de la ruta",null,null,null,{"$f":"IFERROR(($E$35-$E$47)/($E$35-$E$33)*$G$35+SUM($G$36:$G$42)+($E$48-$E$42)/($E$44-$E$42)*$G$44+$G$51/100*($E$48-$E$47)*IF($G$18<>\"\",$G$18,$G$22),0)","v":0},"l"]
[]
[]
[]
[null,"Consumo y tipo de combustible. Enfoque: valores específicos del operador de transporte"]
[]
[null,null,"Tipo de combustible"]
[]
[null,null,"Introduzca los siguientes datos sobre el consumo de combustible del tipo de vehículo durante el periodo"]
[null,null,"Consumo registrado en el periodo considerado",null,null,null,null,"l"]
[null,null,"Distancia recorrida en el periodo considerado",null,null,null,null,"km"]
[null,null,"Consumo específico de combustible",null,null,null,{"$f":"IFERROR(G62/G63,\"\")","v":""},"l/100km"]
[]
[null,null,"Consumo de combustible de la ruta",null,null,null,{"$f":"IF($G$64<>\"\",$G$64*($N$120+$N$121),\"\")","v":""},"l"]
[]
[]
[]
[]
[null,"Localizaciones y distancias"]
[]
[null,null,"Denominación y localización de las paradas que componen la ruta"]
[null,null,"Número de parada","Denominación (importante cumplimentar)",null,null,"Localización"]
[null,null,1]
[null,null,2]
[null,null,3]
[null,null,4]
[null,null,5]
[null,null,6]
[null,null,7]
[null,null,8]
[null,null,9]
[null,null,10]
[null,null,11]
[null,null,12]
[null,null,13]
[null,null,14]
[null,null,15]
[null,null,16]
[null,null,17]
[null,null,18]
[null,null,19]
[null,null,20]
[null,null,21]
[]
[]
[null,null,"Longitud y carga y consumo de combustible de cada uno de los tramos que componen la ruta"]
[null,null,"Número de paradas",null,"Denominación de las paradas",null,null,null,null,"¿Se conoce la distancia recorrida?","Distancia recorrida (km)",null,"Distancia directa (km)","Distancia de cálculo (km)",null,"Carga transportada (t)","Tasa de carga del tramo","Consumo específico de combustible del tramo (l/100 km)","Consumo específico de combustible del tramo (l/100 km) de cálculo","Consumo de combustible del tramo (l)"]
[null,null,"Parada 1 → Parada 2",null,{"$f":"IF(D76<>\"\",D75&\" → \"&D76,\"\")","v":""},null,null,null,null,null,null,null,{"$f":"IF(AND(G75<>\"\",G76<>\"\"),getGoogleDistance(txtNoAcc(G75),txtNoAcc(G76))*1,\"\")","v":""},{"$f":"IF(K100<>0,K100,M100)","v":""},null,{"$f":"IF(N100<>\"\",SUMIFS($G$132:$G$181,$L$132:$L$181,\"<=\"&C75,$O$132:$O$181,\">=\"&C76),\"\")","v":""},{"$f":"IFERROR(P100/$G$11,\"\")","v":""},null,{"$f":"IF(AK236<>0,AK236,IF($G$64<>\"\",$G$64,IF(R100<>\"\",R100,\"\")))","v":""},{"$f":"IFERROR(IF(N100<>\"\",S100*N100/100,\"\"),\"\")","v":""}]
[null,null,"Parada 2 → Parada 3",null,{"$f":"IF(D77<>\"\",D76&\" → \"&D77,\"\")","v":""},null,null,null,null,null,null,null,{"$f":"IF(AND(G76<>\"\",G77<>\"\"),getGoogleDistance(txtNoAcc(G76),txtNoAcc(G77))*1,\"\")","v":""},"",null,{"$f":"IF(N101<>\"\",SUMIFS($G$132:$G$181,$L$132:$L$181,\"<=\"&C76,$O$132:$O$181,\">=\"&C77),\"\")","v":""},{"$f":"IFERROR(P101/$G$11,\"\")","v":""},null,{"$f":"IF(AK237<>0,AK237,IF($G$64<>\"\",$G$64,IF(R101<>\"\",R101,\"\")))","v":""},{"$f":"IFERROR(IF(N101<>\"\",S101*N101/100,\"\"),\"\")","v":""}]
[null,null,"Parada 3 → Parada 4",null,"",null,null,null,null,null,null,null,{"$f":"IF(AND(G77<>\"\",G78<>\"\"),getGoogleDistance(txtNoAcc(G77),txtNoAcc(G78))*1,\"\")","v":""},"",null,"","",null,{"$f":"IF(AK238<>0,AK238,IF($G$64<>\"\",$G$64,IF(R102<>\"\",R102,\"\")))","v":""},""]
[null,null,"Parada 4 → Parada 5",null,"",null,null,null,null,null,null,null,{"$f":"IF(AND(G78<>\"\",G79<>\"\"),getGoogleDistance(txtNoAcc(G78),txtNoAcc(G79))*1,\"\")","v":""},"",null,"","",null,"",""]
[null,null,"Parada 5 → Parada 6",null,"",null,null,null,null,null,null,null,{"$f":"IF(AND(G79<>\"\",G80<>\"\"),getGoogleDistance(txtNoAcc(G79),txtNoAcc(G80))*1,\"\")","v":""},"",null,"","",null,"",""]
[null,null,"Parada 6 → Parada 7",null,"",null,null,null,null,null,null,null,{"$f":"IF(AND(G80<>\"\",G81<>\"\"),getGoogleDistance(txtNoAcc(G80),txtNoAcc(G81))*1,\"\")","v":""},"",null,"","",null,"",""]
[null,null,"Parada 7 → Parada 8",null,"",null,null,null,null,null,null,null,{"$f":"IF(AND(G81<>\"\",G82<>\"\"),getGoogleDistance(txtNoAcc(G81),txtNoAcc(G82))*1,\"\")","v":""},"",null,"","",null,"",""]
[null,null,"Parada 8 → Parada 9",null,"",null,null,null,null,null,null,null,{"$f":"IF(AND(G82<>\"\",G83<>\"\"),getGoogleDistance(txtNoAcc(G82),txtNoAcc(G83))*1,\"\")","v":""},"",null,"","",null,"",""]
[null,null,"Parada 9 → Parada 10",null,"",null,null,null,null,null,null,null,{"$f":"IF(AND(G83<>\"\",G84<>\"\"),getGoogleDistance(txtNoAcc(G83),txtNoAcc(G84))*1,\"\")","v":""},"",null,"","",null,"",""]
[null,null,"Parada 10 → Parada 11",null,"",null,null,null,null,null,null,null,{"$f":"IF(AND(G84<>\"\",G85<>\"\"),getGoogleDistance(txtNoAcc(G84),txtNoAcc(G85))*1,\"\")","v":""},"",null,"","",null,"",""]
[null,null,"Parada 11 → Parada 12",null,"",null,null,null,null,null,null,null,{"$f":"IF(AND(G85<>\"\",G86<>\"\"),getGoogleDistance(txtNoAcc(G85),txtNoAcc(G86))*1,\"\")","v":""},"",null,"","",null,"",""]
[null,null,"Parada 12 → Parada 13",null,"",null,null,null,null,null,null,null,{"$f":"IF(AND(G86<>\"\",G87<>\"\"),getGoogleDistance(txtNoAcc(G86),txtNoAcc(G87))*1,\"\")","v":""},"",null,"","",null,"",""]
[null,null,"Parada 13 → Parada 14",null,"",null,null,null,null,null,null,null,{"$f":"IF(AND(G87<>\"\",G88<>\"\"),getGoogleDistance(txtNoAcc(G87),txtNoAcc(G88))*1,\"\")","v":""},"",null,"","",null,"",""]
[null,null,"Parada 14 → Parada 15",null,"",null,null,null,null,null,null,null,{"$f":"IF(AND(G88<>\"\",G89<>\"\"),getGoogleDistance(txtNoAcc(G88),txtNoAcc(G89))*1,\"\")","v":""},"",null,"","",null,"",""]
[null,null,"Parada 15 → Parada 16",null,"",null,null,null,null,null,null,null,{"$f":"IF(AND(G89<>\"\",G90<>\"\"),getGoogleDistance(txtNoAcc(G89),txtNoAcc(G90))*1,\"\")","v":""},"",null,"","",null,"",""]
[null,null,"Parada 16 → Parada 17",null,"",null,null,null,null,null,null,null,{"$f":"IF(AND(G90<>\"\",G91<>\"\"),getGoogleDistance(txtNoAcc(G90),txtNoAcc(G91))*1,\"\")","v":""},"",null,"","",null,"",""]
[null,null,"Parada 17 → Parada 18",null,"",null,null,null,null,null,null,null,{"$f":"IF(AND(G91<>\"\",G92<>\"\"),getGoogleDistance(txtNoAcc(G91),txtNoAcc(G92))*1,\"\")","v":""},"",null,"","",null,"",""]
[null,null,"Parada 18 → Parada 19",null,"",null,null,null,null,null,null,null,{"$f":"IF(AND(G92<>\"\",G93<>\"\"),getGoogleDistance(txtNoAcc(G92),txtNoAcc(G93))*1,\"\")","v":""},"",null,"","",null,"",""]
[null,null,"Parada 19 → Parada 20",null,"",null,null,null,null,null,null,null,{"$f":"IF(AND(G93<>\"\",G94<>\"\"),getGoogleDistance(txtNoAcc(G93),txtNoAcc(G94))*1,\"\")","v":""},"",null,"","",null,"",""]
[null,null,"Parada 20 → Parada 21",null,"",null,null,null,null,null,null,null,{"$f":"IF(AND(G94<>\"\",G95<>\"\"),getGoogleDistance(txtNoAcc(G94),txtNoAcc(G95))*1,\"\")","v":""},"",null,"","",null,"",""]
[null,null,null,null,null,null,null,null,null,null,null,null,"Distancia recorrida en cada uno de los tramos",{"$f":"SUM(N100:N119)","v":0},"km"]
[null,null,null,null,null,null,null,null,null,null,null,null,"Distancia recorrida en vacío atribuible a la ruta",{"$f":"IFERROR(IF($G$18<>0,$N$120*$G$18,$N$120*$G$22),0)","v":0},"km",null,"Consumo específico en vacío",null,{"$f":"IF(G51<>\"\",G51,IF(G64<>\"\",G64,R121))","v":0},{"$f":"IF(N121<>\"\",S121*N121/100,\"\")","v":0},"l."]
[null,null,null,null,null,null,null,null,null,null,null,null,"Distancia recorrida en la ruta",{"$f":"N120+N121","v":0},"km",null,null,null,"Consumo de combustible de la ruta",{"$f":"SUM(T100:T119)+T121","v":0},"l."]
[]
[]
[]
[]
[]
[]
[null,"Características de los envíos"]
[]
[null,null,"Cliente del envío","Denominación del envío",null,null,"Carga bruta del envío (t)","Carga refrigerada - no refrigerada","Volumen del envío en almacenamiento (m3) - en caso de que la carga sea almacenada","Días de almacenamiento - en caso de que la carga sea almacenada",null,"Origen del envío",null,null,"Destino del envío",null,null,"Distancia directa (km)","Distancia recorrida (km)"]
[null,null,null,null,null,null,null,null,null,null,null,{"$f":"IFERROR(IF(M132<>0,VLOOKUP(M132,CHOOSE({2,1},$C$75:$C$95,$D$75:$D$95),2,0),\"\"),\"\")","v":""},null,null,{"$f":"IFERROR(IF(P132<>0,VLOOKUP(P132,CHOOSE({2,1},$C$75:$C$95,$D$75:$D$95),2,0),\"\"),\"\")","v":""},null,null,{"$f":"IF(AND(M132<>\"\",P132<>\"\"),getGoogleDistance(txtNoAcc(VLOOKUP(M132,$D$75:$L$95,4,0)),txtNoAcc(VLOOKUP(P132,$D$75:$L$95,4,0))),\"\")","v":""},{"$f":"IFERROR(SUM(OFFSET($N$99,$L132,0):OFFSET($N$99,$O132-1,0)),\"\")","v":""}]
[null,null,null,null,null,null,null,null,null,null,null,{"$f":"IFERROR(IF(M133<>0,VLOOKUP(M133,CHOOSE({2,1},$C$75:$C$95,$D$75:$D$95),2,0),\"\"),\"\")","v":""},null,null,{"$f":"IFERROR(IF(P133<>0,VLOOKUP(P133,CHOOSE({2,1},$C$75:$C$95,$D$75:$D$95),2,0),\"\"),\"\")","v":""},null,null,{"$f":"IF(AND(M133<>\"\",P133<>\"\"),getGoogleDistance(txtNoAcc(VLOOKUP(M133,$D$75:$L$95,4,0)),txtNoAcc(VLOOKUP(P133,$D$75:$L$95,4,0))),\"\")","v":""},{"$f":"IFERROR(SUM(OFFSET($N$99,$L133,0):OFFSET($N$99,$O133-1,0)),\"\")","v":""}]
[null,null,null,null,null,null,null,null,null,null,null,{"$f":"IFERROR(IF(M134<>0,VLOOKUP(M134,CHOOSE({2,1},$C$75:$C$95,$D$75:$D$95),2,0),\"\"),\"\")","v":""},null,null,{"$f":"IFERROR(IF(P134<>0,VLOOKUP(P134,CHOOSE({2,1},$C$75:$C$95,$D$75:$D$95),2,0),\"\"),\"\")","v":""},null,null,{"$f":"IF(AND(M134<>\"\",P134<>\"\"),getGoogleDistance(txtNoAcc(VLOOKUP(M134,$D$75:$L$95,4,0)),txtNoAcc(VLOOKUP(P134,$D$75:$L$95,4,0))),\"\")","v":""},{"$f":"IFERROR(SUM(OFFSET($N$99,$L134,0):OFFSET($N$99,$O134-1,0)),\"\")","v":""}]
[null,null,null,null,null,null,null,null,null,null,null,{"$f":"IFERROR(IF(M135<>0,VLOOKUP(M135,CHOOSE({2,1},$C$75:$C$95,$D$75:$D$95),2,0),\"\"),\"\")","v":""},null,null,{"$f":"IFERROR(IF(P135<>0,VLOOKUP(P135,CHOOSE({2,1},$C$75:$C$95,$D$75:$D$95),2,0),\"\"),\"\")","v":""},null,null,{"$f":"IF(AND(M135<>\"\",P135<>\"\"),getGoogleDistance(txtNoAcc(VLOOKUP(M135,$D$75:$L$95,4,0)),txtNoAcc(VLOOKUP(P135,$D$75:$L$95,4,0))),\"\")","v":""},{"$f":"IFERROR(SUM(OFFSET($N$99,$L135,0):OFFSET($N$99,$O135-1,0)),\"\")","v":""}]
[null,null,null,null,null,null,null,null,null,null,null,{"$f":"IFERROR(IF(M136<>0,VLOOKUP(M136,CHOOSE({2,1},$C$75:$C$95,$D$75:$D$95),2,0),\"\"),\"\")","v":""},null,null,{"$f":"IFERROR(IF(P136<>0,VLOOKUP(P136,CHOOSE({2,1},$C$75:$C$95,$D$75:$D$95),2,0),\"\"),\"\")","v":""},null,null,{"$f":"IF(AND(M136<>\"\",P136<>\"\"),getGoogleDistance(txtNoAcc(VLOOKUP(M136,$D$75:$L$95,4,0)),txtNoAcc(VLOOKUP(P136,$D$75:$L$95,4,0))),\"\")","v":""},{"$f":"IFERROR(SUM(OFFSET($N$99,$L136,0):OFFSET($N$99,$O136-1,0)),\"\")","v":""}]
[null,null,null,null,null,null,null,null,null,null,null,{"$f":"IFERROR(IF(M137<>0,VLOOKUP(M137,CHOOSE({2,1},$C$75:$C$95,$D$75:$D$95),2,0),\"\"),\"\")","v":""},null,null,{"$f":"IFERROR(IF(P137<>0,VLOOKUP(P137,CHOOSE({2,1},$C$75:$C$95,$D$75:$D$95),2,0),\"\"),\"\")","v":""},null,null,{"$f":"IF(AND(M137<>\"\",P137<>\"\"),getGoogleDistance(txtNoAcc(VLOOKUP(M137,$D$75:$L$95,4,0)),txtNoAcc(VLOOKUP(P137,$D$75:$L$95,4,0))),\"\")","v":""},{"$f":"IFERROR(SUM(OFFSET($N$99,$L137,0):OFFSET($N$99,$O137-1,0)),\"\")","v":""}]
[null,null,null,null,null,null,null,null,null,null,null,{"$f":"IFERROR(IF(M138<>0,VLOOKUP(M138,CHOOSE({2,1},$C$75:$C$95,$D$75:$D$95),2,0),\"\"),\"\")","v":""},null,null,{"$f":"IFERROR(IF(P138<>0,VLOOKUP(P138,CHOOSE({2,1},$C$75:$C$95,$D$75:$D$95),2,0),\"\"),\"\")","v":""},null,null,{"$f":"IF(AND(M138<>\"\",P138<>\"\"),getGoogleDistance(txtNoAcc(VLOOKUP(M138,$D$75:$L$95,4,0)),txtNoAcc(VLOOKUP(P138,$D$75:$L$95,4,0))),\"\")","v":""},{"$f":"IFERROR(SUM(OFFSET($N$99,$L138,0):OFFSET($N$99,$O138-1,0)),\"\")","v":""}]
[null,null,null,null,null,null,null,null,null,null,null,{"$f":"IFERROR(IF(M139<>0,VLOOKUP(M139,CHOOSE({2,1},$C$75:$C$95,$D$75:$D$95),2,0),\"\"),\"\")","v":""},null,null,{"$f":"IFERROR(IF(P139<>0,VLOOKUP(P139,CHOOSE({2,1},$C$75:$C$95,$D$75:$D$95),2,0),\"\"),\"\")","v":""},null,null,{"$f":"IF(AND(M139<>\"\",P139<>\"\"),getGoogleDistance(txtNoAcc(VLOOKUP(M139,$D$75:$L$95,4,0)),txtNoAcc(VLOOKUP(P139,$D$75:$L$95,4,0))),\"\")","v":""},{"$f":"IFERROR(SUM(OFFSET($N$99,$L139,0):OFFSET($N$99,$O139-1,0)),\"\")","v":""}]
[null,null,null,null,null,null,null,null,null,null,null,{"$f":"IFERROR(IF(M140<>0,VLOOKUP(M140,CHOOSE({2,1},$C$75:$C$95,$D$75:$D$95),2,0),\"\"),\"\")","v":""},null,null,{"$f":"IFERROR(IF(P140<>0,VLOOKUP(P140,CHOOSE({2,1},$C$75:$C$95,$D$75:$D$95),2,0),\"\"),\"\")","v":""},null,null,{"$f":"IF(AND(M140<>\"\",P140<>\"\"),getGoogleDistance(txtNoAcc(VLOOKUP(M140,$D$75:$L$95,4,0)),txtNoAcc(VLOOKUP(P140,$D$75:$L$95,4,0))),\"\")","v":""},{"$f":"IFERROR(SUM(OFFSET($N$99,$L140,0):OFFSET($N$99,$O140-1,0)),\"\")","v":""}]
[null,null,null,null,null,null,null,null,null,null,null,{"$f":"IFERROR(IF(M141<>0,VLOOKUP(M141,CHOOSE({2,1},$C$75:$C$95,$D$75:$D$95),2,0),\"\"),\"\")","v":""},null,null,{"$f":"IFERROR(IF(P141<>0,VLOOKUP(P141,CHOOSE({2,1},$C$75:$C$95,$D$75:$D$95),2,0),\"\"),\"\")","v":""},null,null,{"$f":"IF(AND(M141<>\"\",P141<>\"\"),getGoogleDistance(txtNoAcc(VLOOKUP(M141,$D$75:$L$95,4,0)),txtNoAcc(VLOOKUP(P141,$D$75:$L$95,4,0))),\"\")","v":""},{"$f":"IFERROR(SUM(OFFSET($N$99,$L141,0):OFFSET($N$99,$O141-1,0)),\"\")","v":""}]
[null,null,null,null,null,null,null,null,null,null,null,{"$f":"IFERROR(IF(M142<>0,VLOOKUP(M142,CHOOSE({2,1},$C$75:$C$95,$D$75:$D$95),2,0),\"\"),\"\")","v":""},null,null,{"$f":"IFERROR(IF(P142<>0,VLOOKUP(P142,CHOOSE({2,1},$C$75:$C$95,$D$75:$D$95),2,0),\"\"),\"\")","v":""},null,null,{"$f":"IF(AND(M142<>\"\",P142<>\"\"),getGoogleDistance(txtNoAcc(VLOOKUP(M142,$D$75:$L$95,4,0)),txtNoAcc(VLOOKUP(P142,$D$75:$L$95,4,0))),\"\")","v":""},{"$f":"IFERROR(SUM(OFFSET($N$99,$L142,0):OFFSET($N$99,$O142-1,0)),\"\")","v":""}]
[null,null,null,null,null,null,null,null,null,null,null,{"$f":"IFERROR(IF(M143<>0,VLOOKUP(M143,CHOOSE({2,1},$C$75:$C$95,$D$75:$D$95),2,0),\"\"),\"\")","v":""},null,null,{"$f":"IFERROR(IF(P143<>0,VLOOKUP(P143,CHOOSE({2,1},$C$75:$C$95,$D$75:$D$95),2,0),\"\"),\"\")","v":""},null,null,{"$f":"IF(AND(M143<>\"\",P143<>\"\"),getGoogleDistance(txtNoAcc(VLOOKUP(M143,$D$75:$L$95,4,0)),txtNoAcc(VLOOKUP(P143,$D$75:$L$95,4,0))),\"\")","v":""},{"$f":"IFERROR(SUM(OFFSET($N$99,$L143,0):OFFSET($N$99,$O143-1,0)),\"\")","v":""}]
[null,null,null,null,null,null,null,null,null,null,null,{"$f":"IFERROR(IF(M144<>0,VLOOKUP(M144,CHOOSE({2,1},$C$75:$C$95,$D$75:$D$95),2,0),\"\"),\"\")","v":""},null,null,{"$f":"IFERROR(IF(P144<>0,VLOOKUP(P144,CHOOSE({2,1},$C$75:$C$95,$D$75:$D$95),2,0),\"\"),\"\")","v":""},null,null,{"$f":"IF(AND(M144<>\"\",P144<>\"\"),getGoogleDistance(txtNoAcc(VLOOKUP(M144,$D$75:$L$95,4,0)),txtNoAcc(VLOOKUP(P144,$D$75:$L$95,4,0))),\"\")","v":""},{"$f":"IFERROR(SUM(OFFSET($N$99,$L144,0):OFFSET($N$99,$O144-1,0)),\"\")","v":""}]
[null,null,null,null,null,null,null,null,null,null,null,{"$f":"IFERROR(IF(M145<>0,VLOOKUP(M145,CHOOSE({2,1},$C$75:$C$95,$D$75:$D$95),2,0),\"\"),\"\")","v":""},null,null,{"$f":"IFERROR(IF(P145<>0,VLOOKUP(P145,CHOOSE({2,1},$C$75:$C$95,$D$75:$D$95),2,0),\"\"),\"\")","v":""},null,null,{"$f":"IF(AND(M145<>\"\",P145<>\"\"),getGoogleDistance(txtNoAcc(VLOOKUP(M145,$D$75:$L$95,4,0)),txtNoAcc(VLOOKUP(P145,$D$75:$L$95,4,0))),\"\")","v":""},{"$f":"IFERROR(SUM(OFFSET($N$99,$L145,0):OFFSET($N$99,$O145-1,0)),\"\")","v":""}]
[null,null,null,null,null,null,null,null,null,null,null,{"$f":"IFERROR(IF(M146<>0,VLOOKUP(M146,CHOOSE({2,1},$C$75:$C$95,$D$75:$D$95),2,0),\"\"),\"\")","v":""},null,null,{"$f":"IFERROR(IF(P146<>0,VLOOKUP(P146,CHOOSE({2,1},$C$75:$C$95,$D$75:$D$95),2,0),\"\"),\"\")","v":""},null,null,{"$f":"IF(AND(M146<>\"\",P146<>\"\"),getGoogleDistance(txtNoAcc(VLOOKUP(M146,$D$75:$L$95,4,0)),txtNoAcc(VLOOKUP(P146,$D$75:$L$95,4,0))),\"\")","v":""},{"$f":"IFERROR(SUM(OFFSET($N$99,$L146,0):OFFSET($N$99,$O146-1,0)),\"\")","v":""}]
[null,null,null,null,null,null,null,null,null,null,null,{"$f":"IFERROR(IF(M147<>0,VLOOKUP(M147,CHOOSE({2,1},$C$75:$C$95,$D$75:$D$95),2,0),\"\"),\"\")","v":""},null,null,{"$f":"IFERROR(IF(P147<>0,VLOOKUP(P147,CHOOSE({2,1},$C$75:$C$95,$D$75:$D$95),2,0),\"\"),\"\")","v":""},null,null,{"$f":"IF(AND(M147<>\"\",P147<>\"\"),getGoogleDistance(txtNoAcc(VLOOKUP(M147,$D$75:$L$95,4,0)),txtNoAcc(VLOOKUP(P147,$D$75:$L$95,4,0))),\"\")","v":""},{"$f":"IFERROR(SUM(OFFSET($N$99,$L147,0):OFFSET($N$99,$O147-1,0)),\"\")","v":""}]
[null,null,null,null,null,null,null,null,null,null,null,{"$f":"IFERROR(IF(M148<>0,VLOOKUP(M148,CHOOSE({2,1},$C$75:$C$95,$D$75:$D$95),2,0),\"\"),\"\")","v":""},null,null,{"$f":"IFERROR(IF(P148<>0,VLOOKUP(P148,CHOOSE({2,1},$C$75:$C$95,$D$75:$D$95),2,0),\"\"),\"\")","v":""},null,null,{"$f":"IF(AND(M148<>\"\",P148<>\"\"),getGoogleDistance(txtNoAcc(VLOOKUP(M148,$D$75:$L$95,4,0)),txtNoAcc(VLOOKUP(P148,$D$75:$L$95,4,0))),\"\")","v":""},{"$f":"IFERROR(SUM(OFFSET($N$99,$L148,0):OFFSET($N$99,$O148-1,0)),\"\")","v":""}]
[null,null,null,null,null,null,null,null,null,null,null,{"$f":"IFERROR(IF(M149<>0,VLOOKUP(M149,CHOOSE({2,1},$C$75:$C$95,$D$75:$D$95),2,0),\"\"),\"\")","v":""},null,null,{"$f":"IFERROR(IF(P149<>0,VLOOKUP(P149,CHOOSE({2,1},$C$75:$C$95,$D$75:$D$95),2,0),\"\"),\"\")","v":""},null,null,{"$f":"IF(AND(M149<>\"\",P149<>\"\"),getGoogleDistance(txtNoAcc(VLOOKUP(M149,$D$75:$L$95,4,0)),txtNoAcc(VLOOKUP(P149,$D$75:$L$95,4,0))),\"\")","v":""},{"$f":"IFERROR(SUM(OFFSET($N$99,$L149,0):OFFSET($N$99,$O149-1,0)),\"\")","v":""}]
[null,null,null,null,null,null,null,null,null,null,null,{"$f":"IFERROR(IF(M150<>0,VLOOKUP(M150,CHOOSE({2,1},$C$75:$C$95,$D$75:$D$95),2,0),\"\"),\"\")","v":""},null,null,{"$f":"IFERROR(IF(P150<>0,VLOOKUP(P150,CHOOSE({2,1},$C$75:$C$95,$D$75:$D$95),2,0),\"\"),\"\")","v":""},null,null,{"$f":"IF(AND(M150<>\"\",P150<>\"\"),getGoogleDistance(txtNoAcc(VLOOKUP(M150,$D$75:$L$95,4,0)),txtNoAcc(VLOOKUP(P150,$D$75:$L$95,4,0))),\"\")","v":""},{"$f":"IFERROR(SUM(OFFSET($N$99,$L150,0):OFFSET($N$99,$O150-1,0)),\"\")","v":""}]
[null,null,null,null,null,null,null,null,null,null,null,{"$f":"IFERROR(IF(M151<>0,VLOOKUP(M151,CHOOSE({2,1},$C$75:$C$95,$D$75:$D$95),2,0),\"\"),\"\")","v":""},null,null,{"$f":"IFERROR(IF(P151<>0,VLOOKUP(P151,CHOOSE({2,1},$C$75:$C$95,$D$75:$D$95),2,0),\"\"),\"\")","v":""},null,null,{"$f":"IF(AND(M151<>\"\",P151<>\"\"),getGoogleDistance(txtNoAcc(VLOOKUP(M151,$D$75:$L$95,4,0)),txtNoAcc(VLOOKUP(P151,$D$75:$L$95,4,0))),\"\")","v":""},{"$f":"IFERROR(SUM(OFFSET($N$99,$L151,0):OFFSET($N$99,$O151-1,0)),\"\")","v":""}]
[null,null,null,null,null,null,null,null,null,null,null,{"$f":"IFERROR(IF(M152<>0,VLOOKUP(M152,CHOOSE({2,1},$C$75:$C$95,$D$75:$D$95),2,0),\"\"),\"\")","v":""},null,null,{"$f":"IFERROR(IF(P152<>0,VLOOKUP(P152,CHOOSE({2,1},$C$75:$C$95,$D$75:$D$95),2,0),\"\"),\"\")","v":""},null,null,{"$f":"IF(AND(M152<>\"\",P152<>\"\"),getGoogleDistance(txtNoAcc(VLOOKUP(M152,$D$75:$L$95,4,0)),txtNoAcc(VLOOKUP(P152,$D$75:$L$95,4,0))),\"\")","v":""},{"$f":"IFERROR(SUM(OFFSET($N$99,$L152,0):OFFSET($N$99,$O152-1,0)),\"\")","v":""}]
[null,null,null,null,null,null,null,null,null,null,null,{"$f":"IFERROR(IF(M153<>0,VLOOKUP(M153,CHOOSE({2,1},$C$75:$C$95,$D$75:$D$95),2,0),\"\"),\"\")","v":""},null,null,{"$f":"IFERROR(IF(P153<>0,VLOOKUP(P153,CHOOSE({2,1},$C$75:$C$95,$D$75:$D$95),2,0),\"\"),\"\")","v":""},null,null,{"$f":"IF(AND(M153<>\"\",P153<>\"\"),getGoogleDistance(txtNoAcc(VLOOKUP(M153,$D$75:$L$95,4,0)),txtNoAcc(VLOOKUP(P153,$D$75:$L$95,4,0))),\"\")","v":""},{"$f":"IFERROR(SUM(OFFSET($N$99,$L153,0):OFFSET($N$99,$O153-1,0)),\"\")","v":""}]
[null,null,null,null,null,null,null,null,null,null,null,{"$f":"IFERROR(IF(M154<>0,VLOOKUP(M154,CHOOSE({2,1},$C$75:$C$95,$D$75:$D$95),2,0),\"\"),\"\")","v":""},null,null,{"$f":"IFERROR(IF(P154<>0,VLOOKUP(P154,CHOOSE({2,1},$C$75:$C$95,$D$75:$D$95),2,0),\"\"),\"\")","v":""},null,null,{"$f":"IF(AND(M154<>\"\",P154<>\"\"),getGoogleDistance(txtNoAcc(VLOOKUP(M154,$D$75:$L$95,4,0)),txtNoAcc(VLOOKUP(P154,$D$75:$L$95,4,0))),\"\")","v":""},{"$f":"IFERROR(SUM(OFFSET($N$99,$L154,0):OFFSET($N$99,$O154-1,0)),\"\")","v":""}]
[null,null,null,null,null,null,null,null,null,null,null,{"$f":"IFERROR(IF(M155<>0,VLOOKUP(M155,CHOOSE({2,1},$C$75:$C$95,$D$75:$D$95),2,0),\"\"),\"\")","v":""},null,null,{"$f":"IFERROR(IF(P155<>0,VLOOKUP(P155,CHOOSE({2,1},$C$75:$C$95,$D$75:$D$95),2,0),\"\"),\"\")","v":""},null,null,{"$f":"IF(AND(M155<>\"\",P155<>\"\"),getGoogleDistance(txtNoAcc(VLOOKUP(M155,$D$75:$L$95,4,0)),txtNoAcc(VLOOKUP(P155,$D$75:$L$95,4,0))),\"\")","v":""},{"$f":"IFERROR(SUM(OFFSET($N$99,$L155,0):OFFSET($N$99,$O155-1,0)),\"\")","v":""}]
[null,null,null,null,null,null,null,null,null,null,null,{"$f":"IFERROR(IF(M156<>0,VLOOKUP(M156,CHOOSE({2,1},$C$75:$C$95,$D$75:$D$95),2,0),\"\"),\"\")","v":""},null,null,{"$f":"IFERROR(IF(P156<>0,VLOOKUP(P156,CHOOSE({2,1},$C$75:$C$95,$D$75:$D$95),2,0),\"\"),\"\")","v":""},null,null,{"$f":"IF(AND(M156<>\"\",P156<>\"\"),getGoogleDistance(txtNoAcc(VLOOKUP(M156,$D$75:$L$95,4,0)),txtNoAcc(VLOOKUP(P156,$D$75:$L$95,4,0))),\"\")","v":""},{"$f":"IFERROR(SUM(OFFSET($N$99,$L156,0):OFFSET($N$99,$O156-1,0)),\"\")","v":""}]
[null,null,null,null,null,null,null,null,null,null,null,{"$f":"IFERROR(IF(M157<>0,VLOOKUP(M157,CHOOSE({2,1},$C$75:$C$95,$D$75:$D$95),2,0),\"\"),\"\")","v":""},null,null,{"$f":"IFERROR(IF(P157<>0,VLOOKUP(P157,CHOOSE({2,1},$C$75:$C$95,$D$75:$D$95),2,0),\"\"),\"\")","v":""},null,null,{"$f":"IF(AND(M157<>\"\",P157<>\"\"),getGoogleDistance(txtNoAcc(VLOOKUP(M157,$D$75:$L$95,4,0)),txtNoAcc(VLOOKUP(P157,$D$75:$L$95,4,0))),\"\")","v":""},{"$f":"IFERROR(SUM(OFFSET($N$99,$L157,0):OFFSET($N$99,$O157-1,0)),\"\")","v":""}]
[null,null,null,null,null,null,null,null,null,null,null,{"$f":"IFERROR(IF(M158<>0,VLOOKUP(M158,CHOOSE({2,1},$C$75:$C$95,$D$75:$D$95),2,0),\"\"),\"\")","v":""},null,null,{"$f":"IFERROR(IF(P158<>0,VLOOKUP(P158,CHOOSE({2,1},$C$75:$C$95,$D$75:$D$95),2,0),\"\"),\"\")","v":""},null,null,{"$f":"IF(AND(M158<>\"\",P158<>\"\"),getGoogleDistance(txtNoAcc(VLOOKUP(M158,$D$75:$L$95,4,0)),txtNoAcc(VLOOKUP(P158,$D$75:$L$95,4,0))),\"\")","v":""},{"$f":"IFERROR(SUM(OFFSET($N$99,$L158,0):OFFSET($N$99,$O158-1,0)),\"\")","v":""}]
[null,null,null,null,null,null,null,null,null,null,null,{"$f":"IFERROR(IF(M159<>0,VLOOKUP(M159,CHOOSE({2,1},$C$75:$C$95,$D$75:$D$95),2,0),\"\"),\"\")","v":""},null,null,{"$f":"IFERROR(IF(P159<>0,VLOOKUP(P159,CHOOSE({2,1},$C$75:$C$95,$D$75:$D$95),2,0),\"\"),\"\")","v":""},null,null,{"$f":"IF(AND(M159<>\"\",P159<>\"\"),getGoogleDistance(txtNoAcc(VLOOKUP(M159,$D$75:$L$95,4,0)),txtNoAcc(VLOOKUP(P159,$D$75:$L$95,4,0))),\"\")","v":""},{"$f":"IFERROR(SUM(OFFSET($N$99,$L159,0):OFFSET($N$99,$O159-1,0)),\"\")","v":""}]
[null,null,null,null,null,null,null,null,null,null,null,{"$f":"IFERROR(IF(M160<>0,VLOOKUP(M160,CHOOSE({2,1},$C$75:$C$95,$D$75:$D$95),2,0),\"\"),\"\")","v":""},null,null,{"$f":"IFERROR(IF(P160<>0,VLOOKUP(P160,CHOOSE({2,1},$C$75:$C$95,$D$75:$D$95),2,0),\"\"),\"\")","v":""},null,null,{"$f":"IF(AND(M160<>\"\",P160<>\"\"),getGoogleDistance(txtNoAcc(VLOOKUP(M160,$D$75:$L$95,4,0)),txtNoAcc(VLOOKUP(P160,$D$75:$L$95,4,0))),\"\")","v":""},{"$f":"IFERROR(SUM(OFFSET($N$99,$L160,0):OFFSET($N$99,$O160-1,0)),\"\")","v":""}]
[null,null,null,null,null,null,null,null,null,null,null,{"$f":"IFERROR(IF(M161<>0,VLOOKUP(M161,CHOOSE({2,1},$C$75:$C$95,$D$75:$D$95),2,0),\"\"),\"\")","v":""},null,null,{"$f":"IFERROR(IF(P161<>0,VLOOKUP(P161,CHOOSE({2,1},$C$75:$C$95,$D$75:$D$95),2,0),\"\"),\"\")","v":""},null,null,{"$f":"IF(AND(M161<>\"\",P161<>\"\"),getGoogleDistance(txtNoAcc(VLOOKUP(M161,$D$75:$L$95,4,0)),txtNoAcc(VLOOKUP(P161,$D$75:$L$95,4,0))),\"\")","v":""},{"$f":"IFERROR(SUM(OFFSET($N$99,$L161,0):OFFSET($N$99,$O161-1,0)),\"\")","v":""}]
[null,null,null,null,null,null,null,null,null,null,null,{"$f":"IFERROR(IF(M162<>0,VLOOKUP(M162,CHOOSE({2,1},$C$75:$C$95,$D$75:$D$95),2,0),\"\"),\"\")","v":""},null,null,{"$f":"IFERROR(IF(P162<>0,VLOOKUP(P162,CHOOSE({2,1},$C$75:$C$95,$D$75:$D$95),2,0),\"\"),\"\")","v":""},null,null,{"$f":"IF(AND(M162<>\"\",P162<>\"\"),getGoogleDistance(txtNoAcc(VLOOKUP(M162,$D$75:$L$95,4,0)),txtNoAcc(VLOOKUP(P162,$D$75:$L$95,4,0))),\"\")","v":""},{"$f":"IFERROR(SUM(OFFSET($N$99,$L162,0):OFFSET($N$99,$O162-1,0)),\"\")","v":""}]
[null,null,null,null,null,null,null,null,null,null,null,{"$f":"IFERROR(IF(M163<>0,VLOOKUP(M163,CHOOSE({2,1},$C$75:$C$95,$D$75:$D$95),2,0),\"\"),\"\")","v":""},null,null,{"$f":"IFERROR(IF(P163<>0,VLOOKUP(P163,CHOOSE({2,1},$C$75:$C$95,$D$75:$D$95),2,0),\"\"),\"\")","v":""},null,null,{"$f":"IF(AND(M163<>\"\",P163<>\"\"),getGoogleDistance(txtNoAcc(VLOOKUP(M163,$D$75:$L$95,4,0)),txtNoAcc(VLOOKUP(P163,$D$75:$L$95,4,0))),\"\")","v":""},{"$f":"IFERROR(SUM(OFFSET($N$99,$L163,0):OFFSET($N$99,$O163-1,0)),\"\")","v":""}]
[null,null,null,null,null,null,null,null,null,null,null,{"$f":"IFERROR(IF(M164<>0,VLOOKUP(M164,CHOOSE({2,1},$C$75:$C$95,$D$75:$D$95),2,0),\"\"),\"\")","v":""},null,null,{"$f":"IFERROR(IF(P164<>0,VLOOKUP(P164,CHOOSE({2,1},$C$75:$C$95,$D$75:$D$95),2,0),\"\"),\"\")","v":""},null,null,{"$f":"IF(AND(M164<>\"\",P164<>\"\"),getGoogleDistance(txtNoAcc(VLOOKUP(M164,$D$75:$L$95,4,0)),txtNoAcc(VLOOKUP(P164,$D$75:$L$95,4,0))),\"\")","v":""},{"$f":"IFERROR(SUM(OFFSET($N$99,$L164,0):OFFSET($N$99,$O164-1,0)),\"\")","v":""}]
[null,null,null,null,null,null,null,null,null,null,null,{"$f":"IFERROR(IF(M165<>0,VLOOKUP(M165,CHOOSE({2,1},$C$75:$C$95,$D$75:$D$95),2,0),\"\"),\"\")","v":""},null,null,{"$f":"IFERROR(IF(P165<>0,VLOOKUP(P165,CHOOSE({2,1},$C$75:$C$95,$D$75:$D$95),2,0),\"\"),\"\")","v":""},null,null,{"$f":"IF(AND(M165<>\"\",P165<>\"\"),getGoogleDistance(txtNoAcc(VLOOKUP(M165,$D$75:$L$95,4,0)),txtNoAcc(VLOOKUP(P165,$D$75:$L$95,4,0))),\"\")","v":""},{"$f":"IFERROR(SUM(OFFSET($N$99,$L165,0):OFFSET($N$99,$O165-1,0)),\"\")","v":""}]
[null,null,null,null,null,null,null,null,null,null,null,{"$f":"IFERROR(IF(M166<>0,VLOOKUP(M166,CHOOSE({2,1},$C$75:$C$95,$D$75:$D$95),2,0),\"\"),\"\")","v":""},null,null,{"$f":"IFERROR(IF(P166<>0,VLOOKUP(P166,CHOOSE({2,1},$C$75:$C$95,$D$75:$D$95),2,0),\"\"),\"\")","v":""},null,null,{"$f":"IF(AND(M166<>\"\",P166<>\"\"),getGoogleDistance(txtNoAcc(VLOOKUP(M166,$D$75:$L$95,4,0)),txtNoAcc(VLOOKUP(P166,$D$75:$L$95,4,0))),\"\")","v":""},{"$f":"IFERROR(SUM(OFFSET($N$99,$L166,0):OFFSET($N$99,$O166-1,0)),\"\")","v":""}]
[null,null,null,null,null,null,null,null,null,null,null,{"$f":"IFERROR(IF(M167<>0,VLOOKUP(M167,CHOOSE({2,1},$C$75:$C$95,$D$75:$D$95),2,0),\"\"),\"\")","v":""},null,null,{"$f":"IFERROR(IF(P167<>0,VLOOKUP(P167,CHOOSE({2,1},$C$75:$C$95,$D$75:$D$95),2,0),\"\"),\"\")","v":""},null,null,{"$f":"IF(AND(M167<>\"\",P167<>\"\"),getGoogleDistance(txtNoAcc(VLOOKUP(M167,$D$75:$L$95,4,0)),txtNoAcc(VLOOKUP(P167,$D$75:$L$95,4,0))),\"\")","v":""},{"$f":"IFERROR(SUM(OFFSET($N$99,$L167,0):OFFSET($N$99,$O167-1,0)),\"\")","v":""}]
[null,null,null,null,null,null,null,null,null,null,null,{"$f":"IFERROR(IF(M168<>0,VLOOKUP(M168,CHOOSE({2,1},$C$75:$C$95,$D$75:$D$95),2,0),\"\"),\"\")","v":""},null,null,{"$f":"IFERROR(IF(P168<>0,VLOOKUP(P168,CHOOSE({2,1},$C$75:$C$95,$D$75:$D$95),2,0),\"\"),\"\")","v":""},null,null,{"$f":"IF(AND(M168<>\"\",P168<>\"\"),getGoogleDistance(txtNoAcc(VLOOKUP(M168,$D$75:$L$95,4,0)),txtNoAcc(VLOOKUP(P168,$D$75:$L$95,4,0))),\"\")","v":""},{"$f":"IFERROR(SUM(OFFSET($N$99,$L168,0):OFFSET($N$99,$O168-1,0)),\"\")","v":""}]
[null,null,null,null,null,null,null,null,null,null,null,{"$f":"IFERROR(IF(M169<>0,VLOOKUP(M169,CHOOSE({2,1},$C$75:$C$95,$D$75:$D$95),2,0),\"\"),\"\")","v":""},null,null,{"$f":"IFERROR(IF(P169<>0,VLOOKUP(P169,CHOOSE({2,1},$C$75:$C$95,$D$75:$D$95),2,0),\"\"),\"\")","v":""},null,null,{"$f":"IF(AND(M169<>\"\",P169<>\"\"),getGoogleDistance(txtNoAcc(VLOOKUP(M169,$D$75:$L$95,4,0)),txtNoAcc(VLOOKUP(P169,$D$75:$L$95,4,0))),\"\")","v":""},{"$f":"IFERROR(SUM(OFFSET($N$99,$L169,0):OFFSET($N$99,$O169-1,0)),\"\")","v":""}]
[null,null,null,null,null,null,null,null,null,null,null,{"$f":"IFERROR(IF(M170<>0,VLOOKUP(M170,CHOOSE({2,1},$C$75:$C$95,$D$75:$D$95),2,0),\"\"),\"\")","v":""},null,null,{"$f":"IFERROR(IF(P170<>0,VLOOKUP(P170,CHOOSE({2,1},$C$75:$C$95,$D$75:$D$95),2,0),\"\"),\"\")","v":""},null,null,{"$f":"IF(AND(M170<>\"\",P170<>\"\"),getGoogleDistance(txtNoAcc(VLOOKUP(M170,$D$75:$L$95,4,0)),txtNoAcc(VLOOKUP(P170,$D$75:$L$95,4,0))),\"\")","v":""},{"$f":"IFERROR(SUM(OFFSET($N$99,$L170,0):OFFSET($N$99,$O170-1,0)),\"\")","v":""}]
[null,null,null,null,null,null,null,null,null,null,null,{"$f":"IFERROR(IF(M171<>0,VLOOKUP(M171,CHOOSE({2,1},$C$75:$C$95,$D$75:$D$95),2,0),\"\"),\"\")","v":""},null,null,{"$f":"IFERROR(IF(P171<>0,VLOOKUP(P171,CHOOSE({2,1},$C$75:$C$95,$D$75:$D$95),2,0),\"\"),\"\")","v":""},null,null,{"$f":"IF(AND(M171<>\"\",P171<>\"\"),getGoogleDistance(txtNoAcc(VLOOKUP(M171,$D$75:$L$95,4,0)),txtNoAcc(VLOOKUP(P171,$D$75:$L$95,4,0))),\"\")","v":""},{"$f":"IFERROR(SUM(OFFSET($N$99,$L171,0):OFFSET($N$99,$O171-1,0)),\"\")","v":""}]
[null,null,null,null,null,null,null,null,null,null,null,{"$f":"IFERROR(IF(M172<>0,VLOOKUP(M172,CHOOSE({2,1},$C$75:$C$95,$D$75:$D$95),2,0),\"\"),\"\")","v":""},null,null,{"$f":"IFERROR(IF(P172<>0,VLOOKUP(P172,CHOOSE({2,1},$C$75:$C$95,$D$75:$D$95),2,0),\"\"),\"\")","v":""},null,null,{"$f":"IF(AND(M172<>\"\",P172<>\"\"),getGoogleDistance(txtNoAcc(VLOOKUP(M172,$D$75:$L$95,4,0)),txtNoAcc(VLOOKUP(P172,$D$75:$L$95,4,0))),\"\")","v":""},{"$f":"IFERROR(SUM(OFFSET($N$99,$L172,0):OFFSET($N$99,$O172-1,0)),\"\")","v":""}]
[null,null,null,null,null,null,null,null,null,null,null,{"$f":"IFERROR(IF(M173<>0,VLOOKUP(M173,CHOOSE({2,1},$C$75:$C$95,$D$75:$D$95),2,0),\"\"),\"\")","v":""},null,null,{"$f":"IFERROR(IF(P173<>0,VLOOKUP(P173,CHOOSE({2,1},$C$75:$C$95,$D$75:$D$95),2,0),\"\"),\"\")","v":""},null,null,{"$f":"IF(AND(M173<>\"\",P173<>\"\"),getGoogleDistance(txtNoAcc(VLOOKUP(M173,$D$75:$L$95,4,0)),txtNoAcc(VLOOKUP(P173,$D$75:$L$95,4,0))),\"\")","v":""},{"$f":"IFERROR(SUM(OFFSET($N$99,$L173,0):OFFSET($N$99,$O173-1,0)),\"\")","v":""}]
[null,null,null,null,null,null,null,null,null,null,null,{"$f":"IFERROR(IF(M174<>0,VLOOKUP(M174,CHOOSE({2,1},$C$75:$C$95,$D$75:$D$95),2,0),\"\"),\"\")","v":""},null,null,{"$f":"IFERROR(IF(P174<>0,VLOOKUP(P174,CHOOSE({2,1},$C$75:$C$95,$D$75:$D$95),2,0),\"\"),\"\")","v":""},null,null,{"$f":"IF(AND(M174<>\"\",P174<>\"\"),getGoogleDistance(txtNoAcc(VLOOKUP(M174,$D$75:$L$95,4,0)),txtNoAcc(VLOOKUP(P174,$D$75:$L$95,4,0))),\"\")","v":""},{"$f":"IFERROR(SUM(OFFSET($N$99,$L174,0):OFFSET($N$99,$O174-1,0)),\"\")","v":""}]
[null,null,null,null,null,null,null,null,null,null,null,{"$f":"IFERROR(IF(M175<>0,VLOOKUP(M175,CHOOSE({2,1},$C$75:$C$95,$D$75:$D$95),2,0),\"\"),\"\")","v":""},null,null,{"$f":"IFERROR(IF(P175<>0,VLOOKUP(P175,CHOOSE({2,1},$C$75:$C$95,$D$75:$D$95),2,0),\"\"),\"\")","v":""},null,null,{"$f":"IF(AND(M175<>\"\",P175<>\"\"),getGoogleDistance(txtNoAcc(VLOOKUP(M175,$D$75:$L$95,4,0)),txtNoAcc(VLOOKUP(P175,$D$75:$L$95,4,0))),\"\")","v":""},{"$f":"IFERROR(SUM(OFFSET($N$99,$L175,0):OFFSET($N$99,$O175-1,0)),\"\")","v":""}]
[null,null,null,null,null,null,null,null,null,null,null,{"$f":"IFERROR(IF(M176<>0,VLOOKUP(M176,CHOOSE({2,1},$C$75:$C$95,$D$75:$D$95),2,0),\"\"),\"\")","v":""},null,null,{"$f":"IFERROR(IF(P176<>0,VLOOKUP(P176,CHOOSE({2,1},$C$75:$C$95,$D$75:$D$95),2,0),\"\"),\"\")","v":""},null,null,{"$f":"IF(AND(M176<>\"\",P176<>\"\"),getGoogleDistance(txtNoAcc(VLOOKUP(M176,$D$75:$L$95,4,0)),txtNoAcc(VLOOKUP(P176,$D$75:$L$95,4,0))),\"\")","v":""},{"$f":"IFERROR(SUM(OFFSET($N$99,$L176,0):OFFSET($N$99,$O176-1,0)),\"\")","v":""}]
[null,null,null,null,null,null,null,null,null,null,null,{"$f":"IFERROR(IF(M177<>0,VLOOKUP(M177,CHOOSE({2,1},$C$75:$C$95,$D$75:$D$95),2,0),\"\"),\"\")","v":""},null,null,{"$f":"IFERROR(IF(P177<>0,VLOOKUP(P177,CHOOSE({2,1},$C$75:$C$95,$D$75:$D$95),2,0),\"\"),\"\")","v":""},null,null,{"$f":"IF(AND(M177<>\"\",P177<>\"\"),getGoogleDistance(txtNoAcc(VLOOKUP(M177,$D$75:$L$95,4,0)),txtNoAcc(VLOOKUP(P177,$D$75:$L$95,4,0))),\"\")","v":""},{"$f":"IFERROR(SUM(OFFSET($N$99,$L177,0):OFFSET($N$99,$O177-1,0)),\"\")","v":""}]
[null,null,null,null,null,null,null,null,null,null,null,{"$f":"IFERROR(IF(M178<>0,VLOOKUP(M178,CHOOSE({2,1},$C$75:$C$95,$D$75:$D$95),2,0),\"\"),\"\")","v":""},null,null,{"$f":"IFERROR(IF(P178<>0,VLOOKUP(P178,CHOOSE({2,1},$C$75:$C$95,$D$75:$D$95),2,0),\"\"),\"\")","v":""},null,null,{"$f":"IF(AND(M178<>\"\",P178<>\"\"),getGoogleDistance(txtNoAcc(VLOOKUP(M178,$D$75:$L$95,4,0)),txtNoAcc(VLOOKUP(P178,$D$75:$L$95,4,0))),\"\")","v":""},{"$f":"IFERROR(SUM(OFFSET($N$99,$L178,0):OFFSET($N$99,$O178-1,0)),\"\")","v":""}]
[null,null,null,null,null,null,null,null,null,null,null,{"$f":"IFERROR(IF(M179<>0,VLOOKUP(M179,CHOOSE({2,1},$C$75:$C$95,$D$75:$D$95),2,0),\"\"),\"\")","v":""},null,null,{"$f":"IFERROR(IF(P179<>0,VLOOKUP(P179,CHOOSE({2,1},$C$75:$C$95,$D$75:$D$95),2,0),\"\"),\"\")","v":""},null,null,{"$f":"IF(AND(M179<>\"\",P179<>\"\"),getGoogleDistance(txtNoAcc(VLOOKUP(M179,$D$75:$L$95,4,0)),txtNoAcc(VLOOKUP(P179,$D$75:$L$95,4,0))),\"\")","v":""},{"$f":"IFERROR(SUM(OFFSET($N$99,$L179,0):OFFSET($N$99,$O179-1,0)),\"\")","v":""}]
[null,null,null,null,null,null,null,null,null,null,null,{"$f":"IFERROR(IF(M180<>0,VLOOKUP(M180,CHOOSE({2,1},$C$75:$C$95,$D$75:$D$95),2,0),\"\"),\"\")","v":""},null,null,{"$f":"IFERROR(IF(P180<>0,VLOOKUP(P180,CHOOSE({2,1},$C$75:$C$95,$D$75:$D$95),2,0),\"\"),\"\")","v":""},null,null,{"$f":"IF(AND(M180<>\"\",P180<>\"\"),getGoogleDistance(txtNoAcc(VLOOKUP(M180,$D$75:$L$95,4,0)),txtNoAcc(VLOOKUP(P180,$D$75:$L$95,4,0))),\"\")","v":""},{"$f":"IFERROR(SUM(OFFSET($N$99,$L180,0):OFFSET($N$99,$O180-1,0)),\"\")","v":""}]
[null,null,null,null,null,null,null,null,null,null,null,{"$f":"IFERROR(IF(M181<>0,VLOOKUP(M181,CHOOSE({2,1},$C$75:$C$95,$D$75:$D$95),2,0),\"\"),\"\")","v":""},null,null,{"$f":"IFERROR(IF(P181<>0,VLOOKUP(P181,CHOOSE({2,1},$C$75:$C$95,$D$75:$D$95),2,0),\"\"),\"\")","v":""},null,null,{"$f":"IF(AND(M181<>\"\",P181<>\"\"),getGoogleDistance(txtNoAcc(VLOOKUP(M181,$D$75:$L$95,4,0)),txtNoAcc(VLOOKUP(P181,$D$75:$L$95,4,0))),\"\")","v":""},{"$f":"IFERROR(SUM(OFFSET($N$99,$L181,0):OFFSET($N$99,$O181-1,0)),\"\")","v":""}]
[]
[]
[]
[]
[null,"Consumo energético por la refrigeración de la carga del vehículo"]
[]
[null,null,"Seleccione si el vehículo dispone de un depósito por separado"]
[null,null,"Tipo de depósito"]
[]
[null,null,"En caso de que el vehículo cuente con un depósito de combustible separado, introduzca los siguientes datos:"]
[null,null,"Tipo de combustible"]
[null,null,"Consumo específico de combustible",null,null,null,null,null,null,"l/h"]
[null,null,"Tiempo de refrigeración",null,null,null,null,null,null,"h"]
[]
[null,null,"Si no conoce el consumo específico de combustible por refrigeración, introduzca los siguientes datos:"]
[null,null,"Tipo de unidad refrigerada y temperatura de refrigeración"]
[]
[null,null,"Consumo específico de combustible por refrigeración",null,null,null,null,null,{"$f":"IFERROR(IF(I193<>0,I193,VLOOKUP(H197,t_consumo_refrigeracion_v,2,0)),\"\")","v":""},"l/h"]
[null,null,"Consumo de combustible en la ruta por refrigeración",null,null,null,null,null,{"$f":"IFERROR(I199*I194,\"\")","v":""},"l"]
[]
[]
[]
[]
[null,"Consumo energético por el almacenamiento de la carga"]
[]
[null,null,"Si conoce el consumo de energía de las instalaciones logísticas, introduzca los siguientes datos"]
[null,null,"Tipo de fuente de energía - 1"]
[null,null,"Consumo anual de la fuente de energía - 1",null,null,null,null,null,null,"kWh"]
[null,null,"Volumen de ocupación medio anual asociado a la fuente de energía - 1",null,null,null,null,null,null,"m3"]
[null,null,"Tipo de fuente de energía - 2"]
[null,null,"Consumo anual de la fuente de energía - 2",null,null,null,null,null,null,{"$f":"IFERROR(VLOOKUP(G211,t_factores_a,2,0),\"\")","v":""}]
[null,null,"Volumen de ocupación medio anual asociado a la fuente de energía - 2",null,null,null,null,null,null,"m3"]
[null,null,"Tipo de fuente de energía - 3"]
[null,null,"Consumo anual de la fuente de energía - 3",null,null,null,null,null,null,"l."]
[null,null,"Volumen de ocupación medio anual asociado a la fuente de energía - 3",null,null,null,null,null,null,"m3"]
[]
[null,null,{"$f":"\"Consumo específico de \"&G208&\" - almacenamiento\"","v":"Consumo específico de  - almacenamiento"},null,null,null,null,null,{"$f":"IFERROR($I$209/($I$210*365),\"\")","v":""},{"$f":"IF($G$208<>\"\",$J$209&\"/m3-día\",\"\")","v":""}]
[null,null,{"$f":"\"Consumo específico de \"&G211&\" - almacenamiento\"","v":"Consumo específico de  - almacenamiento"},null,null,null,null,null,{"$f":"IFERROR($I$212/($I$213*365),\"\")","v":""},{"$f":"IF(G211<>\"\",J212&\"/m3-día\",\"\")","v":""}]
[null,null,{"$f":"\"Consumo específico de \"&G214&\" - almacenamiento\"","v":"Consumo específico de  - almacenamiento"},null,null,null,null,null,{"$f":"IFERROR($I$215/($I$216*365),\"\")","v":""},{"$f":"IF(G214<>\"\",J215&\"/m3-día\",\"\")","v":""}]
[]
[null,null,"Si no conoce el consumo de energía de las instalaciones logísticas, introduzca los siguientes datos"]
[null,null,"Tipo de refrigeración de la carga"]
[null,null,"Tipo de electricidad consumida"]
[]
[null,null,{"$f":"\"Consumo específico de Electricidad de Red -\"&H224&\" - almacenamiento\"","v":"Consumo específico de Electricidad de Red - - almacenamiento"},null,null,null,null,null,{"$f":"IFERROR(VLOOKUP($H$223,t_consumo_tipocarga_a,5,0),\"\")","v":""},{"$f":"IF($H$223<>\"\",\"kWh/m3-día\",\"\")","v":""}]
[null,null,"Consumo específico de Gas natural: potencia calorífica neta - almacenamiento",null,null,null,null,null,{"$f":"IFERROR(VLOOKUP($H$223,t_consumo_tipocarga_a,6,0),\"\")","v":""},{"$f":"IF($H$223<>\"\",\"kWh/m3-día\",\"\")","v":""}]
[]
[]
[null,null,null,null,null,null,null,null,null,null,null,null,null,null,null,null,null,null,null,null,null,null,"Cálculo de consumo de combustible por tramo",null,null,null,"ini. --> 1","1 --> 2","2 --> 3","3 --> 4","4 --> 5","5 --> 6","6 --> 7","7 --> n","n --> fin",null,"litros a los 100 km del tramo"]
[null,null,null,null,null,null,null,null,null,null,null,null,null,null,null,null,null,null,null,null,null,null,null,null,null,null,{"$f":"G35","v":0},{"$f":"G36","v":0},{"$f":"G37","v":0},{"$f":"G38","v":0},{"$f":"G39","v":0},{"$f":"G40","v":0},{"$f":"G41","v":0},{"$f":"G42","v":0},{"$f":"G44","v":0},"(litros)"]
[null,null,null,null,null,null,null,null,null,null,null,null,null,null,null,null,null,null,null,null,null,null,null,null,null,null,{"$f":"IFERROR(AA231/AA233,0)","v":0},{"$f":"IFERROR(AB231/AB233,0)","v":0},{"$f":"IFERROR(AC231/AC233,0)","v":0},0,0,0,0,0,0,"(litros/100 km)"]
[null,null,null,null,null,null,null,null,null,null,null,null,null,null,null,null,null,null,null,null,null,null,null,null,null,null,{"$f":"IF(E35-E33>0,E35-E33,0)","v":0},{"$f":"IF(E36-E35>0,E36-E35,0)","v":0},{"$f":"IF(E37-E36>0,E37-E36,0)","v":0},{"$f":"IF(E38-E37>0,E38-E37,0)","v":0},{"$f":"IF(E39-E38>0,E39-E38,0)","v":0},{"$f":"IF(E40-E39>0,E40-E39,0)","v":0},{"$f":"IF(E41-E40>0,E41-E40,0)","v":0},{"$f":"IF(E42-E41>0,E42-E41,0)","v":0},{"$f":"E44-MAX(E33:E42)","v":0},"(km tramo-repostaje)"]
[null,null,null,null,null,null,null,null,null,null,null,null,null,null,null,null,null,null,null,null,null,null,null,null,null,null,{"$f":"0-$E$47+$E$33","v":0},{"$f":"AA235","v":0},{"$f":"AB235","v":0},0,0,0,0,0,{"$f":"AH235","v":0},"(km inicial)"]
[null,null,null,null,null,null,null,null,null,null,null,null,null,null,null,null,null,null,null,null,null,null,null,null,null,null,{"$f":"AA233-$E$47+$E$33","v":0},{"$f":"AB233+AB234","v":0},{"$f":"AC233+AC234","v":0},{"$f":"AD233+AD234","v":0},0,0,0,0,{"$f":"AI233+AI234","v":0},"(km final)"]
[null,null,null,null,null,null,null,null,null,null,null,null,null,null,null,null,null,null,null,null,null,null,"1 --> 2",{"$f":"N100","v":""},0,{"$f":"IFERROR(Y236+X236,\"---\")","v":"---"},{"$f":"IFERROR(AA$232*IF(OR(AA$234>=$Z236,AA$235<=$Y236),0,IF(AND(AA$234<=$Y236,$Y236<=AA$235,AA$235<=$Z236),AA$235-$Y236,IF(AND($Y236<=AA$234,AA$234<=$Z236,$Z236<=AA$235),$Z236-AA$234,IF(AND($Y236<=AA$234,AA$235<=$Z236),AA$235-AA$234,IF(AND(AA$234<=$Y236,$Z236<=AA$235),$Z236-$Y236))))),0)","v":0},{"$f":"IFERROR(AB$232*IF(OR(AB$234>=$Z236,AB$235<=$Y236),0,IF(AND(AB$234<=$Y236,$Y236<=AB$235,AB$235<=$Z236),AB$235-$Y236,IF(AND($Y236<=AB$234,AB$234<=$Z236,$Z236<=AB$235),$Z236-AB$234,IF(AND($Y236<=AB$234,AB$235<=$Z236),AB$235-AB$234,IF(AND(AB$234<=$Y236,$Z236<=AB$235),$Z236-$Y236))))),0)","v":0},0,0,0,0,0,0,0,null,{"$f":"IF(X236<>\"\",SUM(AA236:AI236)/X236*100,\"\")","v":""}]
[null,null,null,null,null,null,null,null,null,null,null,null,null,null,null,null,null,null,null,null,null,null,"2 --> 3",{"$f":"N101","v":""},{"$f":"Z236","v":"---"},{"$f":"IFERROR(Y237+X237,\"---\")","v":"---"},{"$f":"IFERROR(AA$232*IF(OR(AA$234>=$Z237,AA$235<=$Y237),0,IF(AND(AA$234<=$Y237,$Y237<=AA$235,AA$235<=$Z237),AA$235-$Y237,IF(AND($Y237<=AA$234,AA$234<=$Z237,$Z237<=AA$235),$Z237-AA$234,IF(AND($Y237<=AA$234,AA$235<=$Z237),AA$235-AA$234,IF(AND(AA$234<=$Y237,$Z237<=AA$235),$Z237-$Y237))))),0)","v":0},0,0,{"$f":"IFERROR(AD$232*IF(OR(AD$234>=$Z237,AD$235<=$Y237),0,IF(AND(AD$234<=$Y237,$Y237<=AD$235,AD$235<=$Z237),AD$235-$Y237,IF(AND($Y237<=AD$234,AD$234<=$Z237,$Z237<=AD$235),$Z237-AD$234,IF(AND($Y237<=AD$234,AD$235<=$Z237),AD$235-AD$234,IF(AND(AD$234<=$Y237,$Z237<=AD$235),$Z237-$Y237))))),0)","v":0},0,0,0,0,0,null,{"$f":"IF(X237<>\"\",SUM(AA237:AI237)/X237*100,\"\")","v":""}]
[null,null,null,null,null,null,null,null,null,null,null,null,null,null,null,null,null,null,null,null,null,null,"3 --> 4","",{"$f":"Z237","v":"---"},"---",{"$f":"IFERROR(AA$232*IF(OR(AA$234>=$Z238,AA$235<=$Y238),0,IF(AND(AA$234<=$Y238,$Y238<=AA$235,AA$235<=$Z238),AA$235-$Y238,IF(AND($Y238<=AA$234,AA$234<=$Z238,$Z238<=AA$235),$Z238-AA$234,IF(AND($Y238<=AA$234,AA$235<=$Z238),AA$235-AA$234,IF(AND(AA$234<=$Y238,$Z238<=AA$235),$Z238-$Y238))))),0)","v":0},0,0,0,0,0,0,0,{"$f":"IFERROR(AI$232*IF(OR(AI$234>=$Z238,AI$235<=$Y238),0,IF(AND(AI$234<=$Y238,$Y238<=AI$235,AI$235<=$Z238),AI$235-$Y238,IF(AND($Y238<=AI$234,AI$234<=$Z238,$Z238<=AI$235),$Z238-AI$234,IF(AND($Y238<=AI$234,AI$235<=$Z238),AI$235-AI$234,IF(AND(AI$234<=$Y238,$Z238<=AI$235),$Z238-$Y238))))),0)","v":0},null,""]
[null,null,null,null,null,null,null,null,null,null,null,null,null,null,null,null,null,null,null,null,null,null,"4 --> 5","","---","---",0,0,0,0,0,0,0,0,0,null,""]
[null,null,null,null,null,null,null,null,null,null,null,null,null,null,null,null,null,null,null,null,null,null,"5 --> 6","","---","---",0,0,0,0,0,0,0,0,0,null,""]
[null,null,null,null,null,null,null,null,null,null,null,null,null,null,null,null,null,null,null,null,null,null,"6 --> 7","","---","---",0,0,0,0,0,0,0,0,0,null,""]
[null,null,null,null,null,null,null,null,null,null,null,null,null,null,null,null,null,null,null,null,null,null,"7 --> 8","","---","---",0,0,0,0,0,0,0,0,0,null,""]
[null,null,null,null,null,null,null,null,null,null,null,null,null,null,null,null,null,null,null,null,null,null,"8 --> 9","","---","---",0,0,0,0,0,0,0,0,0,null,""]
[null,null,null,null,null,null,null,null,null,null,null,null,null,null,null,null,null,null,null,null,null,null,"9 --> 10","","---","---",0,0,0,0,0,0,0,0,0,null,""]
[null,null,null,null,null,null,null,null,null,null,null,null,null,null,null,null,null,null,null,null,null,null,"10 --> 11","","---","---",0,0,0,0,0,0,0,0,0,null,""]
[null,null,null,null,null,null,null,null,null,null,null,null,null,null,null,null,null,null,null,null,null,null,"11 --> 12","","---","---",0,0,0,0,0,0,0,0,0,null,""]
[null,null,null,null,null,null,null,null,null,null,null,null,null,null,null,null,null,null,null,null,null,null,"12 --> 13","","---","---",0,0,0,0,0,0,0,0,0,null,""]
[null,null,null,null,null,null,null,null,null,null,null,null,null,null,null,null,null,null,null,null,null,null,"13 --> 14","","---","---",0,0,0,0,0,0,0,0,0,null,""]
[null,null,null,null,null,null,null,null,null,null,null,null,null,null,null,null,null,null,null,null,null,null,"14 --> 15","","---","---",0,0,0,0,0,0,0,0,0,null,""]
[null,null,null,null,null,null,null,null,null,null,null,null,null,null,null,null,null,null,null,null,null,null,"15 --> 16","","---","---",0,0,0,0,0,0,0,0,0,null,""]
[null,null,null,null,null,null,null,null,null,null,null,null,null,null,null,null,null,null,null,null,null,null,"16 --> 17","","---","---",0,0,0,0,0,0,0,0,0,null,""]
[null,null,null,null,null,null,null,null,null,null,null,null,null,null,null,null,null,null,null,null,null,null,"17 --> 18","","---","---",0,0,0,0,0,0,0,0,0,null,""]
[null,null,null,null,null,null,null,null,null,null,null,null,null,null,null,null,null,null,null,null,null,null,"18 --> 19","","---","---",0,0,0,0,0,0,0,0,0,null,""]
[null,null,null,null,null,null,null,null,null,null,null,null,null,null,null,null,null,null,null,null,null,null,"19 --> 20","","---","---",{"$f":"IFERROR(AA$232*IF(OR(AA$234>=$Z254,AA$235<=$Y254),0,IF(AND(AA$234<=$Y254,$Y254<=AA$235,AA$235<=$Z254),AA$235-$Y254,IF(AND($Y254<=AA$234,AA$234<=$Z254,$Z254<=AA$235),$Z254-AA$234,IF(AND($Y254<=AA$234,AA$235<=$Z254),AA$235-AA$234,IF(AND(AA$234<=$Y254,$Z254<=AA$235),$Z254-$Y254))))),0)","v":0},0,0,0,0,0,0,0,0,null,""]
[null,null,null,null,null,null,null,null,null,null,null,null,null,null,null,null,null,null,null,null,null,null,"20 --> 21","","---","---",0,0,0,0,0,0,0,0,0,null,""]
[null,null,null,null,null,null,null,null,null,null,null,null,null,null,null,null,null,null,null,null,null,null,null,"km tramo","km inicial","km final"]

{"sheet":"A2","index":7,"n_rows":238,"n_cols":37,"rows_kept":238,"cut":false,"hidden":true,"merged":[[139,12,139,13],[139,15,139,16],[135,12,135,13],[222,7,222,8],[223,7,223,8],[140,15,140,16],[141,12,141,13],[141,15,141,16],[149,6,149,8],[152,6,152,8],[157,7,157,8],[207,6,207,8],[210,6,210,8],[213,6,213,8],[140,12,140,13],[134,15,134,16],[130,12,130,13],[135,15,135,16],[136,12,136,13],[136,15,136,16],[137,12,137,13],[137,15,137,16],[138,12,138,13],[138,15,138,16],[124,15,124,16],[125,15,125,16],[126,12,126,13],[126,15,126,16],[127,12,127,13],[127,15,127,16],[128,12,128,13],[128,15,128,16],[129,12,129,13],[129,15,129,16],[125,12,125,13],[124,12,124,13],[119,15,119,16],[115,12,115,13],[120,15,120,16],[121,12,121,13],[121,15,121,16],[122,12,122,13],[122,15,122,16],[123,12,123,13],[123,15,123,16],[120,12,120,13],[119,12,119,13],[114,15,114,16],[110,12,110,13],[115,15,115,16],[116,12,116,13],[116,15,116,16],[117,12,117,13],[117,15,117,16],[118,12,118,13],[118,15,118,16],[109,15,109,16],[105,12,105,13],[110,15,110,16],[111,12,111,13],[111,15,111,16],[112,12,112,13],[112,15,112,16],[113,12,113,13],[113,15,113,16],[104,15,104,16],[100,12,100,13],[105,15,105,16],[106,12,106,13],[106,15,106,16],[107,12,107,13],[107,15,107,16],[108,12,108,13],[108,15,108,16],[98,15,98,16],[99,12,99,13],[99,15,99,16],[100,15,100,16],[101,12,101,13],[101,15,101,16],[102,12,102,13],[102,15,102,16],[103,12,103,13],[103,15,103,16],[93,15,93,16],[94,3,94,4],[94,12,94,13],[94,15,94,16],[95,12,95,13],[95,15,95,16],[96,12,96,13],[96,15,96,16],[97,12,97,13],[97,15,97,16],[91,14,91,16],[80,2,80,3],[80,4,80,8],[80,10,80,11],[81,2,81,3],[81,4,81,8],[81,10,81,11],[92,3,92,4],[92,12,92,13],[92,15,92,16],[121,3,121,4],[122,3,122,4],[123,3,123,4],[124,3,124,4],[117,3,117,4],[118,3,118,4],[119,3,119,4],[79,2,79,3],[79,4,79,8],[95,3,95,4],[96,3,96,4],[97,3,97,4],[98,3,98,4],[99,3,99,4],[100,3,100,4],[91,3,91,4],[93,3,93,4],[120,3,120,4],[132,3,132,4],[125,3,125,4],[126,3,126,4],[127,3,127,4],[229,22,234,25],[229,36,234,36],[141,3,141,4],[137,3,137,4],[138,3,138,4],[139,3,139,4],[140,3,140,4],[133,3,133,4],[134,3,134,4],[135,3,135,4],[136,3,136,4],[128,3,128,4],[130,15,130,16],[131,12,131,13],[131,15,131,16],[132,12,132,13],[132,15,132,16],[133,12,133,13],[133,15,133,16],[134,12,134,13],[1,1,1,20],[58,4,58,6],[73,3,73,5],[73,6,73,11],[74,3,74,5],[74,6,74,11],[129,3,129,4],[130,3,130,4],[131,3,131,4],[101,3,101,4],[102,3,102,4],[103,3,103,4],[104,3,104,4],[105,3,105,4],[106,3,106,4],[107,3,107,4],[108,3,108,4],[109,3,109,4],[110,3,110,4],[111,3,111,4],[112,3,112,4],[113,3,113,4],[114,3,114,4],[115,3,115,4],[75,3,75,5],[75,6,75,11],[8,4,8,6],[20,2,20,3],[20,4,20,6],[28,4,28,6],[116,3,116,4],[79,10,79,11],[91,11,91,13],[93,12,93,13],[98,12,98,13],[104,12,104,13],[109,12,109,13],[114,12,114,13]]}
["A.2."]
[null,"PATRÓN A.2. CONSUMOS DE LA FLOTA. RUTA DE IDA Y VUELTA"]
[]
[]
[]
[]
[null,"Tipo de vehículo"]
[]
[null,null,"Tipo de vehículo (MMA)"]
[]
[null,null,"Carga útil del camión",null,null,null,null,"t"]
[]
[]
[]
[]
[null,"Proporción de viajes en vacío"]
[null,null,"Si la ruta es abierta, introduzca la siguiente información"]
[null,null,"Proporción de recorrido adicional en vacío (%)"]
[]
[null,null,"En caso de no conocer la proporción de viajes en vacío, introduzca la siguiente información:"]
[null,null,"Tipo de transporte"]
[null,null,"Proporción de recorrido adicional en vacío estimada",null,null,null,{"$f":"IFERROR(VLOOKUP($E$21,t_porcentaje_vacio,2,0),\"\")","v":""}]
[]
[]
[]
[]
[null,"Consumo y tipo de combustible. Enfoque: valores individuales de medida"]
[]
[null,null,"Tipo de combustible"]
[]
[null,null,"Introduzca los siguientes datos sobre los repostajes realizados antes, durante y después de la ruta"]
[null,null,null,null,"Km tacógrafo",null,"Litros repostados"]
[null,null,null,"Repostaje anterior a la ruta",null,"km"]
[]
[null,null,null,"Repostaje en ruta (1)",null,"km",null,"l."]
[null,null,null,"Repostaje en ruta (2)",null,"km",null,"l."]
[null,null,null,"Repostaje en ruta (3)",null,"km",null,"l."]
[null,null,null,"Repostaje en ruta (4)",null,"km",null,"l."]
[null,null,null,"Repostaje en ruta (5)",null,"km",null,"l."]
[null,null,null,"Repostaje en ruta (6)",null,"km",null,"l."]
[null,null,null,"Repostaje en ruta (7)",null,"km",null,"l."]
[null,null,null,"Repostaje en ruta (8)",null,"km",null,"l."]
[]
[null,null,null,"Repostaje posterior a la ruta",null,"km",null,"l."]
[]
[null,null,"Introduzca los siguientes datos sobre el inicio y final de la ruta"]
[null,null,null,"Inicio de la ruta",null,"km"]
[null,null,null,"Final de la ruta",null,"km"]
[]
[null,null,"Si la ruta es abierta, introduzca la siguiente información"]
[null,null,"Consumo específico de combustible en vacío",null,null,null,null,"l/100km"]
[]
[null,null,"Consumo de combustible de la ruta",null,null,null,{"$f":"IFERROR(($E$35-$E$47)/($E$35-$E$33)*$G$35+SUM($G$36:$G$42)+($E$48-$E$42)/($E$44-$E$42)*$G$44+$G$51/100*($E$48-$E$47)*IF($G$18<>\"\",$G$18,$G$22),0)","v":0},"l"]
[]
[]
[]
[null,"Consumo y tipo de combustible. Enfoque: valores específicos del operador de transporte"]
[]
[null,null,"Tipo de combustible"]
[]
[null,null,"Introduzca los siguientes datos sobre el consumo de combustible del tipo de vehículo durante el periodo"]
[null,null,"Consumo registrado en el periodo considerado",null,null,null,null,"l"]
[null,null,"Distancia recorrida en el periodo considerado",null,null,null,null,"km"]
[null,null,"Consumo específico de combustible",null,null,null,{"$f":"IFERROR(G62/G63,\"\")","v":""},"l/100km"]
[]
[null,null,"Consumo de combustible de la ruta",null,null,null,{"$f":"IF($G$64<>\"\",$G$64*($N$83+$N$84),\"\")","v":""},"l",null,null,null,null,null,null,null,null,null,null,null,null,null,null,null,{"$f":"MAX(G53,G66)","v":0}]
[]
[]
[]
[]
[null,"Localizaciones y distancias"]
[]
[null,null,"Denominación y localización de las paradas que componen la ruta"]
[null,null,"Número de parada","Denominación (importante cumplimentar)",null,null,"Localización"]
[null,null,"Origen"]
[null,null,"Destino"]
[]
[]
[null,null,"Longitud y carga y consumo de combustible de cada uno de los tramos que componen la ruta"]
[null,null,"Número de paradas",null,"Denominación de las paradas",null,null,null,null,"¿Se conoce la distancia recorrida?","Distancia recorrida (km)",null,"Distancia directa (km)","Distancia de cálculo (km)",null,"Carga transportada (t)","Tasa de carga del tramo","Consumo específico de combustible del tramo (l/100 km)","Consumo específico de combustible del tramo (l/100 km) de cálculo","Consumo de combustible del tramo (l)"]
[null,null,"P. de origen → P. de destino",null,{"$f":"D75&\" → \"&D76","v":" → "},null,null,null,null,null,null,null,{"$f":"IF(AND(G75<>\"\",G76<>\"\"),getGoogleDistance(txtNoAcc(G75),txtNoAcc(G76))*1,\"\")","v":""},{"$f":"IF(K81<>0,K81,M81)","v":""},null,{"$f":"IF(N81<>\"\",SUMIFS($G$93:$G$142,$L$93:$L$142,\"Origen\",$O$93:$O$142,\"Destino\"),\"\")","v":""},{"$f":"IFERROR(P81/$G$11,\"\")","v":""},null,{"$f":"IF(AK236<>0,AK236,IF($G$64<>\"\",$G$64,IF(R81<>\"\",R81,\"\")))","v":""},{"$f":"IF(N81<>\"\",S81*N81/100,\"\")","v":""}]
[null,null,"P. de destino → P. de origen",null,{"$f":"D76&\" → \"&D75","v":" → "},null,null,null,null,null,null,null,{"$f":"IF(AND(G76<>\"\",G75<>\"\"),getGoogleDistance(txtNoAcc(G76),txtNoAcc(G75))*1,\"\")","v":""},{"$f":"IF(K82<>0,K82,M82)","v":""},null,{"$f":"IF(N82<>\"\",SUMIFS($G$93:$G$142,$L$93:$L$142,\"Destino\",$O$93:$O$142,\"Origen\"),\"\")","v":""},{"$f":"IFERROR(P82/$G$11,\"\")","v":""},null,{"$f":"IF(AK237<>0,AK237,IF($G$64<>\"\",$G$64,IF(R82<>\"\",R82,\"\")))","v":""},{"$f":"IF(N82<>\"\",S82*N82/100,\"\")","v":""}]
[null,null,null,null,null,null,null,null,null,null,null,null,"Distancia recorrida en cada uno de los tramos",{"$f":"SUM(N81:N82)","v":0},"km"]
[null,null,null,null,null,null,null,null,null,null,null,null,"Distancia recorrida en vacío atribuible a la ruta",{"$f":"IFERROR(IF($G$18<>0,$N$83*$G$18,$N$83*$G$22),0)","v":0},"km",null,"Consumo específico en vacío",null,{"$f":"IF(G51<>\"\",G51,IF(G64<>\"\",G64,R84))","v":0},{"$f":"IF(N84<>\"\",S84*N84/100,\"\")","v":0},"l."]
[null,null,null,null,null,null,null,null,null,null,null,null,"Distancia recorrida en la ruta",{"$f":"N83+N84","v":0},"km",null,null,null,"Consumo de combustible de la ruta",{"$f":"SUM(T81:T82)+T84","v":0},"l."]
[]
[]
[]
[]
[null,"Características de los envíos"]
[]
[null,null,"Cliente del envío","Denominación del envío",null,null,"Carga bruta del envío (t)","Carga refrigerada - no refrigerada","Volumen del envío en almacenamiento (m3) - en caso de que la carga sea almacenada","Días de almacenamiento - en caso de que la carga sea almacenada",null,"Origen del envío",null,null,"Destino del envío",null,null,"Distancia directa (km)","Distancia recorrida (km)"]
[null,null,null,null,null,null,null,null,null,null,null,{"$f":"IFERROR(IF(M93<>0,VLOOKUP(M93,CHOOSE({2,1},$C$75:$C$76,$D$75:$D$76),2,0),\"\"),\"\")","v":""},null,null,{"$f":"IFERROR(IF(P93<>0,VLOOKUP(P93,CHOOSE({2,1},$C$75:$C$76,$D$75:$D$76),2,0),\"\"),\"\")","v":""},null,null,{"$f":"IF(AND(M93<>\"\",P93<>\"\"),getGoogleDistance(txtNoAcc(VLOOKUP(M93,$D$75:$L$76,4,0)),txtNoAcc(VLOOKUP(P93,$D$75:$L$76,4,0))),\"\")","v":""},{"$f":"IFERROR(IF($L93=\"Origen\",$N$81,IF($O93=\"Origen\",$N$82,\"\")),\"\")","v":""}]
[null,null,null,null,null,null,null,null,null,null,null,{"$f":"IFERROR(IF(M94<>0,VLOOKUP(M94,CHOOSE({2,1},$C$75:$C$76,$D$75:$D$76),2,0),\"\"),\"\")","v":""},null,null,{"$f":"IFERROR(IF(P94<>0,VLOOKUP(P94,CHOOSE({2,1},$C$75:$C$76,$D$75:$D$76),2,0),\"\"),\"\")","v":""},null,null,{"$f":"IF(AND(M94<>\"\",P94<>\"\"),getGoogleDistance(txtNoAcc(VLOOKUP(M94,$D$75:$L$76,4,0)),txtNoAcc(VLOOKUP(P94,$D$75:$L$76,4,0))),\"\")","v":""},{"$f":"IFERROR(IF($L94=\"Origen\",$N$81,IF($O94=\"Origen\",$N$82,\"\")),\"\")","v":""}]
[null,null,null,null,null,null,null,null,null,null,null,{"$f":"IFERROR(IF(M95<>0,VLOOKUP(M95,CHOOSE({2,1},$C$75:$C$76,$D$75:$D$76),2,0),\"\"),\"\")","v":""},null,null,{"$f":"IFERROR(IF(P95<>0,VLOOKUP(P95,CHOOSE({2,1},$C$75:$C$76,$D$75:$D$76),2,0),\"\"),\"\")","v":""},null,null,{"$f":"IF(AND(M95<>\"\",P95<>\"\"),getGoogleDistance(txtNoAcc(VLOOKUP(M95,$D$75:$L$76,4,0)),txtNoAcc(VLOOKUP(P95,$D$75:$L$76,4,0))),\"\")","v":""},""]
[null,null,null,null,null,null,null,null,null,null,null,{"$f":"IFERROR(IF(M96<>0,VLOOKUP(M96,CHOOSE({2,1},$C$75:$C$76,$D$75:$D$76),2,0),\"\"),\"\")","v":""},null,null,{"$f":"IFERROR(IF(P96<>0,VLOOKUP(P96,CHOOSE({2,1},$C$75:$C$76,$D$75:$D$76),2,0),\"\"),\"\")","v":""},null,null,{"$f":"IF(AND(M96<>\"\",P96<>\"\"),getGoogleDistance(txtNoAcc(VLOOKUP(M96,$D$75:$L$76,4,0)),txtNoAcc(VLOOKUP(P96,$D$75:$L$76,4,0))),\"\")","v":""},""]
[null,null,null,null,null,null,null,null,null,null,null,{"$f":"IFERROR(IF(M97<>0,VLOOKUP(M97,CHOOSE({2,1},$C$75:$C$76,$D$75:$D$76),2,0),\"\"),\"\")","v":""},null,null,{"$f":"IFERROR(IF(P97<>0,VLOOKUP(P97,CHOOSE({2,1},$C$75:$C$76,$D$75:$D$76),2,0),\"\"),\"\")","v":""},null,null,{"$f":"IF(AND(M97<>\"\",P97<>\"\"),getGoogleDistance(txtNoAcc(VLOOKUP(M97,$D$75:$L$76,4,0)),txtNoAcc(VLOOKUP(P97,$D$75:$L$76,4,0))),\"\")","v":""},""]
[null,null,null,null,null,null,null,null,null,null,null,{"$f":"IFERROR(IF(M98<>0,VLOOKUP(M98,CHOOSE({2,1},$C$75:$C$76,$D$75:$D$76),2,0),\"\"),\"\")","v":""},null,null,{"$f":"IFERROR(IF(P98<>0,VLOOKUP(P98,CHOOSE({2,1},$C$75:$C$76,$D$75:$D$76),2,0),\"\"),\"\")","v":""},null,null,{"$f":"IF(AND(M98<>\"\",P98<>\"\"),getGoogleDistance(txtNoAcc(VLOOKUP(M98,$D$75:$L$76,4,0)),txtNoAcc(VLOOKUP(P98,$D$75:$L$76,4,0))),\"\")","v":""},""]
[null,null,null,null,null,null,null,null,null,null,null,{"$f":"IFERROR(IF(M99<>0,VLOOKUP(M99,CHOOSE({2,1},$C$75:$C$76,$D$75:$D$76),2,0),\"\"),\"\")","v":""},null,null,{"$f":"IFERROR(IF(P99<>0,VLOOKUP(P99,CHOOSE({2,1},$C$75:$C$76,$D$75:$D$76),2,0),\"\"),\"\")","v":""},null,null,{"$f":"IF(AND(M99<>\"\",P99<>\"\"),getGoogleDistance(txtNoAcc(VLOOKUP(M99,$D$75:$L$76,4,0)),txtNoAcc(VLOOKUP(P99,$D$75:$L$76,4,0))),\"\")","v":""},""]
[null,null,null,null,null,null,null,null,null,null,null,{"$f":"IFERROR(IF(M100<>0,VLOOKUP(M100,CHOOSE({2,1},$C$75:$C$76,$D$75:$D$76),2,0),\"\"),\"\")","v":""},null,null,{"$f":"IFERROR(IF(P100<>0,VLOOKUP(P100,CHOOSE({2,1},$C$75:$C$76,$D$75:$D$76),2,0),\"\"),\"\")","v":""},null,null,{"$f":"IF(AND(M100<>\"\",P100<>\"\"),getGoogleDistance(txtNoAcc(VLOOKUP(M100,$D$75:$L$76,4,0)),txtNoAcc(VLOOKUP(P100,$D$75:$L$76,4,0))),\"\")","v":""},""]
[null,null,null,null,null,null,null,null,null,null,null,{"$f":"IFERROR(IF(M101<>0,VLOOKUP(M101,CHOOSE({2,1},$C$75:$C$76,$D$75:$D$76),2,0),\"\"),\"\")","v":""},null,null,{"$f":"IFERROR(IF(P101<>0,VLOOKUP(P101,CHOOSE({2,1},$C$75:$C$76,$D$75:$D$76),2,0),\"\"),\"\")","v":""},null,null,{"$f":"IF(AND(M101<>\"\",P101<>\"\"),getGoogleDistance(txtNoAcc(VLOOKUP(M101,$D$75:$L$76,4,0)),txtNoAcc(VLOOKUP(P101,$D$75:$L$76,4,0))),\"\")","v":""},""]
[null,null,null,null,null,null,null,null,null,null,null,{"$f":"IFERROR(IF(M102<>0,VLOOKUP(M102,CHOOSE({2,1},$C$75:$C$76,$D$75:$D$76),2,0),\"\"),\"\")","v":""},null,null,{"$f":"IFERROR(IF(P102<>0,VLOOKUP(P102,CHOOSE({2,1},$C$75:$C$76,$D$75:$D$76),2,0),\"\"),\"\")","v":""},null,null,{"$f":"IF(AND(M102<>\"\",P102<>\"\"),getGoogleDistance(txtNoAcc(VLOOKUP(M102,$D$75:$L$76,4,0)),txtNoAcc(VLOOKUP(P102,$D$75:$L$76,4,0))),\"\")","v":""},""]
[null,null,null,null,null,null,null,null,null,null,null,{"$f":"IFERROR(IF(M103<>0,VLOOKUP(M103,CHOOSE({2,1},$C$75:$C$76,$D$75:$D$76),2,0),\"\"),\"\")","v":""},null,null,{"$f":"IFERROR(IF(P103<>0,VLOOKUP(P103,CHOOSE({2,1},$C$75:$C$76,$D$75:$D$76),2,0),\"\"),\"\")","v":""},null,null,{"$f":"IF(AND(M103<>\"\",P103<>\"\"),getGoogleDistance(txtNoAcc(VLOOKUP(M103,$D$75:$L$76,4,0)),txtNoAcc(VLOOKUP(P103,$D$75:$L$76,4,0))),\"\")","v":""},""]
[null,null,null,null,null,null,null,null,null,null,null,{"$f":"IFERROR(IF(M104<>0,VLOOKUP(M104,CHOOSE({2,1},$C$75:$C$76,$D$75:$D$76),2,0),\"\"),\"\")","v":""},null,null,{"$f":"IFERROR(IF(P104<>0,VLOOKUP(P104,CHOOSE({2,1},$C$75:$C$76,$D$75:$D$76),2,0),\"\"),\"\")","v":""},null,null,{"$f":"IF(AND(M104<>\"\",P104<>\"\"),getGoogleDistance(txtNoAcc(VLOOKUP(M104,$D$75:$L$76,4,0)),txtNoAcc(VLOOKUP(P104,$D$75:$L$76,4,0))),\"\")","v":""},""]
[null,null,null,null,null,null,null,null,null,null,null,{"$f":"IFERROR(IF(M105<>0,VLOOKUP(M105,CHOOSE({2,1},$C$75:$C$76,$D$75:$D$76),2,0),\"\"),\"\")","v":""},null,null,{"$f":"IFERROR(IF(P105<>0,VLOOKUP(P105,CHOOSE({2,1},$C$75:$C$76,$D$75:$D$76),2,0),\"\"),\"\")","v":""},null,null,{"$f":"IF(AND(M105<>\"\",P105<>\"\"),getGoogleDistance(txtNoAcc(VLOOKUP(M105,$D$75:$L$76,4,0)),txtNoAcc(VLOOKUP(P105,$D$75:$L$76,4,0))),\"\")","v":""},""]
[null,null,null,null,null,null,null,null,null,null,null,{"$f":"IFERROR(IF(M106<>0,VLOOKUP(M106,CHOOSE({2,1},$C$75:$C$76,$D$75:$D$76),2,0),\"\"),\"\")","v":""},null,null,{"$f":"IFERROR(IF(P106<>0,VLOOKUP(P106,CHOOSE({2,1},$C$75:$C$76,$D$75:$D$76),2,0),\"\"),\"\")","v":""},null,null,{"$f":"IF(AND(M106<>\"\",P106<>\"\"),getGoogleDistance(txtNoAcc(VLOOKUP(M106,$D$75:$L$76,4,0)),txtNoAcc(VLOOKUP(P106,$D$75:$L$76,4,0))),\"\")","v":""},""]
[null,null,null,null,null,null,null,null,null,null,null,{"$f":"IFERROR(IF(M107<>0,VLOOKUP(M107,CHOOSE({2,1},$C$75:$C$76,$D$75:$D$76),2,0),\"\"),\"\")","v":""},null,null,{"$f":"IFERROR(IF(P107<>0,VLOOKUP(P107,CHOOSE({2,1},$C$75:$C$76,$D$75:$D$76),2,0),\"\"),\"\")","v":""},null,null,{"$f":"IF(AND(M107<>\"\",P107<>\"\"),getGoogleDistance(txtNoAcc(VLOOKUP(M107,$D$75:$L$76,4,0)),txtNoAcc(VLOOKUP(P107,$D$75:$L$76,4,0))),\"\")","v":""},""]
[null,null,null,null,null,null,null,null,null,null,null,{"$f":"IFERROR(IF(M108<>0,VLOOKUP(M108,CHOOSE({2,1},$C$75:$C$76,$D$75:$D$76),2,0),\"\"),\"\")","v":""},null,null,{"$f":"IFERROR(IF(P108<>0,VLOOKUP(P108,CHOOSE({2,1},$C$75:$C$76,$D$75:$D$76),2,0),\"\"),\"\")","v":""},null,null,{"$f":"IF(AND(M108<>\"\",P108<>\"\"),getGoogleDistance(txtNoAcc(VLOOKUP(M108,$D$75:$L$76,4,0)),txtNoAcc(VLOOKUP(P108,$D$75:$L$76,4,0))),\"\")","v":""},""]
[null,null,null,null,null,null,null,null,null,null,null,{"$f":"IFERROR(IF(M109<>0,VLOOKUP(M109,CHOOSE({2,1},$C$75:$C$76,$D$75:$D$76),2,0),\"\"),\"\")","v":""},null,null,{"$f":"IFERROR(IF(P109<>0,VLOOKUP(P109,CHOOSE({2,1},$C$75:$C$76,$D$75:$D$76),2,0),\"\"),\"\")","v":""},null,null,{"$f":"IF(AND(M109<>\"\",P109<>\"\"),getGoogleDistance(txtNoAcc(VLOOKUP(M109,$D$75:$L$76,4,0)),txtNoAcc(VLOOKUP(P109,$D$75:$L$76,4,0))),\"\")","v":""},""]
[null,null,null,null,null,null,null,null,null,null,null,{"$f":"IFERROR(IF(M110<>0,VLOOKUP(M110,CHOOSE({2,1},$C$75:$C$76,$D$75:$D$76),2,0),\"\"),\"\")","v":""},null,null,{"$f":"IFERROR(IF(P110<>0,VLOOKUP(P110,CHOOSE({2,1},$C$75:$C$76,$D$75:$D$76),2,0),\"\"),\"\")","v":""},null,null,{"$f":"IF(AND(M110<>\"\",P110<>\"\"),getGoogleDistance(txtNoAcc(VLOOKUP(M110,$D$75:$L$76,4,0)),txtNoAcc(VLOOKUP(P110,$D$75:$L$76,4,0))),\"\")","v":""},""]
[null,null,null,null,null,null,null,null,null,null,null,{"$f":"IFERROR(IF(M111<>0,VLOOKUP(M111,CHOOSE({2,1},$C$75:$C$76,$D$75:$D$76),2,0),\"\"),\"\")","v":""},null,null,{"$f":"IFERROR(IF(P111<>0,VLOOKUP(P111,CHOOSE({2,1},$C$75:$C$76,$D$75:$D$76),2,0),\"\"),\"\")","v":""},null,null,{"$f":"IF(AND(M111<>\"\",P111<>\"\"),getGoogleDistance(txtNoAcc(VLOOKUP(M111,$D$75:$L$76,4,0)),txtNoAcc(VLOOKUP(P111,$D$75:$L$76,4,0))),\"\")","v":""},""]
[null,null,null,null,null,null,null,null,null,null,null,{"$f":"IFERROR(IF(M112<>0,VLOOKUP(M112,CHOOSE({2,1},$C$75:$C$76,$D$75:$D$76),2,0),\"\"),\"\")","v":""},null,null,{"$f":"IFERROR(IF(P112<>0,VLOOKUP(P112,CHOOSE({2,1},$C$75:$C$76,$D$75:$D$76),2,0),\"\"),\"\")","v":""},null,null,{"$f":"IF(AND(M112<>\"\",P112<>\"\"),getGoogleDistance(txtNoAcc(VLOOKUP(M112,$D$75:$L$76,4,0)),txtNoAcc(VLOOKUP(P112,$D$75:$L$76,4,0))),\"\")","v":""},""]
[null,null,null,null,null,null,null,null,null,null,null,{"$f":"IFERROR(IF(M113<>0,VLOOKUP(M113,CHOOSE({2,1},$C$75:$C$76,$D$75:$D$76),2,0),\"\"),\"\")","v":""},null,null,{"$f":"IFERROR(IF(P113<>0,VLOOKUP(P113,CHOOSE({2,1},$C$75:$C$76,$D$75:$D$76),2,0),\"\"),\"\")","v":""},null,null,{"$f":"IF(AND(M113<>\"\",P113<>\"\"),getGoogleDistance(txtNoAcc(VLOOKUP(M113,$D$75:$L$76,4,0)),txtNoAcc(VLOOKUP(P113,$D$75:$L$76,4,0))),\"\")","v":""},""]
[null,null,null,null,null,null,null,null,null,null,null,{"$f":"IFERROR(IF(M114<>0,VLOOKUP(M114,CHOOSE({2,1},$C$75:$C$76,$D$75:$D$76),2,0),\"\"),\"\")","v":""},null,null,{"$f":"IFERROR(IF(P114<>0,VLOOKUP(P114,CHOOSE({2,1},$C$75:$C$76,$D$75:$D$76),2,0),\"\"),\"\")","v":""},null,null,{"$f":"IF(AND(M114<>\"\",P114<>\"\"),getGoogleDistance(txtNoAcc(VLOOKUP(M114,$D$75:$L$76,4,0)),txtNoAcc(VLOOKUP(P114,$D$75:$L$76,4,0))),\"\")","v":""},""]
[null,null,null,null,null,null,null,null,null,null,null,{"$f":"IFERROR(IF(M115<>0,VLOOKUP(M115,CHOOSE({2,1},$C$75:$C$76,$D$75:$D$76),2,0),\"\"),\"\")","v":""},null,null,{"$f":"IFERROR(IF(P115<>0,VLOOKUP(P115,CHOOSE({2,1},$C$75:$C$76,$D$75:$D$76),2,0),\"\"),\"\")","v":""},null,null,{"$f":"IF(AND(M115<>\"\",P115<>\"\"),getGoogleDistance(txtNoAcc(VLOOKUP(M115,$D$75:$L$76,4,0)),txtNoAcc(VLOOKUP(P115,$D$75:$L$76,4,0))),\"\")","v":""},""]
[null,null,null,null,null,null,null,null,null,null,null,{"$f":"IFERROR(IF(M116<>0,VLOOKUP(M116,CHOOSE({2,1},$C$75:$C$76,$D$75:$D$76),2,0),\"\"),\"\")","v":""},null,null,{"$f":"IFERROR(IF(P116<>0,VLOOKUP(P116,CHOOSE({2,1},$C$75:$C$76,$D$75:$D$76),2,0),\"\"),\"\")","v":""},null,null,{"$f":"IF(AND(M116<>\"\",P116<>\"\"),getGoogleDistance(txtNoAcc(VLOOKUP(M116,$D$75:$L$76,4,0)),txtNoAcc(VLOOKUP(P116,$D$75:$L$76,4,0))),\"\")","v":""},""]
[null,null,null,null,null,null,null,null,null,null,null,{"$f":"IFERROR(IF(M117<>0,VLOOKUP(M117,CHOOSE({2,1},$C$75:$C$76,$D$75:$D$76),2,0),\"\"),\"\")","v":""},null,null,{"$f":"IFERROR(IF(P117<>0,VLOOKUP(P117,CHOOSE({2,1},$C$75:$C$76,$D$75:$D$76),2,0),\"\"),\"\")","v":""},null,null,{"$f":"IF(AND(M117<>\"\",P117<>\"\"),getGoogleDistance(txtNoAcc(VLOOKUP(M117,$D$75:$L$76,4,0)),txtNoAcc(VLOOKUP(P117,$D$75:$L$76,4,0))),\"\")","v":""},""]
[null,null,null,null,null,null,null,null,null,null,null,{"$f":"IFERROR(IF(M118<>0,VLOOKUP(M118,CHOOSE({2,1},$C$75:$C$76,$D$75:$D$76),2,0),\"\"),\"\")","v":""},null,null,{"$f":"IFERROR(IF(P118<>0,VLOOKUP(P118,CHOOSE({2,1},$C$75:$C$76,$D$75:$D$76),2,0),\"\"),\"\")","v":""},null,null,{"$f":"IF(AND(M118<>\"\",P118<>\"\"),getGoogleDistance(txtNoAcc(VLOOKUP(M118,$D$75:$L$76,4,0)),txtNoAcc(VLOOKUP(P118,$D$75:$L$76,4,0))),\"\")","v":""},""]
[null,null,null,null,null,null,null,null,null,null,null,{"$f":"IFERROR(IF(M119<>0,VLOOKUP(M119,CHOOSE({2,1},$C$75:$C$76,$D$75:$D$76),2,0),\"\"),\"\")","v":""},null,null,{"$f":"IFERROR(IF(P119<>0,VLOOKUP(P119,CHOOSE({2,1},$C$75:$C$76,$D$75:$D$76),2,0),\"\"),\"\")","v":""},null,null,{"$f":"IF(AND(M119<>\"\",P119<>\"\"),getGoogleDistance(txtNoAcc(VLOOKUP(M119,$D$75:$L$76,4,0)),txtNoAcc(VLOOKUP(P119,$D$75:$L$76,4,0))),\"\")","v":""},""]
[null,null,null,null,null,null,null,null,null,null,null,{"$f":"IFERROR(IF(M120<>0,VLOOKUP(M120,CHOOSE({2,1},$C$75:$C$76,$D$75:$D$76),2,0),\"\"),\"\")","v":""},null,null,{"$f":"IFERROR(IF(P120<>0,VLOOKUP(P120,CHOOSE({2,1},$C$75:$C$76,$D$75:$D$76),2,0),\"\"),\"\")","v":""},null,null,{"$f":"IF(AND(M120<>\"\",P120<>\"\"),getGoogleDistance(txtNoAcc(VLOOKUP(M120,$D$75:$L$76,4,0)),txtNoAcc(VLOOKUP(P120,$D$75:$L$76,4,0))),\"\")","v":""},""]
[null,null,null,null,null,null,null,null,null,null,null,{"$f":"IFERROR(IF(M121<>0,VLOOKUP(M121,CHOOSE({2,1},$C$75:$C$76,$D$75:$D$76),2,0),\"\"),\"\")","v":""},null,null,{"$f":"IFERROR(IF(P121<>0,VLOOKUP(P121,CHOOSE({2,1},$C$75:$C$76,$D$75:$D$76),2,0),\"\"),\"\")","v":""},null,null,{"$f":"IF(AND(M121<>\"\",P121<>\"\"),getGoogleDistance(txtNoAcc(VLOOKUP(M121,$D$75:$L$76,4,0)),txtNoAcc(VLOOKUP(P121,$D$75:$L$76,4,0))),\"\")","v":""},""]
[null,null,null,null,null,null,null,null,null,null,null,{"$f":"IFERROR(IF(M122<>0,VLOOKUP(M122,CHOOSE({2,1},$C$75:$C$76,$D$75:$D$76),2,0),\"\"),\"\")","v":""},null,null,{"$f":"IFERROR(IF(P122<>0,VLOOKUP(P122,CHOOSE({2,1},$C$75:$C$76,$D$75:$D$76),2,0),\"\"),\"\")","v":""},null,null,{"$f":"IF(AND(M122<>\"\",P122<>\"\"),getGoogleDistance(txtNoAcc(VLOOKUP(M122,$D$75:$L$76,4,0)),txtNoAcc(VLOOKUP(P122,$D$75:$L$76,4,0))),\"\")","v":""},""]
[null,null,null,null,null,null,null,null,null,null,null,{"$f":"IFERROR(IF(M123<>0,VLOOKUP(M123,CHOOSE({2,1},$C$75:$C$76,$D$75:$D$76),2,0),\"\"),\"\")","v":""},null,null,{"$f":"IFERROR(IF(P123<>0,VLOOKUP(P123,CHOOSE({2,1},$C$75:$C$76,$D$75:$D$76),2,0),\"\"),\"\")","v":""},null,null,{"$f":"IF(AND(M123<>\"\",P123<>\"\"),getGoogleDistance(txtNoAcc(VLOOKUP(M123,$D$75:$L$76,4,0)),txtNoAcc(VLOOKUP(P123,$D$75:$L$76,4,0))),\"\")","v":""},""]
[null,null,null,null,null,null,null,null,null,null,null,{"$f":"IFERROR(IF(M124<>0,VLOOKUP(M124,CHOOSE({2,1},$C$75:$C$76,$D$75:$D$76),2,0),\"\"),\"\")","v":""},null,null,{"$f":"IFERROR(IF(P124<>0,VLOOKUP(P124,CHOOSE({2,1},$C$75:$C$76,$D$75:$D$76),2,0),\"\"),\"\")","v":""},null,null,{"$f":"IF(AND(M124<>\"\",P124<>\"\"),getGoogleDistance(txtNoAcc(VLOOKUP(M124,$D$75:$L$76,4,0)),txtNoAcc(VLOOKUP(P124,$D$75:$L$76,4,0))),\"\")","v":""},""]
[null,null,null,null,null,null,null,null,null,null,null,{"$f":"IFERROR(IF(M125<>0,VLOOKUP(M125,CHOOSE({2,1},$C$75:$C$76,$D$75:$D$76),2,0),\"\"),\"\")","v":""},null,null,{"$f":"IFERROR(IF(P125<>0,VLOOKUP(P125,CHOOSE({2,1},$C$75:$C$76,$D$75:$D$76),2,0),\"\"),\"\")","v":""},null,null,{"$f":"IF(AND(M125<>\"\",P125<>\"\"),getGoogleDistance(txtNoAcc(VLOOKUP(M125,$D$75:$L$76,4,0)),txtNoAcc(VLOOKUP(P125,$D$75:$L$76,4,0))),\"\")","v":""},""]
[null,null,null,null,null,null,null,null,null,null,null,{"$f":"IFERROR(IF(M126<>0,VLOOKUP(M126,CHOOSE({2,1},$C$75:$C$76,$D$75:$D$76),2,0),\"\"),\"\")","v":""},null,null,{"$f":"IFERROR(IF(P126<>0,VLOOKUP(P126,CHOOSE({2,1},$C$75:$C$76,$D$75:$D$76),2,0),\"\"),\"\")","v":""},null,null,{"$f":"IF(AND(M126<>\"\",P126<>\"\"),getGoogleDistance(txtNoAcc(VLOOKUP(M126,$D$75:$L$76,4,0)),txtNoAcc(VLOOKUP(P126,$D$75:$L$76,4,0))),\"\")","v":""},""]
[null,null,null,null,null,null,null,null,null,null,null,{"$f":"IFERROR(IF(M127<>0,VLOOKUP(M127,CHOOSE({2,1},$C$75:$C$76,$D$75:$D$76),2,0),\"\"),\"\")","v":""},null,null,{"$f":"IFERROR(IF(P127<>0,VLOOKUP(P127,CHOOSE({2,1},$C$75:$C$76,$D$75:$D$76),2,0),\"\"),\"\")","v":""},null,null,{"$f":"IF(AND(M127<>\"\",P127<>\"\"),getGoogleDistance(txtNoAcc(VLOOKUP(M127,$D$75:$L$76,4,0)),txtNoAcc(VLOOKUP(P127,$D$75:$L$76,4,0))),\"\")","v":""},""]
[null,null,null,null,null,null,null,null,null,null,null,{"$f":"IFERROR(IF(M128<>0,VLOOKUP(M128,CHOOSE({2,1},$C$75:$C$76,$D$75:$D$76),2,0),\"\"),\"\")","v":""},null,null,{"$f":"IFERROR(IF(P128<>0,VLOOKUP(P128,CHOOSE({2,1},$C$75:$C$76,$D$75:$D$76),2,0),\"\"),\"\")","v":""},null,null,{"$f":"IF(AND(M128<>\"\",P128<>\"\"),getGoogleDistance(txtNoAcc(VLOOKUP(M128,$D$75:$L$76,4,0)),txtNoAcc(VLOOKUP(P128,$D$75:$L$76,4,0))),\"\")","v":""},""]
[null,null,null,null,null,null,null,null,null,null,null,{"$f":"IFERROR(IF(M129<>0,VLOOKUP(M129,CHOOSE({2,1},$C$75:$C$76,$D$75:$D$76),2,0),\"\"),\"\")","v":""},null,null,{"$f":"IFERROR(IF(P129<>0,VLOOKUP(P129,CHOOSE({2,1},$C$75:$C$76,$D$75:$D$76),2,0),\"\"),\"\")","v":""},null,null,{"$f":"IF(AND(M129<>\"\",P129<>\"\"),getGoogleDistance(txtNoAcc(VLOOKUP(M129,$D$75:$L$76,4,0)),txtNoAcc(VLOOKUP(P129,$D$75:$L$76,4,0))),\"\")","v":""},""]
[null,null,null,null,null,null,null,null,null,null,null,{"$f":"IFERROR(IF(M130<>0,VLOOKUP(M130,CHOOSE({2,1},$C$75:$C$76,$D$75:$D$76),2,0),\"\"),\"\")","v":""},null,null,{"$f":"IFERROR(IF(P130<>0,VLOOKUP(P130,CHOOSE({2,1},$C$75:$C$76,$D$75:$D$76),2,0),\"\"),\"\")","v":""},null,null,{"$f":"IF(AND(M130<>\"\",P130<>\"\"),getGoogleDistance(txtNoAcc(VLOOKUP(M130,$D$75:$L$76,4,0)),txtNoAcc(VLOOKUP(P130,$D$75:$L$76,4,0))),\"\")","v":""},""]
[null,null,null,null,null,null,null,null,null,null,null,{"$f":"IFERROR(IF(M131<>0,VLOOKUP(M131,CHOOSE({2,1},$C$75:$C$76,$D$75:$D$76),2,0),\"\"),\"\")","v":""},null,null,{"$f":"IFERROR(IF(P131<>0,VLOOKUP(P131,CHOOSE({2,1},$C$75:$C$76,$D$75:$D$76),2,0),\"\"),\"\")","v":""},null,null,{"$f":"IF(AND(M131<>\"\",P131<>\"\"),getGoogleDistance(txtNoAcc(VLOOKUP(M131,$D$75:$L$76,4,0)),txtNoAcc(VLOOKUP(P131,$D$75:$L$76,4,0))),\"\")","v":""},""]
[null,null,null,null,null,null,null,null,null,null,null,{"$f":"IFERROR(IF(M132<>0,VLOOKUP(M132,CHOOSE({2,1},$C$75:$C$76,$D$75:$D$76),2,0),\"\"),\"\")","v":""},null,null,{"$f":"IFERROR(IF(P132<>0,VLOOKUP(P132,CHOOSE({2,1},$C$75:$C$76,$D$75:$D$76),2,0),\"\"),\"\")","v":""},null,null,{"$f":"IF(AND(M132<>\"\",P132<>\"\"),getGoogleDistance(txtNoAcc(VLOOKUP(M132,$D$75:$L$76,4,0)),txtNoAcc(VLOOKUP(P132,$D$75:$L$76,4,0))),\"\")","v":""},""]
[null,null,null,null,null,null,null,null,null,null,null,{"$f":"IFERROR(IF(M133<>0,VLOOKUP(M133,CHOOSE({2,1},$C$75:$C$76,$D$75:$D$76),2,0),\"\"),\"\")","v":""},null,null,{"$f":"IFERROR(IF(P133<>0,VLOOKUP(P133,CHOOSE({2,1},$C$75:$C$76,$D$75:$D$76),2,0),\"\"),\"\")","v":""},null,null,{"$f":"IF(AND(M133<>\"\",P133<>\"\"),getGoogleDistance(txtNoAcc(VLOOKUP(M133,$D$75:$L$76,4,0)),txtNoAcc(VLOOKUP(P133,$D$75:$L$76,4,0))),\"\")","v":""},""]
[null,null,null,null,null,null,null,null,null,null,null,{"$f":"IFERROR(IF(M134<>0,VLOOKUP(M134,CHOOSE({2,1},$C$75:$C$76,$D$75:$D$76),2,0),\"\"),\"\")","v":""},null,null,{"$f":"IFERROR(IF(P134<>0,VLOOKUP(P134,CHOOSE({2,1},$C$75:$C$76,$D$75:$D$76),2,0),\"\"),\"\")","v":""},null,null,{"$f":"IF(AND(M134<>\"\",P134<>\"\"),getGoogleDistance(txtNoAcc(VLOOKUP(M134,$D$75:$L$76,4,0)),txtNoAcc(VLOOKUP(P134,$D$75:$L$76,4,0))),\"\")","v":""},""]
[null,null,null,null,null,null,null,null,null,null,null,{"$f":"IFERROR(IF(M135<>0,VLOOKUP(M135,CHOOSE({2,1},$C$75:$C$76,$D$75:$D$76),2,0),\"\"),\"\")","v":""},null,null,{"$f":"IFERROR(IF(P135<>0,VLOOKUP(P135,CHOOSE({2,1},$C$75:$C$76,$D$75:$D$76),2,0),\"\"),\"\")","v":""},null,null,{"$f":"IF(AND(M135<>\"\",P135<>\"\"),getGoogleDistance(txtNoAcc(VLOOKUP(M135,$D$75:$L$76,4,0)),txtNoAcc(VLOOKUP(P135,$D$75:$L$76,4,0))),\"\")","v":""},""]
[null,null,null,null,null,null,null,null,null,null,null,{"$f":"IFERROR(IF(M136<>0,VLOOKUP(M136,CHOOSE({2,1},$C$75:$C$76,$D$75:$D$76),2,0),\"\"),\"\")","v":""},null,null,{"$f":"IFERROR(IF(P136<>0,VLOOKUP(P136,CHOOSE({2,1},$C$75:$C$76,$D$75:$D$76),2,0),\"\"),\"\")","v":""},null,null,{"$f":"IF(AND(M136<>\"\",P136<>\"\"),getGoogleDistance(txtNoAcc(VLOOKUP(M136,$D$75:$L$76,4,0)),txtNoAcc(VLOOKUP(P136,$D$75:$L$76,4,0))),\"\")","v":""},""]
[null,null,null,null,null,null,null,null,null,null,null,{"$f":"IFERROR(IF(M137<>0,VLOOKUP(M137,CHOOSE({2,1},$C$75:$C$76,$D$75:$D$76),2,0),\"\"),\"\")","v":""},null,null,{"$f":"IFERROR(IF(P137<>0,VLOOKUP(P137,CHOOSE({2,1},$C$75:$C$76,$D$75:$D$76),2,0),\"\"),\"\")","v":""},null,null,{"$f":"IF(AND(M137<>\"\",P137<>\"\"),getGoogleDistance(txtNoAcc(VLOOKUP(M137,$D$75:$L$76,4,0)),txtNoAcc(VLOOKUP(P137,$D$75:$L$76,4,0))),\"\")","v":""},""]
[null,null,null,null,null,null,null,null,null,null,null,{"$f":"IFERROR(IF(M138<>0,VLOOKUP(M138,CHOOSE({2,1},$C$75:$C$76,$D$75:$D$76),2,0),\"\"),\"\")","v":""},null,null,{"$f":"IFERROR(IF(P138<>0,VLOOKUP(P138,CHOOSE({2,1},$C$75:$C$76,$D$75:$D$76),2,0),\"\"),\"\")","v":""},null,null,{"$f":"IF(AND(M138<>\"\",P138<>\"\"),getGoogleDistance(txtNoAcc(VLOOKUP(M138,$D$75:$L$76,4,0)),txtNoAcc(VLOOKUP(P138,$D$75:$L$76,4,0))),\"\")","v":""},""]
[null,null,null,null,null,null,null,null,null,null,null,{"$f":"IFERROR(IF(M139<>0,VLOOKUP(M139,CHOOSE({2,1},$C$75:$C$76,$D$75:$D$76),2,0),\"\"),\"\")","v":""},null,null,{"$f":"IFERROR(IF(P139<>0,VLOOKUP(P139,CHOOSE({2,1},$C$75:$C$76,$D$75:$D$76),2,0),\"\"),\"\")","v":""},null,null,{"$f":"IF(AND(M139<>\"\",P139<>\"\"),getGoogleDistance(txtNoAcc(VLOOKUP(M139,$D$75:$L$76,4,0)),txtNoAcc(VLOOKUP(P139,$D$75:$L$76,4,0))),\"\")","v":""},""]
[null,null,null,null,null,null,null,null,null,null,null,{"$f":"IFERROR(IF(M140<>0,VLOOKUP(M140,CHOOSE({2,1},$C$75:$C$76,$D$75:$D$76),2,0),\"\"),\"\")","v":""},null,null,{"$f":"IFERROR(IF(P140<>0,VLOOKUP(P140,CHOOSE({2,1},$C$75:$C$76,$D$75:$D$76),2,0),\"\"),\"\")","v":""},null,null,{"$f":"IF(AND(M140<>\"\",P140<>\"\"),getGoogleDistance(txtNoAcc(VLOOKUP(M140,$D$75:$L$76,4,0)),txtNoAcc(VLOOKUP(P140,$D$75:$L$76,4,0))),\"\")","v":""},""]
[null,null,null,null,null,null,null,null,null,null,null,{"$f":"IFERROR(IF(M141<>0,VLOOKUP(M141,CHOOSE({2,1},$C$75:$C$76,$D$75:$D$76),2,0),\"\"),\"\")","v":""},null,null,{"$f":"IFERROR(IF(P141<>0,VLOOKUP(P141,CHOOSE({2,1},$C$75:$C$76,$D$75:$D$76),2,0),\"\"),\"\")","v":""},null,null,{"$f":"IF(AND(M141<>\"\",P141<>\"\"),getGoogleDistance(txtNoAcc(VLOOKUP(M141,$D$75:$L$76,4,0)),txtNoAcc(VLOOKUP(P141,$D$75:$L$76,4,0))),\"\")","v":""},""]
[null,null,null,null,null,null,null,null,null,null,null,{"$f":"IFERROR(IF(M142<>0,VLOOKUP(M142,CHOOSE({2,1},$C$75:$C$76,$D$75:$D$76),2,0),\"\"),\"\")","v":""},null,null,{"$f":"IFERROR(IF(P142<>0,VLOOKUP(P142,CHOOSE({2,1},$C$75:$C$76,$D$75:$D$76),2,0),\"\"),\"\")","v":""},null,null,{"$f":"IF(AND(M142<>\"\",P142<>\"\"),getGoogleDistance(txtNoAcc(VLOOKUP(M142,$D$75:$L$76,4,0)),txtNoAcc(VLOOKUP(P142,$D$75:$L$76,4,0))),\"\")","v":""},""]
[]
[]
[]
[]
[null,"Consumo energético por la refrigeración de la carga del vehículo"]
[]
[null,null,"Seleccione si el vehículo dispone de un depósito por separado"]
[null,null,"Tipo de depósito"]
[]
[null,null,"En caso de que el vehículo cuente con un depósito de combustible separado, introduzca los siguientes datos:"]
[null,null,"Tipo de combustible"]
[null,null,"Consumo específico de combustible",null,null,null,null,null,null,"l/h"]
[null,null,"Tiempo de refrigeración",null,null,null,null,null,null,"h"]
[]
[null,null,"Si no conoce el consumo específico de combustible por refrigeración, introduzca los siguientes datos:"]
[null,null,"Tipo de unidad refrigerada y temperatura de refrigeración"]
[]
[null,null,"Consumo específico de combustible por refrigeración",null,null,null,null,null,{"$f":"IFERROR(IF(I154<>0,I154,VLOOKUP(H158,t_consumo_refrigeracion_v,2,0)),\"\")","v":""},"l/h"]
[null,null,"Consumo de combustible en la ruta por refrigeración",null,null,null,null,null,{"$f":"IFERROR(I160*I155,\"\")","v":""},"l"]
[]
[]
[]
[]
[]
[]
[]
[]
[]
[]
[]
[]
[]
[]
[]
[]
[]
[]
[]
[]
[]
[]
[]
[]
[]
[]
[]
[]
[]
[]
[]
[]
[]
[]
[]
[]
[]
[]
[]
[]
[]
[]
[]
[null,"Consumo energético por el almacenamiento de la carga"]
[]
[null,null,"Si conoce el consumo de energía de las instalaciones logísticas, introduzca los siguientes datos"]
[null,null,"Tipo de fuente de energía - 1"]
[null,null,"Consumo anual de la fuente de energía - 1",null,null,null,null,null,null,"kWh"]
[null,null,"Volumen de ocupación medio anual asociado a la fuente de energía - 1",null,null,null,null,null,null,"m3"]
[null,null,"Tipo de fuente de energía - 2"]
[null,null,"Consumo anual de la fuente de energía - 2",null,null,null,null,null,null,{"$f":"IFERROR(VLOOKUP(G211,t_factores_a,2,0),\"\")","v":""}]
[null,null,"Volumen de ocupación medio anual asociado a la fuente de energía - 2",null,null,null,null,null,null,"m3"]
[null,null,"Tipo de fuente de energía - 3"]
[null,null,"Consumo anual de la fuente de energía - 3",null,null,null,null,null,null,"l."]
[null,null,"Volumen de ocupación medio anual asociado a la fuente de energía - 3",null,null,null,null,null,null,"m3"]
[]
[null,null,{"$f":"\"Consumo específico de \"&G208&\" - almacenamiento\"","v":"Consumo específico de  - almacenamiento"},null,null,null,null,null,{"$f":"IFERROR($I$209/($I$210*365),\"\")","v":""},{"$f":"IF($G$208<>\"\",$J$209&\"/m3-día\",\"\")","v":""}]
[null,null,{"$f":"\"Consumo específico de \"&G211&\" - almacenamiento\"","v":"Consumo específico de  - almacenamiento"},null,null,null,null,null,{"$f":"IFERROR($I$212/($I$213*365),\"\")","v":""},{"$f":"IF(G211<>\"\",J212&\"/m3-día\",\"\")","v":""}]
[null,null,{"$f":"\"Consumo específico de \"&G214&\" - almacenamiento\"","v":"Consumo específico de  - almacenamiento"},null,null,null,null,null,{"$f":"IFERROR($I$215/($I$216*365),\"\")","v":""},{"$f":"IF(G214<>\"\",J215&\"/m3-día\",\"\")","v":""}]
[]
[null,null,"Si no conoce el consumo de energía de las instalaciones logísticas, introduzca los siguientes datos"]
[null,null,"Tipo de refrigeración de la carga"]
[null,null,"Tipo de electricidad consumida"]
[]
[null,null,{"$f":"\"Consumo específico de Electricidad de Red -\"&H224&\" - almacenamiento\"","v":"Consumo específico de Electricidad de Red - - almacenamiento"},null,null,null,null,null,{"$f":"IFERROR(VLOOKUP($H$223,t_consumo_tipocarga_a,5,0),\"\")","v":""},{"$f":"IF($H$223<>\"\",\"kWh/m3-día\",\"\")","v":""}]
[null,null,"Consumo específico de Gas natural: potencia calorífica neta - almacenamiento",null,null,null,null,null,{"$f":"IFERROR(VLOOKUP($H$223,t_consumo_tipocarga_a,6,0),\"\")","v":""},{"$f":"IF($H$223<>\"\",\"kWh/m3-día\",\"\")","v":""}]
[]
[]
[null,null,null,null,null,null,null,null,null,null,null,null,null,null,null,null,null,null,null,null,null,null,"Cálculo de consumo de combustible por tramo",null,null,null,"ini. --> 1","1 --> 2","2 --> 3","3 --> 4","4 --> 5","5 --> 6","6 --> 7","7 --> n","n --> fin",null,"litros a los 100 km del tramo"]
[null,null,null,null,null,null,null,null,null,null,null,null,null,null,null,null,null,null,null,null,null,null,null,null,null,null,{"$f":"G35","v":0},{"$f":"G36","v":0},{"$f":"G37","v":0},{"$f":"G38","v":0},{"$f":"G39","v":0},{"$f":"G40","v":0},{"$f":"G41","v":0},{"$f":"G42","v":0},{"$f":"G44","v":0},"(litros)"]
[null,null,null,null,null,null,null,null,null,null,null,null,null,null,null,null,null,null,null,null,null,null,null,null,null,null,{"$f":"IFERROR(AA231/AA233,0)","v":0},{"$f":"IFERROR(AB231/AB233,0)","v":0},{"$f":"IFERROR(AC231/AC233,0)","v":0},0,0,0,0,0,0,"(litros/100 km)"]
[null,null,null,null,null,null,null,null,null,null,null,null,null,null,null,null,null,null,null,null,null,null,null,null,null,null,{"$f":"IF(E35-E33>0,E35-E33,0)","v":0},{"$f":"IF(E36-E35>0,E36-E35,0)","v":0},{"$f":"IF(E37-E36>0,E37-E36,0)","v":0},{"$f":"IF(E38-E37>0,E38-E37,0)","v":0},{"$f":"IF(E39-E38>0,E39-E38,0)","v":0},{"$f":"IF(E40-E39>0,E40-E39,0)","v":0},{"$f":"IF(E41-E40>0,E41-E40,0)","v":0},{"$f":"IF(E42-E41>0,E42-E41,0)","v":0},{"$f":"E44-MAX(E33:E42)","v":0},"(km tramo-repostaje)"]
[null,null,null,null,null,null,null,null,null,null,null,null,null,null,null,null,null,null,null,null,null,null,null,null,null,null,{"$f":"0-$E$47+$E$33","v":0},{"$f":"AA235","v":0},{"$f":"AB235","v":0},0,0,0,0,0,{"$f":"AH235","v":0},"(km inicial)"]
[null,null,null,null,null,null,null,null,null,null,null,null,null,null,null,null,null,null,null,null,null,null,null,null,null,null,{"$f":"AA233-$E$47+$E$33","v":0},{"$f":"AB233+AB234","v":0},{"$f":"AC233+AC234","v":0},{"$f":"AD233+AD234","v":0},0,0,0,0,{"$f":"AI233+AI234","v":0},"(km final)"]
[null,null,null,null,null,null,null,null,null,null,null,null,null,null,null,null,null,null,null,null,null,null,"1 --> 2",{"$f":"N81","v":""},0,{"$f":"IFERROR(Y236+X236,\"---\")","v":"---"},{"$f":"IFERROR(AA$232*IF(OR(AA$234>=$Z236,AA$235<=$Y236),0,IF(AND(AA$234<=$Y236,$Y236<=AA$235,AA$235<=$Z236),AA$235-$Y236,IF(AND($Y236<=AA$234,AA$234<=$Z236,$Z236<=AA$235),$Z236-AA$234,IF(AND($Y236<=AA$234,AA$235<=$Z236),AA$235-AA$234,IF(AND(AA$234<=$Y236,$Z236<=AA$235),$Z236-$Y236))))),0)","v":0},{"$f":"IFERROR(AB$232*IF(OR(AB$234>=$Z236,AB$235<=$Y236),0,IF(AND(AB$234<=$Y236,$Y236<=AB$235,AB$235<=$Z236),AB$235-$Y236,IF(AND($Y236<=AB$234,AB$234<=$Z236,$Z236<=AB$235),$Z236-AB$234,IF(AND($Y236<=AB$234,AB$235<=$Z236),AB$235-AB$234,IF(AND(AB$234<=$Y236,$Z236<=AB$235),$Z236-$Y236))))),0)","v":0},0,0,0,0,0,0,0,null,{"$f":"IF(X236<>\"\",SUM(AA236:AI236)/X236*100,\"\")","v":""}]
[null,null,null,null,null,null,null,null,null,null,null,null,null,null,null,null,null,null,null,null,null,null,"2 --> 3",{"$f":"N82","v":""},{"$f":"Z236","v":"---"},{"$f":"IFERROR(Y237+X237,\"---\")","v":"---"},{"$f":"IFERROR(AA$232*IF(OR(AA$234>=$Z237,AA$235<=$Y237),0,IF(AND(AA$234<=$Y237,$Y237<=AA$235,AA$235<=$Z237),AA$235-$Y237,IF(AND($Y237<=AA$234,AA$234<=$Z237,$Z237<=AA$235),$Z237-AA$234,IF(AND($Y237<=AA$234,AA$235<=$Z237),AA$235-AA$234,IF(AND(AA$234<=$Y237,$Z237<=AA$235),$Z237-$Y237))))),0)","v":0},0,0,{"$f":"IFERROR(AD$232*IF(OR(AD$234>=$Z237,AD$235<=$Y237),0,IF(AND(AD$234<=$Y237,$Y237<=AD$235,AD$235<=$Z237),AD$235-$Y237,IF(AND($Y237<=AD$234,AD$234<=$Z237,$Z237<=AD$235),$Z237-AD$234,IF(AND($Y237<=AD$234,AD$235<=$Z237),AD$235-AD$234,IF(AND(AD$234<=$Y237,$Z237<=AD$235),$Z237-$Y237))))),0)","v":0},0,0,0,0,0,null,{"$f":"IF(X237<>\"\",SUM(AA237:AI237)/X237*100,\"\")","v":""}]
[null,null,null,null,null,null,null,null,null,null,null,null,null,null,null,null,null,null,null,null,null,null,null,"km tramo","km inicial","km final"]

{"sheet":"B1","index":8,"n_rows":229,"n_cols":27,"rows_kept":229,"cut":false,"hidden":true,"merged":[[74,2,74,3],[75,2,75,3],[76,2,76,3],[77,2,77,3],[78,2,78,3],[79,2,79,3],[80,2,80,3],[81,2,81,3],[72,4,72,8],[73,4,73,8],[74,4,74,8],[105,3,105,4],[106,3,106,4],[107,3,107,4],[108,3,108,4],[109,3,109,4],[110,3,110,4],[111,3,111,4],[112,3,112,4],[140,3,140,4],[113,3,113,4],[114,3,114,4],[115,3,115,4],[116,3,116,4],[117,3,117,4],[118,3,118,4],[119,3,119,4],[120,3,120,4],[121,3,121,4],[132,3,132,4],[133,3,133,4],[122,3,122,4],[123,3,123,4],[124,3,124,4],[134,3,134,4],[96,3,96,4],[97,3,97,4],[98,3,98,4],[99,3,99,4],[100,3,100,4],[101,3,101,4],[102,3,102,4],[103,3,103,4],[104,3,104,4],[48,3,48,5],[1,1,1,20],[8,4,8,6],[27,2,27,3],[27,4,27,6],[36,3,36,5],[104,12,104,13],[104,15,104,16],[48,6,48,11],[49,3,49,5],[49,6,49,11],[50,3,50,5],[50,6,50,11],[45,3,45,5],[45,6,45,11],[46,3,46,5],[46,6,46,11],[47,3,47,5],[47,6,47,11],[54,3,54,5],[54,6,54,11],[55,3,55,5],[36,6,36,11],[37,3,37,5],[37,6,37,11],[38,3,38,5],[42,3,42,5],[42,6,42,11],[43,3,43,5],[43,6,43,11],[44,3,44,5],[44,6,44,11],[38,6,38,11],[39,3,39,5],[39,6,39,11],[40,3,40,5],[40,6,40,11],[41,3,41,5],[41,6,41,11],[94,15,94,16],[94,12,94,13],[55,6,55,11],[62,10,62,11],[63,10,63,11],[64,10,64,11],[65,10,65,11],[66,10,66,11],[67,10,67,11],[68,10,68,11],[69,10,69,11],[70,10,70,11],[71,10,71,11],[72,10,72,11],[73,10,73,11],[74,10,74,11],[75,4,75,8],[76,4,76,8],[77,4,77,8],[78,4,78,8],[79,4,79,8],[80,4,80,8],[63,4,63,8],[64,4,64,8],[94,3,94,4],[95,3,95,4],[56,3,56,5],[56,6,56,11],[51,3,51,5],[51,6,51,11],[52,3,52,5],[52,6,52,11],[53,3,53,5],[53,6,53,11],[65,4,65,8],[66,4,66,8],[67,4,67,8],[68,4,68,8],[69,4,69,8],[70,4,70,8],[71,4,71,8],[81,4,81,8],[62,2,62,3],[63,2,63,3],[64,2,64,3],[65,2,65,3],[66,2,66,3],[67,2,67,3],[57,3,57,5],[57,6,57,11],[92,11,92,13],[92,14,92,16],[93,12,93,13],[93,15,93,16],[75,10,75,11],[76,10,76,11],[77,10,77,11],[78,10,78,11],[79,10,79,11],[80,10,80,11],[81,10,81,11],[61,10,61,11],[61,4,61,8],[62,4,62,8],[92,3,92,4],[93,3,93,4],[68,2,68,3],[69,2,69,3],[70,2,70,3],[71,2,71,3],[72,2,72,3],[73,2,73,3],[97,15,97,16],[98,12,98,13],[98,15,98,16],[99,12,99,13],[99,15,99,16],[97,12,97,13],[95,12,95,13],[95,15,95,16],[96,12,96,13],[96,15,96,16],[102,12,102,13],[102,15,102,16],[103,12,103,13],[103,15,103,16],[107,12,107,13],[107,15,107,16],[108,12,108,13],[108,15,108,16],[100,12,100,13],[100,15,100,16],[101,12,101,13],[101,15,101,16],[105,12,105,13],[105,15,105,16],[106,12,106,13],[106,15,106,16],[109,12,109,13],[109,15,109,16],[117,12,117,13],[117,15,117,16],[120,12,120,13],[120,15,120,16],[121,12,121,13],[121,15,121,16],[118,12,118,13],[118,15,118,16],[119,12,119,13],[119,15,119,16],[122,12,122,13],[122,15,122,16],[123,12,123,13],[123,15,123,16],[110,12,110,13],[110,15,110,16],[111,12,111,13],[111,15,111,16],[116,12,116,13],[116,15,116,16],[114,12,114,13],[114,15,114,16],[115,12,115,13],[115,15,115,16],[112,12,112,13],[112,15,112,16],[113,12,113,13],[113,15,113,16],[124,12,124,13],[124,15,124,16],[125,12,125,13],[125,15,125,16],[125,3,125,4],[126,3,126,4],[127,3,127,4],[141,3,141,4],[142,3,142,4],[135,3,135,4],[136,3,136,4],[137,3,137,4],[138,3,138,4],[139,3,139,4],[128,3,128,4],[129,3,129,4],[130,3,130,4],[131,3,131,4],[129,12,129,13],[129,15,129,16],[126,15,126,16],[127,12,127,13],[133,15,133,16],[127,15,127,16],[207,6,207,8],[210,6,210,8],[140,12,140,13],[140,15,140,16],[141,12,141,13],[141,15,141,16],[138,12,138,13],[138,15,138,16],[139,12,139,13],[139,15,139,16],[150,6,150,8],[153,6,153,8],[158,7,158,8],[213,6,213,8],[222,7,222,8],[223,7,223,8],[17,4,17,6],[142,12,142,13],[142,15,142,16],[136,12,136,13],[136,15,136,16],[137,12,137,13],[137,15,137,16],[134,12,134,13],[134,15,134,16],[135,12,135,13],[135,15,135,16],[132,12,132,13],[132,15,132,16],[133,12,133,13],[128,12,128,13],[128,15,128,16],[130,12,130,13],[130,15,130,16],[131,12,131,13],[131,15,131,16],[126,12,126,13]]}
["B.1."]
[null,"PATRÓN B.1. DISTANCIAS Y CARGAS DE LA RUTA. RUTA GENÉRICA"]
[]
[]
[]
[]
[null,"Tipo de vehículo"]
[]
[null,null,"Tipo de camión (MMA)"]
[]
[null,null,"Carga útil del camión",null,null,null,null,"t"]
[]
[]
[]
[]
[null,"Tipo de combustible"]
[]
[null,null,"Tipo de combustible"]
[]
[]
[]
[]
[null,"Proporción de viajes en vacío"]
[null,null,"Si la ruta es abierta, introduzca la siguiente información"]
[null,null,"Proporción de recorrido adicional en vacío"]
[]
[null,null,"En caso de no conocer la proporción de viajes en vacío, introduzca la siguiente información:"]
[null,null,"Tipo de transporte"]
[null,null,"Proporción de recorrido adicional en vacío estimada",null,null,null,{"$f":"IFERROR(VLOOKUP($E$28,t_porcentaje_vacio,2,0),\"\")","v":""}]
[]
[]
[]
[]
[null,"Localizaciones y distancias"]
[]
[null,null,"Denominación y localización de los puntos de salida y llegada"]
[null,null,"Número de parada","Denominación (importante cumplimentar)",null,null,"Localización"]
[null,null,1]
[null,null,2]
[null,null,3]
[null,null,4]
[null,null,5]
[null,null,6]
[null,null,7]
[null,null,8]
[null,null,9]
[null,null,10]
[null,null,11]
[null,null,12]
[null,null,13]
[null,null,14]
[null,null,15]
[null,null,16]
[null,null,17]
[null,null,18]
[null,null,19]
[null,null,20]
[null,null,21]
[]
[]
[null,null,"Longitud y carga y consumos de los tramos"]
[null,null,null,null,"Denominación de las paradas",null,null,null,null,"¿Se conoce la distancia recorrida?","Distancia recorrida (km)",null,"Distancia directa (km)","Distancia de cálculo (km)",null,"Tramo urbano/no urbano","Tramo llano/ montañoso",null,"Carga transportada (t)","Tasa de carga del tramo","Consumo específico del tramo (l/100 km)","Consumo del tramo (l)",null,"Recorrido urbano","Recorrido no urbano","Recorrido llano","Recorrido montañoso"]
[null,null,"Parada 1 → Parada 2",null,{"$f":"IF(D39<>\"\",D38&\" → \"&D39,\"\")","v":""},null,null,null,null,null,null,null,{"$f":"IF(AND(G38<>\"\",G39<>\"\"),getGoogleDistance(txtNoAcc(G38),txtNoAcc(G39))*1,\"\")","v":""},{"$f":"IF(K63<>0,K63,M63)","v":""},null,null,null,null,{"$f":"IF($N63=\"\",\"\",SUMIFS($G$94:$G$143,$L$94:$L$143,\"<=\"&C38,$O$94:$O$143,\">=\"&C39))","v":""},{"$f":"IF($N63=\"\",\"\",IFERROR(S63/$G$11,\"\"))","v":""},{"$f":"IF($N63=\"\",\"\",IFERROR(IF($P63=\"Urbano\",VLOOKUP($E$9,t_fcorreccion_urbana,2,0),1)*(IF(Q63=\"Montañoso\",VLOOKUP($E$9,t_abc_mdistancias,2,0)+VLOOKUP($E$9,t_abc_mdistancias,3,0)*S63/VLOOKUP($E$9,t_abc_mdistancias,6,0),VLOOKUP($E$9,t_abc_mdistancias,4,0)+VLOOKUP($E$9,t_abc_mdistancias,5,0)*$S63/VLOOKUP($E$9,t_abc_mdistancias,6,0)))*RAW_DATA_transporte!$D$134/VLOOKUP($E$18,t_factores_t,3,0),\"\"))","v":""},{"$f":"IFERROR(U63*N63/100,\"\")","v":""}]
[null,null,"Parada 2 → Parada 3",null,{"$f":"IF(D40<>\"\",D39&\" → \"&D40,\"\")","v":""},null,null,null,null,null,null,null,{"$f":"IF(AND(G39<>\"\",G40<>\"\"),getGoogleDistance(txtNoAcc(G39),txtNoAcc(G40))*1,\"\")","v":""},"",null,null,null,null,"","",{"$f":"IF($N64=\"\",\"\",IFERROR(IF($P64=\"Urbano\",VLOOKUP($E$9,t_fcorreccion_urbana,2,0),1)*(IF(Q64=\"Montañoso\",VLOOKUP($E$9,t_abc_mdistancias,2,0)+VLOOKUP($E$9,t_abc_mdistancias,3,0)*S64/VLOOKUP($E$9,t_abc_mdistancias,6,0),VLOOKUP($E$9,t_abc_mdistancias,4,0)+VLOOKUP($E$9,t_abc_mdistancias,5,0)*$S64/VLOOKUP($E$9,t_abc_mdistancias,6,0)))*RAW_DATA_transporte!$D$134/VLOOKUP($E$18,t_factores_t,3,0),\"\"))","v":""},""]
[null,null,"Parada 3 → Parada 4",null,"",null,null,null,null,null,null,null,{"$f":"IF(AND(G40<>\"\",G41<>\"\"),getGoogleDistance(txtNoAcc(G40),txtNoAcc(G41))*1,\"\")","v":""},"",null,null,null,null,"","",{"$f":"IF($N65=\"\",\"\",IFERROR(IF($P65=\"Urbano\",VLOOKUP($E$9,t_fcorreccion_urbana,2,0),1)*(IF(Q65=\"Montañoso\",VLOOKUP($E$9,t_abc_mdistancias,2,0)+VLOOKUP($E$9,t_abc_mdistancias,3,0)*S65/VLOOKUP($E$9,t_abc_mdistancias,6,0),VLOOKUP($E$9,t_abc_mdistancias,4,0)+VLOOKUP($E$9,t_abc_mdistancias,5,0)*$S65/VLOOKUP($E$9,t_abc_mdistancias,6,0)))*RAW_DATA_transporte!$D$134/VLOOKUP($E$18,t_factores_t,3,0),\"\"))","v":""},""]
[null,null,"Parada 4 → Parada 5",null,"",null,null,null,null,null,null,null,{"$f":"IF(AND(G41<>\"\",G42<>\"\"),getGoogleDistance(txtNoAcc(G41),txtNoAcc(G42))*1,\"\")","v":""},"",null,null,null,null,"","",{"$f":"IF($N66=\"\",\"\",IFERROR(IF($P66=\"Urbano\",VLOOKUP($E$9,t_fcorreccion_urbana,2,0),1)*(IF(Q66=\"Montañoso\",VLOOKUP($E$9,t_abc_mdistancias,2,0)+VLOOKUP($E$9,t_abc_mdistancias,3,0)*S66/VLOOKUP($E$9,t_abc_mdistancias,6,0),VLOOKUP($E$9,t_abc_mdistancias,4,0)+VLOOKUP($E$9,t_abc_mdistancias,5,0)*$S66/VLOOKUP($E$9,t_abc_mdistancias,6,0)))*RAW_DATA_transporte!$D$134/VLOOKUP($E$18,t_factores_t,3,0),\"\"))","v":""},""]
[null,null,"Parada 5 → Parada 6",null,"",null,null,null,null,null,null,null,{"$f":"IF(AND(G42<>\"\",G43<>\"\"),getGoogleDistance(txtNoAcc(G42),txtNoAcc(G43))*1,\"\")","v":""},"",null,null,null,null,"","",{"$f":"IF($N67=\"\",\"\",IFERROR(IF($P67=\"Urbano\",VLOOKUP($E$9,t_fcorreccion_urbana,2,0),1)*(IF(Q67=\"Montañoso\",VLOOKUP($E$9,t_abc_mdistancias,2,0)+VLOOKUP($E$9,t_abc_mdistancias,3,0)*S67/VLOOKUP($E$9,t_abc_mdistancias,6,0),VLOOKUP($E$9,t_abc_mdistancias,4,0)+VLOOKUP($E$9,t_abc_mdistancias,5,0)*$S67/VLOOKUP($E$9,t_abc_mdistancias,6,0)))*RAW_DATA_transporte!$D$134/VLOOKUP($E$18,t_factores_t,3,0),\"\"))","v":""},""]
[null,null,"Parada 6 → Parada 7",null,"",null,null,null,null,null,null,null,{"$f":"IF(AND(G43<>\"\",G44<>\"\"),getGoogleDistance(txtNoAcc(G43),txtNoAcc(G44))*1,\"\")","v":""},"",null,null,null,null,"","",{"$f":"IF($N68=\"\",\"\",IFERROR(IF($P68=\"Urbano\",VLOOKUP($E$9,t_fcorreccion_urbana,2,0),1)*(IF(Q68=\"Montañoso\",VLOOKUP($E$9,t_abc_mdistancias,2,0)+VLOOKUP($E$9,t_abc_mdistancias,3,0)*S68/VLOOKUP($E$9,t_abc_mdistancias,6,0),VLOOKUP($E$9,t_abc_mdistancias,4,0)+VLOOKUP($E$9,t_abc_mdistancias,5,0)*$S68/VLOOKUP($E$9,t_abc_mdistancias,6,0)))*RAW_DATA_transporte!$D$134/VLOOKUP($E$18,t_factores_t,3,0),\"\"))","v":""},""]
[null,null,"Parada 7 → Parada 8",null,"",null,null,null,null,null,null,null,{"$f":"IF(AND(G44<>\"\",G45<>\"\"),getGoogleDistance(txtNoAcc(G44),txtNoAcc(G45))*1,\"\")","v":""},"",null,null,null,null,"","",{"$f":"IF($N69=\"\",\"\",IFERROR(IF($P69=\"Urbano\",VLOOKUP($E$9,t_fcorreccion_urbana,2,0),1)*(IF(Q69=\"Montañoso\",VLOOKUP($E$9,t_abc_mdistancias,2,0)+VLOOKUP($E$9,t_abc_mdistancias,3,0)*S69/VLOOKUP($E$9,t_abc_mdistancias,6,0),VLOOKUP($E$9,t_abc_mdistancias,4,0)+VLOOKUP($E$9,t_abc_mdistancias,5,0)*$S69/VLOOKUP($E$9,t_abc_mdistancias,6,0)))*RAW_DATA_transporte!$D$134/VLOOKUP($E$18,t_factores_t,3,0),\"\"))","v":""},""]
[null,null,"Parada 8 → Parada 9",null,"",null,null,null,null,null,null,null,{"$f":"IF(AND(G45<>\"\",G46<>\"\"),getGoogleDistance(txtNoAcc(G45),txtNoAcc(G46))*1,\"\")","v":""},"",null,null,null,null,"","",{"$f":"IF($N70=\"\",\"\",IFERROR(IF($P70=\"Urbano\",VLOOKUP($E$9,t_fcorreccion_urbana,2,0),1)*(IF(Q70=\"Montañoso\",VLOOKUP($E$9,t_abc_mdistancias,2,0)+VLOOKUP($E$9,t_abc_mdistancias,3,0)*S70/VLOOKUP($E$9,t_abc_mdistancias,6,0),VLOOKUP($E$9,t_abc_mdistancias,4,0)+VLOOKUP($E$9,t_abc_mdistancias,5,0)*$S70/VLOOKUP($E$9,t_abc_mdistancias,6,0)))*RAW_DATA_transporte!$D$134/VLOOKUP($E$18,t_factores_t,3,0),\"\"))","v":""},""]
[null,null,"Parada 9 → Parada 10",null,"",null,null,null,null,null,null,null,{"$f":"IF(AND(G46<>\"\",G47<>\"\"),getGoogleDistance(txtNoAcc(G46),txtNoAcc(G47))*1,\"\")","v":""},"",null,null,null,null,"","",{"$f":"IF($N71=\"\",\"\",IFERROR(IF($P71=\"Urbano\",VLOOKUP($E$9,t_fcorreccion_urbana,2,0),1)*(IF(Q71=\"Montañoso\",VLOOKUP($E$9,t_abc_mdistancias,2,0)+VLOOKUP($E$9,t_abc_mdistancias,3,0)*S71/VLOOKUP($E$9,t_abc_mdistancias,6,0),VLOOKUP($E$9,t_abc_mdistancias,4,0)+VLOOKUP($E$9,t_abc_mdistancias,5,0)*$S71/VLOOKUP($E$9,t_abc_mdistancias,6,0)))*RAW_DATA_transporte!$D$134/VLOOKUP($E$18,t_factores_t,3,0),\"\"))","v":""},""]
[null,null,"Parada 10 → Parada 11",null,"",null,null,null,null,null,null,null,{"$f":"IF(AND(G47<>\"\",G48<>\"\"),getGoogleDistance(txtNoAcc(G47),txtNoAcc(G48))*1,\"\")","v":""},"",null,null,null,null,"","",{"$f":"IF($N72=\"\",\"\",IFERROR(IF($P72=\"Urbano\",VLOOKUP($E$9,t_fcorreccion_urbana,2,0),1)*(IF(Q72=\"Montañoso\",VLOOKUP($E$9,t_abc_mdistancias,2,0)+VLOOKUP($E$9,t_abc_mdistancias,3,0)*S72/VLOOKUP($E$9,t_abc_mdistancias,6,0),VLOOKUP($E$9,t_abc_mdistancias,4,0)+VLOOKUP($E$9,t_abc_mdistancias,5,0)*$S72/VLOOKUP($E$9,t_abc_mdistancias,6,0)))*RAW_DATA_transporte!$D$134/VLOOKUP($E$18,t_factores_t,3,0),\"\"))","v":""},""]
[null,null,"Parada 11 → Parada 12",null,"",null,null,null,null,null,null,null,{"$f":"IF(AND(G48<>\"\",G49<>\"\"),getGoogleDistance(txtNoAcc(G48),txtNoAcc(G49))*1,\"\")","v":""},"",null,null,null,null,"","",{"$f":"IF($N73=\"\",\"\",IFERROR(IF($P73=\"Urbano\",VLOOKUP($E$9,t_fcorreccion_urbana,2,0),1)*(IF(Q73=\"Montañoso\",VLOOKUP($E$9,t_abc_mdistancias,2,0)+VLOOKUP($E$9,t_abc_mdistancias,3,0)*S73/VLOOKUP($E$9,t_abc_mdistancias,6,0),VLOOKUP($E$9,t_abc_mdistancias,4,0)+VLOOKUP($E$9,t_abc_mdistancias,5,0)*$S73/VLOOKUP($E$9,t_abc_mdistancias,6,0)))*RAW_DATA_transporte!$D$134/VLOOKUP($E$18,t_factores_t,3,0),\"\"))","v":""},""]
[null,null,"Parada 12 → Parada 13",null,"",null,null,null,null,null,null,null,{"$f":"IF(AND(G49<>\"\",G50<>\"\"),getGoogleDistance(txtNoAcc(G49),txtNoAcc(G50))*1,\"\")","v":""},"",null,null,null,null,"","",{"$f":"IF($N74=\"\",\"\",IFERROR(IF($P74=\"Urbano\",VLOOKUP($E$9,t_fcorreccion_urbana,2,0),1)*(IF(Q74=\"Montañoso\",VLOOKUP($E$9,t_abc_mdistancias,2,0)+VLOOKUP($E$9,t_abc_mdistancias,3,0)*S74/VLOOKUP($E$9,t_abc_mdistancias,6,0),VLOOKUP($E$9,t_abc_mdistancias,4,0)+VLOOKUP($E$9,t_abc_mdistancias,5,0)*$S74/VLOOKUP($E$9,t_abc_mdistancias,6,0)))*RAW_DATA_transporte!$D$134/VLOOKUP($E$18,t_factores_t,3,0),\"\"))","v":""},""]
[null,null,"Parada 13 → Parada 14",null,"",null,null,null,null,null,null,null,{"$f":"IF(AND(G50<>\"\",G51<>\"\"),getGoogleDistance(txtNoAcc(G50),txtNoAcc(G51))*1,\"\")","v":""},"",null,null,null,null,"","",{"$f":"IF($N75=\"\",\"\",IFERROR(IF($P75=\"Urbano\",VLOOKUP($E$9,t_fcorreccion_urbana,2,0),1)*(IF(Q75=\"Montañoso\",VLOOKUP($E$9,t_abc_mdistancias,2,0)+VLOOKUP($E$9,t_abc_mdistancias,3,0)*S75/VLOOKUP($E$9,t_abc_mdistancias,6,0),VLOOKUP($E$9,t_abc_mdistancias,4,0)+VLOOKUP($E$9,t_abc_mdistancias,5,0)*$S75/VLOOKUP($E$9,t_abc_mdistancias,6,0)))*RAW_DATA_transporte!$D$134/VLOOKUP($E$18,t_factores_t,3,0),\"\"))","v":""},""]
[null,null,"Parada 14 → Parada 15",null,"",null,null,null,null,null,null,null,{"$f":"IF(AND(G51<>\"\",G52<>\"\"),getGoogleDistance(txtNoAcc(G51),txtNoAcc(G52))*1,\"\")","v":""},"",null,null,null,null,"","",{"$f":"IF($N76=\"\",\"\",IFERROR(IF($P76=\"Urbano\",VLOOKUP($E$9,t_fcorreccion_urbana,2,0),1)*(IF(Q76=\"Montañoso\",VLOOKUP($E$9,t_abc_mdistancias,2,0)+VLOOKUP($E$9,t_abc_mdistancias,3,0)*S76/VLOOKUP($E$9,t_abc_mdistancias,6,0),VLOOKUP($E$9,t_abc_mdistancias,4,0)+VLOOKUP($E$9,t_abc_mdistancias,5,0)*$S76/VLOOKUP($E$9,t_abc_mdistancias,6,0)))*RAW_DATA_transporte!$D$134/VLOOKUP($E$18,t_factores_t,3,0),\"\"))","v":""},""]
[null,null,"Parada 15 → Parada 16",null,"",null,null,null,null,null,null,null,{"$f":"IF(AND(G52<>\"\",G53<>\"\"),getGoogleDistance(txtNoAcc(G52),txtNoAcc(G53))*1,\"\")","v":""},"",null,null,null,null,"","",{"$f":"IF($N77=\"\",\"\",IFERROR(IF($P77=\"Urbano\",VLOOKUP($E$9,t_fcorreccion_urbana,2,0),1)*(IF(Q77=\"Montañoso\",VLOOKUP($E$9,t_abc_mdistancias,2,0)+VLOOKUP($E$9,t_abc_mdistancias,3,0)*S77/VLOOKUP($E$9,t_abc_mdistancias,6,0),VLOOKUP($E$9,t_abc_mdistancias,4,0)+VLOOKUP($E$9,t_abc_mdistancias,5,0)*$S77/VLOOKUP($E$9,t_abc_mdistancias,6,0)))*RAW_DATA_transporte!$D$134/VLOOKUP($E$18,t_factores_t,3,0),\"\"))","v":""},""]
[null,null,"Parada 16 → Parada 17",null,"",null,null,null,null,null,null,null,{"$f":"IF(AND(G53<>\"\",G54<>\"\"),getGoogleDistance(txtNoAcc(G53),txtNoAcc(G54))*1,\"\")","v":""},"",null,null,null,null,"","",{"$f":"IF($N78=\"\",\"\",IFERROR(IF($P78=\"Urbano\",VLOOKUP($E$9,t_fcorreccion_urbana,2,0),1)*(IF(Q78=\"Montañoso\",VLOOKUP($E$9,t_abc_mdistancias,2,0)+VLOOKUP($E$9,t_abc_mdistancias,3,0)*S78/VLOOKUP($E$9,t_abc_mdistancias,6,0),VLOOKUP($E$9,t_abc_mdistancias,4,0)+VLOOKUP($E$9,t_abc_mdistancias,5,0)*$S78/VLOOKUP($E$9,t_abc_mdistancias,6,0)))*RAW_DATA_transporte!$D$134/VLOOKUP($E$18,t_factores_t,3,0),\"\"))","v":""},""]
[null,null,"Parada 17 → Parada 18",null,"",null,null,null,null,null,null,null,{"$f":"IF(AND(G54<>\"\",G55<>\"\"),getGoogleDistance(txtNoAcc(G54),txtNoAcc(G55))*1,\"\")","v":""},"",null,null,null,null,"","",{"$f":"IF($N79=\"\",\"\",IFERROR(IF($P79=\"Urbano\",VLOOKUP($E$9,t_fcorreccion_urbana,2,0),1)*(IF(Q79=\"Montañoso\",VLOOKUP($E$9,t_abc_mdistancias,2,0)+VLOOKUP($E$9,t_abc_mdistancias,3,0)*S79/VLOOKUP($E$9,t_abc_mdistancias,6,0),VLOOKUP($E$9,t_abc_mdistancias,4,0)+VLOOKUP($E$9,t_abc_mdistancias,5,0)*$S79/VLOOKUP($E$9,t_abc_mdistancias,6,0)))*RAW_DATA_transporte!$D$134/VLOOKUP($E$18,t_factores_t,3,0),\"\"))","v":""},""]
[null,null,"Parada 18 → Parada 19",null,"",null,null,null,null,null,null,null,{"$f":"IF(AND(G55<>\"\",G56<>\"\"),getGoogleDistance(txtNoAcc(G55),txtNoAcc(G56))*1,\"\")","v":""},"",null,null,null,null,"","",{"$f":"IF($N80=\"\",\"\",IFERROR(IF($P80=\"Urbano\",VLOOKUP($E$9,t_fcorreccion_urbana,2,0),1)*(IF(Q80=\"Montañoso\",VLOOKUP($E$9,t_abc_mdistancias,2,0)+VLOOKUP($E$9,t_abc_mdistancias,3,0)*S80/VLOOKUP($E$9,t_abc_mdistancias,6,0),VLOOKUP($E$9,t_abc_mdistancias,4,0)+VLOOKUP($E$9,t_abc_mdistancias,5,0)*$S80/VLOOKUP($E$9,t_abc_mdistancias,6,0)))*RAW_DATA_transporte!$D$134/VLOOKUP($E$18,t_factores_t,3,0),\"\"))","v":""},""]
[null,null,"Parada 19 → Parada 20",null,"",null,null,null,null,null,null,null,{"$f":"IF(AND(G56<>\"\",G57<>\"\"),getGoogleDistance(txtNoAcc(G56),txtNoAcc(G57))*1,\"\")","v":""},"",null,null,null,null,"","",{"$f":"IF($N81=\"\",\"\",IFERROR(IF($P81=\"Urbano\",VLOOKUP($E$9,t_fcorreccion_urbana,2,0),1)*(IF(Q81=\"Montañoso\",VLOOKUP($E$9,t_abc_mdistancias,2,0)+VLOOKUP($E$9,t_abc_mdistancias,3,0)*S81/VLOOKUP($E$9,t_abc_mdistancias,6,0),VLOOKUP($E$9,t_abc_mdistancias,4,0)+VLOOKUP($E$9,t_abc_mdistancias,5,0)*$S81/VLOOKUP($E$9,t_abc_mdistancias,6,0)))*RAW_DATA_transporte!$D$134/VLOOKUP($E$18,t_factores_t,3,0),\"\"))","v":""},""]
[null,null,"Parada 20 → Parada 21",null,"",null,null,null,null,null,null,null,{"$f":"IF(AND(G57<>\"\",G58<>\"\"),getGoogleDistance(txtNoAcc(G57),txtNoAcc(G58))*1,\"\")","v":""},"",null,null,null,null,"","",{"$f":"IF($N82=\"\",\"\",IFERROR(IF($P82=\"Urbano\",VLOOKUP($E$9,t_fcorreccion_urbana,2,0),1)*(IF(Q82=\"Montañoso\",VLOOKUP($E$9,t_abc_mdistancias,2,0)+VLOOKUP($E$9,t_abc_mdistancias,3,0)*S82/VLOOKUP($E$9,t_abc_mdistancias,6,0),VLOOKUP($E$9,t_abc_mdistancias,4,0)+VLOOKUP($E$9,t_abc_mdistancias,5,0)*$S82/VLOOKUP($E$9,t_abc_mdistancias,6,0)))*RAW_DATA_transporte!$D$134/VLOOKUP($E$18,t_factores_t,3,0),\"\"))","v":""},""]
[null,null,null,null,null,null,null,null,null,null,null,null,"Distancia recorrida en cada uno de los tramos",{"$f":"SUM(N63:N82)","v":0},"km",null,null,null,null,null,"Consumo de combustible de los tramos de la ruta (propulsión)",{"$f":"SUM(V63:V82)","v":0},"l",{"$f":"SUMIF($P$63:$P$82,\"Urbano\",$V$63:$V$82)","v":0},{"$f":"SUMIF($P$63:$P$82,\"No urbano\",$V$63:$V$82)","v":0},{"$f":"SUMIF($Q$63:$Q$82,\"Llano\",$V$63:$V$82)","v":0},{"$f":"SUMIF($Q$63:$Q$82,\"Montañoso\",$V$63:$V$82)","v":0}]
[null,null,null,null,null,null,null,null,null,null,null,null,"Distancia recorrida en vacío atribuible a la ruta",{"$f":"IFERROR(IF($G$25<>0,$N$83*$G$25,$N$83*$G$29),\"\")","v":""},"km",null,null,null,null,"Consumo específico en vacío",{"$f":"IFERROR(($X$84*VLOOKUP($E$9,t_fcorreccion_urbana,2,0)+$Y$84)*($AA$84*VLOOKUP($E$9,t_abc_mdistancias,2,0)+$Z$84*VLOOKUP($E$9,t_abc_mdistancias,4,0))*RAW_DATA_transporte!$D$134/VLOOKUP($E$18,t_factores_t,3,0),\"\")","v":""},"l/100 km",null,{"$f":"IFERROR(X83/(X83+Y83),0)","v":0},{"$f":"IFERROR(Y83/(X83+Y83),0)","v":0},{"$f":"IFERROR(Z83/(Z83+AA83),0)","v":0},{"$f":"IFERROR(AA83/(Z83+AA83),0)","v":0}]
[null,null,null,null,null,null,null,null,null,null,null,null,"Distancia recorrida en la ruta",{"$f":"IFERROR(N83+N84,\"\")","v":""},"km",null,null,null,null,"Consumo  en vacío atribuible a la ruta",{"$f":"IFERROR($U$84*$N$84/100,\"\")","v":""},"l"]
[null,null,null,null,null,null,null,null,null,null,null,null,null,null,null,null,null,null,null,null,"Consumo de combustible de la ruta",{"$f":"IFERROR($V$83+$U$85,\"\")","v":""},"l"]
[]
[]
[]
[]
[null,"Características de los envíos"]
[]
[null,null,"Cliente del envío","Denominación del envío",null,null,"Carga bruta del envío (t)","Carga refrigerada - no refrigerada","Volumen del envío en almacenamiento (m3) - en caso de que la carga sea almacenada","Días de almacenamiento (m3) - en caso de que la carga sea almacenada",null,"Origen del envío",null,null,"Destino del envío",null,null,null,"Distancia directa (km)","Distancia recorrida (km)"]
[null,null,null,null,null,null,null,null,null,null,null,{"$f":"IFERROR(IF(M94<>0,VLOOKUP(M94,CHOOSE({2,1},$C$38:$C$58,$D$38:$D$58),2,0),\"\"),\"\")","v":""},null,null,{"$f":"IFERROR(IF(P94<>0,VLOOKUP(P94,CHOOSE({2,1},$C$38:$C$58,$D$38:$D$58),2,0),\"\"),\"\")","v":""},null,null,null,{"$f":"IF(AND(M94<>\"\",P94<>\"\"),getGoogleDistance(txtNoAcc(VLOOKUP(M94,$D$38:$L$58,4,0)),txtNoAcc(VLOOKUP(P94,$D$38:$L$58,4,0))),\"\")","v":""},{"$f":"IFERROR(SUM(OFFSET($N$62,$L94,0):OFFSET($N$62,$O94-1,0)),\"\")","v":""}]
[null,null,null,null,null,null,null,null,null,null,null,{"$f":"IFERROR(IF(M95<>0,VLOOKUP(M95,CHOOSE({2,1},$C$38:$C$58,$D$38:$D$58),2,0),\"\"),\"\")","v":""},null,null,{"$f":"IFERROR(IF(P95<>0,VLOOKUP(P95,CHOOSE({2,1},$C$38:$C$58,$D$38:$D$58),2,0),\"\"),\"\")","v":""},null,null,null,{"$f":"IF(AND(M95<>\"\",P95<>\"\"),getGoogleDistance(txtNoAcc(VLOOKUP(M95,$D$38:$L$58,4,0)),txtNoAcc(VLOOKUP(P95,$D$38:$L$58,4,0))),\"\")","v":""},{"$f":"IFERROR(SUM(OFFSET($N$62,$L95,0):OFFSET($N$62,$O95-1,0)),\"\")","v":""}]
[null,null,null,null,null,null,null,null,null,null,null,{"$f":"IFERROR(IF(M96<>0,VLOOKUP(M96,CHOOSE({2,1},$C$38:$C$58,$D$38:$D$58),2,0),\"\"),\"\")","v":""},null,null,{"$f":"IFERROR(IF(P96<>0,VLOOKUP(P96,CHOOSE({2,1},$C$38:$C$58,$D$38:$D$58),2,0),\"\"),\"\")","v":""},null,null,null,{"$f":"IF(AND(M96<>\"\",P96<>\"\"),getGoogleDistance(txtNoAcc(VLOOKUP(M96,$D$38:$L$58,4,0)),txtNoAcc(VLOOKUP(P96,$D$38:$L$58,4,0))),\"\")","v":""},{"$f":"IFERROR(SUM(OFFSET($N$62,$L96,0):OFFSET($N$62,$O96-1,0)),\"\")","v":""}]
[null,null,null,null,null,null,null,null,null,null,null,{"$f":"IFERROR(IF(M97<>0,VLOOKUP(M97,CHOOSE({2,1},$C$38:$C$58,$D$38:$D$58),2,0),\"\"),\"\")","v":""},null,null,{"$f":"IFERROR(IF(P97<>0,VLOOKUP(P97,CHOOSE({2,1},$C$38:$C$58,$D$38:$D$58),2,0),\"\"),\"\")","v":""},null,null,null,{"$f":"IF(AND(M97<>\"\",P97<>\"\"),getGoogleDistance(txtNoAcc(VLOOKUP(M97,$D$38:$L$58,4,0)),txtNoAcc(VLOOKUP(P97,$D$38:$L$58,4,0))),\"\")","v":""},{"$f":"IFERROR(SUM(OFFSET($N$62,$L97,0):OFFSET($N$62,$O97-1,0)),\"\")","v":""}]
[null,null,null,null,null,null,null,null,null,null,null,{"$f":"IFERROR(IF(M98<>0,VLOOKUP(M98,CHOOSE({2,1},$C$38:$C$58,$D$38:$D$58),2,0),\"\"),\"\")","v":""},null,null,{"$f":"IFERROR(IF(P98<>0,VLOOKUP(P98,CHOOSE({2,1},$C$38:$C$58,$D$38:$D$58),2,0),\"\"),\"\")","v":""},null,null,null,{"$f":"IF(AND(M98<>\"\",P98<>\"\"),getGoogleDistance(txtNoAcc(VLOOKUP(M98,$D$38:$L$58,4,0)),txtNoAcc(VLOOKUP(P98,$D$38:$L$58,4,0))),\"\")","v":""},{"$f":"IFERROR(SUM(OFFSET($N$62,$L98,0):OFFSET($N$62,$O98-1,0)),\"\")","v":""}]
[null,null,null,null,null,null,null,null,null,null,null,{"$f":"IFERROR(IF(M99<>0,VLOOKUP(M99,CHOOSE({2,1},$C$38:$C$58,$D$38:$D$58),2,0),\"\"),\"\")","v":""},null,null,{"$f":"IFERROR(IF(P99<>0,VLOOKUP(P99,CHOOSE({2,1},$C$38:$C$58,$D$38:$D$58),2,0),\"\"),\"\")","v":""},null,null,null,{"$f":"IF(AND(M99<>\"\",P99<>\"\"),getGoogleDistance(txtNoAcc(VLOOKUP(M99,$D$38:$L$58,4,0)),txtNoAcc(VLOOKUP(P99,$D$38:$L$58,4,0))),\"\")","v":""},{"$f":"IFERROR(SUM(OFFSET($N$62,$L99,0):OFFSET($N$62,$O99-1,0)),\"\")","v":""}]
[null,null,null,null,null,null,null,null,null,null,null,{"$f":"IFERROR(IF(M100<>0,VLOOKUP(M100,CHOOSE({2,1},$C$38:$C$58,$D$38:$D$58),2,0),\"\"),\"\")","v":""},null,null,{"$f":"IFERROR(IF(P100<>0,VLOOKUP(P100,CHOOSE({2,1},$C$38:$C$58,$D$38:$D$58),2,0),\"\"),\"\")","v":""},null,null,null,{"$f":"IF(AND(M100<>\"\",P100<>\"\"),getGoogleDistance(txtNoAcc(VLOOKUP(M100,$D$38:$L$58,4,0)),txtNoAcc(VLOOKUP(P100,$D$38:$L$58,4,0))),\"\")","v":""},{"$f":"IFERROR(SUM(OFFSET($N$62,$L100,0):OFFSET($N$62,$O100-1,0)),\"\")","v":""}]
[null,null,null,null,null,null,null,null,null,null,null,{"$f":"IFERROR(IF(M101<>0,VLOOKUP(M101,CHOOSE({2,1},$C$38:$C$58,$D$38:$D$58),2,0),\"\"),\"\")","v":""},null,null,{"$f":"IFERROR(IF(P101<>0,VLOOKUP(P101,CHOOSE({2,1},$C$38:$C$58,$D$38:$D$58),2,0),\"\"),\"\")","v":""},null,null,null,{"$f":"IF(AND(M101<>\"\",P101<>\"\"),getGoogleDistance(txtNoAcc(VLOOKUP(M101,$D$38:$L$58,4,0)),txtNoAcc(VLOOKUP(P101,$D$38:$L$58,4,0))),\"\")","v":""},{"$f":"IFERROR(SUM(OFFSET($N$62,$L101,0):OFFSET($N$62,$O101-1,0)),\"\")","v":""}]
[null,null,null,null,null,null,null,null,null,null,null,{"$f":"IFERROR(IF(M102<>0,VLOOKUP(M102,CHOOSE({2,1},$C$38:$C$58,$D$38:$D$58),2,0),\"\"),\"\")","v":""},null,null,{"$f":"IFERROR(IF(P102<>0,VLOOKUP(P102,CHOOSE({2,1},$C$38:$C$58,$D$38:$D$58),2,0),\"\"),\"\")","v":""},null,null,null,{"$f":"IF(AND(M102<>\"\",P102<>\"\"),getGoogleDistance(txtNoAcc(VLOOKUP(M102,$D$38:$L$58,4,0)),txtNoAcc(VLOOKUP(P102,$D$38:$L$58,4,0))),\"\")","v":""},{"$f":"IFERROR(SUM(OFFSET($N$62,$L102,0):OFFSET($N$62,$O102-1,0)),\"\")","v":""}]
[null,null,null,null,null,null,null,null,null,null,null,{"$f":"IFERROR(IF(M103<>0,VLOOKUP(M103,CHOOSE({2,1},$C$38:$C$58,$D$38:$D$58),2,0),\"\"),\"\")","v":""},null,null,{"$f":"IFERROR(IF(P103<>0,VLOOKUP(P103,CHOOSE({2,1},$C$38:$C$58,$D$38:$D$58),2,0),\"\"),\"\")","v":""},null,null,null,{"$f":"IF(AND(M103<>\"\",P103<>\"\"),getGoogleDistance(txtNoAcc(VLOOKUP(M103,$D$38:$L$58,4,0)),txtNoAcc(VLOOKUP(P103,$D$38:$L$58,4,0))),\"\")","v":""},{"$f":"IFERROR(SUM(OFFSET($N$62,$L103,0):OFFSET($N$62,$O103-1,0)),\"\")","v":""}]
[null,null,null,null,null,null,null,null,null,null,null,{"$f":"IFERROR(IF(M104<>0,VLOOKUP(M104,CHOOSE({2,1},$C$38:$C$58,$D$38:$D$58),2,0),\"\"),\"\")","v":""},null,null,{"$f":"IFERROR(IF(P104<>0,VLOOKUP(P104,CHOOSE({2,1},$C$38:$C$58,$D$38:$D$58),2,0),\"\"),\"\")","v":""},null,null,null,{"$f":"IF(AND(M104<>\"\",P104<>\"\"),getGoogleDistance(txtNoAcc(VLOOKUP(M104,$D$38:$L$58,4,0)),txtNoAcc(VLOOKUP(P104,$D$38:$L$58,4,0))),\"\")","v":""},{"$f":"IFERROR(SUM(OFFSET($N$62,$L104,0):OFFSET($N$62,$O104-1,0)),\"\")","v":""}]
[null,null,null,null,null,null,null,null,null,null,null,{"$f":"IFERROR(IF(M105<>0,VLOOKUP(M105,CHOOSE({2,1},$C$38:$C$58,$D$38:$D$58),2,0),\"\"),\"\")","v":""},null,null,{"$f":"IFERROR(IF(P105<>0,VLOOKUP(P105,CHOOSE({2,1},$C$38:$C$58,$D$38:$D$58),2,0),\"\"),\"\")","v":""},null,null,null,{"$f":"IF(AND(M105<>\"\",P105<>\"\"),getGoogleDistance(txtNoAcc(VLOOKUP(M105,$D$38:$L$58,4,0)),txtNoAcc(VLOOKUP(P105,$D$38:$L$58,4,0))),\"\")","v":""},{"$f":"IFERROR(SUM(OFFSET($N$62,$L105,0):OFFSET($N$62,$O105-1,0)),\"\")","v":""}]
[null,null,null,null,null,null,null,null,null,null,null,{"$f":"IFERROR(IF(M106<>0,VLOOKUP(M106,CHOOSE({2,1},$C$38:$C$58,$D$38:$D$58),2,0),\"\"),\"\")","v":""},null,null,{"$f":"IFERROR(IF(P106<>0,VLOOKUP(P106,CHOOSE({2,1},$C$38:$C$58,$D$38:$D$58),2,0),\"\"),\"\")","v":""},null,null,null,{"$f":"IF(AND(M106<>\"\",P106<>\"\"),getGoogleDistance(txtNoAcc(VLOOKUP(M106,$D$38:$L$58,4,0)),txtNoAcc(VLOOKUP(P106,$D$38:$L$58,4,0))),\"\")","v":""},{"$f":"IFERROR(SUM(OFFSET($N$62,$L106,0):OFFSET($N$62,$O106-1,0)),\"\")","v":""}]
[null,null,null,null,null,null,null,null,null,null,null,{"$f":"IFERROR(IF(M107<>0,VLOOKUP(M107,CHOOSE({2,1},$C$38:$C$58,$D$38:$D$58),2,0),\"\"),\"\")","v":""},null,null,{"$f":"IFERROR(IF(P107<>0,VLOOKUP(P107,CHOOSE({2,1},$C$38:$C$58,$D$38:$D$58),2,0),\"\"),\"\")","v":""},null,null,null,{"$f":"IF(AND(M107<>\"\",P107<>\"\"),getGoogleDistance(txtNoAcc(VLOOKUP(M107,$D$38:$L$58,4,0)),txtNoAcc(VLOOKUP(P107,$D$38:$L$58,4,0))),\"\")","v":""},{"$f":"IFERROR(SUM(OFFSET($N$62,$L107,0):OFFSET($N$62,$O107-1,0)),\"\")","v":""}]
[null,null,null,null,null,null,null,null,null,null,null,{"$f":"IFERROR(IF(M108<>0,VLOOKUP(M108,CHOOSE({2,1},$C$38:$C$58,$D$38:$D$58),2,0),\"\"),\"\")","v":""},null,null,{"$f":"IFERROR(IF(P108<>0,VLOOKUP(P108,CHOOSE({2,1},$C$38:$C$58,$D$38:$D$58),2,0),\"\"),\"\")","v":""},null,null,null,{"$f":"IF(AND(M108<>\"\",P108<>\"\"),getGoogleDistance(txtNoAcc(VLOOKUP(M108,$D$38:$L$58,4,0)),txtNoAcc(VLOOKUP(P108,$D$38:$L$58,4,0))),\"\")","v":""},{"$f":"IFERROR(SUM(OFFSET($N$62,$L108,0):OFFSET($N$62,$O108-1,0)),\"\")","v":""}]
[null,null,null,null,null,null,null,null,null,null,null,{"$f":"IFERROR(IF(M109<>0,VLOOKUP(M109,CHOOSE({2,1},$C$38:$C$58,$D$38:$D$58),2,0),\"\"),\"\")","v":""},null,null,{"$f":"IFERROR(IF(P109<>0,VLOOKUP(P109,CHOOSE({2,1},$C$38:$C$58,$D$38:$D$58),2,0),\"\"),\"\")","v":""},null,null,null,{"$f":"IF(AND(M109<>\"\",P109<>\"\"),getGoogleDistance(txtNoAcc(VLOOKUP(M109,$D$38:$L$58,4,0)),txtNoAcc(VLOOKUP(P109,$D$38:$L$58,4,0))),\"\")","v":""},{"$f":"IFERROR(SUM(OFFSET($N$62,$L109,0):OFFSET($N$62,$O109-1,0)),\"\")","v":""}]
[null,null,null,null,null,null,null,null,null,null,null,{"$f":"IFERROR(IF(M110<>0,VLOOKUP(M110,CHOOSE({2,1},$C$38:$C$58,$D$38:$D$58),2,0),\"\"),\"\")","v":""},null,null,{"$f":"IFERROR(IF(P110<>0,VLOOKUP(P110,CHOOSE({2,1},$C$38:$C$58,$D$38:$D$58),2,0),\"\"),\"\")","v":""},null,null,null,{"$f":"IF(AND(M110<>\"\",P110<>\"\"),getGoogleDistance(txtNoAcc(VLOOKUP(M110,$D$38:$L$58,4,0)),txtNoAcc(VLOOKUP(P110,$D$38:$L$58,4,0))),\"\")","v":""},{"$f":"IFERROR(SUM(OFFSET($N$62,$L110,0):OFFSET($N$62,$O110-1,0)),\"\")","v":""}]
[null,null,null,null,null,null,null,null,null,null,null,{"$f":"IFERROR(IF(M111<>0,VLOOKUP(M111,CHOOSE({2,1},$C$38:$C$58,$D$38:$D$58),2,0),\"\"),\"\")","v":""},null,null,{"$f":"IFERROR(IF(P111<>0,VLOOKUP(P111,CHOOSE({2,1},$C$38:$C$58,$D$38:$D$58),2,0),\"\"),\"\")","v":""},null,null,null,{"$f":"IF(AND(M111<>\"\",P111<>\"\"),getGoogleDistance(txtNoAcc(VLOOKUP(M111,$D$38:$L$58,4,0)),txtNoAcc(VLOOKUP(P111,$D$38:$L$58,4,0))),\"\")","v":""},{"$f":"IFERROR(SUM(OFFSET($N$62,$L111,0):OFFSET($N$62,$O111-1,0)),\"\")","v":""}]
[null,null,null,null,null,null,null,null,null,null,null,{"$f":"IFERROR(IF(M112<>0,VLOOKUP(M112,CHOOSE({2,1},$C$38:$C$58,$D$38:$D$58),2,0),\"\"),\"\")","v":""},null,null,{"$f":"IFERROR(IF(P112<>0,VLOOKUP(P112,CHOOSE({2,1},$C$38:$C$58,$D$38:$D$58),2,0),\"\"),\"\")","v":""},null,null,null,{"$f":"IF(AND(M112<>\"\",P112<>\"\"),getGoogleDistance(txtNoAcc(VLOOKUP(M112,$D$38:$L$58,4,0)),txtNoAcc(VLOOKUP(P112,$D$38:$L$58,4,0))),\"\")","v":""},{"$f":"IFERROR(SUM(OFFSET($N$62,$L112,0):OFFSET($N$62,$O112-1,0)),\"\")","v":""}]
[null,null,null,null,null,null,null,null,null,null,null,{"$f":"IFERROR(IF(M113<>0,VLOOKUP(M113,CHOOSE({2,1},$C$38:$C$58,$D$38:$D$58),2,0),\"\"),\"\")","v":""},null,null,{"$f":"IFERROR(IF(P113<>0,VLOOKUP(P113,CHOOSE({2,1},$C$38:$C$58,$D$38:$D$58),2,0),\"\"),\"\")","v":""},null,null,null,{"$f":"IF(AND(M113<>\"\",P113<>\"\"),getGoogleDistance(txtNoAcc(VLOOKUP(M113,$D$38:$L$58,4,0)),txtNoAcc(VLOOKUP(P113,$D$38:$L$58,4,0))),\"\")","v":""},{"$f":"IFERROR(SUM(OFFSET($N$62,$L113,0):OFFSET($N$62,$O113-1,0)),\"\")","v":""}]
[null,null,null,null,null,null,null,null,null,null,null,{"$f":"IFERROR(IF(M114<>0,VLOOKUP(M114,CHOOSE({2,1},$C$38:$C$58,$D$38:$D$58),2,0),\"\"),\"\")","v":""},null,null,{"$f":"IFERROR(IF(P114<>0,VLOOKUP(P114,CHOOSE({2,1},$C$38:$C$58,$D$38:$D$58),2,0),\"\"),\"\")","v":""},null,null,null,{"$f":"IF(AND(M114<>\"\",P114<>\"\"),getGoogleDistance(txtNoAcc(VLOOKUP(M114,$D$38:$L$58,4,0)),txtNoAcc(VLOOKUP(P114,$D$38:$L$58,4,0))),\"\")","v":""},{"$f":"IFERROR(SUM(OFFSET($N$62,$L114,0):OFFSET($N$62,$O114-1,0)),\"\")","v":""}]
[null,null,null,null,null,null,null,null,null,null,null,{"$f":"IFERROR(IF(M115<>0,VLOOKUP(M115,CHOOSE({2,1},$C$38:$C$58,$D$38:$D$58),2,0),\"\"),\"\")","v":""},null,null,{"$f":"IFERROR(IF(P115<>0,VLOOKUP(P115,CHOOSE({2,1},$C$38:$C$58,$D$38:$D$58),2,0),\"\"),\"\")","v":""},null,null,null,{"$f":"IF(AND(M115<>\"\",P115<>\"\"),getGoogleDistance(txtNoAcc(VLOOKUP(M115,$D$38:$L$58,4,0)),txtNoAcc(VLOOKUP(P115,$D$38:$L$58,4,0))),\"\")","v":""},{"$f":"IFERROR(SUM(OFFSET($N$62,$L115,0):OFFSET($N$62,$O115-1,0)),\"\")","v":""}]
[null,null,null,null,null,null,null,null,null,null,null,{"$f":"IFERROR(IF(M116<>0,VLOOKUP(M116,CHOOSE({2,1},$C$38:$C$58,$D$38:$D$58),2,0),\"\"),\"\")","v":""},null,null,{"$f":"IFERROR(IF(P116<>0,VLOOKUP(P116,CHOOSE({2,1},$C$38:$C$58,$D$38:$D$58),2,0),\"\"),\"\")","v":""},null,null,null,{"$f":"IF(AND(M116<>\"\",P116<>\"\"),getGoogleDistance(txtNoAcc(VLOOKUP(M116,$D$38:$L$58,4,0)),txtNoAcc(VLOOKUP(P116,$D$38:$L$58,4,0))),\"\")","v":""},{"$f":"IFERROR(SUM(OFFSET($N$62,$L116,0):OFFSET($N$62,$O116-1,0)),\"\")","v":""}]
[null,null,null,null,null,null,null,null,null,null,null,{"$f":"IFERROR(IF(M117<>0,VLOOKUP(M117,CHOOSE({2,1},$C$38:$C$58,$D$38:$D$58),2,0),\"\"),\"\")","v":""},null,null,{"$f":"IFERROR(IF(P117<>0,VLOOKUP(P117,CHOOSE({2,1},$C$38:$C$58,$D$38:$D$58),2,0),\"\"),\"\")","v":""},null,null,null,{"$f":"IF(AND(M117<>\"\",P117<>\"\"),getGoogleDistance(txtNoAcc(VLOOKUP(M117,$D$38:$L$58,4,0)),txtNoAcc(VLOOKUP(P117,$D$38:$L$58,4,0))),\"\")","v":""},{"$f":"IFERROR(SUM(OFFSET($N$62,$L117,0):OFFSET($N$62,$O117-1,0)),\"\")","v":""}]
[null,null,null,null,null,null,null,null,null,null,null,{"$f":"IFERROR(IF(M118<>0,VLOOKUP(M118,CHOOSE({2,1},$C$38:$C$58,$D$38:$D$58),2,0),\"\"),\"\")","v":""},null,null,{"$f":"IFERROR(IF(P118<>0,VLOOKUP(P118,CHOOSE({2,1},$C$38:$C$58,$D$38:$D$58),2,0),\"\"),\"\")","v":""},null,null,null,{"$f":"IF(AND(M118<>\"\",P118<>\"\"),getGoogleDistance(txtNoAcc(VLOOKUP(M118,$D$38:$L$58,4,0)),txtNoAcc(VLOOKUP(P118,$D$38:$L$58,4,0))),\"\")","v":""},{"$f":"IFERROR(SUM(OFFSET($N$62,$L118,0):OFFSET($N$62,$O118-1,0)),\"\")","v":""}]
[null,null,null,null,null,null,null,null,null,null,null,{"$f":"IFERROR(IF(M119<>0,VLOOKUP(M119,CHOOSE({2,1},$C$38:$C$58,$D$38:$D$58),2,0),\"\"),\"\")","v":""},null,null,{"$f":"IFERROR(IF(P119<>0,VLOOKUP(P119,CHOOSE({2,1},$C$38:$C$58,$D$38:$D$58),2,0),\"\"),\"\")","v":""},null,null,null,{"$f":"IF(AND(M119<>\"\",P119<>\"\"),getGoogleDistance(txtNoAcc(VLOOKUP(M119,$D$38:$L$58,4,0)),txtNoAcc(VLOOKUP(P119,$D$38:$L$58,4,0))),\"\")","v":""},{"$f":"IFERROR(SUM(OFFSET($N$62,$L119,0):OFFSET($N$62,$O119-1,0)),\"\")","v":""}]
[null,null,null,null,null,null,null,null,null,null,null,{"$f":"IFERROR(IF(M120<>0,VLOOKUP(M120,CHOOSE({2,1},$C$38:$C$58,$D$38:$D$58),2,0),\"\"),\"\")","v":""},null,null,{"$f":"IFERROR(IF(P120<>0,VLOOKUP(P120,CHOOSE({2,1},$C$38:$C$58,$D$38:$D$58),2,0),\"\"),\"\")","v":""},null,null,null,{"$f":"IF(AND(M120<>\"\",P120<>\"\"),getGoogleDistance(txtNoAcc(VLOOKUP(M120,$D$38:$L$58,4,0)),txtNoAcc(VLOOKUP(P120,$D$38:$L$58,4,0))),\"\")","v":""},{"$f":"IFERROR(SUM(OFFSET($N$62,$L120,0):OFFSET($N$62,$O120-1,0)),\"\")","v":""}]
[null,null,null,null,null,null,null,null,null,null,null,{"$f":"IFERROR(IF(M121<>0,VLOOKUP(M121,CHOOSE({2,1},$C$38:$C$58,$D$38:$D$58),2,0),\"\"),\"\")","v":""},null,null,{"$f":"IFERROR(IF(P121<>0,VLOOKUP(P121,CHOOSE({2,1},$C$38:$C$58,$D$38:$D$58),2,0),\"\"),\"\")","v":""},null,null,null,{"$f":"IF(AND(M121<>\"\",P121<>\"\"),getGoogleDistance(txtNoAcc(VLOOKUP(M121,$D$38:$L$58,4,0)),txtNoAcc(VLOOKUP(P121,$D$38:$L$58,4,0))),\"\")","v":""},{"$f":"IFERROR(SUM(OFFSET($N$62,$L121,0):OFFSET($N$62,$O121-1,0)),\"\")","v":""}]
[null,null,null,null,null,null,null,null,null,null,null,{"$f":"IFERROR(IF(M122<>0,VLOOKUP(M122,CHOOSE({2,1},$C$38:$C$58,$D$38:$D$58),2,0),\"\"),\"\")","v":""},null,null,{"$f":"IFERROR(IF(P122<>0,VLOOKUP(P122,CHOOSE({2,1},$C$38:$C$58,$D$38:$D$58),2,0),\"\"),\"\")","v":""},null,null,null,{"$f":"IF(AND(M122<>\"\",P122<>\"\"),getGoogleDistance(txtNoAcc(VLOOKUP(M122,$D$38:$L$58,4,0)),txtNoAcc(VLOOKUP(P122,$D$38:$L$58,4,0))),\"\")","v":""},{"$f":"IFERROR(SUM(OFFSET($N$62,$L122,0):OFFSET($N$62,$O122-1,0)),\"\")","v":""}]
[null,null,null,null,null,null,null,null,null,null,null,{"$f":"IFERROR(IF(M123<>0,VLOOKUP(M123,CHOOSE({2,1},$C$38:$C$58,$D$38:$D$58),2,0),\"\"),\"\")","v":""},null,null,{"$f":"IFERROR(IF(P123<>0,VLOOKUP(P123,CHOOSE({2,1},$C$38:$C$58,$D$38:$D$58),2,0),\"\"),\"\")","v":""},null,null,null,{"$f":"IF(AND(M123<>\"\",P123<>\"\"),getGoogleDistance(txtNoAcc(VLOOKUP(M123,$D$38:$L$58,4,0)),txtNoAcc(VLOOKUP(P123,$D$38:$L$58,4,0))),\"\")","v":""},{"$f":"IFERROR(SUM(OFFSET($N$62,$L123,0):OFFSET($N$62,$O123-1,0)),\"\")","v":""}]
[null,null,null,null,null,null,null,null,null,null,null,{"$f":"IFERROR(IF(M124<>0,VLOOKUP(M124,CHOOSE({2,1},$C$38:$C$58,$D$38:$D$58),2,0),\"\"),\"\")","v":""},null,null,{"$f":"IFERROR(IF(P124<>0,VLOOKUP(P124,CHOOSE({2,1},$C$38:$C$58,$D$38:$D$58),2,0),\"\"),\"\")","v":""},null,null,null,{"$f":"IF(AND(M124<>\"\",P124<>\"\"),getGoogleDistance(txtNoAcc(VLOOKUP(M124,$D$38:$L$58,4,0)),txtNoAcc(VLOOKUP(P124,$D$38:$L$58,4,0))),\"\")","v":""},{"$f":"IFERROR(SUM(OFFSET($N$62,$L124,0):OFFSET($N$62,$O124-1,0)),\"\")","v":""}]
[null,null,null,null,null,null,null,null,null,null,null,{"$f":"IFERROR(IF(M125<>0,VLOOKUP(M125,CHOOSE({2,1},$C$38:$C$58,$D$38:$D$58),2,0),\"\"),\"\")","v":""},null,null,{"$f":"IFERROR(IF(P125<>0,VLOOKUP(P125,CHOOSE({2,1},$C$38:$C$58,$D$38:$D$58),2,0),\"\"),\"\")","v":""},null,null,null,{"$f":"IF(AND(M125<>\"\",P125<>\"\"),getGoogleDistance(txtNoAcc(VLOOKUP(M125,$D$38:$L$58,4,0)),txtNoAcc(VLOOKUP(P125,$D$38:$L$58,4,0))),\"\")","v":""},{"$f":"IFERROR(SUM(OFFSET($N$62,$L125,0):OFFSET($N$62,$O125-1,0)),\"\")","v":""}]
[null,null,null,null,null,null,null,null,null,null,null,{"$f":"IFERROR(IF(M126<>0,VLOOKUP(M126,CHOOSE({2,1},$C$38:$C$58,$D$38:$D$58),2,0),\"\"),\"\")","v":""},null,null,{"$f":"IFERROR(IF(P126<>0,VLOOKUP(P126,CHOOSE({2,1},$C$38:$C$58,$D$38:$D$58),2,0),\"\"),\"\")","v":""},null,null,null,{"$f":"IF(AND(M126<>\"\",P126<>\"\"),getGoogleDistance(txtNoAcc(VLOOKUP(M126,$D$38:$L$58,4,0)),txtNoAcc(VLOOKUP(P126,$D$38:$L$58,4,0))),\"\")","v":""},{"$f":"IFERROR(SUM(OFFSET($N$62,$L126,0):OFFSET($N$62,$O126-1,0)),\"\")","v":""}]
[null,null,null,null,null,null,null,null,null,null,null,{"$f":"IFERROR(IF(M127<>0,VLOOKUP(M127,CHOOSE({2,1},$C$38:$C$58,$D$38:$D$58),2,0),\"\"),\"\")","v":""},null,null,{"$f":"IFERROR(IF(P127<>0,VLOOKUP(P127,CHOOSE({2,1},$C$38:$C$58,$D$38:$D$58),2,0),\"\"),\"\")","v":""},null,null,null,{"$f":"IF(AND(M127<>\"\",P127<>\"\"),getGoogleDistance(txtNoAcc(VLOOKUP(M127,$D$38:$L$58,4,0)),txtNoAcc(VLOOKUP(P127,$D$38:$L$58,4,0))),\"\")","v":""},{"$f":"IFERROR(SUM(OFFSET($N$62,$L127,0):OFFSET($N$62,$O127-1,0)),\"\")","v":""}]
[null,null,null,null,null,null,null,null,null,null,null,{"$f":"IFERROR(IF(M128<>0,VLOOKUP(M128,CHOOSE({2,1},$C$38:$C$58,$D$38:$D$58),2,0),\"\"),\"\")","v":""},null,null,{"$f":"IFERROR(IF(P128<>0,VLOOKUP(P128,CHOOSE({2,1},$C$38:$C$58,$D$38:$D$58),2,0),\"\"),\"\")","v":""},null,null,null,{"$f":"IF(AND(M128<>\"\",P128<>\"\"),getGoogleDistance(txtNoAcc(VLOOKUP(M128,$D$38:$L$58,4,0)),txtNoAcc(VLOOKUP(P128,$D$38:$L$58,4,0))),\"\")","v":""},{"$f":"IFERROR(SUM(OFFSET($N$62,$L128,0):OFFSET($N$62,$O128-1,0)),\"\")","v":""}]
[null,null,null,null,null,null,null,null,null,null,null,{"$f":"IFERROR(IF(M129<>0,VLOOKUP(M129,CHOOSE({2,1},$C$38:$C$58,$D$38:$D$58),2,0),\"\"),\"\")","v":""},null,null,{"$f":"IFERROR(IF(P129<>0,VLOOKUP(P129,CHOOSE({2,1},$C$38:$C$58,$D$38:$D$58),2,0),\"\"),\"\")","v":""},null,null,null,{"$f":"IF(AND(M129<>\"\",P129<>\"\"),getGoogleDistance(txtNoAcc(VLOOKUP(M129,$D$38:$L$58,4,0)),txtNoAcc(VLOOKUP(P129,$D$38:$L$58,4,0))),\"\")","v":""},{"$f":"IFERROR(SUM(OFFSET($N$62,$L129,0):OFFSET($N$62,$O129-1,0)),\"\")","v":""}]
[null,null,null,null,null,null,null,null,null,null,null,{"$f":"IFERROR(IF(M130<>0,VLOOKUP(M130,CHOOSE({2,1},$C$38:$C$58,$D$38:$D$58),2,0),\"\"),\"\")","v":""},null,null,{"$f":"IFERROR(IF(P130<>0,VLOOKUP(P130,CHOOSE({2,1},$C$38:$C$58,$D$38:$D$58),2,0),\"\"),\"\")","v":""},null,null,null,{"$f":"IF(AND(M130<>\"\",P130<>\"\"),getGoogleDistance(txtNoAcc(VLOOKUP(M130,$D$38:$L$58,4,0)),txtNoAcc(VLOOKUP(P130,$D$38:$L$58,4,0))),\"\")","v":""},{"$f":"IFERROR(SUM(OFFSET($N$62,$L130,0):OFFSET($N$62,$O130-1,0)),\"\")","v":""}]
[null,null,null,null,null,null,null,null,null,null,null,{"$f":"IFERROR(IF(M131<>0,VLOOKUP(M131,CHOOSE({2,1},$C$38:$C$58,$D$38:$D$58),2,0),\"\"),\"\")","v":""},null,null,{"$f":"IFERROR(IF(P131<>0,VLOOKUP(P131,CHOOSE({2,1},$C$38:$C$58,$D$38:$D$58),2,0),\"\"),\"\")","v":""},null,null,null,{"$f":"IF(AND(M131<>\"\",P131<>\"\"),getGoogleDistance(txtNoAcc(VLOOKUP(M131,$D$38:$L$58,4,0)),txtNoAcc(VLOOKUP(P131,$D$38:$L$58,4,0))),\"\")","v":""},{"$f":"IFERROR(SUM(OFFSET($N$62,$L131,0):OFFSET($N$62,$O131-1,0)),\"\")","v":""}]
[null,null,null,null,null,null,null,null,null,null,null,{"$f":"IFERROR(IF(M132<>0,VLOOKUP(M132,CHOOSE({2,1},$C$38:$C$58,$D$38:$D$58),2,0),\"\"),\"\")","v":""},null,null,{"$f":"IFERROR(IF(P132<>0,VLOOKUP(P132,CHOOSE({2,1},$C$38:$C$58,$D$38:$D$58),2,0),\"\"),\"\")","v":""},null,null,null,{"$f":"IF(AND(M132<>\"\",P132<>\"\"),getGoogleDistance(txtNoAcc(VLOOKUP(M132,$D$38:$L$58,4,0)),txtNoAcc(VLOOKUP(P132,$D$38:$L$58,4,0))),\"\")","v":""},{"$f":"IFERROR(SUM(OFFSET($N$62,$L132,0):OFFSET($N$62,$O132-1,0)),\"\")","v":""}]
[null,null,null,null,null,null,null,null,null,null,null,{"$f":"IFERROR(IF(M133<>0,VLOOKUP(M133,CHOOSE({2,1},$C$38:$C$58,$D$38:$D$58),2,0),\"\"),\"\")","v":""},null,null,{"$f":"IFERROR(IF(P133<>0,VLOOKUP(P133,CHOOSE({2,1},$C$38:$C$58,$D$38:$D$58),2,0),\"\"),\"\")","v":""},null,null,null,{"$f":"IF(AND(M133<>\"\",P133<>\"\"),getGoogleDistance(txtNoAcc(VLOOKUP(M133,$D$38:$L$58,4,0)),txtNoAcc(VLOOKUP(P133,$D$38:$L$58,4,0))),\"\")","v":""},{"$f":"IFERROR(SUM(OFFSET($N$62,$L133,0):OFFSET($N$62,$O133-1,0)),\"\")","v":""}]
[null,null,null,null,null,null,null,null,null,null,null,{"$f":"IFERROR(IF(M134<>0,VLOOKUP(M134,CHOOSE({2,1},$C$38:$C$58,$D$38:$D$58),2,0),\"\"),\"\")","v":""},null,null,{"$f":"IFERROR(IF(P134<>0,VLOOKUP(P134,CHOOSE({2,1},$C$38:$C$58,$D$38:$D$58),2,0),\"\"),\"\")","v":""},null,null,null,{"$f":"IF(AND(M134<>\"\",P134<>\"\"),getGoogleDistance(txtNoAcc(VLOOKUP(M134,$D$38:$L$58,4,0)),txtNoAcc(VLOOKUP(P134,$D$38:$L$58,4,0))),\"\")","v":""},{"$f":"IFERROR(SUM(OFFSET($N$62,$L134,0):OFFSET($N$62,$O134-1,0)),\"\")","v":""}]
[null,null,null,null,null,null,null,null,null,null,null,{"$f":"IFERROR(IF(M135<>0,VLOOKUP(M135,CHOOSE({2,1},$C$38:$C$58,$D$38:$D$58),2,0),\"\"),\"\")","v":""},null,null,{"$f":"IFERROR(IF(P135<>0,VLOOKUP(P135,CHOOSE({2,1},$C$38:$C$58,$D$38:$D$58),2,0),\"\"),\"\")","v":""},null,null,null,{"$f":"IF(AND(M135<>\"\",P135<>\"\"),getGoogleDistance(txtNoAcc(VLOOKUP(M135,$D$38:$L$58,4,0)),txtNoAcc(VLOOKUP(P135,$D$38:$L$58,4,0))),\"\")","v":""},{"$f":"IFERROR(SUM(OFFSET($N$62,$L135,0):OFFSET($N$62,$O135-1,0)),\"\")","v":""}]
[null,null,null,null,null,null,null,null,null,null,null,{"$f":"IFERROR(IF(M136<>0,VLOOKUP(M136,CHOOSE({2,1},$C$38:$C$58,$D$38:$D$58),2,0),\"\"),\"\")","v":""},null,null,{"$f":"IFERROR(IF(P136<>0,VLOOKUP(P136,CHOOSE({2,1},$C$38:$C$58,$D$38:$D$58),2,0),\"\"),\"\")","v":""},null,null,null,{"$f":"IF(AND(M136<>\"\",P136<>\"\"),getGoogleDistance(txtNoAcc(VLOOKUP(M136,$D$38:$L$58,4,0)),txtNoAcc(VLOOKUP(P136,$D$38:$L$58,4,0))),\"\")","v":""},{"$f":"IFERROR(SUM(OFFSET($N$62,$L136,0):OFFSET($N$62,$O136-1,0)),\"\")","v":""}]
[null,null,null,null,null,null,null,null,null,null,null,{"$f":"IFERROR(IF(M137<>0,VLOOKUP(M137,CHOOSE({2,1},$C$38:$C$58,$D$38:$D$58),2,0),\"\"),\"\")","v":""},null,null,{"$f":"IFERROR(IF(P137<>0,VLOOKUP(P137,CHOOSE({2,1},$C$38:$C$58,$D$38:$D$58),2,0),\"\"),\"\")","v":""},null,null,null,{"$f":"IF(AND(M137<>\"\",P137<>\"\"),getGoogleDistance(txtNoAcc(VLOOKUP(M137,$D$38:$L$58,4,0)),txtNoAcc(VLOOKUP(P137,$D$38:$L$58,4,0))),\"\")","v":""},{"$f":"IFERROR(SUM(OFFSET($N$62,$L137,0):OFFSET($N$62,$O137-1,0)),\"\")","v":""}]
[null,null,null,null,null,null,null,null,null,null,null,{"$f":"IFERROR(IF(M138<>0,VLOOKUP(M138,CHOOSE({2,1},$C$38:$C$58,$D$38:$D$58),2,0),\"\"),\"\")","v":""},null,null,{"$f":"IFERROR(IF(P138<>0,VLOOKUP(P138,CHOOSE({2,1},$C$38:$C$58,$D$38:$D$58),2,0),\"\"),\"\")","v":""},null,null,null,{"$f":"IF(AND(M138<>\"\",P138<>\"\"),getGoogleDistance(txtNoAcc(VLOOKUP(M138,$D$38:$L$58,4,0)),txtNoAcc(VLOOKUP(P138,$D$38:$L$58,4,0))),\"\")","v":""},{"$f":"IFERROR(SUM(OFFSET($N$62,$L138,0):OFFSET($N$62,$O138-1,0)),\"\")","v":""}]
[null,null,null,null,null,null,null,null,null,null,null,{"$f":"IFERROR(IF(M139<>0,VLOOKUP(M139,CHOOSE({2,1},$C$38:$C$58,$D$38:$D$58),2,0),\"\"),\"\")","v":""},null,null,{"$f":"IFERROR(IF(P139<>0,VLOOKUP(P139,CHOOSE({2,1},$C$38:$C$58,$D$38:$D$58),2,0),\"\"),\"\")","v":""},null,null,null,{"$f":"IF(AND(M139<>\"\",P139<>\"\"),getGoogleDistance(txtNoAcc(VLOOKUP(M139,$D$38:$L$58,4,0)),txtNoAcc(VLOOKUP(P139,$D$38:$L$58,4,0))),\"\")","v":""},{"$f":"IFERROR(SUM(OFFSET($N$62,$L139,0):OFFSET($N$62,$O139-1,0)),\"\")","v":""}]
[null,null,null,null,null,null,null,null,null,null,null,{"$f":"IFERROR(IF(M140<>0,VLOOKUP(M140,CHOOSE({2,1},$C$38:$C$58,$D$38:$D$58),2,0),\"\"),\"\")","v":""},null,null,{"$f":"IFERROR(IF(P140<>0,VLOOKUP(P140,CHOOSE({2,1},$C$38:$C$58,$D$38:$D$58),2,0),\"\"),\"\")","v":""},null,null,null,{"$f":"IF(AND(M140<>\"\",P140<>\"\"),getGoogleDistance(txtNoAcc(VLOOKUP(M140,$D$38:$L$58,4,0)),txtNoAcc(VLOOKUP(P140,$D$38:$L$58,4,0))),\"\")","v":""},{"$f":"IFERROR(SUM(OFFSET($N$62,$L140,0):OFFSET($N$62,$O140-1,0)),\"\")","v":""}]
[null,null,null,null,null,null,null,null,null,null,null,{"$f":"IFERROR(IF(M141<>0,VLOOKUP(M141,CHOOSE({2,1},$C$38:$C$58,$D$38:$D$58),2,0),\"\"),\"\")","v":""},null,null,{"$f":"IFERROR(IF(P141<>0,VLOOKUP(P141,CHOOSE({2,1},$C$38:$C$58,$D$38:$D$58),2,0),\"\"),\"\")","v":""},null,null,null,{"$f":"IF(AND(M141<>\"\",P141<>\"\"),getGoogleDistance(txtNoAcc(VLOOKUP(M141,$D$38:$L$58,4,0)),txtNoAcc(VLOOKUP(P141,$D$38:$L$58,4,0))),\"\")","v":""},{"$f":"IFERROR(SUM(OFFSET($N$62,$L141,0):OFFSET($N$62,$O141-1,0)),\"\")","v":""}]
[null,null,null,null,null,null,null,null,null,null,null,{"$f":"IFERROR(IF(M142<>0,VLOOKUP(M142,CHOOSE({2,1},$C$38:$C$58,$D$38:$D$58),2,0),\"\"),\"\")","v":""},null,null,{"$f":"IFERROR(IF(P142<>0,VLOOKUP(P142,CHOOSE({2,1},$C$38:$C$58,$D$38:$D$58),2,0),\"\"),\"\")","v":""},null,null,null,{"$f":"IF(AND(M142<>\"\",P142<>\"\"),getGoogleDistance(txtNoAcc(VLOOKUP(M142,$D$38:$L$58,4,0)),txtNoAcc(VLOOKUP(P142,$D$38:$L$58,4,0))),\"\")","v":""},{"$f":"IFERROR(SUM(OFFSET($N$62,$L142,0):OFFSET($N$62,$O142-1,0)),\"\")","v":""}]
[null,null,null,null,null,null,null,null,null,null,null,{"$f":"IFERROR(IF(M143<>0,VLOOKUP(M143,CHOOSE({2,1},$C$38:$C$58,$D$38:$D$58),2,0),\"\"),\"\")","v":""},null,null,{"$f":"IFERROR(IF(P143<>0,VLOOKUP(P143,CHOOSE({2,1},$C$38:$C$58,$D$38:$D$58),2,0),\"\"),\"\")","v":""},null,null,null,{"$f":"IF(AND(M143<>\"\",P143<>\"\"),getGoogleDistance(txtNoAcc(VLOOKUP(M143,$D$38:$L$58,4,0)),txtNoAcc(VLOOKUP(P143,$D$38:$L$58,4,0))),\"\")","v":""},{"$f":"IFERROR(SUM(OFFSET($N$62,$L143,0):OFFSET($N$62,$O143-1,0)),\"\")","v":""}]
[]
[]
[]
[]
[null,"Consumo energético por la refrigeración de la carga del vehículo"]
[]
[null,null,"Seleccione si el vehículo dispone de un depósito por separado"]
[null,null,"Tipo de depósito"]
[]
[null,null,"En caso de que el vehículo cuente con un depósito de combustible separado, introduzca los siguientes datos:"]
[null,null,"Tipo de combustible"]
[null,null,"Consumo específico de combustible",null,null,null,null,null,null,"l/h"]
[null,null,"Tiempo de refrigeración",null,null,null,null,null,null,"h"]
[]
[null,null,"Si no conoce el consumo específico de combustible por refrigeración, introduzca los siguientes datos:"]
[null,null,"Tipo de unidad refrigerada y temperatura de refrigeración"]
[]
[null,null,"Consumo específico de combustible por refrigeración",null,null,null,null,null,{"$f":"IFERROR(IF(I155<>0,I155,VLOOKUP(H159,t_consumo_refrigeracion_v,2,0)),\"\")","v":""},"l/h"]
[null,null,"Consumo de combustible en la ruta por refrigeración",null,null,null,null,null,{"$f":"IFERROR(I161*I156,\"\")","v":""},"l"]
[]
[]
[]
[]
[]
[]
[]
[]
[]
[]
[]
[]
[]
[]
[]
[]
[]
[]
[]
[]
[]
[]
[]
[]
[]
[]
[]
[]
[]
[]
[]
[]
[]
[]
[]
[]
[]
[]
[]
[]
[]
[]
[null,"Consumo energético por el almacenamiento de la carga"]
[]
[null,null,"Si conoce el consumo de energía de las instalaciones logísticas, introduzca los siguientes datos"]
[null,null,"Tipo de fuente de energía - 1"]
[null,null,"Consumo anual de la fuente de energía - 1",null,null,null,null,null,null,"kWh"]
[null,null,"Volumen de ocupación medio anual asociado a la fuente de energía - 1",null,null,null,null,null,null,"m3"]
[null,null,"Tipo de fuente de energía - 2"]
[null,null,"Consumo anual de la fuente de energía - 2",null,null,null,null,null,null,{"$f":"IFERROR(VLOOKUP(G211,t_factores_a,2,0),\"\")","v":""}]
[null,null,"Volumen de ocupación medio anual asociado a la fuente de energía - 2",null,null,null,null,null,null,"m3"]
[null,null,"Tipo de fuente de energía - 3"]
[null,null,"Consumo anual de la fuente de energía - 3",null,null,null,null,null,null,"l."]
[null,null,"Volumen de ocupación medio anual asociado a la fuente de energía - 3",null,null,null,null,null,null,"m3"]
[]
[null,null,{"$f":"\"Consumo específico de \"&G208&\" - almacenamiento\"","v":"Consumo específico de  - almacenamiento"},null,null,null,null,null,{"$f":"IFERROR($I$209/($I$210*365),\"\")","v":""},{"$f":"IF($G$208<>\"\",$J$209&\"/m3-día\",\"\")","v":""}]
[null,null,{"$f":"\"Consumo específico de \"&G211&\" - almacenamiento\"","v":"Consumo específico de  - almacenamiento"},null,null,null,null,null,{"$f":"IFERROR($I$212/($I$213*365),\"\")","v":""},{"$f":"IF(G211<>\"\",J212&\"/m3-día\",\"\")","v":""}]
[null,null,{"$f":"\"Consumo específico de \"&G214&\" - almacenamiento\"","v":"Consumo específico de  - almacenamiento"},null,null,null,null,null,{"$f":"IFERROR($I$215/($I$216*365),\"\")","v":""},{"$f":"IF(G214<>\"\",J215&\"/m3-día\",\"\")","v":""}]
[]
[null,null,"Si no conoce el consumo de energía de las instalaciones logísticas, introduzca los siguientes datos"]
[null,null,"Tipo de refrigeración de la carga"]
[null,null,"Tipo de electricidad consumida"]
[]
[null,null,{"$f":"\"Consumo específico de Electricidad de Red -\"&H224&\" - almacenamiento\"","v":"Consumo específico de Electricidad de Red - - almacenamiento"},null,null,null,null,null,{"$f":"IFERROR(VLOOKUP($H$223,t_consumo_tipocarga_a,5,0),\"\")","v":""},{"$f":"IF($H$223<>\"\",\"kWh/m3-día\",\"\")","v":""}]
[null,null,"Consumo específico de Gas natural: potencia calorífica neta - almacenamiento",null,null,null,null,null,{"$f":"IFERROR(VLOOKUP($H$223,t_consumo_tipocarga_a,6,0),\"\")","v":""},{"$f":"IF($H$223<>\"\",\"kWh/m3-día\",\"\")","v":""}]
[]
[null,null,null,null,null,null,null,null,null,null,null,""]

{"sheet":"B2","index":9,"n_rows":229,"n_cols":27,"rows_kept":229,"cut":false,"hidden":true,"merged":[[1,1,1,22],[102,15,102,16],[103,12,103,13],[103,15,103,16],[104,12,104,13],[104,15,104,16],[105,12,105,13],[105,15,105,16],[92,15,92,16],[93,12,93,13],[93,15,93,16],[94,12,94,13],[94,15,94,16],[95,12,95,13],[95,15,95,16],[96,12,96,13],[96,15,96,16],[87,15,87,16],[88,12,88,13],[88,15,88,16],[89,12,89,13],[89,15,89,16],[90,12,90,13],[97,15,97,16],[98,12,98,13],[98,15,98,16],[99,12,99,13],[99,15,99,16],[100,12,100,13],[100,15,100,16],[101,12,101,13],[101,15,101,16],[97,12,97,13],[90,15,90,16],[91,12,91,13],[91,15,91,16],[82,15,82,16],[83,12,83,13],[83,15,83,16],[84,12,84,13],[84,15,84,16],[85,12,85,13],[85,15,85,16],[86,12,86,13],[86,15,86,16],[77,15,77,16],[78,12,78,13],[78,15,78,16],[79,12,79,13],[79,15,79,16],[80,12,80,13],[80,15,80,16],[81,12,81,13],[81,15,81,16],[72,15,72,16],[73,12,73,13],[73,15,73,16],[74,12,74,13],[74,15,74,16],[75,12,75,13],[75,15,75,16],[76,12,76,13],[76,15,76,16],[72,12,72,13],[67,15,67,16],[68,12,68,13],[68,15,68,16],[69,12,69,13],[69,15,69,16],[70,12,70,13],[70,15,70,16],[71,12,71,13],[71,15,71,16],[63,12,63,13],[63,15,63,16],[64,12,64,13],[64,15,64,16],[65,12,65,13],[65,15,65,16],[66,12,66,13],[66,15,66,16],[62,12,62,13],[93,3,93,4],[55,11,55,13],[57,12,57,13],[102,12,102,13],[76,3,76,4],[55,14,55,16],[56,12,56,13],[56,15,56,16],[43,2,43,3],[43,4,43,8],[43,10,43,11],[44,2,44,3],[44,4,44,8],[44,10,44,11],[57,15,57,16],[58,12,58,13],[58,15,58,16],[59,12,59,13],[59,15,59,16],[60,12,60,13],[60,15,60,16],[61,12,61,13],[61,15,61,16],[62,15,62,16],[102,3,102,4],[103,3,103,4],[98,3,98,4],[99,3,99,4],[100,3,100,4],[101,3,101,4],[94,3,94,4],[95,3,95,4],[96,3,96,4],[97,3,97,4],[66,3,66,4],[67,3,67,4],[68,3,68,4],[69,3,69,4],[67,12,67,13],[77,3,77,4],[77,12,77,13],[92,12,92,13],[86,3,86,4],[87,3,87,4],[88,3,88,4],[89,3,89,4],[87,12,87,13],[82,3,82,4],[83,3,83,4],[84,3,84,4],[85,3,85,4],[82,12,82,13],[90,3,90,4],[91,3,91,4],[92,3,92,4],[8,4,8,6],[17,4,17,6],[27,2,27,3],[27,4,27,6],[36,3,36,5],[55,3,55,4],[56,3,56,4],[36,6,36,11],[62,3,62,4],[58,3,58,4],[59,3,59,4],[60,3,60,4],[61,3,61,4],[42,4,42,8],[42,10,42,11],[37,3,37,5],[38,3,38,5],[37,6,37,11],[38,6,38,11],[121,7,121,8],[116,6,116,8],[113,6,113,8],[207,6,207,8],[210,6,210,8],[213,6,213,8],[222,7,222,8],[223,7,223,8],[57,3,57,4],[63,3,63,4],[64,3,64,4],[65,3,65,4],[78,3,78,4],[79,3,79,4],[80,3,80,4],[81,3,81,4],[74,3,74,4],[75,3,75,4],[70,3,70,4],[71,3,71,4],[72,3,72,4],[73,3,73,4],[104,3,104,4],[105,3,105,4]]}
["B.2."]
[null,"PATRÓN B.2. DISTANCIAS Y CARGAS DE LA RUTA. RUTA DE IDA Y VUELTA"]
[]
[]
[]
[]
[null,"Tipo de vehículo"]
[]
[null,null,"Tipo de camión (MMA)"]
[]
[null,null,"Carga útil del camión",null,null,null,null,"t"]
[]
[]
[]
[]
[null,"Tipo de combustible"]
[]
[null,null,"Tipo de combustible"]
[]
[]
[]
[]
[null,"Proporción de viajes en vacío"]
[null,null,"Si la ruta es abierta, introduzca la siguiente información"]
[null,null,"Proporción de recorrido adicional en vacío"]
[]
[null,null,"En caso de no conocer la proporción de viajes en vacío, introduzca la siguiente información:"]
[null,null,"Tipo de transporte"]
[null,null,"Proporción de recorrido adicional en vacío estimada",null,null,null,{"$f":"IFERROR(VLOOKUP($E$28,t_porcentaje_vacio,2,0),\"\")","v":""}]
[]
[]
[]
[]
[null,"Localizaciones y distancias"]
[]
[null,null,"Denominación y localización de los puntos de salida y llegada"]
[null,null,"Número de parada","Denominación (importante cumplimentar)",null,null,"Localización"]
[null,null,"P. de origen"]
[null,null,"P. de destino"]
[]
[]
[null,null,"Longitud y carga y consumos de los tramos"]
[null,null,null,null,"Denominación de las paradas",null,null,null,null,"¿Se conoce la distancia recorrida?","Distancia recorrida (km)",null,"Distancia directa (km)","Distancia de cálculo (km)",null,"Tramo urbano/no urbano","Tramo llano/ montañoso",null,"Carga transportada (t)","Tasa de carga del tramo","Consumo específico del tramo (l/100 km)","Consumo del tramo (l)",null,"Recorrido urbano","Recorrido no urbano","Recorrido llano","Recorrido montañoso"]
[null,null,"P. de origen → P. de destino",null,{"$f":"D38&\" → \"&D39","v":" → "},null,null,null,null,null,null,null,{"$f":"IF(AND(G38<>\"\",G39<>\"\"),getGoogleDistance(txtNoAcc(G38),txtNoAcc(G39))*1,\"\")","v":""},{"$f":"IF(K44<>0,K44,M44)","v":""},null,null,null,null,{"$f":"IF($N44=\"\",\"\",SUMIFS($G$57:$G$106,$L$57:$L$106,\"<=\"&C38,$O$57:$O$106,\">=\"&C39))","v":""},{"$f":"IF($N44=\"\",\"\",IFERROR(S44/$G$11,\"\"))","v":""},{"$f":"IF($N44=\"\",\"\",IFERROR(IF($P44=\"Urbano\",VLOOKUP($E$9,t_fcorreccion_urbana,2,0),1)*(IF(Q44=\"Montañoso\",VLOOKUP($E$9,t_abc_mdistancias,2,0)+VLOOKUP($E$9,t_abc_mdistancias,3,0)*S44/VLOOKUP($E$9,t_abc_mdistancias,6,0),VLOOKUP($E$9,t_abc_mdistancias,4,0)+VLOOKUP($E$9,t_abc_mdistancias,5,0)*$S44/VLOOKUP($E$9,t_abc_mdistancias,6,0)))*RAW_DATA_transporte!$D$134/VLOOKUP($E$18,t_factores_t,3,0),\"\"))","v":""},{"$f":"IFERROR(U44*N44/100,\"\")","v":""}]
[null,null,"P. de destino → P. de origen",null,{"$f":"D39&\" → \"&D38","v":" → "},null,null,null,null,null,null,null,{"$f":"IF(AND(G39<>\"\",G38<>\"\"),getGoogleDistance(txtNoAcc(G39),txtNoAcc(G38))*1,\"\")","v":""},{"$f":"IF(K45<>0,K45,M45)","v":""},null,null,null,null,{"$f":"IF($N45=\"\",\"\",SUMIFS($G$57:$G$106,$L$57:$L$106,\"<=\"&C39,$O$57:$O$106,\">=\"&#REF!))","v":""},{"$f":"IF($N45=\"\",\"\",IFERROR(S45/$G$11,\"\"))","v":""},{"$f":"IF($N45=\"\",\"\",IFERROR(IF($P45=\"Urbano\",VLOOKUP($E$9,t_fcorreccion_urbana,2,0),1)*(IF(Q45=\"Montañoso\",VLOOKUP($E$9,t_abc_mdistancias,2,0)+VLOOKUP($E$9,t_abc_mdistancias,3,0)*S45/VLOOKUP($E$9,t_abc_mdistancias,6,0),VLOOKUP($E$9,t_abc_mdistancias,4,0)+VLOOKUP($E$9,t_abc_mdistancias,5,0)*$S45/VLOOKUP($E$9,t_abc_mdistancias,6,0)))*RAW_DATA_transporte!$D$134/VLOOKUP($E$18,t_factores_t,3,0),\"\"))","v":""},{"$f":"IFERROR(U45*N45/100,\"\")","v":""}]
[null,null,null,null,null,null,null,null,null,null,null,null,"Distancia recorrida en la ruta",{"$f":"SUM(N44:N45)","v":0},"km",null,null,null,null,null,"Consumo de combustible de los tramos de la ruta (propulsión)",{"$f":"SUM(V44:V45)","v":0},"l.",{"$f":"SUMIF(P44:P45,\"=Urbano\",N44:N45)","v":0},{"$f":"SUMIF(P44:P45,\"=No urbano\",N44:N45)","v":0},{"$f":"SUMIF(Q44:Q45,\"=Llano\",N44:N45)","v":0},{"$f":"SUMIF(Q44:Q45,\"=Montañoso\",N44:N45)","v":0}]
[null,null,null,null,null,null,null,null,null,null,null,null,"Distancia recorrida en vacío atribuible a la ruta",{"$f":"IFERROR(IF($G$25<>0,$N$46*$G$25,$N$46*$G$29),\"\")","v":""},"km",null,null,null,null,"Consumo específico en vacío",{"$f":"IFERROR(($X$47*VLOOKUP($E$9,t_fcorreccion_urbana,2,0)+$Y$47)*($AA$47*VLOOKUP($E$9,t_abc_mdistancias,2,0)+$Z$47*VLOOKUP($E$9,t_abc_mdistancias,4,0))*RAW_DATA_transporte!$D$134/VLOOKUP($E$18,t_factores_t,3,0),\"\")","v":""},"l/100 km",null,{"$f":"IFERROR(X46/(X46+Y46),0)","v":0},{"$f":"IFERROR(Y46/(X46+Y46),0)","v":0},{"$f":"IFERROR(Z46/(Z46+AA46),0)","v":0},{"$f":"IFERROR(AA46/(Z46+AA46),0)","v":0}]
[null,null,null,null,null,null,null,null,null,null,null,null,null,null,null,null,null,null,null,"Consumo  en vacío atribuible a la ruta",{"$f":"IFERROR($U$47*$N$47/100,\"\")","v":""},"l."]
[null,null,null,null,null,null,null,null,null,null,null,null,null,null,null,null,null,null,null,null,"Consumo de combustible de la ruta",{"$f":"IFERROR($V$46+$U$48,\"\")","v":""},"l."]
[]
[]
[]
[]
[null,"Características de los envíos"]
[]
[null,null,"Cliente del envío","Denominación del envío",null,null,"Carga bruta del envío (t)","Carga refrigerada - no refrigerada","Volumen del envío en almacenamiento (m3) - en caso de que la carga sea almacenada","Días de almacenamiento (m3) - en caso de que la carga sea almacenada",null,"Origen del envío",null,null,"Destino del envío",null,null,null,"Distancia directa (km)","Distancia recorrida (km)"]
[null,null,null,null,null,null,null,null,null,null,null,{"$f":"IFERROR(IF(M57<>0,VLOOKUP(M57,CHOOSE({2,1},$C$38:$C$39,$D$38:$D$39),2,0),\"\"),\"\")","v":""},null,null,{"$f":"IFERROR(IF(P57<>0,VLOOKUP(P57,CHOOSE({2,1},$C$38:$C$39,$D$38:$D$39),2,0),\"\"),\"\")","v":""},null,null,null,{"$f":"IF(AND(M57<>\"\",P57<>\"\"),getGoogleDistance(txtNoAcc(VLOOKUP(M57,$D$38:$L$39,4,0)),txtNoAcc(VLOOKUP(P57,$D$38:$L$39,4,0))),\"\")","v":""},{"$f":"IFERROR(IF($L57=\"Origen\",$N$44,IF($O57=\"Origen\",$N$45,\"\")),\"\")","v":""}]
[null,null,null,null,null,null,null,null,null,null,null,{"$f":"IFERROR(IF(M58<>0,VLOOKUP(M58,CHOOSE({2,1},$C$38:$C$39,$D$38:$D$39),2,0),\"\"),\"\")","v":""},null,null,{"$f":"IFERROR(IF(P58<>0,VLOOKUP(P58,CHOOSE({2,1},$C$38:$C$39,$D$38:$D$39),2,0),\"\"),\"\")","v":""},null,null,null,{"$f":"IF(AND(M58<>\"\",P58<>\"\"),getGoogleDistance(txtNoAcc(VLOOKUP(M58,$D$38:$L$39,4,0)),txtNoAcc(VLOOKUP(P58,$D$38:$L$39,4,0))),\"\")","v":""},{"$f":"IFERROR(IF($L58=\"Origen\",$N$44,IF($O58=\"Origen\",$N$45,\"\")),\"\")","v":""}]
[null,null,null,null,null,null,null,null,null,null,null,{"$f":"IFERROR(IF(M59<>0,VLOOKUP(M59,CHOOSE({2,1},$C$38:$C$39,$D$38:$D$39),2,0),\"\"),\"\")","v":""},null,null,{"$f":"IFERROR(IF(P59<>0,VLOOKUP(P59,CHOOSE({2,1},$C$38:$C$39,$D$38:$D$39),2,0),\"\"),\"\")","v":""},null,null,null,{"$f":"IF(AND(M59<>\"\",P59<>\"\"),getGoogleDistance(txtNoAcc(VLOOKUP(M59,$D$38:$L$39,4,0)),txtNoAcc(VLOOKUP(P59,$D$38:$L$39,4,0))),\"\")","v":""},""]
[null,null,null,null,null,null,null,null,null,null,null,{"$f":"IFERROR(IF(M60<>0,VLOOKUP(M60,CHOOSE({2,1},$C$38:$C$39,$D$38:$D$39),2,0),\"\"),\"\")","v":""},null,null,{"$f":"IFERROR(IF(P60<>0,VLOOKUP(P60,CHOOSE({2,1},$C$38:$C$39,$D$38:$D$39),2,0),\"\"),\"\")","v":""},null,null,null,{"$f":"IF(AND(M60<>\"\",P60<>\"\"),getGoogleDistance(txtNoAcc(VLOOKUP(M60,$D$38:$L$39,4,0)),txtNoAcc(VLOOKUP(P60,$D$38:$L$39,4,0))),\"\")","v":""},""]
[null,null,null,null,null,null,null,null,null,null,null,{"$f":"IFERROR(IF(M61<>0,VLOOKUP(M61,CHOOSE({2,1},$C$38:$C$39,$D$38:$D$39),2,0),\"\"),\"\")","v":""},null,null,{"$f":"IFERROR(IF(P61<>0,VLOOKUP(P61,CHOOSE({2,1},$C$38:$C$39,$D$38:$D$39),2,0),\"\"),\"\")","v":""},null,null,null,{"$f":"IF(AND(M61<>\"\",P61<>\"\"),getGoogleDistance(txtNoAcc(VLOOKUP(M61,$D$38:$L$39,4,0)),txtNoAcc(VLOOKUP(P61,$D$38:$L$39,4,0))),\"\")","v":""},""]
[null,null,null,null,null,null,null,null,null,null,null,{"$f":"IFERROR(IF(M62<>0,VLOOKUP(M62,CHOOSE({2,1},$C$38:$C$39,$D$38:$D$39),2,0),\"\"),\"\")","v":""},null,null,{"$f":"IFERROR(IF(P62<>0,VLOOKUP(P62,CHOOSE({2,1},$C$38:$C$39,$D$38:$D$39),2,0),\"\"),\"\")","v":""},null,null,null,{"$f":"IF(AND(M62<>\"\",P62<>\"\"),getGoogleDistance(txtNoAcc(VLOOKUP(M62,$D$38:$L$39,4,0)),txtNoAcc(VLOOKUP(P62,$D$38:$L$39,4,0))),\"\")","v":""},""]
[null,null,null,null,null,null,null,null,null,null,null,{"$f":"IFERROR(IF(M63<>0,VLOOKUP(M63,CHOOSE({2,1},$C$38:$C$39,$D$38:$D$39),2,0),\"\"),\"\")","v":""},null,null,{"$f":"IFERROR(IF(P63<>0,VLOOKUP(P63,CHOOSE({2,1},$C$38:$C$39,$D$38:$D$39),2,0),\"\"),\"\")","v":""},null,null,null,{"$f":"IF(AND(M63<>\"\",P63<>\"\"),getGoogleDistance(txtNoAcc(VLOOKUP(M63,$D$38:$L$39,4,0)),txtNoAcc(VLOOKUP(P63,$D$38:$L$39,4,0))),\"\")","v":""},""]
[null,null,null,null,null,null,null,null,null,null,null,{"$f":"IFERROR(IF(M64<>0,VLOOKUP(M64,CHOOSE({2,1},$C$38:$C$39,$D$38:$D$39),2,0),\"\"),\"\")","v":""},null,null,{"$f":"IFERROR(IF(P64<>0,VLOOKUP(P64,CHOOSE({2,1},$C$38:$C$39,$D$38:$D$39),2,0),\"\"),\"\")","v":""},null,null,null,{"$f":"IF(AND(M64<>\"\",P64<>\"\"),getGoogleDistance(txtNoAcc(VLOOKUP(M64,$D$38:$L$39,4,0)),txtNoAcc(VLOOKUP(P64,$D$38:$L$39,4,0))),\"\")","v":""},""]
[null,null,null,null,null,null,null,null,null,null,null,{"$f":"IFERROR(IF(M65<>0,VLOOKUP(M65,CHOOSE({2,1},$C$38:$C$39,$D$38:$D$39),2,0),\"\"),\"\")","v":""},null,null,{"$f":"IFERROR(IF(P65<>0,VLOOKUP(P65,CHOOSE({2,1},$C$38:$C$39,$D$38:$D$39),2,0),\"\"),\"\")","v":""},null,null,null,{"$f":"IF(AND(M65<>\"\",P65<>\"\"),getGoogleDistance(txtNoAcc(VLOOKUP(M65,$D$38:$L$39,4,0)),txtNoAcc(VLOOKUP(P65,$D$38:$L$39,4,0))),\"\")","v":""},""]
[null,null,null,null,null,null,null,null,null,null,null,{"$f":"IFERROR(IF(M66<>0,VLOOKUP(M66,CHOOSE({2,1},$C$38:$C$39,$D$38:$D$39),2,0),\"\"),\"\")","v":""},null,null,{"$f":"IFERROR(IF(P66<>0,VLOOKUP(P66,CHOOSE({2,1},$C$38:$C$39,$D$38:$D$39),2,0),\"\"),\"\")","v":""},null,null,null,{"$f":"IF(AND(M66<>\"\",P66<>\"\"),getGoogleDistance(txtNoAcc(VLOOKUP(M66,$D$38:$L$39,4,0)),txtNoAcc(VLOOKUP(P66,$D$38:$L$39,4,0))),\"\")","v":""},""]
[null,null,null,null,null,null,null,null,null,null,null,{"$f":"IFERROR(IF(M67<>0,VLOOKUP(M67,CHOOSE({2,1},$C$38:$C$39,$D$38:$D$39),2,0),\"\"),\"\")","v":""},null,null,{"$f":"IFERROR(IF(P67<>0,VLOOKUP(P67,CHOOSE({2,1},$C$38:$C$39,$D$38:$D$39),2,0),\"\"),\"\")","v":""},null,null,null,{"$f":"IF(AND(M67<>\"\",P67<>\"\"),getGoogleDistance(txtNoAcc(VLOOKUP(M67,$D$38:$L$39,4,0)),txtNoAcc(VLOOKUP(P67,$D$38:$L$39,4,0))),\"\")","v":""},""]
[null,null,null,null,null,null,null,null,null,null,null,{"$f":"IFERROR(IF(M68<>0,VLOOKUP(M68,CHOOSE({2,1},$C$38:$C$39,$D$38:$D$39),2,0),\"\"),\"\")","v":""},null,null,{"$f":"IFERROR(IF(P68<>0,VLOOKUP(P68,CHOOSE({2,1},$C$38:$C$39,$D$38:$D$39),2,0),\"\"),\"\")","v":""},null,null,null,{"$f":"IF(AND(M68<>\"\",P68<>\"\"),getGoogleDistance(txtNoAcc(VLOOKUP(M68,$D$38:$L$39,4,0)),txtNoAcc(VLOOKUP(P68,$D$38:$L$39,4,0))),\"\")","v":""},""]
[null,null,null,null,null,null,null,null,null,null,null,{"$f":"IFERROR(IF(M69<>0,VLOOKUP(M69,CHOOSE({2,1},$C$38:$C$39,$D$38:$D$39),2,0),\"\"),\"\")","v":""},null,null,{"$f":"IFERROR(IF(P69<>0,VLOOKUP(P69,CHOOSE({2,1},$C$38:$C$39,$D$38:$D$39),2,0),\"\"),\"\")","v":""},null,null,null,{"$f":"IF(AND(M69<>\"\",P69<>\"\"),getGoogleDistance(txtNoAcc(VLOOKUP(M69,$D$38:$L$39,4,0)),txtNoAcc(VLOOKUP(P69,$D$38:$L$39,4,0))),\"\")","v":""},""]
[null,null,null,null,null,null,null,null,null,null,null,{"$f":"IFERROR(IF(M70<>0,VLOOKUP(M70,CHOOSE({2,1},$C$38:$C$39,$D$38:$D$39),2,0),\"\"),\"\")","v":""},null,null,{"$f":"IFERROR(IF(P70<>0,VLOOKUP(P70,CHOOSE({2,1},$C$38:$C$39,$D$38:$D$39),2,0),\"\"),\"\")","v":""},null,null,null,{"$f":"IF(AND(M70<>\"\",P70<>\"\"),getGoogleDistance(txtNoAcc(VLOOKUP(M70,$D$38:$L$39,4,0)),txtNoAcc(VLOOKUP(P70,$D$38:$L$39,4,0))),\"\")","v":""},""]
[null,null,null,null,null,null,null,null,null,null,null,{"$f":"IFERROR(IF(M71<>0,VLOOKUP(M71,CHOOSE({2,1},$C$38:$C$39,$D$38:$D$39),2,0),\"\"),\"\")","v":""},null,null,{"$f":"IFERROR(IF(P71<>0,VLOOKUP(P71,CHOOSE({2,1},$C$38:$C$39,$D$38:$D$39),2,0),\"\"),\"\")","v":""},null,null,null,{"$f":"IF(AND(M71<>\"\",P71<>\"\"),getGoogleDistance(txtNoAcc(VLOOKUP(M71,$D$38:$L$39,4,0)),txtNoAcc(VLOOKUP(P71,$D$38:$L$39,4,0))),\"\")","v":""},""]
[null,null,null,null,null,null,null,null,null,null,null,{"$f":"IFERROR(IF(M72<>0,VLOOKUP(M72,CHOOSE({2,1},$C$38:$C$39,$D$38:$D$39),2,0),\"\"),\"\")","v":""},null,null,{"$f":"IFERROR(IF(P72<>0,VLOOKUP(P72,CHOOSE({2,1},$C$38:$C$39,$D$38:$D$39),2,0),\"\"),\"\")","v":""},null,null,null,{"$f":"IF(AND(M72<>\"\",P72<>\"\"),getGoogleDistance(txtNoAcc(VLOOKUP(M72,$D$38:$L$39,4,0)),txtNoAcc(VLOOKUP(P72,$D$38:$L$39,4,0))),\"\")","v":""},""]
[null,null,null,null,null,null,null,null,null,null,null,{"$f":"IFERROR(IF(M73<>0,VLOOKUP(M73,CHOOSE({2,1},$C$38:$C$39,$D$38:$D$39),2,0),\"\"),\"\")","v":""},null,null,{"$f":"IFERROR(IF(P73<>0,VLOOKUP(P73,CHOOSE({2,1},$C$38:$C$39,$D$38:$D$39),2,0),\"\"),\"\")","v":""},null,null,null,{"$f":"IF(AND(M73<>\"\",P73<>\"\"),getGoogleDistance(txtNoAcc(VLOOKUP(M73,$D$38:$L$39,4,0)),txtNoAcc(VLOOKUP(P73,$D$38:$L$39,4,0))),\"\")","v":""},""]
[null,null,null,null,null,null,null,null,null,null,null,{"$f":"IFERROR(IF(M74<>0,VLOOKUP(M74,CHOOSE({2,1},$C$38:$C$39,$D$38:$D$39),2,0),\"\"),\"\")","v":""},null,null,{"$f":"IFERROR(IF(P74<>0,VLOOKUP(P74,CHOOSE({2,1},$C$38:$C$39,$D$38:$D$39),2,0),\"\"),\"\")","v":""},null,null,null,{"$f":"IF(AND(M74<>\"\",P74<>\"\"),getGoogleDistance(txtNoAcc(VLOOKUP(M74,$D$38:$L$39,4,0)),txtNoAcc(VLOOKUP(P74,$D$38:$L$39,4,0))),\"\")","v":""},""]
[null,null,null,null,null,null,null,null,null,null,null,{"$f":"IFERROR(IF(M75<>0,VLOOKUP(M75,CHOOSE({2,1},$C$38:$C$39,$D$38:$D$39),2,0),\"\"),\"\")","v":""},null,null,{"$f":"IFERROR(IF(P75<>0,VLOOKUP(P75,CHOOSE({2,1},$C$38:$C$39,$D$38:$D$39),2,0),\"\"),\"\")","v":""},null,null,null,{"$f":"IF(AND(M75<>\"\",P75<>\"\"),getGoogleDistance(txtNoAcc(VLOOKUP(M75,$D$38:$L$39,4,0)),txtNoAcc(VLOOKUP(P75,$D$38:$L$39,4,0))),\"\")","v":""},""]
[null,null,null,null,null,null,null,null,null,null,null,{"$f":"IFERROR(IF(M76<>0,VLOOKUP(M76,CHOOSE({2,1},$C$38:$C$39,$D$38:$D$39),2,0),\"\"),\"\")","v":""},null,null,{"$f":"IFERROR(IF(P76<>0,VLOOKUP(P76,CHOOSE({2,1},$C$38:$C$39,$D$38:$D$39),2,0),\"\"),\"\")","v":""},null,null,null,{"$f":"IF(AND(M76<>\"\",P76<>\"\"),getGoogleDistance(txtNoAcc(VLOOKUP(M76,$D$38:$L$39,4,0)),txtNoAcc(VLOOKUP(P76,$D$38:$L$39,4,0))),\"\")","v":""},""]
[null,null,null,null,null,null,null,null,null,null,null,{"$f":"IFERROR(IF(M77<>0,VLOOKUP(M77,CHOOSE({2,1},$C$38:$C$39,$D$38:$D$39),2,0),\"\"),\"\")","v":""},null,null,{"$f":"IFERROR(IF(P77<>0,VLOOKUP(P77,CHOOSE({2,1},$C$38:$C$39,$D$38:$D$39),2,0),\"\"),\"\")","v":""},null,null,null,{"$f":"IF(AND(M77<>\"\",P77<>\"\"),getGoogleDistance(txtNoAcc(VLOOKUP(M77,$D$38:$L$39,4,0)),txtNoAcc(VLOOKUP(P77,$D$38:$L$39,4,0))),\"\")","v":""},""]
[null,null,null,null,null,null,null,null,null,null,null,{"$f":"IFERROR(IF(M78<>0,VLOOKUP(M78,CHOOSE({2,1},$C$38:$C$39,$D$38:$D$39),2,0),\"\"),\"\")","v":""},null,null,{"$f":"IFERROR(IF(P78<>0,VLOOKUP(P78,CHOOSE({2,1},$C$38:$C$39,$D$38:$D$39),2,0),\"\"),\"\")","v":""},null,null,null,{"$f":"IF(AND(M78<>\"\",P78<>\"\"),getGoogleDistance(txtNoAcc(VLOOKUP(M78,$D$38:$L$39,4,0)),txtNoAcc(VLOOKUP(P78,$D$38:$L$39,4,0))),\"\")","v":""},""]
[null,null,null,null,null,null,null,null,null,null,null,{"$f":"IFERROR(IF(M79<>0,VLOOKUP(M79,CHOOSE({2,1},$C$38:$C$39,$D$38:$D$39),2,0),\"\"),\"\")","v":""},null,null,{"$f":"IFERROR(IF(P79<>0,VLOOKUP(P79,CHOOSE({2,1},$C$38:$C$39,$D$38:$D$39),2,0),\"\"),\"\")","v":""},null,null,null,{"$f":"IF(AND(M79<>\"\",P79<>\"\"),getGoogleDistance(txtNoAcc(VLOOKUP(M79,$D$38:$L$39,4,0)),txtNoAcc(VLOOKUP(P79,$D$38:$L$39,4,0))),\"\")","v":""},""]
[null,null,null,null,null,null,null,null,null,null,null,{"$f":"IFERROR(IF(M80<>0,VLOOKUP(M80,CHOOSE({2,1},$C$38:$C$39,$D$38:$D$39),2,0),\"\"),\"\")","v":""},null,null,{"$f":"IFERROR(IF(P80<>0,VLOOKUP(P80,CHOOSE({2,1},$C$38:$C$39,$D$38:$D$39),2,0),\"\"),\"\")","v":""},null,null,null,{"$f":"IF(AND(M80<>\"\",P80<>\"\"),getGoogleDistance(txtNoAcc(VLOOKUP(M80,$D$38:$L$39,4,0)),txtNoAcc(VLOOKUP(P80,$D$38:$L$39,4,0))),\"\")","v":""},""]
[null,null,null,null,null,null,null,null,null,null,null,{"$f":"IFERROR(IF(M81<>0,VLOOKUP(M81,CHOOSE({2,1},$C$38:$C$39,$D$38:$D$39),2,0),\"\"),\"\")","v":""},null,null,{"$f":"IFERROR(IF(P81<>0,VLOOKUP(P81,CHOOSE({2,1},$C$38:$C$39,$D$38:$D$39),2,0),\"\"),\"\")","v":""},null,null,null,{"$f":"IF(AND(M81<>\"\",P81<>\"\"),getGoogleDistance(txtNoAcc(VLOOKUP(M81,$D$38:$L$39,4,0)),txtNoAcc(VLOOKUP(P81,$D$38:$L$39,4,0))),\"\")","v":""},""]
[null,null,null,null,null,null,null,null,null,null,null,{"$f":"IFERROR(IF(M82<>0,VLOOKUP(M82,CHOOSE({2,1},$C$38:$C$39,$D$38:$D$39),2,0),\"\"),\"\")","v":""},null,null,{"$f":"IFERROR(IF(P82<>0,VLOOKUP(P82,CHOOSE({2,1},$C$38:$C$39,$D$38:$D$39),2,0),\"\"),\"\")","v":""},null,null,null,{"$f":"IF(AND(M82<>\"\",P82<>\"\"),getGoogleDistance(txtNoAcc(VLOOKUP(M82,$D$38:$L$39,4,0)),txtNoAcc(VLOOKUP(P82,$D$38:$L$39,4,0))),\"\")","v":""},""]
[null,null,null,null,null,null,null,null,null,null,null,{"$f":"IFERROR(IF(M83<>0,VLOOKUP(M83,CHOOSE({2,1},$C$38:$C$39,$D$38:$D$39),2,0),\"\"),\"\")","v":""},null,null,{"$f":"IFERROR(IF(P83<>0,VLOOKUP(P83,CHOOSE({2,1},$C$38:$C$39,$D$38:$D$39),2,0),\"\"),\"\")","v":""},null,null,null,{"$f":"IF(AND(M83<>\"\",P83<>\"\"),getGoogleDistance(txtNoAcc(VLOOKUP(M83,$D$38:$L$39,4,0)),txtNoAcc(VLOOKUP(P83,$D$38:$L$39,4,0))),\"\")","v":""},""]
[null,null,null,null,null,null,null,null,null,null,null,{"$f":"IFERROR(IF(M84<>0,VLOOKUP(M84,CHOOSE({2,1},$C$38:$C$39,$D$38:$D$39),2,0),\"\"),\"\")","v":""},null,null,{"$f":"IFERROR(IF(P84<>0,VLOOKUP(P84,CHOOSE({2,1},$C$38:$C$39,$D$38:$D$39),2,0),\"\"),\"\")","v":""},null,null,null,{"$f":"IF(AND(M84<>\"\",P84<>\"\"),getGoogleDistance(txtNoAcc(VLOOKUP(M84,$D$38:$L$39,4,0)),txtNoAcc(VLOOKUP(P84,$D$38:$L$39,4,0))),\"\")","v":""},""]
[null,null,null,null,null,null,null,null,null,null,null,{"$f":"IFERROR(IF(M85<>0,VLOOKUP(M85,CHOOSE({2,1},$C$38:$C$39,$D$38:$D$39),2,0),\"\"),\"\")","v":""},null,null,{"$f":"IFERROR(IF(P85<>0,VLOOKUP(P85,CHOOSE({2,1},$C$38:$C$39,$D$38:$D$39),2,0),\"\"),\"\")","v":""},null,null,null,{"$f":"IF(AND(M85<>\"\",P85<>\"\"),getGoogleDistance(txtNoAcc(VLOOKUP(M85,$D$38:$L$39,4,0)),txtNoAcc(VLOOKUP(P85,$D$38:$L$39,4,0))),\"\")","v":""},""]
[null,null,null,null,null,null,null,null,null,null,null,{"$f":"IFERROR(IF(M86<>0,VLOOKUP(M86,CHOOSE({2,1},$C$38:$C$39,$D$38:$D$39),2,0),\"\"),\"\")","v":""},null,null,{"$f":"IFERROR(IF(P86<>0,VLOOKUP(P86,CHOOSE({2,1},$C$38:$C$39,$D$38:$D$39),2,0),\"\"),\"\")","v":""},null,null,null,{"$f":"IF(AND(M86<>\"\",P86<>\"\"),getGoogleDistance(txtNoAcc(VLOOKUP(M86,$D$38:$L$39,4,0)),txtNoAcc(VLOOKUP(P86,$D$38:$L$39,4,0))),\"\")","v":""},""]
[null,null,null,null,null,null,null,null,null,null,null,{"$f":"IFERROR(IF(M87<>0,VLOOKUP(M87,CHOOSE({2,1},$C$38:$C$39,$D$38:$D$39),2,0),\"\"),\"\")","v":""},null,null,{"$f":"IFERROR(IF(P87<>0,VLOOKUP(P87,CHOOSE({2,1},$C$38:$C$39,$D$38:$D$39),2,0),\"\"),\"\")","v":""},null,null,null,{"$f":"IF(AND(M87<>\"\",P87<>\"\"),getGoogleDistance(txtNoAcc(VLOOKUP(M87,$D$38:$L$39,4,0)),txtNoAcc(VLOOKUP(P87,$D$38:$L$39,4,0))),\"\")","v":""},""]
[null,null,null,null,null,null,null,null,null,null,null,{"$f":"IFERROR(IF(M88<>0,VLOOKUP(M88,CHOOSE({2,1},$C$38:$C$39,$D$38:$D$39),2,0),\"\"),\"\")","v":""},null,null,{"$f":"IFERROR(IF(P88<>0,VLOOKUP(P88,CHOOSE({2,1},$C$38:$C$39,$D$38:$D$39),2,0),\"\"),\"\")","v":""},null,null,null,{"$f":"IF(AND(M88<>\"\",P88<>\"\"),getGoogleDistance(txtNoAcc(VLOOKUP(M88,$D$38:$L$39,4,0)),txtNoAcc(VLOOKUP(P88,$D$38:$L$39,4,0))),\"\")","v":""},""]
[null,null,null,null,null,null,null,null,null,null,null,{"$f":"IFERROR(IF(M89<>0,VLOOKUP(M89,CHOOSE({2,1},$C$38:$C$39,$D$38:$D$39),2,0),\"\"),\"\")","v":""},null,null,{"$f":"IFERROR(IF(P89<>0,VLOOKUP(P89,CHOOSE({2,1},$C$38:$C$39,$D$38:$D$39),2,0),\"\"),\"\")","v":""},null,null,null,{"$f":"IF(AND(M89<>\"\",P89<>\"\"),getGoogleDistance(txtNoAcc(VLOOKUP(M89,$D$38:$L$39,4,0)),txtNoAcc(VLOOKUP(P89,$D$38:$L$39,4,0))),\"\")","v":""},""]
[null,null,null,null,null,null,null,null,null,null,null,{"$f":"IFERROR(IF(M90<>0,VLOOKUP(M90,CHOOSE({2,1},$C$38:$C$39,$D$38:$D$39),2,0),\"\"),\"\")","v":""},null,null,{"$f":"IFERROR(IF(P90<>0,VLOOKUP(P90,CHOOSE({2,1},$C$38:$C$39,$D$38:$D$39),2,0),\"\"),\"\")","v":""},null,null,null,{"$f":"IF(AND(M90<>\"\",P90<>\"\"),getGoogleDistance(txtNoAcc(VLOOKUP(M90,$D$38:$L$39,4,0)),txtNoAcc(VLOOKUP(P90,$D$38:$L$39,4,0))),\"\")","v":""},""]
[null,null,null,null,null,null,null,null,null,null,null,{"$f":"IFERROR(IF(M91<>0,VLOOKUP(M91,CHOOSE({2,1},$C$38:$C$39,$D$38:$D$39),2,0),\"\"),\"\")","v":""},null,null,{"$f":"IFERROR(IF(P91<>0,VLOOKUP(P91,CHOOSE({2,1},$C$38:$C$39,$D$38:$D$39),2,0),\"\"),\"\")","v":""},null,null,null,{"$f":"IF(AND(M91<>\"\",P91<>\"\"),getGoogleDistance(txtNoAcc(VLOOKUP(M91,$D$38:$L$39,4,0)),txtNoAcc(VLOOKUP(P91,$D$38:$L$39,4,0))),\"\")","v":""},""]
[null,null,null,null,null,null,null,null,null,null,null,{"$f":"IFERROR(IF(M92<>0,VLOOKUP(M92,CHOOSE({2,1},$C$38:$C$39,$D$38:$D$39),2,0),\"\"),\"\")","v":""},null,null,{"$f":"IFERROR(IF(P92<>0,VLOOKUP(P92,CHOOSE({2,1},$C$38:$C$39,$D$38:$D$39),2,0),\"\"),\"\")","v":""},null,null,null,{"$f":"IF(AND(M92<>\"\",P92<>\"\"),getGoogleDistance(txtNoAcc(VLOOKUP(M92,$D$38:$L$39,4,0)),txtNoAcc(VLOOKUP(P92,$D$38:$L$39,4,0))),\"\")","v":""},""]
[null,null,null,null,null,null,null,null,null,null,null,{"$f":"IFERROR(IF(M93<>0,VLOOKUP(M93,CHOOSE({2,1},$C$38:$C$39,$D$38:$D$39),2,0),\"\"),\"\")","v":""},null,null,{"$f":"IFERROR(IF(P93<>0,VLOOKUP(P93,CHOOSE({2,1},$C$38:$C$39,$D$38:$D$39),2,0),\"\"),\"\")","v":""},null,null,null,{"$f":"IF(AND(M93<>\"\",P93<>\"\"),getGoogleDistance(txtNoAcc(VLOOKUP(M93,$D$38:$L$39,4,0)),txtNoAcc(VLOOKUP(P93,$D$38:$L$39,4,0))),\"\")","v":""},""]
[null,null,null,null,null,null,null,null,null,null,null,{"$f":"IFERROR(IF(M94<>0,VLOOKUP(M94,CHOOSE({2,1},$C$38:$C$39,$D$38:$D$39),2,0),\"\"),\"\")","v":""},null,null,{"$f":"IFERROR(IF(P94<>0,VLOOKUP(P94,CHOOSE({2,1},$C$38:$C$39,$D$38:$D$39),2,0),\"\"),\"\")","v":""},null,null,null,{"$f":"IF(AND(M94<>\"\",P94<>\"\"),getGoogleDistance(txtNoAcc(VLOOKUP(M94,$D$38:$L$39,4,0)),txtNoAcc(VLOOKUP(P94,$D$38:$L$39,4,0))),\"\")","v":""},""]
[null,null,null,null,null,null,null,null,null,null,null,{"$f":"IFERROR(IF(M95<>0,VLOOKUP(M95,CHOOSE({2,1},$C$38:$C$39,$D$38:$D$39),2,0),\"\"),\"\")","v":""},null,null,{"$f":"IFERROR(IF(P95<>0,VLOOKUP(P95,CHOOSE({2,1},$C$38:$C$39,$D$38:$D$39),2,0),\"\"),\"\")","v":""},null,null,null,{"$f":"IF(AND(M95<>\"\",P95<>\"\"),getGoogleDistance(txtNoAcc(VLOOKUP(M95,$D$38:$L$39,4,0)),txtNoAcc(VLOOKUP(P95,$D$38:$L$39,4,0))),\"\")","v":""},""]
[null,null,null,null,null,null,null,null,null,null,null,{"$f":"IFERROR(IF(M96<>0,VLOOKUP(M96,CHOOSE({2,1},$C$38:$C$39,$D$38:$D$39),2,0),\"\"),\"\")","v":""},null,null,{"$f":"IFERROR(IF(P96<>0,VLOOKUP(P96,CHOOSE({2,1},$C$38:$C$39,$D$38:$D$39),2,0),\"\"),\"\")","v":""},null,null,null,{"$f":"IF(AND(M96<>\"\",P96<>\"\"),getGoogleDistance(txtNoAcc(VLOOKUP(M96,$D$38:$L$39,4,0)),txtNoAcc(VLOOKUP(P96,$D$38:$L$39,4,0))),\"\")","v":""},""]
[null,null,null,null,null,null,null,null,null,null,null,{"$f":"IFERROR(IF(M97<>0,VLOOKUP(M97,CHOOSE({2,1},$C$38:$C$39,$D$38:$D$39),2,0),\"\"),\"\")","v":""},null,null,{"$f":"IFERROR(IF(P97<>0,VLOOKUP(P97,CHOOSE({2,1},$C$38:$C$39,$D$38:$D$39),2,0),\"\"),\"\")","v":""},null,null,null,{"$f":"IF(AND(M97<>\"\",P97<>\"\"),getGoogleDistance(txtNoAcc(VLOOKUP(M97,$D$38:$L$39,4,0)),txtNoAcc(VLOOKUP(P97,$D$38:$L$39,4,0))),\"\")","v":""},""]
[null,null,null,null,null,null,null,null,null,null,null,{"$f":"IFERROR(IF(M98<>0,VLOOKUP(M98,CHOOSE({2,1},$C$38:$C$39,$D$38:$D$39),2,0),\"\"),\"\")","v":""},null,null,{"$f":"IFERROR(IF(P98<>0,VLOOKUP(P98,CHOOSE({2,1},$C$38:$C$39,$D$38:$D$39),2,0),\"\"),\"\")","v":""},null,null,null,{"$f":"IF(AND(M98<>\"\",P98<>\"\"),getGoogleDistance(txtNoAcc(VLOOKUP(M98,$D$38:$L$39,4,0)),txtNoAcc(VLOOKUP(P98,$D$38:$L$39,4,0))),\"\")","v":""},""]
[null,null,null,null,null,null,null,null,null,null,null,{"$f":"IFERROR(IF(M99<>0,VLOOKUP(M99,CHOOSE({2,1},$C$38:$C$39,$D$38:$D$39),2,0),\"\"),\"\")","v":""},null,null,{"$f":"IFERROR(IF(P99<>0,VLOOKUP(P99,CHOOSE({2,1},$C$38:$C$39,$D$38:$D$39),2,0),\"\"),\"\")","v":""},null,null,null,{"$f":"IF(AND(M99<>\"\",P99<>\"\"),getGoogleDistance(txtNoAcc(VLOOKUP(M99,$D$38:$L$39,4,0)),txtNoAcc(VLOOKUP(P99,$D$38:$L$39,4,0))),\"\")","v":""},""]
[null,null,null,null,null,null,null,null,null,null,null,{"$f":"IFERROR(IF(M100<>0,VLOOKUP(M100,CHOOSE({2,1},$C$38:$C$39,$D$38:$D$39),2,0),\"\"),\"\")","v":""},null,null,{"$f":"IFERROR(IF(P100<>0,VLOOKUP(P100,CHOOSE({2,1},$C$38:$C$39,$D$38:$D$39),2,0),\"\"),\"\")","v":""},null,null,null,{"$f":"IF(AND(M100<>\"\",P100<>\"\"),getGoogleDistance(txtNoAcc(VLOOKUP(M100,$D$38:$L$39,4,0)),txtNoAcc(VLOOKUP(P100,$D$38:$L$39,4,0))),\"\")","v":""},""]
[null,null,null,null,null,null,null,null,null,null,null,{"$f":"IFERROR(IF(M101<>0,VLOOKUP(M101,CHOOSE({2,1},$C$38:$C$39,$D$38:$D$39),2,0),\"\"),\"\")","v":""},null,null,{"$f":"IFERROR(IF(P101<>0,VLOOKUP(P101,CHOOSE({2,1},$C$38:$C$39,$D$38:$D$39),2,0),\"\"),\"\")","v":""},null,null,null,{"$f":"IF(AND(M101<>\"\",P101<>\"\"),getGoogleDistance(txtNoAcc(VLOOKUP(M101,$D$38:$L$39,4,0)),txtNoAcc(VLOOKUP(P101,$D$38:$L$39,4,0))),\"\")","v":""},""]
[null,null,null,null,null,null,null,null,null,null,null,{"$f":"IFERROR(IF(M102<>0,VLOOKUP(M102,CHOOSE({2,1},$C$38:$C$39,$D$38:$D$39),2,0),\"\"),\"\")","v":""},null,null,{"$f":"IFERROR(IF(P102<>0,VLOOKUP(P102,CHOOSE({2,1},$C$38:$C$39,$D$38:$D$39),2,0),\"\"),\"\")","v":""},null,null,null,{"$f":"IF(AND(M102<>\"\",P102<>\"\"),getGoogleDistance(txtNoAcc(VLOOKUP(M102,$D$38:$L$39,4,0)),txtNoAcc(VLOOKUP(P102,$D$38:$L$39,4,0))),\"\")","v":""},""]
[null,null,null,null,null,null,null,null,null,null,null,{"$f":"IFERROR(IF(M103<>0,VLOOKUP(M103,CHOOSE({2,1},$C$38:$C$39,$D$38:$D$39),2,0),\"\"),\"\")","v":""},null,null,{"$f":"IFERROR(IF(P103<>0,VLOOKUP(P103,CHOOSE({2,1},$C$38:$C$39,$D$38:$D$39),2,0),\"\"),\"\")","v":""},null,null,null,{"$f":"IF(AND(M103<>\"\",P103<>\"\"),getGoogleDistance(txtNoAcc(VLOOKUP(M103,$D$38:$L$39,4,0)),txtNoAcc(VLOOKUP(P103,$D$38:$L$39,4,0))),\"\")","v":""},""]
[null,null,null,null,null,null,null,null,null,null,null,{"$f":"IFERROR(IF(M104<>0,VLOOKUP(M104,CHOOSE({2,1},$C$38:$C$39,$D$38:$D$39),2,0),\"\"),\"\")","v":""},null,null,{"$f":"IFERROR(IF(P104<>0,VLOOKUP(P104,CHOOSE({2,1},$C$38:$C$39,$D$38:$D$39),2,0),\"\"),\"\")","v":""},null,null,null,{"$f":"IF(AND(M104<>\"\",P104<>\"\"),getGoogleDistance(txtNoAcc(VLOOKUP(M104,$D$38:$L$39,4,0)),txtNoAcc(VLOOKUP(P104,$D$38:$L$39,4,0))),\"\")","v":""},""]
[null,null,null,null,null,null,null,null,null,null,null,{"$f":"IFERROR(IF(M105<>0,VLOOKUP(M105,CHOOSE({2,1},$C$38:$C$39,$D$38:$D$39),2,0),\"\"),\"\")","v":""},null,null,{"$f":"IFERROR(IF(P105<>0,VLOOKUP(P105,CHOOSE({2,1},$C$38:$C$39,$D$38:$D$39),2,0),\"\"),\"\")","v":""},null,null,null,{"$f":"IF(AND(M105<>\"\",P105<>\"\"),getGoogleDistance(txtNoAcc(VLOOKUP(M105,$D$38:$L$39,4,0)),txtNoAcc(VLOOKUP(P105,$D$38:$L$39,4,0))),\"\")","v":""},""]
[null,null,null,null,null,null,null,null,null,null,null,{"$f":"IFERROR(IF(M106<>0,VLOOKUP(M106,CHOOSE({2,1},$C$38:$C$39,$D$38:$D$39),2,0),\"\"),\"\")","v":""},null,null,{"$f":"IFERROR(IF(P106<>0,VLOOKUP(P106,CHOOSE({2,1},$C$38:$C$39,$D$38:$D$39),2,0),\"\"),\"\")","v":""},null,null,null,{"$f":"IF(AND(M106<>\"\",P106<>\"\"),getGoogleDistance(txtNoAcc(VLOOKUP(M106,$D$38:$L$39,4,0)),txtNoAcc(VLOOKUP(P106,$D$38:$L$39,4,0))),\"\")","v":""},""]
[]
[]
[]
[]
[null,"Consumo energético por la refrigeración de la carga del vehículo"]
[]
[null,null,"Seleccione si el vehículo dispone de un depósito por separado"]
[null,null,"Tipo de depósito"]
[]
[null,null,"En caso de que el vehículo cuente con un depósito de combustible separado, introduzca los siguientes datos:"]
[null,null,"Tipo de combustible"]
[null,null,"Consumo específico de combustible",null,null,null,null,null,null,"l/h"]
[null,null,"Tiempo de refrigeración",null,null,null,null,null,null,"h"]
[]
[null,null,"Si no conoce el consumo específico de combustible por refrigeración, introduzca los siguientes datos:"]
[null,null,"Tipo de unidad refrigerada y temperatura de refrigeración"]
[]
[null,null,"Consumo específico de combustible por refrigeración",null,null,null,null,null,{"$f":"IFERROR(IF(I118<>0,I118,VLOOKUP(H122,t_consumo_refrigeracion_v,2,0)),\"\")","v":""},"l/h"]
[null,null,"Consumo de combustible en la ruta por refrigeración",null,null,null,null,null,{"$f":"IFERROR(I124*I119,\"\")","v":""},"l"]
[]
[]
[]
[]
[]
[]
[]
[]
[]
[]
[]
[]
[]
[]
[]
[]
[]
[]
[]
[]
[]
[]
[]
[]
[]
[]
[]
[]
[]
[]
[]
[]
[]
[]
[]
[]
[]
[]
[]
[]
[]
[]
[]
[]
[]
[]
[]
[]
[]
[]
[]
[]
[]
[]
[]
[]
[]
[]
[]
[]
[]
[]
[]
[]
[]
[]
[]
[]
[]
[]
[]
[]
[]
[]
[]
[]
[]
[]
[]
[null,"Consumo energético por el almacenamiento de la carga"]
[]
[null,null,"Si conoce el consumo de energía de las instalaciones logísticas, introduzca los siguientes datos"]
[null,null,"Tipo de fuente de energía - 1"]
[null,null,"Consumo anual de la fuente de energía - 1",null,null,null,null,null,null,"kWh"]
[null,null,"Volumen de ocupación medio anual asociado a la fuente de energía - 1",null,null,null,null,null,null,"m3"]
[null,null,"Tipo de fuente de energía - 2"]
[null,null,"Consumo anual de la fuente de energía - 2",null,null,null,null,null,null,{"$f":"IFERROR(VLOOKUP(G211,t_factores_a,2,0),\"\")","v":""}]
[null,null,"Volumen de ocupación medio anual asociado a la fuente de energía - 2",null,null,null,null,null,null,"m3"]
[null,null,"Tipo de fuente de energía - 3"]
[null,null,"Consumo anual de la fuente de energía - 3",null,null,null,null,null,null,"l."]
[null,null,"Volumen de ocupación medio anual asociado a la fuente de energía - 3",null,null,null,null,null,null,"m3"]
[]
[null,null,{"$f":"\"Consumo específico de \"&G208&\" - almacenamiento\"","v":"Consumo específico de  - almacenamiento"},null,null,null,null,null,{"$f":"IFERROR($I$209/($I$210*365),\"\")","v":""},{"$f":"IF($G$208<>\"\",$J$209&\"/m3-día\",\"\")","v":""}]
[null,null,{"$f":"\"Consumo específico de \"&G211&\" - almacenamiento\"","v":"Consumo específico de  - almacenamiento"},null,null,null,null,null,{"$f":"IFERROR($I$212/($I$213*365),\"\")","v":""},{"$f":"IF(G211<>\"\",J212&\"/m3-día\",\"\")","v":""}]
[null,null,{"$f":"\"Consumo específico de \"&G214&\" - almacenamiento\"","v":"Consumo específico de  - almacenamiento"},null,null,null,null,null,{"$f":"IFERROR($I$215/($I$216*365),\"\")","v":""},{"$f":"IF(G214<>\"\",J215&\"/m3-día\",\"\")","v":""}]
[]
[null,null,"Si no conoce el consumo de energía de las instalaciones logísticas, introduzca los siguientes datos"]
[null,null,"Tipo de refrigeración de la carga"]
[null,null,"Tipo de electricidad consumida"]
[]
[null,null,{"$f":"\"Consumo específico de Electricidad de Red -\"&H224&\" - almacenamiento\"","v":"Consumo específico de Electricidad de Red - - almacenamiento"},null,null,null,null,null,{"$f":"IFERROR(VLOOKUP($H$223,t_consumo_tipocarga_a,5,0),\"\")","v":""},{"$f":"IF($H$223<>\"\",\"kWh/m3-día\",\"\")","v":""}]
[null,null,"Consumo específico de Gas natural: potencia calorífica neta - almacenamiento",null,null,null,null,null,{"$f":"IFERROR(VLOOKUP($H$223,t_consumo_tipocarga_a,6,0),\"\")","v":""},{"$f":"IF($H$223<>\"\",\"kWh/m3-día\",\"\")","v":""}]
[]
[null,null,null,null,null,null,null,null,null,null,null,""]

{"sheet":"C1","index":10,"n_rows":227,"n_cols":10,"rows_kept":227,"cut":false,"hidden":true,"merged":[[112,3,112,4],[107,3,107,4],[108,3,108,4],[109,3,109,4],[110,3,110,4],[111,3,111,4],[102,3,102,4],[103,3,103,4],[104,3,104,4],[105,3,105,4],[106,3,106,4],[67,3,67,4],[68,3,68,4],[69,3,69,4],[70,3,70,4],[71,3,71,4],[62,3,62,4],[63,3,63,4],[64,3,64,4],[65,3,65,4],[66,3,66,4],[1,1,1,9],[49,4,49,5],[49,6,49,8],[40,2,40,3],[8,4,8,6],[40,4,40,6],[17,4,17,6],[50,2,50,3],[50,4,50,5],[50,6,50,8],[51,2,51,3],[51,4,51,5],[51,6,51,8],[120,6,120,8],[213,6,213,8],[222,7,222,8],[223,7,223,8],[123,6,123,8],[128,7,128,8],[207,6,207,8],[210,6,210,8],[72,3,72,4],[73,3,73,4],[74,3,74,4],[75,3,75,4],[76,3,76,4],[77,3,77,4],[88,3,88,4],[89,3,89,4],[90,3,90,4],[91,3,91,4],[78,3,78,4],[79,3,79,4],[80,3,80,4],[81,3,81,4],[82,3,82,4],[83,3,83,4],[84,3,84,4],[85,3,85,4],[86,3,86,4],[87,3,87,4],[92,3,92,4],[93,3,93,4],[94,3,94,4],[95,3,95,4],[96,3,96,4],[97,3,97,4],[98,3,98,4],[99,3,99,4],[100,3,100,4],[101,3,101,4]]}
["C.1."]
[null,"PATRÓN C.1. ORIGEN Y DESTINO. CÁLCULO POR CONSUMO ESPECÍFICO"]
[]
[]
[]
[null,null,null,null,null,null,null,null,null," "]
[null,"Tipo de vehículo"]
[]
[null,null,"Tipo de camión (MMA)"]
[]
[null,null,"Carga útil del camión",null,null,null,null,"t"]
[]
[]
[]
[]
[null,"Consumo y tipo de combustible. Enfoque: valores específicos del operador de transporte"]
[]
[null,null,"Tipo de combustible"]
[]
[null,null,"Introduzca los siguientes datos sobre el consumo de combustible del tipo de vehículo durante el periodo"]
[null,null,"Consumo registrado en el periodo considerado",null,null,null,null,"l"]
[null,null,"Distancia recorrida en el periodo considerado",null,null,null,null,"km"]
[null,null,"Consumo específico de combustible del trayecto",null,null,null,{"$f":"IFERROR(G21/G22*100,\"\")","v":""},"l/100 km"]
[]
[null,null,"O bien introduzca los siguientes datos sobre consumos específicos"]
[null,null,"Consumo específico de combustible en carga",null,null,null,null,"l/100km"]
[null,null,"Consumo específico de combustible en vacío",null,null,null,null,"l/100km"]
[]
[null,null,"Consumo específico de combustible del trayecto (ud. de carga)",null,null,null,{"$f":"IFERROR((IF(G23<>\"\",G23,G26)+IF(G38<>\"\",G38,G43)*IF(G23<>\"\",G23,G27))/(100*IF(G37<>\"\",G37,G42)*G11),\"\")","v":""},"l/tkm"]
[]
[]
[]
[]
[null,"Tasa de carga/ Proporción de viajes en vacío"]
[]
[null,null,"Introduzca la siguiente información sobre la tasa de carga y proporción de viajes en vacío"]
[null,null,"Tasa de carga media del trayecto"]
[null,null,"Proporción de recorrido adicional en vacío"]
[]
[null,null,"En caso de no conocer la proporción de viajes en vacío, introduzca la siguiente información:"]
[null,null,"Tipo de transporte"]
[null,null,"Tasa de carga media del trayecto estimada",null,null,null,{"$f":"IFERROR(VLOOKUP($E$41,t_porcentaje_tasadecarga,2,0),\"\")","v":""}]
[null,null,"Proporción de recorrido adicional en vacío estimada",null,null,null,{"$f":"IFERROR(VLOOKUP($E$41,t_porcentaje_vacio,2,0),\"\")","v":""}]
[]
[]
[]
[]
[null,"Localización del origen y destino de los envíos"]
[]
[null,null,null,null,"Denominación",null,"Localización"]
[null,null,"Origen de los envíos"]
[null,null,"Destino de los envíos"]
[]
[null,null,"Distancia estimada del trayecto",null,null,null,null,"km"]
[null,null,"Distancia directa origen-destino",null,null,null,{"$f":"IF(AND(G51<>\"\",G52<>\"\"),getGoogleDistance(txtNoAcc(G51),txtNoAcc(G52)),\"\")","v":""},"km"]
[null,null,"Distancia de cálculo origen-destino",null,null,null,{"$f":"IF($G$54<>0,$G$54,$G$55)","v":""},"km"]
[null,null,"Recorrido en vacío atribuible al trayecto",null,null,null,{"$f":"IFERROR($G$56*IF($G$38<>0,$G$38,$G$43),\"\")","v":""},"km"]
[]
[]
[]
[null,"Características de los envíos"]
[]
[null,null,"Cliente del envío","Denominación del envío",null,null,"Carga bruta del envío (t)","Carga refrigerada - no refrigerada","Volumen del envío en almacenamiento (m3) - en caso de que la carga sea almacenada","Días de almacenamiento - en caso de que la carga sea almacenada"]
[]
[]
[]
[]
[]
[]
[]
[]
[]
[]
[]
[]
[]
[]
[]
[]
[]
[]
[]
[]
[]
[]
[]
[]
[]
[]
[]
[]
[]
[]
[]
[]
[]
[]
[]
[]
[]
[]
[]
[]
[]
[]
[]
[]
[]
[]
[]
[]
[]
[]
[]
[]
[]
[]
[null,"Consumo energético por la refrigeración de la carga del vehículo"]
[]
[null,null,"Seleccione si el vehículo dispone de un depósito por separado"]
[null,null,"Tipo de depósito"]
[]
[null,null,"En caso de que el vehículo cuente con un depósito de combustible separado, introduzca los siguientes datos:"]
[null,null,"Tipo de combustible"]
[null,null,"Consumo específico de combustible",null,null,null,null,null,null,"l/h"]
[null,null,"Tiempo de refrigeración",null,null,null,null,null,null,"h"]
[]
[null,null,"Si no conoce el consumo específico de combustible por refrigeración, introduzca los siguientes datos:"]
[null,null,"Tipo de unidad refrigerada y temperatura de refrigeración"]
[]
[null,null,"Consumo específico de combustible por refrigeración",null,null,null,null,null,{"$f":"IFERROR(IF(I125<>0,I125,VLOOKUP(H129,t_consumo_refrigeracion_v,2,0)),\"\")","v":""},"l/h"]
[null,null,"Consumo de combustible en el trayecto por refrigeración",null,null,null,null,null,{"$f":"IFERROR(I131*I126,\"\")","v":""},"l"]
[]
[]
[]
[]
[]
[]
[]
[]
[]
[]
[]
[]
[]
[]
[]
[]
[]
[]
[]
[]
[]
[]
[]
[]
[]
[]
[]
[]
[]
[]
[]
[]
[]
[]
[]
[]
[]
[]
[]
[]
[]
[]
[]
[]
[]
[]
[]
[]
[]
[]
[]
[]
[]
[]
[]
[]
[]
[]
[]
[]
[]
[]
[]
[]
[]
[]
[]
[]
[]
[]
[]
[]
[null,"Consumo energético por el almacenamiento de la carga"]
[]
[null,null,"Si conoce el consumo de energía de las instalaciones logísticas, introduzca los siguientes datos"]
[null,null,"Tipo de fuente de energía - 1"]
[null,null,"Consumo anual de la fuente de energía - 1",null,null,null,null,null,null,"kWh"]
[null,null,"Volumen de ocupación medio anual asociado a la fuente de energía - 1",null,null,null,null,null,null,"m3"]
[null,null,"Tipo de fuente de energía - 2"]
[null,null,"Consumo anual de la fuente de energía - 2",null,null,null,null,null,null,{"$f":"IFERROR(VLOOKUP(G211,t_factores_a,2,0),\"\")","v":""}]
[null,null,"Volumen de ocupación medio anual asociado a la fuente de energía - 2",null,null,null,null,null,null,"m3"]
[null,null,"Tipo de fuente de energía - 3"]
[null,null,"Consumo anual de la fuente de energía - 3",null,null,null,null,null,null,"l."]
[null,null,"Volumen de ocupación medio anual asociado a la fuente de energía - 3",null,null,null,null,null,null,"m3"]
[]
[null,null,{"$f":"\"Consumo específico de \"&G208&\" - almacenamiento\"","v":"Consumo específico de  - almacenamiento"},null,null,null,null,null,{"$f":"IFERROR($I$209/($I$210*365),\"\")","v":""},{"$f":"IF($G$208<>\"\",$J$209&\"/m3-día\",\"\")","v":""}]
[null,null,{"$f":"\"Consumo específico de \"&G211&\" - almacenamiento\"","v":"Consumo específico de  - almacenamiento"},null,null,null,null,null,{"$f":"IFERROR($I$212/($I$213*365),\"\")","v":""},{"$f":"IF(G211<>\"\",J212&\"/m3-día\",\"\")","v":""}]
[null,null,{"$f":"\"Consumo específico de \"&G214&\" - almacenamiento\"","v":"Consumo específico de  - almacenamiento"},null,null,null,null,null,{"$f":"IFERROR($I$215/($I$216*365),\"\")","v":""},{"$f":"IF(G214<>\"\",J215&\"/m3-día\",\"\")","v":""}]
[]
[null,null,"Si no conoce el consumo de energía de las instalaciones logísticas, introduzca los siguientes datos"]
[null,null,"Tipo de refrigeración de la carga"]
[null,null,"Tipo de electricidad consumida"]
[]
[null,null,{"$f":"\"Consumo específico de Electricidad de Red -\"&H224&\" - almacenamiento\"","v":"Consumo específico de Electricidad de Red - - almacenamiento"},null,null,null,null,null,{"$f":"IFERROR(VLOOKUP($H$223,t_consumo_tipocarga_a,5,0),\"\")","v":""},{"$f":"IF($H$223<>\"\",\"kWh/m3-día\",\"\")","v":""}]
[null,null,"Consumo específico de Gas natural: potencia calorífica neta - almacenamiento",null,null,null,null,null,{"$f":"IFERROR(VLOOKUP($H$223,t_consumo_tipocarga_a,6,0),\"\")","v":""},{"$f":"IF($H$223<>\"\",\"kWh/m3-día\",\"\")","v":""}]

{"sheet":"C2","index":11,"n_rows":227,"n_cols":15,"rows_kept":227,"cut":false,"hidden":true,"merged":[[101,3,101,4],[79,3,79,4],[80,3,80,4],[81,3,81,4],[82,3,82,4],[83,3,83,4],[84,3,84,4],[85,3,85,4],[86,3,86,4],[222,7,222,8],[223,7,223,8],[64,3,64,4],[65,3,65,4],[66,3,66,4],[67,3,67,4],[68,3,68,4],[69,3,69,4],[70,3,70,4],[71,3,71,4],[72,3,72,4],[73,3,73,4],[74,3,74,4],[75,3,75,4],[76,3,76,4],[77,3,77,4],[105,3,105,4],[106,3,106,4],[107,3,107,4],[108,3,108,4],[109,3,109,4],[103,3,103,4],[104,3,104,4],[87,3,87,4],[88,3,88,4],[89,3,89,4],[90,3,90,4],[91,3,91,4],[92,3,92,4],[93,3,93,4],[94,3,94,4],[95,3,95,4],[96,3,96,4],[97,3,97,4],[98,3,98,4],[99,3,99,4],[100,3,100,4],[1,1,1,10],[29,2,29,3],[51,2,51,3],[51,4,51,5],[8,4,8,6],[17,4,17,6],[29,4,29,6],[50,4,50,5],[50,6,50,8],[51,6,51,8],[78,3,78,4],[52,2,52,3],[52,4,52,5],[210,6,210,8],[213,6,213,8],[110,3,110,4],[111,3,111,4],[112,3,112,4],[113,3,113,4],[114,3,114,4],[52,6,52,8],[122,6,122,8],[125,6,125,8],[130,7,130,8],[207,6,207,8],[102,3,102,4]]}
["C.2."]
[null,"C.2. ORIGEN Y DESTINO. CÁLCULO POR TASA DE CARGA/ PROPORCIÓN DE VIAJES EN VACÍO"]
[]
[]
[]
[null,null,null,null,null,null,null,null,null,null," "]
[null,"Tipo de vehículo"]
[]
[null,null,"Tipo de vehículo (MMA)"]
[]
[null,null,"Carga útil del camión",null,null,null,null,"t"]
[]
[]
[]
[]
[null,"Tipo de combustible"]
[]
[null,null,"Tipo de combustible"]
[]
[]
[]
[]
[null,"Tasa de carga/ Proporción de viajes en vacío"]
[]
[null,null,"Si la ruta es abierta, introduzca la siguiente información"]
[null,null,"Tasa de carga media del trayecto"]
[null,null,"Proporción de recorrido adicional en vacío"]
[]
[null,null,"En caso de no conocer la proporción de viajes en vacío, introduzca la siguiente información:"]
[null,null,"Tipo de transporte"]
[null,null,"Tasa de carga media del trayecto estimada",null,null,null,{"$f":"IFERROR(VLOOKUP($E$30,t_porcentaje_tasadecarga,2,0),\"\")","v":""}]
[null,null,"Proporción de recorrido adicional en vacío estimada",null,null,null,{"$f":"IFERROR(VLOOKUP($E$30,t_porcentaje_vacio,2,0),\"\")","v":""}]
[]
[]
[]
[]
[null,"Cálculo de consumo específico"]
[]
[null,null,"Trayecto urbano-no urbano"]
[null,null,"Trayecto llano-montañoso",null,null,null,null,null,null,null,null,null,null,"Recorrido urbano",{"$f":"SUMIF(G40:I40,\"=Urbano\",H39:I39)","v":0}]
[null,null,null,null,null,null,null,null,null,null,null,null,null,"Recorrido no urbano",{"$f":"SUMIF(G40:I40,\"=No Urbano\",H39:I39)","v":0}]
[null,null,"Consumo específico por tramo en carga (en litros a los 100 km)",null,null,null,{"$f":"IFERROR(IF(G$39=\"Urbano\",VLOOKUP($E$9,t_fcorreccion_urbana,2,0),1)\n*(IF(G$40=\"Montañoso\",VLOOKUP($E$9,t_abc_mdistancias,2,0)+VLOOKUP($E$9,t_abc_mdistancias,3,0)*'B1'!D26/VLOOKUP($E$9,t_abc_mdistancias,6,0),VLOOKUP($E$9,t_abc_mdistancias,4,0)+VLOOKUP($E$9,t_abc_mdistancias,5,0)*G11*G26/VLOOKUP($E$9,t_abc_mdistancias,6,0)))*RAW_DATA_transporte!$D$134/VLOOKUP($E$18,t_factores_t,3,0),\"\")","v":""},"l/100 km",null,null,null,null,null,"Recorrido llano",{"$f":"SUMIF(G41:I41,\"=Llano\",H39:I39)","v":0}]
[null,null,"Consumo específico por tramo en vacío (en litros a los 100 km)",null,null,null,{"$f":"IFERROR(IF(G$39=\"Urbano\",VLOOKUP($E$9,t_fcorreccion_urbana,2,0),1)\n*(IF(G$40=\"Montañoso\",VLOOKUP($E$9,t_abc_mdistancias,2,0)+VLOOKUP($E$9,t_abc_mdistancias,3,0)*'B1'!D26/VLOOKUP($E$9,t_abc_mdistancias,6,0),VLOOKUP($E$9,t_abc_mdistancias,4,0)))*RAW_DATA_transporte!$D$134/VLOOKUP($E$18,t_factores_t,3,0),\"\")","v":""},"l/100 km",null,null,null,null,null,"Recorrido montañoso",{"$f":"SUMIF(G41:I41,\"=Montañoso\",H39:I39)","v":0}]
[null,null,"Consumo específico del trayecto (en términos de ton-km)",null,null,null,{"$f":"IFERROR((1*G42+IF(G27<>0,G27,G32)*G43)/(100*G11*IF(G26<>0,G26,G31)),\"\")","v":""},"l/tkm"]
[]
[]
[]
[]
[null,"Localización del origen y destino de los envíos"]
[]
[null,null,null,null,"Denominación",null,"Localización"]
[null,null,"Origen de los envíos"]
[null,null,"Destino de los envíos"]
[]
[null,null,"Distancia estimada del trayecto",null,null,null,null,"km"]
[null,null,"Distancia directa origen-destino",null,null,null,{"$f":"IF(AND(G52<>\"\",G53<>\"\"),getGoogleDistance(txtNoAcc(G52),txtNoAcc(G53)),\"\")","v":""},"km"]
[null,null,"Distancia de cálculo origen-destino",null,null,null,{"$f":"IF($G$55<>0,$G$55,$G$56)","v":""},"km"]
[null,null,"Recorrido en vacío atribuible al trayecto",null,null,null,{"$f":"IFERROR($G$57*IF($G$27<>0,$G$27,$G$32),\"\")","v":""},"km"]
[]
[]
[]
[]
[null,"Características de los envíos"]
[]
[null,null,"Cliente del envío","Denominación del envío",null,null,"Carga bruta del envío (t)","Carga refrigerada - no refrigerada","Volumen del envío en almacenamiento (m3) - en caso de que la carga sea almacenada","Días de almacenamiento - en caso de que la carga sea almacenada"]
[]
[]
[]
[]
[]
[]
[]
[]
[]
[]
[]
[]
[]
[]
[]
[]
[]
[]
[]
[]
[]
[]
[]
[]
[]
[]
[]
[]
[]
[]
[]
[]
[]
[]
[]
[]
[]
[]
[]
[]
[]
[]
[]
[]
[]
[]
[]
[]
[]
[]
[]
[]
[]
[]
[null,"Consumo energético por la refrigeración de la carga del vehículo"]
[]
[null,null,"Seleccione si el vehículo dispone de un depósito por separado"]
[null,null,"Tipo de depósito"]
[]
[null,null,"En caso de que el vehículo cuente con un depósito de combustible separado, introduzca los siguientes datos:"]
[null,null,"Tipo de combustible"]
[null,null,"Consumo específico de combustible",null,null,null,null,null,null,"l/h"]
[null,null,"Tiempo de refrigeración",null,null,null,null,null,null,"h"]
[]
[null,null,"Si no conoce el consumo específico de combustible por refrigeración, introduzca los siguientes datos:"]
[null,null,"Tipo de unidad refrigerada y temperatura de refrigeración"]
[]
[null,null,"Consumo específico de combustible por refrigeración",null,null,null,null,null,{"$f":"IFERROR(IF(I127<>0,I127,VLOOKUP(H131,t_consumo_refrigeracion_v,2,0)),\"\")","v":""},"l/h"]
[null,null,"Consumo de combustible en la ruta por refrigeración",null,null,null,null,null,{"$f":"IFERROR(I133*I128,\"\")","v":""},"l"]
[]
[]
[]
[]
[]
[]
[]
[]
[]
[]
[]
[]
[]
[]
[]
[]
[]
[]
[]
[]
[]
[]
[]
[]
[]
[]
[]
[]
[]
[]
[]
[]
[]
[]
[]
[]
[]
[]
[]
[]
[]
[]
[]
[]
[]
[]
[]
[]
[]
[]
[]
[]
[]
[]
[]
[]
[]
[]
[]
[]
[]
[]
[]
[]
[]
[]
[]
[]
[]
[]
[null,"Consumo energético por el almacenamiento de la carga"]
[]
[null,null,"Si conoce el consumo de energía de las instalaciones logísticas, introduzca los siguientes datos"]
[null,null,"Tipo de fuente de energía - 1"]
[null,null,"Consumo anual de la fuente de energía - 1",null,null,null,null,null,null,"kWh"]
[null,null,"Volumen de ocupación medio anual asociado a la fuente de energía - 1",null,null,null,null,null,null,"m3"]
[null,null,"Tipo de fuente de energía - 2"]
[null,null,"Consumo anual de la fuente de energía - 2",null,null,null,null,null,null,{"$f":"IFERROR(VLOOKUP(G211,t_factores_a,2,0),\"\")","v":""}]
[null,null,"Volumen de ocupación medio anual asociado a la fuente de energía - 2",null,null,null,null,null,null,"m3"]
[null,null,"Tipo de fuente de energía - 3"]
[null,null,"Consumo anual de la fuente de energía - 3",null,null,null,null,null,null,"l."]
[null,null,"Volumen de ocupación medio anual asociado a la fuente de energía - 3",null,null,null,null,null,null,"m3"]
[]
[null,null,{"$f":"\"Consumo específico de \"&G208&\" - almacenamiento\"","v":"Consumo específico de  - almacenamiento"},null,null,null,null,null,{"$f":"IFERROR($I$209/($I$210*365),\"\")","v":""},{"$f":"IF($G$208<>\"\",$J$209&\"/m3-día\",\"\")","v":""}]
[null,null,{"$f":"\"Consumo específico de \"&G211&\" - almacenamiento\"","v":"Consumo específico de  - almacenamiento"},null,null,null,null,null,{"$f":"IFERROR($I$212/($I$213*365),\"\")","v":""},{"$f":"IF(G211<>\"\",J212&\"/m3-día\",\"\")","v":""}]
[null,null,{"$f":"\"Consumo específico de \"&G214&\" - almacenamiento\"","v":"Consumo específico de  - almacenamiento"},null,null,null,null,null,{"$f":"IFERROR($I$215/($I$216*365),\"\")","v":""},{"$f":"IF(G214<>\"\",J215&\"/m3-día\",\"\")","v":""}]
[]
[null,null,"Si no conoce el consumo de energía de las instalaciones logísticas, introduzca los siguientes datos"]
[null,null,"Tipo de refrigeración de la carga"]
[null,null,"Tipo de electricidad consumida"]
[]
[null,null,{"$f":"\"Consumo específico de Electricidad de Red -\"&H224&\" - almacenamiento\"","v":"Consumo específico de Electricidad de Red - - almacenamiento"},null,null,null,null,null,{"$f":"IFERROR(VLOOKUP($H$223,t_consumo_tipocarga_a,5,0),\"\")","v":""},{"$f":"IF($H$223<>\"\",\"kWh/m3-día\",\"\")","v":""}]
[null,null,"Consumo específico de Gas natural: potencia calorífica neta - almacenamiento",null,null,null,null,null,{"$f":"IFERROR(VLOOKUP($H$223,t_consumo_tipocarga_a,6,0),\"\")","v":""},{"$f":"IF($H$223<>\"\",\"kWh/m3-día\",\"\")","v":""}]

{"sheet":"PUBLICACIÓN DE RESULTADOSAUX","index":12,"n_rows":936,"n_cols":14,"rows_kept":936,"cut":false,"hidden":true,"merged":[[926,2,926,3],[926,4,926,5],[933,2,933,3],[933,4,933,5],[905,0,905,13],[909,2,909,3],[909,4,909,5],[915,2,915,3],[915,4,915,5],[921,0,921,13],[886,2,886,3],[886,4,886,5],[900,2,900,4],[900,6,900,8],[901,2,901,4],[901,6,901,8],[862,2,862,3],[862,4,862,5],[868,2,868,3],[868,4,868,5],[874,0,874,13],[879,2,879,3],[879,4,879,5],[895,4,895,6],[896,4,896,6],[853,2,853,4],[853,6,853,8],[854,2,854,4],[854,6,854,8],[858,0,858,13],[821,2,821,3],[821,4,821,5],[827,0,827,13],[832,2,832,3],[832,4,832,5],[839,2,839,3],[839,4,839,5],[849,4,849,6],[848,4,848,6],[806,6,806,8],[807,2,807,4],[807,6,807,8],[811,0,811,13],[815,2,815,3],[815,4,815,5],[785,2,785,3],[785,4,785,5],[792,2,792,3],[792,4,792,5],[806,2,806,4],[801,4,801,6],[802,4,802,6],[764,0,764,13],[768,2,768,3],[768,4,768,5],[774,2,774,3],[774,4,774,5],[780,0,780,13],[745,2,745,3],[745,4,745,5],[759,2,759,4],[759,6,759,8],[760,2,760,4],[760,6,760,8],[754,4,754,6],[755,4,755,6],[721,2,721,3],[721,4,721,5],[727,2,727,3],[727,4,727,5],[733,0,733,13],[738,2,738,3],[738,4,738,5],[712,2,712,4],[712,6,712,8],[713,2,713,4],[713,6,713,8],[717,0,717,13],[680,2,680,3],[680,4,680,5],[686,0,686,13],[691,2,691,3],[691,4,691,5],[698,2,698,3],[698,4,698,5],[665,6,665,8],[666,2,666,4],[666,6,666,8],[670,0,670,13],[674,2,674,3],[674,4,674,5],[644,2,644,3],[644,4,644,5],[651,2,651,3],[651,4,651,5],[665,2,665,4],[623,0,623,13],[627,2,627,3],[627,4,627,5],[633,2,633,3],[633,4,633,5],[639,0,639,13],[660,4,660,6],[661,4,661,6],[604,2,604,3],[604,4,604,5],[618,2,618,4],[618,6,618,8],[619,2,619,4],[619,6,619,8],[580,2,580,3],[580,4,580,5],[586,2,586,3],[586,4,586,5],[592,0,592,13],[597,2,597,3],[597,4,597,5],[613,4,613,6],[614,4,614,6],[571,2,571,4],[571,6,571,8],[572,2,572,4],[572,6,572,8],[576,0,576,13],[539,2,539,3],[539,4,539,5],[545,0,545,13],[550,2,550,3],[550,4,550,5],[557,2,557,3],[557,4,557,5],[566,4,566,6],[567,4,567,6],[524,6,524,8],[525,2,525,4],[525,6,525,8],[529,0,529,13],[533,2,533,3],[533,4,533,5],[503,2,503,3],[503,4,503,5],[510,2,510,3],[510,4,510,5],[524,2,524,4],[519,4,519,6],[520,4,520,6],[482,0,482,13],[486,2,486,3],[486,4,486,5],[492,2,492,3],[492,4,492,5],[498,0,498,13],[463,2,463,3],[463,4,463,5],[477,2,477,4],[477,6,477,8],[478,2,478,4],[478,6,478,8],[439,2,439,3],[439,4,439,5],[445,2,445,3],[445,4,445,5],[451,0,451,13],[456,2,456,3],[456,4,456,5],[430,2,430,4],[430,6,430,8],[431,2,431,4],[431,6,431,8],[435,0,435,13],[398,2,398,3],[398,4,398,5],[404,0,404,13],[409,2,409,3],[409,4,409,5],[416,2,416,3],[416,4,416,5],[383,6,383,8],[384,2,384,4],[384,6,384,8],[388,0,388,13],[392,2,392,3],[392,4,392,5],[369,2,369,3],[369,4,369,5],[383,2,383,4],[341,0,341,13],[345,2,345,3],[345,4,345,5],[351,2,351,3],[351,4,351,5],[357,0,357,13],[378,4,378,6],[298,2,298,3],[298,4,298,5],[304,2,304,3],[304,4,304,5],[310,0,310,13],[315,2,315,3],[315,4,315,5],[331,4,331,6],[362,2,362,3],[362,4,362,5],[221,2,221,3],[221,4,221,5],[228,2,228,3],[228,4,228,5],[242,2,242,4],[289,2,289,4],[289,6,289,8],[290,2,290,4],[290,6,290,8],[257,2,257,3],[257,4,257,5],[263,0,263,13],[268,2,268,3],[268,4,268,5],[275,2,275,3],[275,4,275,5],[200,0,200,13],[204,2,204,3],[204,4,204,5],[210,2,210,3],[210,4,210,5],[216,0,216,13],[181,2,181,3],[181,4,181,5],[195,2,195,4],[195,6,195,8],[196,2,196,4],[196,6,196,8],[157,2,157,3],[157,4,157,5],[163,2,163,3],[163,4,163,5],[169,0,169,13],[174,2,174,3],[174,4,174,5],[148,2,148,4],[148,6,148,8],[149,2,149,4],[149,6,149,8],[153,0,153,13],[97,4,97,6],[116,2,116,3],[116,4,116,5],[122,0,122,13],[127,2,127,3],[127,4,127,5],[134,2,134,3],[134,4,134,5],[101,6,101,8],[102,2,102,4],[102,6,102,8],[106,0,106,13],[110,2,110,3],[110,4,110,5],[2,4,2,6],[3,4,3,6],[49,4,49,6],[50,4,50,6],[54,2,54,4],[54,6,54,8],[55,2,55,4],[55,6,55,8],[16,2,16,3],[16,4,16,5],[22,2,22,3],[22,4,22,5],[28,0,28,13],[33,2,33,3],[33,4,33,5],[143,4,143,6],[144,4,144,6],[190,4,190,6],[191,4,191,6],[237,4,237,6],[7,2,7,4],[7,6,7,8],[8,2,8,4],[8,6,8,8],[12,0,12,13],[40,2,40,3],[40,4,40,5],[80,2,80,3],[80,4,80,5],[87,2,87,3],[87,4,87,5],[101,2,101,4],[59,0,59,13],[63,2,63,3],[63,4,63,5],[69,2,69,3],[69,4,69,5],[75,0,75,13],[96,4,96,6],[707,4,707,6],[708,4,708,6],[238,4,238,6],[285,4,285,6],[332,4,332,6],[379,4,379,6],[426,4,426,6],[472,4,472,6],[473,4,473,6],[425,4,425,6],[284,4,284,6],[242,6,242,8],[243,2,243,4],[243,6,243,8],[247,0,247,13],[251,2,251,3],[251,4,251,5],[294,0,294,13],[322,2,322,3],[322,4,322,5],[336,2,336,4],[336,6,336,8],[337,2,337,4],[337,6,337,8]]}
[{"$f":"\"PUBLICACIÓN DE RESULTADOS: ENVÍO \" & N1","v":"PUBLICACIÓN DE RESULTADOS: ENVÍO 1"},null,null,null,null,null,null,null,null,null,null,null,null,{"$f":"(ROW(A1)-1)/47+1","v":1}]
[]
[null,"Cliente del envío",null,null,{"$f":"SHEETOFFSET(-1,INDIRECT(\"B\"&16+N1))","v":0}]
[null,"Denominación del envío",null,null,{"$f":"SHEETOFFSET(-1,INDIRECT(\"C\"&16+N1))","v":0}]
[]
[null,"Trayecto del que se compone el servicio de transporte"]
[]
[null,null,"Denominación del origen",null,null,null,"Denominación del destino"]
[null,"Trayecto 1:",{"$f":"SHEETOFFSET(-1,INDIRECT(\"D\"&16+N1))","v":0},null,null,"a",{"$f":"SHEETOFFSET(-1,INDIRECT(\"E\"&16+N1))","v":0}]
[]
[]
[]
["CONSUMO ENERGÉTICO Y EMISIONES DE GEI DEL SERVICIO DE TRANSPORTE, DE ACUERDO AL ALCANCE DE LA NORMA EN 16258"]
[]
[null,"Consumo energético (MJ)"]
[]
[null,null,"\"Del tanque a la rueda\" (TtW)",null,"\"Del pozo a la rueda\" (WtW)"]
[null,"Trayecto 1:",{"$f":"SHEETOFFSET(-1,INDIRECT(\"AE\"&16+N1))","v":0},"MJ",{"$f":"SHEETOFFSET(-1,INDIRECT(\"AF\"&16+N1))","v":0},"MJ"]
[null,"TOTAL",{"$f":"SUM(C18:C18)","v":0},"MJ",{"$f":"SUM(E18:E18)","v":0},"MJ"]
[]
[null,"Emisiones de GEI (kgCO2e)"]
[]
[null,null,"\"Del tanque a la rueda\" (TtW)",null,"\"Del pozo a la rueda\" (WtW)"]
[null,"Trayecto 1:",{"$f":"SHEETOFFSET(-1,INDIRECT(\"AG\"&16+N1))","v":0},"kg CO2e",{"$f":"SHEETOFFSET(-1,INDIRECT(\"AH\"&16+N1))","v":0},"kg CO2e"]
[null,"TOTAL",{"$f":"SUM(C24:C24)","v":0},"kg CO2e",{"$f":"SUM(E24:E24)","v":0},"kg CO2e"]
[]
[]
[]
["CONSUMO ENERGÉTICO Y EMISIONES DE GEI DEL SERVICIO DE TRANSPORTE. INFORMACIÓN ADICIONAL"]
[]
[]
[null,"Consumo energético (MJ)"]
[]
[null,null,"\"Del tanque a la rueda\" (TtW)",null,"\"Del pozo a la rueda\" (WtW)"]
[null,"Trayecto 1:",{"$f":"SHEETOFFSET(-1,INDIRECT(\"AA\"&16+N1))","v":0},"MJ",{"$f":"SHEETOFFSET(-1,INDIRECT(\"AB\"&16+N1))","v":0},"MJ"]
[null,"TOTAL",{"$f":"SUM(C35:C35)","v":0},"MJ",{"$f":"SUM(E35:E35)","v":0},"MJ"]
[]
[]
[null,"Emisiones de GEI (kgCO2e)"]
[]
[null,null,"\"Del tanque a la rueda\" (TtW)",null,"\"Del pozo a la rueda\" (WtW)"]
[null,"Trayecto 1:",{"$f":"SHEETOFFSET(-1,INDIRECT(\"AC\"&16+N1))","v":0},"kg CO2e",{"$f":"SHEETOFFSET(-1,INDIRECT(\"AD\"&16+N1))","v":0},"kg CO2e"]
[null,"TOTAL",{"$f":"SUM(C42:C42)","v":0},"kg CO2e",{"$f":"SUM(E42:E42)","v":0},"kg CO2e"]
[]
[]
[]
[]
[{"$f":"\"PUBLICACIÓN DE RESULTADOS: ENVÍO \" & N48","v":"PUBLICACIÓN DE RESULTADOS: ENVÍO 2"},null,null,null,null,null,null,null,null,null,null,null,null,{"$f":"(ROW(A48)-1)/47+1","v":2}]
[]
[null,"Cliente del envío",null,null,{"$f":"SHEETOFFSET(-1,INDIRECT(\"B\"&16+N48))","v":0}]
[null,"Denominación del envío",null,null,{"$f":"SHEETOFFSET(-1,INDIRECT(\"C\"&16+N49))","v":0}]
[]
[null,"Trayecto del que se compone el servicio de transporte"]
[]
[null,null,"Denominación del origen",null,null,null,"Denominación del destino"]
[null,"Trayecto 1:",{"$f":"SHEETOFFSET(-1,INDIRECT(\"D\"&16+N48))","v":0},null,null,"a",{"$f":"SHEETOFFSET(-1,INDIRECT(\"E\"&16+N48))","v":0}]
[]
[]
[]
["CONSUMO ENERGÉTICO Y EMISIONES DE GEI DEL SERVICIO DE TRANSPORTE, DE ACUERDO AL ALCANCE DE LA NORMA EN 16258"]
[]
[null,"Consumo energético (MJ)"]
[]
[null,null,"\"Del tanque a la rueda\" (TtW)",null,"\"Del pozo a la rueda\" (WtW)"]
[null,"Trayecto 1:",{"$f":"SHEETOFFSET(-1,INDIRECT(\"AE\"&16+N48))","v":0},"MJ",{"$f":"SHEETOFFSET(-1,INDIRECT(\"AF\"&16+N48))","v":0},"MJ"]
[null,"TOTAL",{"$f":"SUM(C65:C65)","v":0},"MJ",{"$f":"SUM(E65:E65)","v":0},"MJ"]
[]
[null,"Emisiones de GEI (kgCO2e)"]
[]
[null,null,"\"Del tanque a la rueda\" (TtW)",null,"\"Del pozo a la rueda\" (WtW)"]
[null,"Trayecto 1:",{"$f":"SHEETOFFSET(-1,INDIRECT(\"AG\"&16+N48))","v":0},"kg CO2e",{"$f":"SHEETOFFSET(-1,INDIRECT(\"AH\"&16+N48))","v":0},"kg CO2e"]
[null,"TOTAL",{"$f":"SUM(C71:C71)","v":0},"kg CO2e",{"$f":"SUM(E71:E71)","v":0},"kg CO2e"]
[]
[]
[]
["CONSUMO ENERGÉTICO Y EMISIONES DE GEI DEL SERVICIO DE TRANSPORTE. INFORMACIÓN ADICIONAL"]
[]
[]
[null,"Consumo energético (MJ)"]
[]
[null,null,"\"Del tanque a la rueda\" (TtW)",null,"\"Del pozo a la rueda\" (WtW)"]
[null,"Trayecto 1:",{"$f":"SHEETOFFSET(-1,INDIRECT(\"AA\"&16+N48))","v":0},"MJ",{"$f":"SHEETOFFSET(-1,INDIRECT(\"AB\"&16+N48))","v":0},"MJ"]
[null,"TOTAL",{"$f":"SUM(C82:C82)","v":0},"MJ",{"$f":"SUM(E82:E82)","v":0},"MJ"]
[]
[]
[null,"Emisiones de GEI (kgCO2e)"]
[]
[null,null,"\"Del tanque a la rueda\" (TtW)",null,"\"Del pozo a la rueda\" (WtW)"]
[null,"Trayecto 1:",{"$f":"SHEETOFFSET(-1,INDIRECT(\"AC\"&16+N48))","v":0},"kg CO2e",{"$f":"SHEETOFFSET(-1,INDIRECT(\"AD\"&16+N48))","v":0},"kg CO2e"]
[null,"TOTAL",{"$f":"SUM(C89:C89)","v":0},"kg CO2e",{"$f":"SUM(E89:E89)","v":0},"kg CO2e"]
[]
[]
[]
[]
[{"$f":"\"PUBLICACIÓN DE RESULTADOS: ENVÍO \" & N95","v":"PUBLICACIÓN DE RESULTADOS: ENVÍO 3"},null,null,null,null,null,null,null,null,null,null,null,null,{"$f":"(ROW(A95)-1)/47+1","v":3}]
[]
[null,"Cliente del envío",null,null,{"$f":"SHEETOFFSET(-1,INDIRECT(\"B\"&16+N95))","v":0}]
[null,"Denominación del envío",null,null,{"$f":"SHEETOFFSET(-1,INDIRECT(\"C\"&16+N96))","v":0}]
[]
[null,"Trayecto del que se compone el servicio de transporte"]
[]
[null,null,"Denominación del origen",null,null,null,"Denominación del destino"]
[null,"Trayecto 1:",{"$f":"SHEETOFFSET(-1,INDIRECT(\"D\"&16+N95))","v":0},null,null,"a",{"$f":"SHEETOFFSET(-1,INDIRECT(\"E\"&16+N95))","v":0}]
[]
[]
[]
["CONSUMO ENERGÉTICO Y EMISIONES DE GEI DEL SERVICIO DE TRANSPORTE, DE ACUERDO AL ALCANCE DE LA NORMA EN 16258"]
[]
[null,"Consumo energético (MJ)"]
[]
[null,null,"\"Del tanque a la rueda\" (TtW)",null,"\"Del pozo a la rueda\" (WtW)"]
[null,"Trayecto 1:",{"$f":"SHEETOFFSET(-1,INDIRECT(\"AE\"&16+N95))","v":0},"MJ",{"$f":"SHEETOFFSET(-1,INDIRECT(\"AF\"&16+N95))","v":0},"MJ"]
[null,"TOTAL",{"$f":"SUM(C112:C112)","v":0},"MJ",{"$f":"SUM(E112:E112)","v":0},"MJ"]
[]
[null,"Emisiones de GEI (kgCO2e)"]
[]
[null,null,"\"Del tanque a la rueda\" (TtW)",null,"\"Del pozo a la rueda\" (WtW)"]
[null,"Trayecto 1:",{"$f":"SHEETOFFSET(-1,INDIRECT(\"AG\"&16+N95))","v":0},"kg CO2e",{"$f":"SHEETOFFSET(-1,INDIRECT(\"AH\"&16+N95))","v":0},"kg CO2e"]
[null,"TOTAL",{"$f":"SUM(C118:C118)","v":0},"kg CO2e",{"$f":"SUM(E118:E118)","v":0},"kg CO2e"]
[]
[]
[]
["CONSUMO ENERGÉTICO Y EMISIONES DE GEI DEL SERVICIO DE TRANSPORTE. INFORMACIÓN ADICIONAL"]
[]
[]
[null,"Consumo energético (MJ)"]
[]
[null,null,"\"Del tanque a la rueda\" (TtW)",null,"\"Del pozo a la rueda\" (WtW)"]
[null,"Trayecto 1:",{"$f":"SHEETOFFSET(-1,INDIRECT(\"AA\"&16+N95))","v":0},"MJ",{"$f":"SHEETOFFSET(-1,INDIRECT(\"AB\"&16+N95))","v":0},"MJ"]
[null,"TOTAL",{"$f":"SUM(C129:C129)","v":0},"MJ",{"$f":"SUM(E129:E129)","v":0},"MJ"]
[]
[]
[null,"Emisiones de GEI (kgCO2e)"]
[]
[null,null,"\"Del tanque a la rueda\" (TtW)",null,"\"Del pozo a la rueda\" (WtW)"]
[null,"Trayecto 1:",{"$f":"SHEETOFFSET(-1,INDIRECT(\"AC\"&16+N95))","v":0},"kg CO2e",{"$f":"SHEETOFFSET(-1,INDIRECT(\"AD\"&16+N95))","v":0},"kg CO2e"]
[null,"TOTAL",{"$f":"SUM(C136:C136)","v":0},"kg CO2e",{"$f":"SUM(E136:E136)","v":0},"kg CO2e"]
[]
[]
[]
[]
[{"$f":"\"PUBLICACIÓN DE RESULTADOS: ENVÍO \" & N142","v":"PUBLICACIÓN DE RESULTADOS: ENVÍO 4"},null,null,null,null,null,null,null,null,null,null,null,null,{"$f":"(ROW(A142)-1)/47+1","v":4}]
[]
[null,"Cliente del envío",null,null,{"$f":"SHEETOFFSET(-1,INDIRECT(\"B\"&16+N142))","v":0}]
[null,"Denominación del envío",null,null,{"$f":"SHEETOFFSET(-1,INDIRECT(\"C\"&16+N143))","v":0}]
[]
[null,"Trayecto del que se compone el servicio de transporte"]
[]
[null,null,"Denominación del origen",null,null,null,"Denominación del destino"]
[null,"Trayecto 1:",{"$f":"SHEETOFFSET(-1,INDIRECT(\"D\"&16+N142))","v":0},null,null,"a",{"$f":"SHEETOFFSET(-1,INDIRECT(\"E\"&16+N142))","v":0}]
[]
[]
[]
["CONSUMO ENERGÉTICO Y EMISIONES DE GEI DEL SERVICIO DE TRANSPORTE, DE ACUERDO AL ALCANCE DE LA NORMA EN 16258"]
[]
[null,"Consumo energético (MJ)"]
[]
[null,null,"\"Del tanque a la rueda\" (TtW)",null,"\"Del pozo a la rueda\" (WtW)"]
[null,"Trayecto 1:",{"$f":"SHEETOFFSET(-1,INDIRECT(\"AE\"&16+N142))","v":0},"MJ",{"$f":"SHEETOFFSET(-1,INDIRECT(\"AF\"&16+N142))","v":0},"MJ"]
[null,"TOTAL",{"$f":"SUM(C159:C159)","v":0},"MJ",{"$f":"SUM(E159:E159)","v":0},"MJ"]
[]
[null,"Emisiones de GEI (kgCO2e)"]
[]
[null,null,"\"Del tanque a la rueda\" (TtW)",null,"\"Del pozo a la rueda\" (WtW)"]
[null,"Trayecto 1:",{"$f":"SHEETOFFSET(-1,INDIRECT(\"AG\"&16+N142))","v":0},"kg CO2e",{"$f":"SHEETOFFSET(-1,INDIRECT(\"AH\"&16+N142))","v":0},"kg CO2e"]
[null,"TOTAL",{"$f":"SUM(C165:C165)","v":0},"kg CO2e",{"$f":"SUM(E165:E165)","v":0},"kg CO2e"]
[]
[]
[]
["CONSUMO ENERGÉTICO Y EMISIONES DE GEI DEL SERVICIO DE TRANSPORTE. INFORMACIÓN ADICIONAL"]
[]
[]
[null,"Consumo energético (MJ)"]
[]
[null,null,"\"Del tanque a la rueda\" (TtW)",null,"\"Del pozo a la rueda\" (WtW)"]
[null,"Trayecto 1:",{"$f":"SHEETOFFSET(-1,INDIRECT(\"AA\"&16+N142))","v":0},"MJ",{"$f":"SHEETOFFSET(-1,INDIRECT(\"AB\"&16+N142))","v":0},"MJ"]
[null,"TOTAL",{"$f":"SUM(C176:C176)","v":0},"MJ",{"$f":"SUM(E176:E176)","v":0},"MJ"]
[]
[]
[null,"Emisiones de GEI (kgCO2e)"]
[]
[null,null,"\"Del tanque a la rueda\" (TtW)",null,"\"Del pozo a la rueda\" (WtW)"]
[null,"Trayecto 1:",{"$f":"SHEETOFFSET(-1,INDIRECT(\"AC\"&16+N142))","v":0},"kg CO2e",{"$f":"SHEETOFFSET(-1,INDIRECT(\"AD\"&16+N142))","v":0},"kg CO2e"]
[null,"TOTAL",{"$f":"SUM(C183:C183)","v":0},"kg CO2e",{"$f":"SUM(E183:E183)","v":0},"kg CO2e"]
[]
[]
[]
[]
[{"$f":"\"PUBLICACIÓN DE RESULTADOS: ENVÍO \" & N189","v":"PUBLICACIÓN DE RESULTADOS: ENVÍO 5"},null,null,null,null,null,null,null,null,null,null,null,null,{"$f":"(ROW(A189)-1)/47+1","v":5}]
[]
[null,"Cliente del envío",null,null,{"$f":"SHEETOFFSET(-1,INDIRECT(\"B\"&16+N189))","v":0}]
[null,"Denominación del envío",null,null,{"$f":"SHEETOFFSET(-1,INDIRECT(\"C\"&16+N190))","v":0}]
[]
[null,"Trayecto del que se compone el servicio de transporte"]
[]
[null,null,"Denominación del origen",null,null,null,"Denominación del destino"]
[null,"Trayecto 1:",{"$f":"SHEETOFFSET(-1,INDIRECT(\"D\"&16+N189))","v":0},null,null,"a",{"$f":"SHEETOFFSET(-1,INDIRECT(\"E\"&16+N189))","v":0}]
[]
[]
[]
["CONSUMO ENERGÉTICO Y EMISIONES DE GEI DEL SERVICIO DE TRANSPORTE, DE ACUERDO AL ALCANCE DE LA NORMA EN 16258"]
[]
[null,"Consumo energético (MJ)"]
[]
[null,null,"\"Del tanque a la rueda\" (TtW)",null,"\"Del pozo a la rueda\" (WtW)"]
[null,"Trayecto 1:",{"$f":"SHEETOFFSET(-1,INDIRECT(\"AE\"&16+N189))","v":0},"MJ",{"$f":"SHEETOFFSET(-1,INDIRECT(\"AF\"&16+N189))","v":0},"MJ"]
[null,"TOTAL",{"$f":"SUM(C206:C206)","v":0},"MJ",{"$f":"SUM(E206:E206)","v":0},"MJ"]
[]
[null,"Emisiones de GEI (kgCO2e)"]
[]
[null,null,"\"Del tanque a la rueda\" (TtW)",null,"\"Del pozo a la rueda\" (WtW)"]
[null,"Trayecto 1:",{"$f":"SHEETOFFSET(-1,INDIRECT(\"AG\"&16+N189))","v":0},"kg CO2e",{"$f":"SHEETOFFSET(-1,INDIRECT(\"AH\"&16+N189))","v":0},"kg CO2e"]
[null,"TOTAL",{"$f":"SUM(C212:C212)","v":0},"kg CO2e",{"$f":"SUM(E212:E212)","v":0},"kg CO2e"]
[]
[]
[]
["CONSUMO ENERGÉTICO Y EMISIONES DE GEI DEL SERVICIO DE TRANSPORTE. INFORMACIÓN ADICIONAL"]
[]
[]
[null,"Consumo energético (MJ)"]
[]
[null,null,"\"Del tanque a la rueda\" (TtW)",null,"\"Del pozo a la rueda\" (WtW)"]
[null,"Trayecto 1:",{"$f":"SHEETOFFSET(-1,INDIRECT(\"AA\"&16+N189))","v":0},"MJ",{"$f":"SHEETOFFSET(-1,INDIRECT(\"AB\"&16+N189))","v":0},"MJ"]
[null,"TOTAL",{"$f":"SUM(C223:C223)","v":0},"MJ",{"$f":"SUM(E223:E223)","v":0},"MJ"]
[]
[]
[null,"Emisiones de GEI (kgCO2e)"]
[]
[null,null,"\"Del tanque a la rueda\" (TtW)",null,"\"Del pozo a la rueda\" (WtW)"]
[null,"Trayecto 1:",{"$f":"SHEETOFFSET(-1,INDIRECT(\"AC\"&16+N189))","v":0},"kg CO2e",{"$f":"SHEETOFFSET(-1,INDIRECT(\"AD\"&16+N189))","v":0},"kg CO2e"]
[null,"TOTAL",{"$f":"SUM(C230:C230)","v":0},"kg CO2e",{"$f":"SUM(E230:E230)","v":0},"kg CO2e"]
[]
[]
[]
[]
[{"$f":"\"PUBLICACIÓN DE RESULTADOS: ENVÍO \" & N136","v":"PUBLICACIÓN DE RESULTADOS: ENVÍO "},null,null,null,null,null,null,null,null,null,null,null,null,{"$f":"(ROW(A236)-1)/47+1","v":6}]
[]
[null,"Cliente del envío",null,null,{"$f":"SHEETOFFSET(-1,INDIRECT(\"B\"&16+N136))","v":"Tipo de combustible"}]
[null,"Denominación del envío",null,null,{"$f":"SHEETOFFSET(-1,INDIRECT(\"C\"&16+N137))","v":0}]
[]
[null,"Trayecto del que se compone el servicio de transporte"]
[]
[null,null,"Denominación del origen",null,null,null,"Denominación del destino"]
[null,"Trayecto 1:",{"$f":"SHEETOFFSET(-1,INDIRECT(\"D\"&16+N136))","v":0},null,null,"a",{"$f":"SHEETOFFSET(-1,INDIRECT(\"E\"&16+N136))","v":0}]
[]
[]
[]
["CONSUMO ENERGÉTICO Y EMISIONES DE GEI DEL SERVICIO DE TRANSPORTE, DE ACUERDO AL ALCANCE DE LA NORMA EN 16258"]
[]
[null,"Consumo energético (MJ)"]
[]
[null,null,"\"Del tanque a la rueda\" (TtW)",null,"\"Del pozo a la rueda\" (WtW)"]
[null,"Trayecto 1:",{"$f":"SHEETOFFSET(-1,INDIRECT(\"AE\"&16+N136))","v":0},"MJ",{"$f":"SHEETOFFSET(-1,INDIRECT(\"AF\"&16+N136))","v":0},"MJ"]
[null,"TOTAL",{"$f":"SUM(C253:C253)","v":0},"MJ",{"$f":"SUM(E253:E253)","v":0},"MJ"]
[]
[null,"Emisiones de GEI (kgCO2e)"]
[]
[null,null,"\"Del tanque a la rueda\" (TtW)",null,"\"Del pozo a la rueda\" (WtW)"]
[null,"Trayecto 1:",{"$f":"SHEETOFFSET(-1,INDIRECT(\"AG\"&16+N136))","v":0},"kg CO2e",{"$f":"SHEETOFFSET(-1,INDIRECT(\"AH\"&16+N136))","v":0},"kg CO2e"]
[null,"TOTAL",{"$f":"SUM(C259:C259)","v":0},"kg CO2e",{"$f":"SUM(E259:E259)","v":0},"kg CO2e"]
[]
[]
[]
["CONSUMO ENERGÉTICO Y EMISIONES DE GEI DEL SERVICIO DE TRANSPORTE. INFORMACIÓN ADICIONAL"]
[]
[]
[null,"Consumo energético (MJ)"]
[]
[null,null,"\"Del tanque a la rueda\" (TtW)",null,"\"Del pozo a la rueda\" (WtW)"]
[null,"Trayecto 1:",{"$f":"SHEETOFFSET(-1,INDIRECT(\"AA\"&16+N136))","v":0},"MJ",{"$f":"SHEETOFFSET(-1,INDIRECT(\"AB\"&16+N136))","v":0},"MJ"]
[null,"TOTAL",{"$f":"SUM(C270:C270)","v":0},"MJ",{"$f":"SUM(E270:E270)","v":0},"MJ"]
[]
[]
[null,"Emisiones de GEI (kgCO2e)"]
[]
[null,null,"\"Del tanque a la rueda\" (TtW)",null,"\"Del pozo a la rueda\" (WtW)"]
[null,"Trayecto 1:",{"$f":"SHEETOFFSET(-1,INDIRECT(\"AC\"&16+N136))","v":0},"kg CO2e",{"$f":"SHEETOFFSET(-1,INDIRECT(\"AD\"&16+N136))","v":0},"kg CO2e"]
[null,"TOTAL",{"$f":"SUM(C277:C277)","v":0},"kg CO2e",{"$f":"SUM(E277:E277)","v":0},"kg CO2e"]
[]
[]
[]
[]
[{"$f":"\"PUBLICACIÓN DE RESULTADOS: ENVÍO \" & N183","v":"PUBLICACIÓN DE RESULTADOS: ENVÍO "},null,null,null,null,null,null,null,null,null,null,null,null,{"$f":"(ROW(A283)-1)/47+1","v":7}]
[]
[null,"Cliente del envío",null,null,{"$f":"SHEETOFFSET(-1,INDIRECT(\"B\"&16+N183))","v":"Tipo de combustible"}]
[null,"Denominación del envío",null,null,{"$f":"SHEETOFFSET(-1,INDIRECT(\"C\"&16+N184))","v":0}]
[]
[null,"Trayecto del que se compone el servicio de transporte"]
[]
[null,null,"Denominación del origen",null,null,null,"Denominación del destino"]
[null,"Trayecto 1:",{"$f":"SHEETOFFSET(-1,INDIRECT(\"D\"&16+N183))","v":0},null,null,"a",{"$f":"SHEETOFFSET(-1,INDIRECT(\"E\"&16+N183))","v":0}]
[]
[]
[]
["CONSUMO ENERGÉTICO Y EMISIONES DE GEI DEL SERVICIO DE TRANSPORTE, DE ACUERDO AL ALCANCE DE LA NORMA EN 16258"]
[]
[null,"Consumo energético (MJ)"]
[]
[null,null,"\"Del tanque a la rueda\" (TtW)",null,"\"Del pozo a la rueda\" (WtW)"]
[null,"Trayecto 1:",{"$f":"SHEETOFFSET(-1,INDIRECT(\"AE\"&16+N183))","v":0},"MJ",{"$f":"SHEETOFFSET(-1,INDIRECT(\"AF\"&16+N183))","v":0},"MJ"]
[null,"TOTAL",{"$f":"SUM(C300:C300)","v":0},"MJ",{"$f":"SUM(E300:E300)","v":0},"MJ"]
[]
[null,"Emisiones de GEI (kgCO2e)"]
[]
[null,null,"\"Del tanque a la rueda\" (TtW)",null,"\"Del pozo a la rueda\" (WtW)"]
[null,"Trayecto 1:",{"$f":"SHEETOFFSET(-1,INDIRECT(\"AG\"&16+N183))","v":0},"kg CO2e",{"$f":"SHEETOFFSET(-1,INDIRECT(\"AH\"&16+N183))","v":0},"kg CO2e"]
[null,"TOTAL",{"$f":"SUM(C306:C306)","v":0},"kg CO2e",{"$f":"SUM(E306:E306)","v":0},"kg CO2e"]
[]
[]
[]
["CONSUMO ENERGÉTICO Y EMISIONES DE GEI DEL SERVICIO DE TRANSPORTE. INFORMACIÓN ADICIONAL"]
[]
[]
[null,"Consumo energético (MJ)"]
[]
[null,null,"\"Del tanque a la rueda\" (TtW)",null,"\"Del pozo a la rueda\" (WtW)"]
[null,"Trayecto 1:",{"$f":"SHEETOFFSET(-1,INDIRECT(\"AA\"&16+N183))","v":0},"MJ",{"$f":"SHEETOFFSET(-1,INDIRECT(\"AB\"&16+N183))","v":0},"MJ"]
[null,"TOTAL",{"$f":"SUM(C317:C317)","v":0},"MJ",{"$f":"SUM(E317:E317)","v":0},"MJ"]
[]
[]
[null,"Emisiones de GEI (kgCO2e)"]
[]
[null,null,"\"Del tanque a la rueda\" (TtW)",null,"\"Del pozo a la rueda\" (WtW)"]
[null,"Trayecto 1:",{"$f":"SHEETOFFSET(-1,INDIRECT(\"AC\"&16+N183))","v":0},"kg CO2e",{"$f":"SHEETOFFSET(-1,INDIRECT(\"AD\"&16+N183))","v":0},"kg CO2e"]
[null,"TOTAL",{"$f":"SUM(C324:C324)","v":0},"kg CO2e",{"$f":"SUM(E324:E324)","v":0},"kg CO2e"]
[]
[]
[]
[]
[{"$f":"\"PUBLICACIÓN DE RESULTADOS: ENVÍO \" & N330","v":"PUBLICACIÓN DE RESULTADOS: ENVÍO 8"},null,null,null,null,null,null,null,null,null,null,null,null,{"$f":"(ROW(A330)-1)/47+1","v":8}]
[]
[null,"Cliente del envío",null,null,{"$f":"SHEETOFFSET(-1,INDIRECT(\"B\"&16+N330))","v":0}]
[null,"Denominación del envío",null,null,{"$f":"SHEETOFFSET(-1,INDIRECT(\"C\"&16+N331))","v":0}]
[]
[null,"Trayecto del que se compone el servicio de transporte"]
[]
[null,null,"Denominación del origen",null,null,null,"Denominación del destino"]
[null,"Trayecto 1:",{"$f":"SHEETOFFSET(-1,INDIRECT(\"D\"&16+N330))","v":0},null,null,"a",{"$f":"SHEETOFFSET(-1,INDIRECT(\"E\"&16+N330))","v":0}]
[]
[]
[]
["CONSUMO ENERGÉTICO Y EMISIONES DE GEI DEL SERVICIO DE TRANSPORTE, DE ACUERDO AL ALCANCE DE LA NORMA EN 16258"]
[]
[null,"Consumo energético (MJ)"]
[]
[null,null,"\"Del tanque a la rueda\" (TtW)",null,"\"Del pozo a la rueda\" (WtW)"]
[null,"Trayecto 1:",{"$f":"SHEETOFFSET(-1,INDIRECT(\"AE\"&16+N330))","v":0},"MJ",{"$f":"SHEETOFFSET(-1,INDIRECT(\"AF\"&16+N330))","v":0},"MJ"]
[null,"TOTAL",{"$f":"SUM(C347:C347)","v":0},"MJ",{"$f":"SUM(E347:E347)","v":0},"MJ"]
[]
[null,"Emisiones de GEI (kgCO2e)"]
[]
[null,null,"\"Del tanque a la rueda\" (TtW)",null,"\"Del pozo a la rueda\" (WtW)"]
[null,"Trayecto 1:",{"$f":"SHEETOFFSET(-1,INDIRECT(\"AG\"&16+N330))","v":0},"kg CO2e",{"$f":"SHEETOFFSET(-1,INDIRECT(\"AH\"&16+N330))","v":0},"kg CO2e"]
[null,"TOTAL",{"$f":"SUM(C353:C353)","v":0},"kg CO2e",{"$f":"SUM(E353:E353)","v":0},"kg CO2e"]
[]
[]
[]
["CONSUMO ENERGÉTICO Y EMISIONES DE GEI DEL SERVICIO DE TRANSPORTE. INFORMACIÓN ADICIONAL"]
[]
[]
[null,"Consumo energético (MJ)"]
[]
[null,null,"\"Del tanque a la rueda\" (TtW)",null,"\"Del pozo a la rueda\" (WtW)"]
[null,"Trayecto 1:",{"$f":"SHEETOFFSET(-1,INDIRECT(\"AA\"&16+N330))","v":0},"MJ",{"$f":"SHEETOFFSET(-1,INDIRECT(\"AB\"&16+N330))","v":0},"MJ"]
[null,"TOTAL",{"$f":"SUM(C364:C364)","v":0},"MJ",{"$f":"SUM(E364:E364)","v":0},"MJ"]
[]
[]
[null,"Emisiones de GEI (kgCO2e)"]
[]
[null,null,"\"Del tanque a la rueda\" (TtW)",null,"\"Del pozo a la rueda\" (WtW)"]
[null,"Trayecto 1:",{"$f":"SHEETOFFSET(-1,INDIRECT(\"AC\"&16+N330))","v":0},"kg CO2e",{"$f":"SHEETOFFSET(-1,INDIRECT(\"AD\"&16+N330))","v":0},"kg CO2e"]
[null,"TOTAL",{"$f":"SUM(C371:C371)","v":0},"kg CO2e",{"$f":"SUM(E371:E371)","v":0},"kg CO2e"]
[]
[]
[]
[]
[{"$f":"\"PUBLICACIÓN DE RESULTADOS: ENVÍO \" & N377","v":"PUBLICACIÓN DE RESULTADOS: ENVÍO 9"},null,null,null,null,null,null,null,null,null,null,null,null,{"$f":"(ROW(A377)-1)/47+1","v":9}]
[]
[null,"Cliente del envío",null,null,{"$f":"SHEETOFFSET(-1,INDIRECT(\"B\"&16+N377))","v":0}]
[null,"Denominación del envío",null,null,{"$f":"SHEETOFFSET(-1,INDIRECT(\"C\"&16+N378))","v":0}]
[]
[null,"Trayecto del que se compone el servicio de transporte"]
[]
[null,null,"Denominación del origen",null,null,null,"Denominación del destino"]
[null,"Trayecto 1:",{"$f":"SHEETOFFSET(-1,INDIRECT(\"D\"&16+N377))","v":0},null,null,"a",{"$f":"SHEETOFFSET(-1,INDIRECT(\"E\"&16+N377))","v":0}]
[]
[]
[]
["CONSUMO ENERGÉTICO Y EMISIONES DE GEI DEL SERVICIO DE TRANSPORTE, DE ACUERDO AL ALCANCE DE LA NORMA EN 16258"]
[]
[null,"Consumo energético (MJ)"]
[]
[null,null,"\"Del tanque a la rueda\" (TtW)",null,"\"Del pozo a la rueda\" (WtW)"]
[null,"Trayecto 1:",{"$f":"SHEETOFFSET(-1,INDIRECT(\"AE\"&16+N377))","v":0},"MJ",{"$f":"SHEETOFFSET(-1,INDIRECT(\"AF\"&16+N377))","v":0},"MJ"]
[null,"TOTAL",{"$f":"SUM(C394:C394)","v":0},"MJ",{"$f":"SUM(E394:E394)","v":0},"MJ"]
[]
[null,"Emisiones de GEI (kgCO2e)"]
[]
[null,null,"\"Del tanque a la rueda\" (TtW)",null,"\"Del pozo a la rueda\" (WtW)"]
[null,"Trayecto 1:",{"$f":"SHEETOFFSET(-1,INDIRECT(\"AG\"&16+N377))","v":0},"kg CO2e",{"$f":"SHEETOFFSET(-1,INDIRECT(\"AH\"&16+N377))","v":0},"kg CO2e"]
[null,"TOTAL",{"$f":"SUM(C400:C400)","v":0},"kg CO2e",{"$f":"SUM(E400:E400)","v":0},"kg CO2e"]
[]
[]
[]
["CONSUMO ENERGÉTICO Y EMISIONES DE GEI DEL SERVICIO DE TRANSPORTE. INFORMACIÓN ADICIONAL"]
[]
[]
[null,"Consumo energético (MJ)"]
[]
[null,null,"\"Del tanque a la rueda\" (TtW)",null,"\"Del pozo a la rueda\" (WtW)"]
[null,"Trayecto 1:",{"$f":"SHEETOFFSET(-1,INDIRECT(\"AA\"&16+N377))","v":0},"MJ",{"$f":"SHEETOFFSET(-1,INDIRECT(\"AB\"&16+N377))","v":0},"MJ"]
[null,"TOTAL",{"$f":"SUM(C411:C411)","v":0},"MJ",{"$f":"SUM(E411:E411)","v":0},"MJ"]
[]
[]
[null,"Emisiones de GEI (kgCO2e)"]
[]
[null,null,"\"Del tanque a la rueda\" (TtW)",null,"\"Del pozo a la rueda\" (WtW)"]
[null,"Trayecto 1:",{"$f":"SHEETOFFSET(-1,INDIRECT(\"AC\"&16+N377))","v":0},"kg CO2e",{"$f":"SHEETOFFSET(-1,INDIRECT(\"AD\"&16+N377))","v":0},"kg CO2e"]
[null,"TOTAL",{"$f":"SUM(C418:C418)","v":0},"kg CO2e",{"$f":"SUM(E418:E418)","v":0},"kg CO2e"]
[]
[]
[]
[]
[{"$f":"\"PUBLICACIÓN DE RESULTADOS: ENVÍO \" & N424","v":"PUBLICACIÓN DE RESULTADOS: ENVÍO 10"},null,null,null,null,null,null,null,null,null,null,null,null,{"$f":"(ROW(A424)-1)/47+1","v":10}]
[]
[null,"Cliente del envío",null,null,{"$f":"SHEETOFFSET(-1,INDIRECT(\"B\"&16+N424))","v":0}]
[null,"Denominación del envío",null,null,{"$f":"SHEETOFFSET(-1,INDIRECT(\"C\"&16+N425))","v":0}]
[]
[null,"Trayecto del que se compone el servicio de transporte"]
[]
[null,null,"Denominación del origen",null,null,null,"Denominación del destino"]
[null,"Trayecto 1:",{"$f":"SHEETOFFSET(-1,INDIRECT(\"D\"&16+N424))","v":0},null,null,"a",{"$f":"SHEETOFFSET(-1,INDIRECT(\"E\"&16+N424))","v":0}]
[]
[]
[]
["CONSUMO ENERGÉTICO Y EMISIONES DE GEI DEL SERVICIO DE TRANSPORTE, DE ACUERDO AL ALCANCE DE LA NORMA EN 16258"]
[]
[null,"Consumo energético (MJ)"]
[]
[null,null,"\"Del tanque a la rueda\" (TtW)",null,"\"Del pozo a la rueda\" (WtW)"]
[null,"Trayecto 1:",{"$f":"SHEETOFFSET(-1,INDIRECT(\"AE\"&16+N424))","v":0},"MJ",{"$f":"SHEETOFFSET(-1,INDIRECT(\"AF\"&16+N424))","v":0},"MJ"]
[null,"TOTAL",{"$f":"SUM(C441:C441)","v":0},"MJ",{"$f":"SUM(E441:E441)","v":0},"MJ"]
[]
[null,"Emisiones de GEI (kgCO2e)"]
[]
[null,null,"\"Del tanque a la rueda\" (TtW)",null,"\"Del pozo a la rueda\" (WtW)"]
[null,"Trayecto 1:",{"$f":"SHEETOFFSET(-1,INDIRECT(\"AG\"&16+N424))","v":0},"kg CO2e",{"$f":"SHEETOFFSET(-1,INDIRECT(\"AH\"&16+N424))","v":0},"kg CO2e"]
[null,"TOTAL",{"$f":"SUM(C447:C447)","v":0},"kg CO2e",{"$f":"SUM(E447:E447)","v":0},"kg CO2e"]
[]
[]
[]
["CONSUMO ENERGÉTICO Y EMISIONES DE GEI DEL SERVICIO DE TRANSPORTE. INFORMACIÓN ADICIONAL"]
[]
[]
[null,"Consumo energético (MJ)"]
[]
[null,null,"\"Del tanque a la rueda\" (TtW)",null,"\"Del pozo a la rueda\" (WtW)"]
[null,"Trayecto 1:",{"$f":"SHEETOFFSET(-1,INDIRECT(\"AA\"&16+N424))","v":0},"MJ",{"$f":"SHEETOFFSET(-1,INDIRECT(\"AB\"&16+N424))","v":0},"MJ"]
[null,"TOTAL",{"$f":"SUM(C458:C458)","v":0},"MJ",{"$f":"SUM(E458:E458)","v":0},"MJ"]
[]
[]
[null,"Emisiones de GEI (kgCO2e)"]
[]
[null,null,"\"Del tanque a la rueda\" (TtW)",null,"\"Del pozo a la rueda\" (WtW)"]
[null,"Trayecto 1:",{"$f":"SHEETOFFSET(-1,INDIRECT(\"AC\"&16+N424))","v":0},"kg CO2e",{"$f":"SHEETOFFSET(-1,INDIRECT(\"AD\"&16+N424))","v":0},"kg CO2e"]
[null,"TOTAL",{"$f":"SUM(C465:C465)","v":0},"kg CO2e",{"$f":"SUM(E465:E465)","v":0},"kg CO2e"]
[]
[]
[]
[]
[{"$f":"\"PUBLICACIÓN DE RESULTADOS: ENVÍO \" & N471","v":"PUBLICACIÓN DE RESULTADOS: ENVÍO 11"},null,null,null,null,null,null,null,null,null,null,null,null,{"$f":"(ROW(A471)-1)/47+1","v":11}]
[]
[null,"Cliente del envío",null,null,{"$f":"SHEETOFFSET(-1,INDIRECT(\"B\"&16+N471))","v":0}]
[null,"Denominación del envío",null,null,{"$f":"SHEETOFFSET(-1,INDIRECT(\"C\"&16+N472))","v":0}]
[]
[null,"Trayecto del que se compone el servicio de transporte"]
[]
[null,null,"Denominación del origen",null,null,null,"Denominación del destino"]
[null,"Trayecto 1:",{"$f":"SHEETOFFSET(-1,INDIRECT(\"D\"&16+N471))","v":0},null,null,"a",{"$f":"SHEETOFFSET(-1,INDIRECT(\"E\"&16+N471))","v":0}]
[]
[]
[]
["CONSUMO ENERGÉTICO Y EMISIONES DE GEI DEL SERVICIO DE TRANSPORTE, DE ACUERDO AL ALCANCE DE LA NORMA EN 16258"]
[]
[null,"Consumo energético (MJ)"]
[]
[null,null,"\"Del tanque a la rueda\" (TtW)",null,"\"Del pozo a la rueda\" (WtW)"]
[null,"Trayecto 1:",{"$f":"SHEETOFFSET(-1,INDIRECT(\"AE\"&16+N471))","v":0},"MJ",{"$f":"SHEETOFFSET(-1,INDIRECT(\"AF\"&16+N471))","v":0},"MJ"]
[null,"TOTAL",{"$f":"SUM(C488:C488)","v":0},"MJ",{"$f":"SUM(E488:E488)","v":0},"MJ"]
[]
[null,"Emisiones de GEI (kgCO2e)"]
[]
[null,null,"\"Del tanque a la rueda\" (TtW)",null,"\"Del pozo a la rueda\" (WtW)"]
[null,"Trayecto 1:",{"$f":"SHEETOFFSET(-1,INDIRECT(\"AG\"&16+N471))","v":0},"kg CO2e",{"$f":"SHEETOFFSET(-1,INDIRECT(\"AH\"&16+N471))","v":0},"kg CO2e"]
[null,"TOTAL",{"$f":"SUM(C494:C494)","v":0},"kg CO2e",{"$f":"SUM(E494:E494)","v":0},"kg CO2e"]
[]
[]
[]
["CONSUMO ENERGÉTICO Y EMISIONES DE GEI DEL SERVICIO DE TRANSPORTE. INFORMACIÓN ADICIONAL"]
[]
[]
[null,"Consumo energético (MJ)"]
[]
[null,null,"\"Del tanque a la rueda\" (TtW)",null,"\"Del pozo a la rueda\" (WtW)"]
[null,"Trayecto 1:",{"$f":"SHEETOFFSET(-1,INDIRECT(\"AA\"&16+N471))","v":0},"MJ",{"$f":"SHEETOFFSET(-1,INDIRECT(\"AB\"&16+N471))","v":0},"MJ"]
[null,"TOTAL",{"$f":"SUM(C505:C505)","v":0},"MJ",{"$f":"SUM(E505:E505)","v":0},"MJ"]
[]
[]
[null,"Emisiones de GEI (kgCO2e)"]
[]
[null,null,"\"Del tanque a la rueda\" (TtW)",null,"\"Del pozo a la rueda\" (WtW)"]
[null,"Trayecto 1:",{"$f":"SHEETOFFSET(-1,INDIRECT(\"AC\"&16+N471))","v":0},"kg CO2e",{"$f":"SHEETOFFSET(-1,INDIRECT(\"AD\"&16+N471))","v":0},"kg CO2e"]
[null,"TOTAL",{"$f":"SUM(C512:C512)","v":0},"kg CO2e",{"$f":"SUM(E512:E512)","v":0},"kg CO2e"]
[]
[]
[]
[]
[{"$f":"\"PUBLICACIÓN DE RESULTADOS: ENVÍO \" & N518","v":"PUBLICACIÓN DE RESULTADOS: ENVÍO 12"},null,null,null,null,null,null,null,null,null,null,null,null,{"$f":"(ROW(A518)-1)/47+1","v":12}]
[]
[null,"Cliente del envío",null,null,{"$f":"SHEETOFFSET(-1,INDIRECT(\"B\"&16+N518))","v":0}]
[null,"Denominación del envío",null,null,{"$f":"SHEETOFFSET(-1,INDIRECT(\"C\"&16+N519))","v":0}]
[]
[null,"Trayecto del que se compone el servicio de transporte"]
[]
[null,null,"Denominación del origen",null,null,null,"Denominación del destino"]
[null,"Trayecto 1:",{"$f":"SHEETOFFSET(-1,INDIRECT(\"D\"&16+N518))","v":0},null,null,"a",{"$f":"SHEETOFFSET(-1,INDIRECT(\"E\"&16+N518))","v":0}]
[]
[]
[]
["CONSUMO ENERGÉTICO Y EMISIONES DE GEI DEL SERVICIO DE TRANSPORTE, DE ACUERDO AL ALCANCE DE LA NORMA EN 16258"]
[]
[null,"Consumo energético (MJ)"]
[]
[null,null,"\"Del tanque a la rueda\" (TtW)",null,"\"Del pozo a la rueda\" (WtW)"]
[null,"Trayecto 1:",{"$f":"SHEETOFFSET(-1,INDIRECT(\"AE\"&16+N518))","v":0},"MJ",{"$f":"SHEETOFFSET(-1,INDIRECT(\"AF\"&16+N518))","v":0},"MJ"]
[null,"TOTAL",{"$f":"SUM(C535:C535)","v":0},"MJ",{"$f":"SUM(E535:E535)","v":0},"MJ"]
[]
[null,"Emisiones de GEI (kgCO2e)"]
[]
[null,null,"\"Del tanque a la rueda\" (TtW)",null,"\"Del pozo a la rueda\" (WtW)"]
[null,"Trayecto 1:",{"$f":"SHEETOFFSET(-1,INDIRECT(\"AG\"&16+N518))","v":0},"kg CO2e",{"$f":"SHEETOFFSET(-1,INDIRECT(\"AH\"&16+N518))","v":0},"kg CO2e"]
[null,"TOTAL",{"$f":"SUM(C541:C541)","v":0},"kg CO2e",{"$f":"SUM(E541:E541)","v":0},"kg CO2e"]
[]
[]
[]
["CONSUMO ENERGÉTICO Y EMISIONES DE GEI DEL SERVICIO DE TRANSPORTE. INFORMACIÓN ADICIONAL"]
[]
[]
[null,"Consumo energético (MJ)"]
[]
[null,null,"\"Del tanque a la rueda\" (TtW)",null,"\"Del pozo a la rueda\" (WtW)"]
[null,"Trayecto 1:",{"$f":"SHEETOFFSET(-1,INDIRECT(\"AA\"&16+N518))","v":0},"MJ",{"$f":"SHEETOFFSET(-1,INDIRECT(\"AB\"&16+N518))","v":0},"MJ"]
[null,"TOTAL",{"$f":"SUM(C552:C552)","v":0},"MJ",{"$f":"SUM(E552:E552)","v":0},"MJ"]
[]
[]
[null,"Emisiones de GEI (kgCO2e)"]
[]
[null,null,"\"Del tanque a la rueda\" (TtW)",null,"\"Del pozo a la rueda\" (WtW)"]
[null,"Trayecto 1:",{"$f":"SHEETOFFSET(-1,INDIRECT(\"AC\"&16+N518))","v":0},"kg CO2e",{"$f":"SHEETOFFSET(-1,INDIRECT(\"AD\"&16+N518))","v":0},"kg CO2e"]
[null,"TOTAL",{"$f":"SUM(C559:C559)","v":0},"kg CO2e",{"$f":"SUM(E559:E559)","v":0},"kg CO2e"]
[]
[]
[]
[]
[{"$f":"\"PUBLICACIÓN DE RESULTADOS: ENVÍO \" & N565","v":"PUBLICACIÓN DE RESULTADOS: ENVÍO 13"},null,null,null,null,null,null,null,null,null,null,null,null,{"$f":"(ROW(A565)-1)/47+1","v":13}]
[]
[null,"Cliente del envío",null,null,{"$f":"SHEETOFFSET(-1,INDIRECT(\"B\"&16+N565))","v":0}]
[null,"Denominación del envío",null,null,{"$f":"SHEETOFFSET(-1,INDIRECT(\"C\"&16+N566))","v":0}]
[]
[null,"Trayecto del que se compone el servicio de transporte"]
[]
[null,null,"Denominación del origen",null,null,null,"Denominación del destino"]
[null,"Trayecto 1:",{"$f":"SHEETOFFSET(-1,INDIRECT(\"D\"&16+N565))","v":0},null,null,"a",{"$f":"SHEETOFFSET(-1,INDIRECT(\"E\"&16+N565))","v":0}]
[]
[]
[]
["CONSUMO ENERGÉTICO Y EMISIONES DE GEI DEL SERVICIO DE TRANSPORTE, DE ACUERDO AL ALCANCE DE LA NORMA EN 16258"]
[]
[null,"Consumo energético (MJ)"]
[]
[null,null,"\"Del tanque a la rueda\" (TtW)",null,"\"Del pozo a la rueda\" (WtW)"]
[null,"Trayecto 1:",{"$f":"SHEETOFFSET(-1,INDIRECT(\"AE\"&16+N565))","v":0},"MJ",{"$f":"SHEETOFFSET(-1,INDIRECT(\"AF\"&16+N565))","v":0},"MJ"]
[null,"TOTAL",{"$f":"SUM(C582:C582)","v":0},"MJ",{"$f":"SUM(E582:E582)","v":0},"MJ"]
[]
[null,"Emisiones de GEI (kgCO2e)"]
[]
[null,null,"\"Del tanque a la rueda\" (TtW)",null,"\"Del pozo a la rueda\" (WtW)"]
[null,"Trayecto 1:",{"$f":"SHEETOFFSET(-1,INDIRECT(\"AG\"&16+N565))","v":0},"kg CO2e",{"$f":"SHEETOFFSET(-1,INDIRECT(\"AH\"&16+N565))","v":0},"kg CO2e"]
[null,"TOTAL",{"$f":"SUM(C588:C588)","v":0},"kg CO2e",{"$f":"SUM(E588:E588)","v":0},"kg CO2e"]
[]
[]
[]
["CONSUMO ENERGÉTICO Y EMISIONES DE GEI DEL SERVICIO DE TRANSPORTE. INFORMACIÓN ADICIONAL"]
[]
[]
[null,"Consumo energético (MJ)"]
[]
[null,null,"\"Del tanque a la rueda\" (TtW)",null,"\"Del pozo a la rueda\" (WtW)"]
[null,"Trayecto 1:",{"$f":"SHEETOFFSET(-1,INDIRECT(\"AA\"&16+N565))","v":0},"MJ",{"$f":"SHEETOFFSET(-1,INDIRECT(\"AB\"&16+N565))","v":0},"MJ"]
[null,"TOTAL",{"$f":"SUM(C599:C599)","v":0},"MJ",{"$f":"SUM(E599:E599)","v":0},"MJ"]
[]
[]
[null,"Emisiones de GEI (kgCO2e)"]
[]
[null,null,"\"Del tanque a la rueda\" (TtW)",null,"\"Del pozo a la rueda\" (WtW)"]
[null,"Trayecto 1:",{"$f":"SHEETOFFSET(-1,INDIRECT(\"AC\"&16+N565))","v":0},"kg CO2e",{"$f":"SHEETOFFSET(-1,INDIRECT(\"AD\"&16+N565))","v":0},"kg CO2e"]
[null,"TOTAL",{"$f":"SUM(C606:C606)","v":0},"kg CO2e",{"$f":"SUM(E606:E606)","v":0},"kg CO2e"]
[]
[]
[]
[]
[{"$f":"\"PUBLICACIÓN DE RESULTADOS: ENVÍO \" & N612","v":"PUBLICACIÓN DE RESULTADOS: ENVÍO 14"},null,null,null,null,null,null,null,null,null,null,null,null,{"$f":"(ROW(A612)-1)/47+1","v":14}]
[]
[null,"Cliente del envío",null,null,{"$f":"SHEETOFFSET(-1,INDIRECT(\"B\"&16+N612))","v":0}]
[null,"Denominación del envío",null,null,{"$f":"SHEETOFFSET(-1,INDIRECT(\"C\"&16+N613))","v":0}]
[]
[null,"Trayecto del que se compone el servicio de transporte"]
[]
[null,null,"Denominación del origen",null,null,null,"Denominación del destino"]
[null,"Trayecto 1:",{"$f":"SHEETOFFSET(-1,INDIRECT(\"D\"&16+N612))","v":0},null,null,"a",{"$f":"SHEETOFFSET(-1,INDIRECT(\"E\"&16+N612))","v":0}]
[]
[]
[]
["CONSUMO ENERGÉTICO Y EMISIONES DE GEI DEL SERVICIO DE TRANSPORTE, DE ACUERDO AL ALCANCE DE LA NORMA EN 16258"]
[]
[null,"Consumo energético (MJ)"]
[]
[null,null,"\"Del tanque a la rueda\" (TtW)",null,"\"Del pozo a la rueda\" (WtW)"]
[null,"Trayecto 1:",{"$f":"SHEETOFFSET(-1,INDIRECT(\"AE\"&16+N612))","v":0},"MJ",{"$f":"SHEETOFFSET(-1,INDIRECT(\"AF\"&16+N612))","v":0},"MJ"]
[null,"TOTAL",{"$f":"SUM(C629:C629)","v":0},"MJ",{"$f":"SUM(E629:E629)","v":0},"MJ"]
[]
[null,"Emisiones de GEI (kgCO2e)"]
[]
[null,null,"\"Del tanque a la rueda\" (TtW)",null,"\"Del pozo a la rueda\" (WtW)"]
[null,"Trayecto 1:",{"$f":"SHEETOFFSET(-1,INDIRECT(\"AG\"&16+N612))","v":0},"kg CO2e",{"$f":"SHEETOFFSET(-1,INDIRECT(\"AH\"&16+N612))","v":0},"kg CO2e"]
[null,"TOTAL",{"$f":"SUM(C635:C635)","v":0},"kg CO2e",{"$f":"SUM(E635:E635)","v":0},"kg CO2e"]
[]
[]
[]
["CONSUMO ENERGÉTICO Y EMISIONES DE GEI DEL SERVICIO DE TRANSPORTE. INFORMACIÓN ADICIONAL"]
[]
[]
[null,"Consumo energético (MJ)"]
[]
[null,null,"\"Del tanque a la rueda\" (TtW)",null,"\"Del pozo a la rueda\" (WtW)"]
[null,"Trayecto 1:",{"$f":"SHEETOFFSET(-1,INDIRECT(\"AA\"&16+N612))","v":0},"MJ",{"$f":"SHEETOFFSET(-1,INDIRECT(\"AB\"&16+N612))","v":0},"MJ"]
[null,"TOTAL",{"$f":"SUM(C646:C646)","v":0},"MJ",{"$f":"SUM(E646:E646)","v":0},"MJ"]
[]
[]
[null,"Emisiones de GEI (kgCO2e)"]
[]
[null,null,"\"Del tanque a la rueda\" (TtW)",null,"\"Del pozo a la rueda\" (WtW)"]
[null,"Trayecto 1:",{"$f":"SHEETOFFSET(-1,INDIRECT(\"AC\"&16+N612))","v":0},"kg CO2e",{"$f":"SHEETOFFSET(-1,INDIRECT(\"AD\"&16+N612))","v":0},"kg CO2e"]
[null,"TOTAL",{"$f":"SUM(C653:C653)","v":0},"kg CO2e",{"$f":"SUM(E653:E653)","v":0},"kg CO2e"]
[]
[]
[]
[]
[{"$f":"\"PUBLICACIÓN DE RESULTADOS: ENVÍO \" & N659","v":"PUBLICACIÓN DE RESULTADOS: ENVÍO 15"},null,null,null,null,null,null,null,null,null,null,null,null,{"$f":"(ROW(A659)-1)/47+1","v":15}]
[]
[null,"Cliente del envío",null,null,{"$f":"SHEETOFFSET(-1,INDIRECT(\"B\"&16+N659))","v":0}]
[null,"Denominación del envío",null,null,{"$f":"SHEETOFFSET(-1,INDIRECT(\"C\"&16+N660))","v":0}]
[]
[null,"Trayecto del que se compone el servicio de transporte"]
[]
[null,null,"Denominación del origen",null,null,null,"Denominación del destino"]
[null,"Trayecto 1:",{"$f":"SHEETOFFSET(-1,INDIRECT(\"D\"&16+N659))","v":0},null,null,"a",{"$f":"SHEETOFFSET(-1,INDIRECT(\"E\"&16+N659))","v":0}]
[]
[]
[]
["CONSUMO ENERGÉTICO Y EMISIONES DE GEI DEL SERVICIO DE TRANSPORTE, DE ACUERDO AL ALCANCE DE LA NORMA EN 16258"]
[]
[null,"Consumo energético (MJ)"]
[]
[null,null,"\"Del tanque a la rueda\" (TtW)",null,"\"Del pozo a la rueda\" (WtW)"]
[null,"Trayecto 1:",{"$f":"SHEETOFFSET(-1,INDIRECT(\"AE\"&16+N659))","v":0},"MJ",{"$f":"SHEETOFFSET(-1,INDIRECT(\"AF\"&16+N659))","v":0},"MJ"]
[null,"TOTAL",{"$f":"SUM(C676:C676)","v":0},"MJ",{"$f":"SUM(E676:E676)","v":0},"MJ"]
[]
[null,"Emisiones de GEI (kgCO2e)"]
[]
[null,null,"\"Del tanque a la rueda\" (TtW)",null,"\"Del pozo a la rueda\" (WtW)"]
[null,"Trayecto 1:",{"$f":"SHEETOFFSET(-1,INDIRECT(\"AG\"&16+N659))","v":0},"kg CO2e",{"$f":"SHEETOFFSET(-1,INDIRECT(\"AH\"&16+N659))","v":0},"kg CO2e"]
[null,"TOTAL",{"$f":"SUM(C682:C682)","v":0},"kg CO2e",{"$f":"SUM(E682:E682)","v":0},"kg CO2e"]
[]
[]
[]
["CONSUMO ENERGÉTICO Y EMISIONES DE GEI DEL SERVICIO DE TRANSPORTE. INFORMACIÓN ADICIONAL"]
[]
[]
[null,"Consumo energético (MJ)"]
[]
[null,null,"\"Del tanque a la rueda\" (TtW)",null,"\"Del pozo a la rueda\" (WtW)"]
[null,"Trayecto 1:",{"$f":"SHEETOFFSET(-1,INDIRECT(\"AA\"&16+N659))","v":0},"MJ",{"$f":"SHEETOFFSET(-1,INDIRECT(\"AB\"&16+N659))","v":0},"MJ"]
[null,"TOTAL",{"$f":"SUM(C693:C693)","v":0},"MJ",{"$f":"SUM(E693:E693)","v":0},"MJ"]
[]
[]
[null,"Emisiones de GEI (kgCO2e)"]
[]
[null,null,"\"Del tanque a la rueda\" (TtW)",null,"\"Del pozo a la rueda\" (WtW)"]
[null,"Trayecto 1:",{"$f":"SHEETOFFSET(-1,INDIRECT(\"AC\"&16+N659))","v":0},"kg CO2e",{"$f":"SHEETOFFSET(-1,INDIRECT(\"AD\"&16+N659))","v":0},"kg CO2e"]
[null,"TOTAL",{"$f":"SUM(C700:C700)","v":0},"kg CO2e",{"$f":"SUM(E700:E700)","v":0},"kg CO2e"]
[]
[]
[]
[]
[{"$f":"\"PUBLICACIÓN DE RESULTADOS: ENVÍO \" & N706","v":"PUBLICACIÓN DE RESULTADOS: ENVÍO 16"},null,null,null,null,null,null,null,null,null,null,null,null,{"$f":"(ROW(A706)-1)/47+1","v":16}]
[]
[null,"Cliente del envío",null,null,{"$f":"SHEETOFFSET(-1,INDIRECT(\"B\"&16+N706))","v":0}]
[null,"Denominación del envío",null,null,{"$f":"SHEETOFFSET(-1,INDIRECT(\"C\"&16+N707))","v":0}]
[]
[null,"Trayecto del que se compone el servicio de transporte"]
[]
[null,null,"Denominación del origen",null,null,null,"Denominación del destino"]
[null,"Trayecto 1:",{"$f":"SHEETOFFSET(-1,INDIRECT(\"D\"&16+N706))","v":0},null,null,"a",{"$f":"SHEETOFFSET(-1,INDIRECT(\"E\"&16+N706))","v":0}]
[]
[]
[]
["CONSUMO ENERGÉTICO Y EMISIONES DE GEI DEL SERVICIO DE TRANSPORTE, DE ACUERDO AL ALCANCE DE LA NORMA EN 16258"]
[]
[null,"Consumo energético (MJ)"]
[]
[null,null,"\"Del tanque a la rueda\" (TtW)",null,"\"Del pozo a la rueda\" (WtW)"]
[null,"Trayecto 1:",{"$f":"SHEETOFFSET(-1,INDIRECT(\"AE\"&16+N706))","v":0},"MJ",{"$f":"SHEETOFFSET(-1,INDIRECT(\"AF\"&16+N706))","v":0},"MJ"]
[null,"TOTAL",{"$f":"SUM(C723:C723)","v":0},"MJ",{"$f":"SUM(E723:E723)","v":0},"MJ"]
[]
[null,"Emisiones de GEI (kgCO2e)"]
[]
[null,null,"\"Del tanque a la rueda\" (TtW)",null,"\"Del pozo a la rueda\" (WtW)"]
[null,"Trayecto 1:",{"$f":"SHEETOFFSET(-1,INDIRECT(\"AG\"&16+N706))","v":0},"kg CO2e",{"$f":"SHEETOFFSET(-1,INDIRECT(\"AH\"&16+N706))","v":0},"kg CO2e"]
[null,"TOTAL",{"$f":"SUM(C729:C729)","v":0},"kg CO2e",{"$f":"SUM(E729:E729)","v":0},"kg CO2e"]
[]
[]
[]
["CONSUMO ENERGÉTICO Y EMISIONES DE GEI DEL SERVICIO DE TRANSPORTE. INFORMACIÓN ADICIONAL"]
[]
[]
[null,"Consumo energético (MJ)"]
[]
[null,null,"\"Del tanque a la rueda\" (TtW)",null,"\"Del pozo a la rueda\" (WtW)"]
[null,"Trayecto 1:",{"$f":"SHEETOFFSET(-1,INDIRECT(\"AA\"&16+N706))","v":0},"MJ",{"$f":"SHEETOFFSET(-1,INDIRECT(\"AB\"&16+N706))","v":0},"MJ"]
[null,"TOTAL",{"$f":"SUM(C740:C740)","v":0},"MJ",{"$f":"SUM(E740:E740)","v":0},"MJ"]
[]
[]
[null,"Emisiones de GEI (kgCO2e)"]
[]
[null,null,"\"Del tanque a la rueda\" (TtW)",null,"\"Del pozo a la rueda\" (WtW)"]
[null,"Trayecto 1:",{"$f":"SHEETOFFSET(-1,INDIRECT(\"AC\"&16+N706))","v":0},"kg CO2e",{"$f":"SHEETOFFSET(-1,INDIRECT(\"AD\"&16+N706))","v":0},"kg CO2e"]
[null,"TOTAL",{"$f":"SUM(C747:C747)","v":0},"kg CO2e",{"$f":"SUM(E747:E747)","v":0},"kg CO2e"]
[]
[]
[]
[]
[{"$f":"\"PUBLICACIÓN DE RESULTADOS: ENVÍO \" & N753","v":"PUBLICACIÓN DE RESULTADOS: ENVÍO 17"},null,null,null,null,null,null,null,null,null,null,null,null,{"$f":"(ROW(A753)-1)/47+1","v":17}]
[]
[null,"Cliente del envío",null,null,{"$f":"SHEETOFFSET(-1,INDIRECT(\"B\"&16+N753))","v":0}]
[null,"Denominación del envío",null,null,{"$f":"SHEETOFFSET(-1,INDIRECT(\"C\"&16+N754))","v":0}]
[]
[null,"Trayecto del que se compone el servicio de transporte"]
[]
[null,null,"Denominación del origen",null,null,null,"Denominación del destino"]
[null,"Trayecto 1:",{"$f":"SHEETOFFSET(-1,INDIRECT(\"D\"&16+N753))","v":0},null,null,"a",{"$f":"SHEETOFFSET(-1,INDIRECT(\"E\"&16+N753))","v":0}]
[]
[]
[]
["CONSUMO ENERGÉTICO Y EMISIONES DE GEI DEL SERVICIO DE TRANSPORTE, DE ACUERDO AL ALCANCE DE LA NORMA EN 16258"]
[]
[null,"Consumo energético (MJ)"]
[]
[null,null,"\"Del tanque a la rueda\" (TtW)",null,"\"Del pozo a la rueda\" (WtW)"]
[null,"Trayecto 1:",{"$f":"SHEETOFFSET(-1,INDIRECT(\"AE\"&16+N753))","v":0},"MJ",{"$f":"SHEETOFFSET(-1,INDIRECT(\"AF\"&16+N753))","v":0},"MJ"]
[null,"TOTAL",{"$f":"SUM(C770:C770)","v":0},"MJ",{"$f":"SUM(E770:E770)","v":0},"MJ"]
[]
[null,"Emisiones de GEI (kgCO2e)"]
[]
[null,null,"\"Del tanque a la rueda\" (TtW)",null,"\"Del pozo a la rueda\" (WtW)"]
[null,"Trayecto 1:",{"$f":"SHEETOFFSET(-1,INDIRECT(\"AG\"&16+N753))","v":0},"kg CO2e",{"$f":"SHEETOFFSET(-1,INDIRECT(\"AH\"&16+N753))","v":0},"kg CO2e"]
[null,"TOTAL",{"$f":"SUM(C776:C776)","v":0},"kg CO2e",{"$f":"SUM(E776:E776)","v":0},"kg CO2e"]
[]
[]
[]
["CONSUMO ENERGÉTICO Y EMISIONES DE GEI DEL SERVICIO DE TRANSPORTE. INFORMACIÓN ADICIONAL"]
[]
[]
[null,"Consumo energético (MJ)"]
[]
[null,null,"\"Del tanque a la rueda\" (TtW)",null,"\"Del pozo a la rueda\" (WtW)"]
[null,"Trayecto 1:",{"$f":"SHEETOFFSET(-1,INDIRECT(\"AA\"&16+N753))","v":0},"MJ",{"$f":"SHEETOFFSET(-1,INDIRECT(\"AB\"&16+N753))","v":0},"MJ"]
[null,"TOTAL",{"$f":"SUM(C787:C787)","v":0},"MJ",{"$f":"SUM(E787:E787)","v":0},"MJ"]
[]
[]
[null,"Emisiones de GEI (kgCO2e)"]
[]
[null,null,"\"Del tanque a la rueda\" (TtW)",null,"\"Del pozo a la rueda\" (WtW)"]
[null,"Trayecto 1:",{"$f":"SHEETOFFSET(-1,INDIRECT(\"AC\"&16+N753))","v":0},"kg CO2e",{"$f":"SHEETOFFSET(-1,INDIRECT(\"AD\"&16+N753))","v":0},"kg CO2e"]
[null,"TOTAL",{"$f":"SUM(C794:C794)","v":0},"kg CO2e",{"$f":"SUM(E794:E794)","v":0},"kg CO2e"]
[]
[]
[]
[]
[{"$f":"\"PUBLICACIÓN DE RESULTADOS: ENVÍO \" & N800","v":"PUBLICACIÓN DE RESULTADOS: ENVÍO 18"},null,null,null,null,null,null,null,null,null,null,null,null,{"$f":"(ROW(A800)-1)/47+1","v":18}]
[]
[null,"Cliente del envío",null,null,{"$f":"SHEETOFFSET(-1,INDIRECT(\"B\"&16+N800))","v":0}]
[null,"Denominación del envío",null,null,{"$f":"SHEETOFFSET(-1,INDIRECT(\"C\"&16+N801))","v":0}]
[]
[null,"Trayecto del que se compone el servicio de transporte"]
[]
[null,null,"Denominación del origen",null,null,null,"Denominación del destino"]
[null,"Trayecto 1:",{"$f":"SHEETOFFSET(-1,INDIRECT(\"D\"&16+N800))","v":0},null,null,"a",{"$f":"SHEETOFFSET(-1,INDIRECT(\"E\"&16+N800))","v":0}]
[]
[]
[]
["CONSUMO ENERGÉTICO Y EMISIONES DE GEI DEL SERVICIO DE TRANSPORTE, DE ACUERDO AL ALCANCE DE LA NORMA EN 16258"]
[]
[null,"Consumo energético (MJ)"]
[]
[null,null,"\"Del tanque a la rueda\" (TtW)",null,"\"Del pozo a la rueda\" (WtW)"]
[null,"Trayecto 1:",{"$f":"SHEETOFFSET(-1,INDIRECT(\"AE\"&16+N800))","v":0},"MJ",{"$f":"SHEETOFFSET(-1,INDIRECT(\"AF\"&16+N800))","v":0},"MJ"]
[null,"TOTAL",{"$f":"SUM(C817:C817)","v":0},"MJ",{"$f":"SUM(E817:E817)","v":0},"MJ"]
[]
[null,"Emisiones de GEI (kgCO2e)"]
[]
[null,null,"\"Del tanque a la rueda\" (TtW)",null,"\"Del pozo a la rueda\" (WtW)"]
[null,"Trayecto 1:",{"$f":"SHEETOFFSET(-1,INDIRECT(\"AG\"&16+N800))","v":0},"kg CO2e",{"$f":"SHEETOFFSET(-1,INDIRECT(\"AH\"&16+N800))","v":0},"kg CO2e"]
[null,"TOTAL",{"$f":"SUM(C823:C823)","v":0},"kg CO2e",{"$f":"SUM(E823:E823)","v":0},"kg CO2e"]
[]
[]
[]
["CONSUMO ENERGÉTICO Y EMISIONES DE GEI DEL SERVICIO DE TRANSPORTE. INFORMACIÓN ADICIONAL"]
[]
[]
[null,"Consumo energético (MJ)"]
[]
[null,null,"\"Del tanque a la rueda\" (TtW)",null,"\"Del pozo a la rueda\" (WtW)"]
[null,"Trayecto 1:",{"$f":"SHEETOFFSET(-1,INDIRECT(\"AA\"&16+N800))","v":0},"MJ",{"$f":"SHEETOFFSET(-1,INDIRECT(\"AB\"&16+N800))","v":0},"MJ"]
[null,"TOTAL",{"$f":"SUM(C834:C834)","v":0},"MJ",{"$f":"SUM(E834:E834)","v":0},"MJ"]
[]
[]
[null,"Emisiones de GEI (kgCO2e)"]
[]
[null,null,"\"Del tanque a la rueda\" (TtW)",null,"\"Del pozo a la rueda\" (WtW)"]
[null,"Trayecto 1:",{"$f":"SHEETOFFSET(-1,INDIRECT(\"AC\"&16+N800))","v":0},"kg CO2e",{"$f":"SHEETOFFSET(-1,INDIRECT(\"AD\"&16+N800))","v":0},"kg CO2e"]
[null,"TOTAL",{"$f":"SUM(C841:C841)","v":0},"kg CO2e",{"$f":"SUM(E841:E841)","v":0},"kg CO2e"]
[]
[]
[]
[]
[{"$f":"\"PUBLICACIÓN DE RESULTADOS: ENVÍO \" & N847","v":"PUBLICACIÓN DE RESULTADOS: ENVÍO 19"},null,null,null,null,null,null,null,null,null,null,null,null,{"$f":"(ROW(A847)-1)/47+1","v":19}]
[]
[null,"Cliente del envío",null,null,{"$f":"SHEETOFFSET(-1,INDIRECT(\"B\"&16+N847))","v":0}]
[null,"Denominación del envío",null,null,{"$f":"SHEETOFFSET(-1,INDIRECT(\"C\"&16+N848))","v":0}]
[]
[null,"Trayecto del que se compone el servicio de transporte"]
[]
[null,null,"Denominación del origen",null,null,null,"Denominación del destino"]
[null,"Trayecto 1:",{"$f":"SHEETOFFSET(-1,INDIRECT(\"D\"&16+N847))","v":0},null,null,"a",{"$f":"SHEETOFFSET(-1,INDIRECT(\"E\"&16+N847))","v":0}]
[]
[]
[]
["CONSUMO ENERGÉTICO Y EMISIONES DE GEI DEL SERVICIO DE TRANSPORTE, DE ACUERDO AL ALCANCE DE LA NORMA EN 16258"]
[]
[null,"Consumo energético (MJ)"]
[]
[null,null,"\"Del tanque a la rueda\" (TtW)",null,"\"Del pozo a la rueda\" (WtW)"]
[null,"Trayecto 1:",{"$f":"SHEETOFFSET(-1,INDIRECT(\"AE\"&16+N847))","v":0},"MJ",{"$f":"SHEETOFFSET(-1,INDIRECT(\"AF\"&16+N847))","v":0},"MJ"]
[null,"TOTAL",{"$f":"SUM(C864:C864)","v":0},"MJ",{"$f":"SUM(E864:E864)","v":0},"MJ"]
[]
[null,"Emisiones de GEI (kgCO2e)"]
[]
[null,null,"\"Del tanque a la rueda\" (TtW)",null,"\"Del pozo a la rueda\" (WtW)"]
[null,"Trayecto 1:",{"$f":"SHEETOFFSET(-1,INDIRECT(\"AG\"&16+N847))","v":0},"kg CO2e",{"$f":"SHEETOFFSET(-1,INDIRECT(\"AH\"&16+N847))","v":0},"kg CO2e"]
[null,"TOTAL",{"$f":"SUM(C870:C870)","v":0},"kg CO2e",{"$f":"SUM(E870:E870)","v":0},"kg CO2e"]
[]
[]
[]
["CONSUMO ENERGÉTICO Y EMISIONES DE GEI DEL SERVICIO DE TRANSPORTE. INFORMACIÓN ADICIONAL"]
[]
[]
[null,"Consumo energético (MJ)"]
[]
[null,null,"\"Del tanque a la rueda\" (TtW)",null,"\"Del pozo a la rueda\" (WtW)"]
[null,"Trayecto 1:",{"$f":"SHEETOFFSET(-1,INDIRECT(\"AA\"&16+N847))","v":0},"MJ",{"$f":"SHEETOFFSET(-1,INDIRECT(\"AB\"&16+N847))","v":0},"MJ"]
[null,"TOTAL",{"$f":"SUM(C881:C881)","v":0},"MJ",{"$f":"SUM(E881:E881)","v":0},"MJ"]
[]
[]
[null,"Emisiones de GEI (kgCO2e)"]
[]
[null,null,"\"Del tanque a la rueda\" (TtW)",null,"\"Del pozo a la rueda\" (WtW)"]
[null,"Trayecto 1:",{"$f":"SHEETOFFSET(-1,INDIRECT(\"AC\"&16+N847))","v":0},"kg CO2e",{"$f":"SHEETOFFSET(-1,INDIRECT(\"AD\"&16+N847))","v":0},"kg CO2e"]
[null,"TOTAL",{"$f":"SUM(C888:C888)","v":0},"kg CO2e",{"$f":"SUM(E888:E888)","v":0},"kg CO2e"]
[]
[]
[]
[]
[{"$f":"\"PUBLICACIÓN DE RESULTADOS: ENVÍO \" & N894","v":"PUBLICACIÓN DE RESULTADOS: ENVÍO 20"},null,null,null,null,null,null,null,null,null,null,null,null,{"$f":"(ROW(A894)-1)/47+1","v":20}]
[]
[null,"Cliente del envío",null,null,{"$f":"SHEETOFFSET(-1,INDIRECT(\"B\"&16+N894))","v":0}]
[null,"Denominación del envío",null,null,{"$f":"SHEETOFFSET(-1,INDIRECT(\"C\"&16+N895))","v":0}]
[]
[null,"Trayecto del que se compone el servicio de transporte"]
[]
[null,null,"Denominación del origen",null,null,null,"Denominación del destino"]
[null,"Trayecto 1:",{"$f":"SHEETOFFSET(-1,INDIRECT(\"D\"&16+N894))","v":0},null,null,"a",{"$f":"SHEETOFFSET(-1,INDIRECT(\"E\"&16+N894))","v":0}]
[]
[]
[]
["CONSUMO ENERGÉTICO Y EMISIONES DE GEI DEL SERVICIO DE TRANSPORTE, DE ACUERDO AL ALCANCE DE LA NORMA EN 16258"]
[]
[null,"Consumo energético (MJ)"]
[]
[null,null,"\"Del tanque a la rueda\" (TtW)",null,"\"Del pozo a la rueda\" (WtW)"]
[null,"Trayecto 1:",{"$f":"SHEETOFFSET(-1,INDIRECT(\"AE\"&16+N894))","v":0},"MJ",{"$f":"SHEETOFFSET(-1,INDIRECT(\"AF\"&16+N894))","v":0},"MJ"]
[null,"TOTAL",{"$f":"SUM(C911:C911)","v":0},"MJ",{"$f":"SUM(E911:E911)","v":0},"MJ"]
[]
[null,"Emisiones de GEI (kgCO2e)"]
[]
[null,null,"\"Del tanque a la rueda\" (TtW)",null,"\"Del pozo a la rueda\" (WtW)"]
[null,"Trayecto 1:",{"$f":"SHEETOFFSET(-1,INDIRECT(\"AG\"&16+N894))","v":0},"kg CO2e",{"$f":"SHEETOFFSET(-1,INDIRECT(\"AH\"&16+N894))","v":0},"kg CO2e"]
[null,"TOTAL",{"$f":"SUM(C917:C917)","v":0},"kg CO2e",{"$f":"SUM(E917:E917)","v":0},"kg CO2e"]
[]
[]
[]
["CONSUMO ENERGÉTICO Y EMISIONES DE GEI DEL SERVICIO DE TRANSPORTE. INFORMACIÓN ADICIONAL"]
[]
[]
[null,"Consumo energético (MJ)"]
[]
[null,null,"\"Del tanque a la rueda\" (TtW)",null,"\"Del pozo a la rueda\" (WtW)"]
[null,"Trayecto 1:",{"$f":"SHEETOFFSET(-1,INDIRECT(\"AA\"&16+N894))","v":0},"MJ",{"$f":"SHEETOFFSET(-1,INDIRECT(\"AB\"&16+N894))","v":0},"MJ"]
[null,"TOTAL",{"$f":"SUM(C928:C928)","v":0},"MJ",{"$f":"SUM(E928:E928)","v":0},"MJ"]
[]
[]
[null,"Emisiones de GEI (kgCO2e)"]
[]
[null,null,"\"Del tanque a la rueda\" (TtW)",null,"\"Del pozo a la rueda\" (WtW)"]
[null,"Trayecto 1:",{"$f":"SHEETOFFSET(-1,INDIRECT(\"AC\"&16+N894))","v":0},"kg CO2e",{"$f":"SHEETOFFSET(-1,INDIRECT(\"AD\"&16+N894))","v":0},"kg CO2e"]
[null,"TOTAL",{"$f":"SUM(C935:C935)","v":0},"kg CO2e",{"$f":"SUM(E935:E935)","v":0},"kg CO2e"]

{"sheet":"RESULTADOSAUX-2","index":13,"n_rows":125,"n_cols":34,"rows_kept":125,"cut":false,"hidden":true,"merged":[[13,34,13,35],[67,27,69,27],[67,28,69,28],[67,29,69,29],[120,1,120,6],[107,1,107,6],[108,1,108,6],[109,1,109,6],[100,1,100,6],[101,1,101,6],[102,1,102,6],[103,1,103,6],[104,1,104,6],[95,1,95,6],[96,1,96,6],[97,1,97,6],[121,1,121,6],[122,1,122,6],[123,1,123,6],[72,7,73,7],[115,1,115,6],[116,1,116,6],[117,1,117,6],[118,1,118,6],[119,1,119,6],[110,1,110,6],[111,1,111,6],[112,1,112,6],[113,1,113,6],[114,1,114,6],[105,1,105,6],[106,1,106,6],[98,1,98,6],[99,1,99,6],[90,1,90,6],[91,1,91,6],[92,1,92,6],[93,1,93,6],[94,1,94,6],[85,1,85,6],[86,1,86,6],[87,1,87,6],[88,1,88,6],[89,1,89,6],[80,1,80,6],[81,1,81,6],[82,1,82,6],[83,1,83,6],[84,1,84,6],[75,1,75,6],[76,1,76,6],[77,1,77,6],[78,1,78,6],[79,1,79,6],[72,1,73,6],[72,8,73,8],[72,9,72,13],[72,14,72,18],[72,19,72,25],[13,2,14,2],[74,1,74,6],[72,26,72,29],[72,30,72,33],[0,0,0,33],[13,26,13,29],[13,30,13,33],[67,24,67,25],[13,1,14,1],[13,3,14,3],[13,4,14,4],[13,6,14,6],[13,7,14,7],[7,3,7,4],[13,19,13,25],[67,12,67,13],[69,24,69,25],[13,8,14,8],[13,9,13,13],[4,3,4,4],[67,17,67,18],[5,3,5,4],[13,14,13,18],[13,5,14,5],[68,24,68,25]]}
["RESULTADOS OBTENIDOS"]
[]
["INFORMACIÓN GENERAL"]
[]
[null,"Tipo de patrón",null,{"$f":"SHEETOFFSET(-1,B2)","v":0}]
[null,"Código de patrón",null,{"$f":"SHEETOFFSET(-1,A1)","v":"PUBLICACIÓN DE RESULTADOS: ENVÍO 1"}]
[]
[null,"Tipo de vehículo",null,{"$f":"SHEETOFFSET(-1,G9)","v":0}]
[]
[]
[]
["RESULTADOS POR ENVÍO"]
[]
[null,"Cliente del envío","Denominación del envío","Origen del envío","Destino del envío","Distancia directa del envío (km)","Distancia recorrida por el envío (km)","Peso bruto del envío (t)","Proporción de cupo para cada envío (%)",{"$f":"IF(SHEETOFFSET(-1,G193)=\"Depósito conjunto\",\"RESULTADOS: PROPULSIÓN Y REFRIGERACIÓN DE LA CARGA\",\"RESULTADOS: PROPULSIÓN DE LA CARGA\")","v":"RESULTADOS: PROPULSIÓN DE LA CARGA"},null,null,null,null,{"$f":"IF(SHEETOFFSET(-1,G193)=\"Depósito conjunto\",\"---\",\"RESULTADOS: REFRIGERACIÓN DE LA CARGA\")","v":"RESULTADOS: REFRIGERACIÓN DE LA CARGA"},null,null,null,null,"RESULTADOS: ALMACENAMIENTO DE LA CARGA",null,null,null,null,null,null,"RESULTADOS TOTALES DEL SERVICIO DE TRANSPORTE DE LA CARGA",null,null,null,"RESULTADOS TOTALES DEL SERVICIO DE TRANSPORTE Y ALMACENAMIENTO DE LA CARGA"]
[null,null,null,null,null,null,null,null,null,{"$f":"\"Consumo de combustible: \"&M68","v":"Consumo de combustible: 0"},"Consumo energético del tanque a las ruedas","Consumo energético del pozo a las ruedas","Emisiones de GEI del tanque a las ruedas","Emisiones de GEI del pozo a las ruedas",{"$f":"\"Consumo de combustible: \"&R68","v":"Consumo de combustible: Denominación del destino"},"Consumo energético del tanque a las ruedas","Consumo energético del pozo a las ruedas","Emisiones de GEI del tanque a las ruedas","Emisiones de GEI del pozo a las ruedas",{"$f":"\"Consumo por fuente de energía: \"&Y68","v":"Consumo por fuente de energía: 0"},{"$f":"\"Consumo por fuente de energía: \"&Z68","v":"Consumo por fuente de energía: "},{"$f":"\"Consumo por fuente de energía: \"&AA68","v":"Consumo por fuente de energía: "},"Consumo energético directo","Consumo energético directo e indirecto","Emisiones de GEI directas","Emisiones de GEI directas e indirectas","Consumo energético del tanque a las ruedas","Consumo energético del pozo a las ruedas","Emisiones de GEI del tanque a las ruedas","Emisiones de GEI del pozo a las ruedas","Consumo energético directo","Consumo energético total","Emisiones de GEI directas","Emisiones de GEI totales"]
[1,{"$f":"IF(SHEETOFFSET(-1,C136)<>0,SHEETOFFSET(-1,C136),\"\")","v":""},"kg CO2e",{"$f":"IF($B16<>\"\",IFERROR(SHEETOFFSET(-1,IF(OR($D$6=\"A.1.\",$D$6=\"A.2.\",$D$6=\"B.1.\",$D$6=\"B.2.\"),K136,$E$50)),\"\"),\"---\")","v":"---"},{"$f":"IF($B16<>\"\",IFERROR(SHEETOFFSET(-1,IF(OR($D$6=\"A.1.\",$D$6=\"A.2.\",$D$6=\"B.1.\",$D$6=\"B.2.\"),N136,$E$51)),\"\"),\"---\")","v":"---"},{"$f":"IF($B16<>\"\",IFERROR(SHEETOFFSET(-1,IF(OR($D$6=\"A.1.\",$D$6=\"A.2.\",$D$6=\"B.1.\",$D$6=\"B.2.\"),P136,$F$54)),\"\"),\"---\")","v":"---"},{"$f":"IF($B16<>\"\",IFERROR(SHEETOFFSET(-1,IF(OR($D$6=\"A.1.\",$D$6=\"A.2.\",$D$6=\"B.1.\",$D$6=\"B.2.\"),Q136,$F$55)),\"\"),\"---\")","v":"---"},{"$f":"IF(B16<>\"\",SHEETOFFSET(-1,G136),\"---\")","v":"---"},{"$f":"IFERROR(IF(OR($D$6=\"A.1.\",$D$6=\"A.2.\",$D$6=\"B.1.\",$D$6=\"B.2.\"),F16*H16/SUMPRODUCT($F$16:$F$65,$H$16:$H$65),\"---\"),\"---\")","v":"---"},{"$f":"IFERROR(IF(OR($D$6=\"A.1.\",$D$6=\"A.2.\"),I16*MAX(SHEETOFFSET(-1,$G$54),SHEETOFFSET(-1,$G$71)),\nIF(OR($D$6=\"B.1.\",$D$6=\"B.2.\"),I16*SHEETOFFSET(-1,$Q$86),\nIF($D$6=\"C.1.\",G16*H16*SHEETOFFSET(-1,$G$29),\nIF($D$6=\"C.2.\",G16*H16*SHEETOFFSET(-1,$F$30),\nIF($D$6=\"C.3.\",G16*H16*SHEETOFFSET(-1,$F$31),\"\"))))),0)","v":""},{"$f":"IFERROR($J16*VLOOKUP($M$68,t_factores_t,3,0),0)","v":0},{"$f":"IFERROR($J16*VLOOKUP($M$68,t_factores_t,5,0),0)","v":0},{"$f":"IFERROR($J16*VLOOKUP($M$68,t_factores_t,7,0),0)","v":0},{"$f":"IFERROR($J16*VLOOKUP($M$68,t_factores_t,9,0),0)","v":0},{"$f":"IFERROR(SHEETOFFSET(-1,$I$204)*IF(OR($D$6=\"A.1.\",$D$6=\"A.2.\",$D$6=\"B.1.\",$D$6=\"B.2.\"),I16,\nH16/(SHEETOFFSET(-1,$G$11)*IF($D$6=\"C.1.\",SHEETOFFSET(-1,$G$36),IF($D$6=\"C.2.\",SHEETOFFSET(-1,$G$37),IF($D$6=\"C.3.\",SHEETOFFSET(-1,$Q$23)))))),0)","v":0},{"$f":"IFERROR($O16*VLOOKUP($R$68,t_factores_t,3,0),0)","v":0},{"$f":"IFERROR($O16*VLOOKUP($R$68,t_factores_t,5,0),0)","v":0},{"$f":"IFERROR($O16*VLOOKUP($R$68,t_factores_t,7,0),0)","v":0},{"$f":"IFERROR($O16*VLOOKUP($R$68,t_factores_t,9,0),0)","v":0},{"$f":"IFERROR(SHEETOFFSET(-1,$H136)*SHEETOFFSET(-1,$I136)*IF(SHEETOFFSET(-1,$J$227)=\"\",SHEETOFFSET(-1,$I$222),SHEETOFFSET(-1,$I$230)),0)","v":0},{"$f":"IFERROR(SHEETOFFSET(-1,$H136)*SHEETOFFSET(-1,$I136)*IF(SHEETOFFSET(-1,$J$227)=\"\",SHEETOFFSET(-1,$I$223),SHEETOFFSET(-1,$I$231)),0)","v":0},{"$f":"IFERROR(SHEETOFFSET(-1,$H136)*SHEETOFFSET(-1,$I136)*IF(SHEETOFFSET(-1,$J$227)=\"\",SHEETOFFSET(-1,$I$224),0),0)","v":0},{"$f":"IFERROR(VLOOKUP($Y$68,t_factores_a,3,0)*$T16,0)+IFERROR(VLOOKUP($Y$69,t_factores_a,3,0)*$U16,0)+IFERROR(VLOOKUP($Y$70,t_factores_t,3,0)*$V16,0)","v":0},{"$f":"IFERROR(VLOOKUP($Y$68,t_factores_a,4,0)*$T16,0)+IFERROR(VLOOKUP($Y$69,t_factores_a,4,0)*$U16,0)+IFERROR(VLOOKUP($Y$70,t_factores_t,5,0)*$V16,0)","v":0},{"$f":"IFERROR(VLOOKUP($Y$68,t_factores_a,6,0)*$T16,0)+IFERROR(VLOOKUP($Y$69,t_factores_a,6,0)*$U16,0)+IFERROR(VLOOKUP($Y$70,t_factores_t,7,0)*$V16,0)","v":0},{"$f":"IFERROR(VLOOKUP($Y$68,t_factores_a,7,0)*$T16,0)+IFERROR(VLOOKUP($Y$69,t_factores_a,7,0)*$U16,0)+IFERROR(VLOOKUP($Y$70,t_factores_t,9,0)*$V16,0)","v":0},{"$f":"K16+P16","v":0},{"$f":"L16+Q16","v":0},{"$f":"M16+R16","v":0},{"$f":"N16+S16","v":0},{"$f":"IFERROR(W16+AA16,\"---\")","v":0},{"$f":"IFERROR(X16+AB16,\"---\")","v":0},{"$f":"IFERROR(Y16+AC16,\"---\")","v":0},{"$f":"IFERROR(Z16+AD16,\"---\")","v":0}]
[2,"","kg CO2e",{"$f":"IF($B17<>\"\",IFERROR(SHEETOFFSET(-1,IF(OR($D$6=\"A.1.\",$D$6=\"A.2.\",$D$6=\"B.1.\",$D$6=\"B.2.\"),K137,$E$50)),\"\"),\"---\")","v":"---"},{"$f":"IF($B17<>\"\",IFERROR(SHEETOFFSET(-1,IF(OR($D$6=\"A.1.\",$D$6=\"A.2.\",$D$6=\"B.1.\",$D$6=\"B.2.\"),N137,$E$51)),\"\"),\"---\")","v":"---"},{"$f":"IF($B17<>\"\",IFERROR(SHEETOFFSET(-1,IF(OR($D$6=\"A.1.\",$D$6=\"A.2.\",$D$6=\"B.1.\",$D$6=\"B.2.\"),P137,$F$54)),\"\"),\"---\")","v":"---"},{"$f":"IF($B17<>\"\",IFERROR(SHEETOFFSET(-1,IF(OR($D$6=\"A.1.\",$D$6=\"A.2.\",$D$6=\"B.1.\",$D$6=\"B.2.\"),Q137,$F$55)),\"\"),\"---\")","v":"---"},{"$f":"IF(B17<>\"\",SHEETOFFSET(-1,G137),\"---\")","v":"---"},{"$f":"IFERROR(IF(OR($D$6=\"A.1.\",$D$6=\"A.2.\",$D$6=\"B.1.\",$D$6=\"B.2.\"),F17*H17/SUMPRODUCT($F$16:$F$65,$H$16:$H$65),\"---\"),\"---\")","v":"---"},"",{"$f":"IFERROR($J17*VLOOKUP($M$68,t_factores_t,3,0),0)","v":0},0,{"$f":"IFERROR($J17*VLOOKUP($M$68,t_factores_t,7,0),0)","v":0},0,0,{"$f":"IFERROR($O17*VLOOKUP($R$68,t_factores_t,3,0),0)","v":0},0,0,0,0,0,0,0,0,0,0,{"$f":"K17+P17","v":0},{"$f":"L17+Q17","v":0},{"$f":"M17+R17","v":0},{"$f":"N17+S17","v":0},0,0,0,0]
[3,"","","---","---","---","---","---","---","",0,0,0,0,0,0,0,0,0,0,0,0,0,0,0,0,0,0,0,0,0,0,0,0]
[4,"","","---","---","---","---","---","---","",0,0,0,0,0,0,0,0,0,0,0,0,0,0,0,0,0,0,0,0,0,0,0,0]
[5,"","","---","---","---","---","---","---","",0,0,0,0,0,0,0,0,0,0,0,0,0,0,0,0,0,0,0,0,0,0,0,0]
[6,"","","---","---","---","---","---","---","",0,0,0,0,0,0,0,0,0,0,0,0,0,0,0,0,0,0,0,0,0,0,0,0]
[7,"","","---","---","---","---","---","---","",0,0,0,0,0,0,0,0,0,0,0,0,0,0,0,0,0,0,0,0,0,0,0,0]
[8,"","","---","---","---","---","---","---","",0,0,0,0,0,0,0,0,0,0,0,0,0,0,0,0,0,0,0,0,0,0,0,0]
[9,"","","---","---","---","---","---","---","",0,0,0,0,0,0,0,0,0,0,0,0,0,0,0,0,0,0,0,0,0,0,0,0]
[10,"","","---","---","---","---","---","---","",0,0,0,0,0,0,0,0,0,0,0,0,0,0,0,0,0,0,0,0,0,0,0,0]
[11,"","","---","---","---","---","---","---","",0,0,0,0,0,0,0,0,0,0,0,0,0,0,0,0,0,0,0,0,0,0,0,0]
[12,"","","---","---","---","---","---","---","",0,0,0,0,0,0,0,0,0,0,0,0,0,0,0,0,0,0,0,0,0,0,0,0]
[13,"","","---","---","---","---","---","---","",0,0,0,0,0,0,0,0,0,0,0,0,0,0,0,0,0,0,0,0,0,0,0,0]
[14,"Denominación del origen","",0,0,0,0,"Denominación del destino","---","",0,0,0,0,0,0,0,0,0,0,0,0,0,0,0,0,0,0,0,0,0,0,0,0]
[15,"","","---","---","---","---","---","---","",0,0,0,0,0,0,0,0,0,0,0,0,0,0,0,0,0,0,0,0,0,0,0,0]
[16,"","","---","---","---","---","---","---","",0,0,0,0,0,0,0,0,0,0,0,0,0,0,0,0,0,0,0,0,0,0,0,0]
[17,"","","---","---","---","---","---","---","",0,0,0,0,0,0,0,0,0,0,0,0,0,0,0,0,0,0,0,0,0,0,0,0]
[18,"","","---","---","---","---","---","---","",0,0,0,0,0,0,0,0,0,0,0,0,0,0,0,0,0,0,0,0,0,0,0,0]
[19,"","","---","---","---","---","---","---","",0,0,0,0,0,0,0,0,0,0,0,0,0,0,0,0,0,0,0,0,0,0,0,0]
[20,"","","---","---","---","---","---","---","",0,0,0,0,0,0,0,0,0,0,0,0,0,0,0,0,0,0,0,0,0,0,0,0]
[21,{"$f":"IF(SHEETOFFSET(-1,C156)<>0,SHEETOFFSET(-1,C156),\"\")","v":""},"","---","---","---","---","---","---","",0,0,0,0,0,0,0,0,0,0,0,0,0,0,0,0,0,0,0,0,0,0,0,0]
[22,"","","---","---","---","---","---","---","",0,0,0,0,0,0,0,0,0,0,0,0,0,0,0,0,0,0,0,0,0,0,0,0]
[23,"\"Del tanque a la rueda\" (TtW)","",0,0,0,0,0,"---","",0,0,0,0,0,0,0,0,0,0,0,0,0,0,0,0,0,0,0,0,0,0,0,0]
[24,"","MJ","---","---","---","---","---","---","",0,0,0,0,0,0,0,0,0,0,0,0,0,0,0,0,0,0,0,0,0,0,0,0]
[25,"","MJ","---","---","---","---","---","---","",0,0,0,0,0,0,0,0,0,0,0,0,0,0,0,0,0,0,0,0,0,0,0,0]
[26,"","","---","---","---","---","---","---","",0,0,0,0,0,0,0,0,0,0,0,0,0,0,0,0,0,0,0,0,0,0,0,0]
[27,"","","---","---","---","---","---","---","",0,0,0,0,0,0,0,0,0,0,0,0,0,0,0,0,0,0,0,0,0,0,0,0]
[28,"","","---","---","---","---","---","---","",0,0,0,0,0,0,0,0,0,0,0,0,0,0,0,0,0,0,0,0,0,0,0,0]
[29,"\"Del tanque a la rueda\" (TtW)","",0,0,0,0,0,"---","",0,0,0,0,0,0,0,0,0,0,0,0,0,0,0,0,0,0,0,0,0,0,0,0]
[30,"","kg CO2e","---","---","---","---","---","---","",0,0,0,0,0,0,0,0,0,0,0,0,0,0,0,0,0,0,0,0,0,0,0,0]
[31,"","kg CO2e","---","---","---","---","---","---","",0,0,0,0,0,0,0,0,0,0,0,0,0,0,0,0,0,0,0,0,0,0,0,0]
[32,"","","---","---","---","---","---","---","",0,0,0,0,0,0,0,0,0,0,0,0,0,0,0,0,0,0,0,0,0,0,0,0]
[33,"","","---","---","---","---","---","---",{"$f":"IFERROR(IF(OR($D$6=\"A.1.\",$D$6=\"A.2.\"),I48*MAX(SHEETOFFSET(-1,$G$54),SHEETOFFSET(-1,$G$71)),\nIF(OR($D$6=\"B.1.\",$D$6=\"B.2.\"),I48*SHEETOFFSET(-1,$Q$86),\nIF($D$6=\"C.1.\",G48*H48*SHEETOFFSET(-1,$G$29),\nIF($D$6=\"C.2.\",G48*H48*SHEETOFFSET(-1,$F$30),\nIF($D$6=\"C.3.\",G48*H48*SHEETOFFSET(-1,$F$31),\"\"))))),0)","v":""},{"$f":"IFERROR($J48*VLOOKUP($M$68,t_factores_t,3,0),0)","v":0},{"$f":"IFERROR($J48*VLOOKUP($M$68,t_factores_t,5,0),0)","v":0},{"$f":"IFERROR($J48*VLOOKUP($M$68,t_factores_t,7,0),0)","v":0},{"$f":"IFERROR($J48*VLOOKUP($M$68,t_factores_t,9,0),0)","v":0},{"$f":"IFERROR(SHEETOFFSET(-1,$I$204)*IF(OR($D$6=\"A.1.\",$D$6=\"A.2.\",$D$6=\"B.1.\",$D$6=\"B.2.\"),I48,\nH48/(SHEETOFFSET(-1,$G$11)*IF($D$6=\"C.1.\",SHEETOFFSET(-1,$G$36),IF($D$6=\"C.2.\",SHEETOFFSET(-1,$G$37),IF($D$6=\"C.3.\",SHEETOFFSET(-1,$Q$23)))))),0)","v":0},{"$f":"IFERROR($O48*VLOOKUP($R$68,t_factores_t,3,0),0)","v":0},{"$f":"IFERROR($O48*VLOOKUP($R$68,t_factores_t,5,0),0)","v":0},{"$f":"IFERROR($O48*VLOOKUP($R$68,t_factores_t,7,0),0)","v":0},{"$f":"IFERROR($O48*VLOOKUP($R$68,t_factores_t,9,0),0)","v":0},{"$f":"IFERROR(SHEETOFFSET(-1,$H168)*SHEETOFFSET(-1,$I168)*IF(SHEETOFFSET(-1,$J$227)=\"\",SHEETOFFSET(-1,$I$222),SHEETOFFSET(-1,$I$230)),0)","v":0},{"$f":"IFERROR(SHEETOFFSET(-1,$H168)*SHEETOFFSET(-1,$I168)*IF(SHEETOFFSET(-1,$J$227)=\"\",SHEETOFFSET(-1,$I$223),SHEETOFFSET(-1,$I$231)),0)","v":0},{"$f":"IFERROR(SHEETOFFSET(-1,$H168)*SHEETOFFSET(-1,$I168)*IF(SHEETOFFSET(-1,$J$227)=\"\",SHEETOFFSET(-1,$I$224),0),0)","v":0},{"$f":"IFERROR(VLOOKUP($Y$68,t_factores_a,3,0)*$T48,0)+IFERROR(VLOOKUP($Y$69,t_factores_a,3,0)*$U48,0)+IFERROR(VLOOKUP($Y$70,t_factores_t,3,0)*$V48,0)","v":0},{"$f":"IFERROR(VLOOKUP($Y$68,t_factores_a,4,0)*$T48,0)+IFERROR(VLOOKUP($Y$69,t_factores_a,4,0)*$U48,0)+IFERROR(VLOOKUP($Y$70,t_factores_t,5,0)*$V48,0)","v":0},{"$f":"IFERROR(VLOOKUP($Y$68,t_factores_a,6,0)*$T48,0)+IFERROR(VLOOKUP($Y$69,t_factores_a,6,0)*$U48,0)+IFERROR(VLOOKUP($Y$70,t_factores_t,7,0)*$V48,0)","v":0},{"$f":"IFERROR(VLOOKUP($Y$68,t_factores_a,7,0)*$T48,0)+IFERROR(VLOOKUP($Y$69,t_factores_a,7,0)*$U48,0)+IFERROR(VLOOKUP($Y$70,t_factores_t,9,0)*$V48,0)","v":0},0,0,0,0,{"$f":"IFERROR(W48+AA48,\"---\")","v":0},{"$f":"IFERROR(X48+AB48,\"---\")","v":0},{"$f":"IFERROR(Y48+AC48,\"---\")","v":0},{"$f":"IFERROR(Z48+AD48,\"---\")","v":0}]
[34,"","","---","---","---","---","---","---","",0,0,0,0,0,0,0,0,0,0,0,0,0,0,0,0,0,0,0,0,0,0,0,0]
[35,"","","---","---","---","---","---","---","",0,0,0,0,0,0,0,0,0,0,0,0,0,0,0,0,0,0,0,0,0,0,0,0]
[36,"","","---","---","---","---","---","---","",0,0,0,0,0,0,0,0,0,0,0,0,0,0,0,0,0,0,0,0,0,0,0,0]
[37,"","","---","---","---","---","---","---","",0,0,0,0,0,0,0,0,0,0,0,0,0,0,0,0,0,0,0,0,0,0,0,0]
[38,"","","---","---","---","---","---","---","",0,0,0,0,0,0,0,0,0,0,0,0,0,0,0,0,0,0,0,0,0,0,0,0]
[39,"","","---","---","---","---","---","---","",0,0,0,0,0,0,0,0,0,0,0,0,0,0,0,0,0,0,0,0,0,0,0,0]
[40,"\"Del tanque a la rueda\" (TtW)","",0,0,0,0,0,"---","",0,0,0,0,0,0,0,0,0,0,0,0,0,0,0,0,0,0,0,0,0,0,0,0]
[41,{"$f":"IF(SHEETOFFSET(-1,C176)<>0,SHEETOFFSET(-1,C176),\"\")","v":""},"MJ","---","---","---","---","---","---","",0,0,0,0,0,0,0,0,0,0,0,0,0,0,0,0,0,0,0,0,0,0,0,0]
[42,"","MJ","---","---","---","---","---","---","",0,0,0,0,0,0,0,0,0,0,0,0,0,0,0,0,0,0,0,0,0,0,0,0]
[43,"","","---","---","---","---","---","---","",0,0,0,0,0,0,0,0,0,0,0,0,0,0,0,0,0,0,0,0,0,0,0,0]
[44,"","","---","---","---","---","---","---","",0,0,0,0,0,0,0,0,0,0,0,0,0,0,0,0,0,0,0,0,0,0,0,0]
[45,"","","---","---","---","---","---","---","",0,0,0,0,0,0,0,0,0,0,0,0,0,0,0,0,0,0,0,0,0,0,0,0]
[46,"","","---","---","---","---","---","---","",0,0,0,0,0,0,0,0,0,0,0,0,0,0,0,0,0,0,0,0,0,0,0,0]
[47,"\"Del tanque a la rueda\" (TtW)","",0,0,0,0,0,"---","",0,0,0,0,0,0,0,0,0,0,0,0,0,0,0,0,0,0,0,0,0,0,0,0]
[48,"","kg CO2e","---","---","---","---","---","---","",0,0,0,0,0,0,0,0,0,0,0,0,0,0,0,0,0,0,0,0,0,0,0,0]
[49,"","kg CO2e","---","---","---","---","---","---","",0,0,0,0,0,0,0,0,0,0,0,0,0,0,0,0,0,0,0,0,0,0,0,0]
[50,"","","---","---","---","---","---","---","",0,0,0,0,0,0,0,0,0,0,0,0,0,0,0,0,0,0,0,0,0,0,0,0]
[null,null,null,null,null,null,"TOTAL",{"$f":"SUM(H16:H65)","v":0},{"$f":"SUM(I16:I65)","v":0},0,0,0,0,0,0,0,0,0,0,0,0,0,0,0,0,0,0,0,0,0,0,0,0,0]
[]
[null,null,null,null,null,null,null,null,null,null,null,"Tipo de combustible empleado ",{"$f":"SHEETOFFSET(-1,IF(OR(D6=\"A.1.\",D6=\"A.2.\"),E29,E18))","v":0},null,null,null,"Tipo de combustible empleado ",{"$f":"IF(SHEETOFFSET(-1,G196)<>0,SHEETOFFSET(-1,G196),\"---\")","v":"Denominación del destino"},null,null,null,null,null,"Tipos de fuente de energía empleadas",{"$f":"IF(SHEETOFFSET(-1,$J$227)=\"\",SHEETOFFSET(-1,G212),\"Electricidad de Red -\"&SHEETOFFSET(-1,H228))","v":0},null,null,"Emisiones específicas de GEI",{"$f":"IFERROR(AC16/H16*F16,\"\")","v":""},{"$f":"IFERROR(AD16/I16*G16,\"\")","v":""}]
[null,null,null,null,null,null,null,null,null,null,null,null,null,null,null,null,null,null,null,null,null,null,null,"\"\"",{"$f":"IF(SHEETOFFSET(-1,$J$227)=\"\",SHEETOFFSET(-1,G215),\"Gas natural: potencia calorífica neta\")","v":0}]
["RESULTADOS POR CLIENTE",null,null,null,null,null,null,null,null,null,null,null,null,null,null,null,null,null,null,null,null,null,null,"\"\"",{"$f":"IF(SHEETOFFSET(-1,$J$227)=\"\",SHEETOFFSET(-1,G218),\"\")","v":0}]
[]
[]
[null,"Cliente del envío",null,null,null,null,null,"Peso bruto de los envíos del cliente (t)","Proporción de cupo para cada cliente (%)","RESULTADOS: PROPULSIÓN DEL VEHÍCULO",null,null,null,null,"RESULTADOS: REFRIGERACIÓN DE LA CARGA",null,null,null,null,"RESULTADOS: ALMACENAMIENTO DE LA CARGA",null,null,null,null,null,null,"RESULTADOS TOTALES DEL SERVICIO DE TRANSPORTE DE LA CARGA",null,null,null,"RESULTADOS TOTALES DEL SERVICIO DE TRANSPORTE Y ALMACENAMIENTO DE LA CARGA"]
[null,null,null,null,null,null,null,null,null,{"$f":"\"Consumo de combustible: \"&M127","v":"Consumo de combustible: "},"Consumo energético del tanque a las ruedas","Consumo energético del pozo a las ruedas","Emisiones de GEI del tanque a las ruedas","Emisiones de GEI del pozo a las ruedas",{"$f":"\"Consumo de combustible: \"&R127","v":"Consumo de combustible: "},"Consumo energético del tanque a las ruedas","Consumo energético del pozo a las ruedas","Emisiones de GEI del tanque a las ruedas","Emisiones de GEI del pozo a las ruedas",{"$f":"\"Consumo por fuente de energía: \"&Y127","v":"Consumo por fuente de energía: "},{"$f":"\"Consumo por fuente de energía: \"&Z127","v":"Consumo por fuente de energía: "},{"$f":"\"Consumo por fuente de energía: \"&AA127","v":"Consumo por fuente de energía: "},"Consumo energético directo","Consumo energético directo e indirecto","Emisiones de GEI directas","Emisiones de GEI directas e indirectas","Consumo energético del tanque a las ruedas","Consumo energético del pozo a las ruedas","Emisiones de GEI del tanque a las ruedas","Emisiones de GEI del pozo a las ruedas","Consumo energético del tanque a las ruedas","Consumo energético del pozo a las ruedas","Emisiones de GEI del tanque a las ruedas","Emisiones de GEI del pozo a las ruedas"]
[null,{"$f":"INDEX(listado_clientes,ROW(B75)-ROW($B$75)+1,1)","v":0},null,null,null,null,null,{"$f":"SUMIF($B$16:$B$65,$B75,H$16:H$65)","v":0},{"$f":"SUMIF($B$16:$B$65,$B75,I$16:I$65)","v":0},0,0,0,0,0,0,0,0,0,0,0,0,0,0,0,{"$f":"SUMIF($B$16:$B$65,$B75,Y$16:Y$65)","v":0},0,0,0,0,0,0,0,0,0]
[null,0,null,null,null,null,null,{"$f":"SUMIF($B$16:$B$65,$B76,H$16:H$65)","v":0},0,0,0,0,0,0,0,0,0,0,0,0,0,0,0,0,0,0,0,0,0,0,0,0,0,0]
[null,0,null,null,null,null,null,0,0,0,0,0,0,0,0,0,0,0,0,0,0,0,0,0,0,0,0,0,0,0,0,0,0,0]
[null,0,null,null,null,null,null,0,0,0,0,0,0,0,0,0,0,0,0,0,0,0,0,0,0,0,0,0,0,0,0,0,0,0]
[null,0,null,null,null,null,null,0,0,0,0,0,0,0,0,0,0,0,0,0,0,0,0,0,0,0,0,0,0,0,0,0,0,0]
[null,0,null,null,null,null,null,0,0,0,0,0,0,0,0,0,0,0,0,0,0,0,0,0,0,0,0,0,0,0,0,0,0,0]
[null,0,null,null,null,null,null,0,0,0,0,0,0,0,0,0,0,0,0,0,0,0,0,0,0,0,0,0,0,0,0,0,0,0]
[null,0,null,null,null,null,null,0,0,0,0,0,0,0,0,0,0,0,0,0,0,0,0,0,0,0,0,0,0,0,0,0,0,0]
[null,0,null,null,null,null,null,0,0,0,0,0,0,0,0,0,0,0,0,0,0,0,0,0,0,0,0,0,0,0,0,0,0,0]
[null,0,null,null,null,null,null,0,0,0,0,0,0,0,0,0,0,0,0,0,0,0,0,0,0,0,0,0,0,0,0,0,0,0]
[null,0,null,null,null,null,null,0,0,0,0,0,0,0,0,0,0,0,0,0,0,0,0,0,0,0,0,0,0,0,0,0,0,0]
[null,0,null,null,null,null,null,0,0,0,0,0,0,0,0,0,0,0,0,0,0,0,0,0,0,0,0,0,0,0,0,0,0,0]
[null,0,null,null,null,null,null,0,0,0,0,0,0,0,0,0,0,0,0,0,0,0,0,0,0,0,0,0,0,0,0,0,0,0]
[null,0,null,null,null,null,null,0,0,0,0,0,0,0,0,0,0,0,0,0,0,0,0,0,0,0,0,0,0,0,0,0,0,0]
[null,0,null,null,null,null,null,0,0,0,0,0,0,0,0,0,0,0,0,0,0,0,0,0,0,0,0,0,0,0,0,0,0,0]
[null,0,null,null,null,null,null,0,0,0,0,0,0,0,0,0,0,0,0,0,0,0,0,{"$f":"SUMIF($B$16:$B$65,$B90,X$16:X$65)","v":0},0,0,0,0,0,0,0,0,0,0]
[null,0,null,null,null,null,null,0,0,0,0,0,0,0,0,0,0,0,0,0,0,0,0,0,0,0,0,0,0,0,0,0,0,0]
[null,0,null,null,null,null,null,{"$f":"SUMIF($B$16:$B$65,$B92,H$16:H$65)","v":0},0,0,0,0,0,0,0,0,0,0,0,0,0,0,0,0,0,0,0,0,0,0,0,0,0,0]
[null,0,null,null,null,null,null,0,0,0,0,0,0,0,0,0,0,0,0,0,0,0,0,0,0,0,0,0,0,0,0,0,0,0]
[null,0,null,null,null,null,null,0,0,0,0,0,0,0,0,0,0,0,0,0,0,0,0,0,0,0,0,0,0,0,0,0,0,0]
[null,0,null,null,null,null,null,0,0,0,0,0,0,0,0,0,0,0,0,0,0,0,0,0,0,0,0,0,0,0,0,0,0,0]
[null,0,null,null,null,null,null,0,0,0,0,0,0,0,0,0,0,0,0,0,0,0,0,0,0,0,0,0,0,0,0,0,0,0]
[null,0,null,null,null,null,null,0,0,0,0,0,0,0,0,0,0,0,0,0,0,0,0,0,0,0,0,0,0,0,0,0,0,0]
[null,0,null,null,null,null,null,0,0,0,0,0,0,0,0,0,0,0,0,0,0,0,0,0,0,0,0,0,0,0,0,0,0,0]
[null,0,null,null,null,null,null,0,0,0,0,0,0,0,0,0,0,0,0,0,0,0,0,0,0,0,0,0,0,0,0,0,0,0]
[null,0,null,null,null,null,null,0,0,0,0,0,0,0,0,0,0,0,0,0,0,0,0,0,0,0,0,0,0,0,0,0,0,0]
[null,0,null,null,null,null,null,0,0,0,0,0,0,0,0,0,0,0,0,0,0,0,0,0,0,0,0,0,0,0,0,0,0,0]
[null,0,null,null,null,null,null,0,0,0,0,0,0,0,0,0,0,0,0,0,0,0,0,0,0,0,0,0,0,0,0,0,0,0]
[null,0,null,null,null,null,null,0,0,0,0,0,0,0,0,0,0,0,0,0,0,0,0,0,0,0,0,0,0,0,0,0,0,0]
[null,0,null,null,null,null,null,0,0,0,0,0,0,0,0,0,0,0,0,0,0,0,0,0,0,0,0,0,0,0,0,0,0,0]
[null,0,null,null,null,null,null,0,0,0,0,0,0,0,0,0,0,0,0,0,0,0,0,0,0,0,0,0,0,0,0,0,0,0]
[null,0,null,null,null,null,null,0,0,0,0,0,0,0,0,0,0,0,0,0,0,0,0,{"$f":"SUMIF($B$16:$B$65,$B106,X$16:X$65)","v":0},0,0,0,0,0,0,0,0,0,0]
[null,{"$f":"INDEX(listado_clientes,ROW(B107)-ROW($B$75)+1,1)","v":0},null,null,null,null,null,0,0,0,0,0,0,0,0,0,0,0,0,0,0,0,{"$f":"SUMIF($B$16:$B$65,$B107,W$16:W$65)","v":0},0,0,0,0,0,0,0,0,0,0,0]
[null,0,null,null,null,null,null,{"$f":"SUMIF($B$16:$B$65,$B108,H$16:H$65)","v":0},0,0,0,0,0,0,0,0,0,0,0,0,0,0,0,0,0,0,0,0,0,0,0,0,0,0]
[null,0,null,null,null,null,null,0,0,0,0,0,0,0,0,0,0,0,0,0,0,0,0,0,0,0,0,0,0,0,0,0,0,0]
[null,0,null,null,null,null,null,0,0,0,0,0,0,0,0,0,0,0,0,0,0,0,0,0,0,0,0,0,0,0,0,0,0,0]
[null,0,null,null,null,null,null,0,0,0,0,0,0,0,0,0,0,0,0,0,0,0,0,0,0,0,0,0,0,0,0,0,0,0]
[null,0,null,null,null,null,null,0,0,0,0,0,0,0,0,0,0,0,0,0,0,0,0,0,0,0,0,0,0,0,0,0,0,0]
[null,0,null,null,null,null,null,0,0,0,0,0,0,0,0,0,0,0,0,0,0,0,0,0,0,0,0,0,0,0,0,0,0,0]
[null,0,null,null,null,null,null,0,0,0,0,0,0,0,0,0,0,0,0,0,0,0,0,0,0,0,0,0,0,0,0,0,0,0]
[null,0,null,null,null,null,null,0,0,0,0,0,0,0,0,0,0,0,0,0,0,0,0,0,0,0,0,0,0,0,0,0,0,0]
[null,0,null,null,null,null,null,0,0,0,0,0,0,0,0,0,0,0,0,0,0,0,0,0,0,0,0,0,0,0,0,0,0,0]
[null,0,null,null,null,null,null,0,0,0,0,0,0,0,0,0,0,0,0,0,0,0,0,0,0,0,0,0,0,0,0,0,0,0]
[null,0,null,null,null,null,null,0,0,0,0,0,0,0,0,0,0,0,0,0,0,0,0,0,0,0,0,0,0,0,0,0,0,0]
[null,0,null,null,null,null,null,0,0,0,0,0,0,0,0,0,0,0,0,0,0,0,0,0,0,0,0,0,0,0,0,0,0,0]
[null,0,null,null,null,null,null,0,0,0,0,0,0,0,0,0,0,0,0,0,0,0,0,0,0,0,0,0,0,0,0,0,0,0]
[null,0,null,null,null,null,null,0,0,0,0,0,0,0,0,0,0,0,0,0,0,0,0,0,0,0,0,0,0,0,0,0,0,0]
[null,0,null,null,null,null,null,0,0,0,0,0,0,0,0,0,0,0,0,0,0,0,0,0,0,0,0,0,0,0,0,0,0,0]
[null,0,null,null,null,null,null,0,0,0,0,0,0,0,0,0,0,0,0,0,0,0,0,{"$f":"SUMIF($B$16:$B$65,$B123,X$16:X$65)","v":0},0,0,0,0,0,0,0,0,0,0]
[null,0,null,null,null,null,null,{"$f":"SUMIF($B$16:$B$65,$B124,H$16:H$65)","v":0},0,0,0,0,0,0,0,0,0,0,0,0,0,0,0,0,0,0,0,0,0,0,0,0,0,0]
[null,null,null,null,null,null,null,{"$f":"SUM(H75:H124)","v":0},{"$f":"SUM(I75:I124)","v":0},0,0,0,0,0,0,0,0,0,0,0,0,0,0,0,0,0,0,0,0,0,0,0,0,0]

{"sheet":"REPORTEAUX","index":14,"n_rows":291,"n_cols":54,"rows_kept":291,"cut":false,"hidden":true,"merged":[[285,17,285,18],[286,17,286,18],[287,17,287,18],[288,17,288,18],[289,17,289,18],[276,17,276,18],[277,17,277,18],[278,17,278,18],[279,17,279,18],[280,17,280,18],[281,17,281,18],[282,17,282,18],[283,17,283,18],[284,17,284,18],[267,17,267,18],[268,17,268,18],[269,17,269,18],[270,17,270,18],[271,17,271,18],[272,17,272,18],[273,17,273,18],[274,17,274,18],[275,17,275,18],[258,17,258,18],[259,17,259,18],[260,17,260,18],[261,17,261,18],[262,17,262,18],[263,17,263,18],[264,17,264,18],[265,17,265,18],[266,17,266,18],[249,17,249,18],[250,17,250,18],[251,17,251,18],[252,17,252,18],[253,17,253,18],[254,17,254,18],[255,17,255,18],[256,17,256,18],[257,17,257,18],[240,17,240,18],[241,17,241,18],[242,17,242,18],[243,17,243,18],[244,17,244,18],[245,17,245,18],[246,17,246,18],[247,17,247,18],[248,17,248,18],[123,31,123,32],[238,1,239,1],[238,2,239,2],[238,3,239,3],[238,4,238,9],[238,10,238,15],[238,41,238,44],[238,45,238,48],[238,49,238,53],[239,17,239,18],[238,16,238,22],[0,0,0,53],[6,49,6,53],[64,1,65,1],[64,2,65,2],[64,3,65,3],[64,4,64,9],[64,10,64,15],[64,16,64,40],[64,41,64,44],[64,45,64,48],[64,49,64,53],[65,17,65,18],[65,24,65,25],[65,31,65,32],[6,1,7,1],[6,2,7,2],[6,3,7,3],[6,4,6,9],[6,10,6,15],[6,16,6,40],[6,41,6,44],[6,45,6,48],[7,17,7,18],[7,24,7,25],[7,31,7,32],[180,16,180,40],[180,41,180,44],[180,45,180,48],[180,49,180,53],[181,17,181,18],[181,24,181,25],[181,31,181,32],[180,1,181,1],[180,2,181,2],[180,3,181,3],[180,4,180,9],[180,10,180,15],[122,1,123,1],[122,2,123,2],[122,3,123,3],[122,4,122,9],[122,10,122,15],[122,16,122,40],[122,41,122,44],[122,45,122,48],[122,49,122,53],[123,17,123,18],[123,24,123,25]]}
["REPORTING CORPORATIVO"]
[]
[]
[]
["RESULTADOS POR TIPO DE ACTIVIDAD - CONSUMO DE COMBUSTIBLE (FACTORES EN 16258 - GUÍA AECOC)"]
[]
[null,"Denominación de la actividad","Tipo de actividad (propia o subcontratada)","Cadena de suministro (Upstream o Downstream)","ACTIVIDADES DE PROPULSIÓN DEL VEHÍCULO",null,null,null,null,null,"ACTIVIDADES DE REFRIGERACIÓN DE LA CARGA",null,null,null,null,null,"ACTIVIDADES DE ALMACENAMIENTO DE LA CARGA",null,null,null,null,null,null,null,null,null,null,null,null,null,null,null,null,null,null,null,null,null,null,null,null,"RESULTADOS TOTALES DE LAS ACTIVIDADES DE TRANSPORTE DE CARGA",null,null,null,"RESULTADOS TOTALES DE LAS ACTIVIDADES DE TRANSPORTE Y ALMACENAMIENTO DE CARGA",null,null,null,"REPORTE GHG PROTOCOL"]
[null,null,null,null,"Tipo de combustible","Consumo de combustible (l)","Consumo energético del tanque a las ruedas","Consumo energético del pozo a las ruedas","Emisiones de GEI del tanque a las ruedas","Emisiones de GEI del pozo a las ruedas","Tipo de combustible","Consumo de combustible (l)","Consumo energético del tanque a las ruedas","Consumo energético del pozo a las ruedas","Emisiones de GEI del tanque a las ruedas","Emisiones de GEI del pozo a las ruedas","Fuente de energía - 1","Consumo fuente de energía - 1",null,"Consumo energético directo - fuente de energía 1","Consumo energético total - fuente de energía 1","Emisiones de GEI directas - fuente de energía 1","Emisiones de GEI totales - fuente de energía 1","Fuente de energía - 2","Consumo fuente de energía - 2",null,"Consumo energético directo - fuente de energía 2","Consumo energético total - fuente de energía 2","Emisiones de GEI directas - fuente de energía 2","Emisiones de GEI totales - fuente de energía 2","Fuente de energía - 3","Consumo fuente de energía - 3",null,"Consumo energético directo - fuente de energía 3","Consumo energético total - fuente de energía 3","Emisiones de GEI directas - fuente de energía 3","Emisiones de GEI totales - fuente de energía 3","Consumo energético directo","Consumo energético total","Emisiones de GEI directas","Emisiones de GEI totales","Consumo energético del tanque a las ruedas","Consumo energético del pozo a las ruedas","Emisiones de GEI del tanque a las ruedas","Emisiones de GEI del pozo a las ruedas","Consumo energético del tanque a las ruedas","Consumo energético del pozo a las ruedas","Emisiones de GEI del tanque a las ruedas","Emisiones de GEI del pozo a las ruedas","Alcance 1","Alcance 2","Alcance 3. Categoría 3","Alcance 3. Categoría 4","Alcance 3. Categoría 9"]
[1,null,null,null,null,null,{"$f":"IFERROR($F9*VLOOKUP($E9,t_factores_t,3,0),0)","v":0},{"$f":"IFERROR($F9*VLOOKUP($E9,t_factores_t,5,0),0)","v":0},{"$f":"IFERROR($F9*VLOOKUP($E9,t_factores_t,7,0),0)","v":0},{"$f":"IFERROR($F9*VLOOKUP($E9,t_factores_t,9,0),0)","v":0},null,null,{"$f":"IFERROR($L9*VLOOKUP($K9,t_factores_t,3,0),0)","v":0},{"$f":"IFERROR($L9*VLOOKUP($K9,t_factores_t,5,0),0)","v":0},{"$f":"IFERROR($L9*VLOOKUP($K9,t_factores_t,7,0),0)","v":0},{"$f":"IFERROR($L9*VLOOKUP($K9,t_factores_t,9,0),0)","v":0},null,null,{"$f":"IFERROR(VLOOKUP(Q9,t_factores_a,2,0),\"\")","v":""},{"$f":"IFERROR(VLOOKUP(Q9,t_factores_a,3,0)*R9,0)","v":0},{"$f":"IFERROR(VLOOKUP(Q9,t_factores_a,4,0)*R9,0)","v":0},{"$f":"IFERROR(VLOOKUP(Q9,t_factores_a,6,0)*R9,0)","v":0},{"$f":"IFERROR(VLOOKUP(Q9,t_factores_a,7,0)*R9,0)","v":0},null,null,{"$f":"IFERROR(VLOOKUP(X9,t_factores_a,2,0),\"\")","v":""},{"$f":"IFERROR(VLOOKUP(X9,t_factores_a,3,0)*Y9,0)","v":0},{"$f":"IFERROR(VLOOKUP(X9,t_factores_a,4,0)*Y9,0)","v":0},{"$f":"IFERROR(VLOOKUP(X9,t_factores_a,6,0)*Y9,0)","v":0},{"$f":"IFERROR(VLOOKUP(X9,t_factores_a,7,0)*Y9,0)","v":0},null,null,"l.",{"$f":"IFERROR(VLOOKUP(AE9,t_factores_t,3,0)*AF9,0)","v":0},{"$f":"IFERROR(VLOOKUP(AE9,t_factores_t,5,0)*AF9,0)","v":0},{"$f":"IFERROR(VLOOKUP(AE9,t_factores_t,7,0)*AF9,0)","v":0},{"$f":"IFERROR(VLOOKUP(AE9,t_factores_t,9,0)*AF9,0)","v":0},{"$f":"T9+AA9+AH9","v":0},{"$f":"U9+AB9+AI9","v":0},{"$f":"V9+AC9+AJ9","v":0},{"$f":"W9+AD9+AK9","v":0},{"$f":"IFERROR(G9+M9,\"---\")","v":0},{"$f":"IFERROR(H9+N9,\"---\")","v":0},{"$f":"IFERROR(I9+O9,\"---\")","v":0},{"$f":"IFERROR(J9+P9,\"---\")","v":0},{"$f":"IFERROR(AL9+AP9,\"---\")","v":0},{"$f":"IFERROR(AM9+AQ9,\"---\")","v":0},{"$f":"IFERROR(AN9+AR9,\"---\")","v":0},{"$f":"IFERROR(AO9+AS9,\"---\")","v":0},{"$f":"IF(C9=\"Propia\",AV9,0)","v":0},0,{"$f":"IF(C9=\"Propia\",AW9-AV9,0)","v":0},{"$f":"IF(AND(C9=\"Subcontratada\",D9=\"Upstream\"),AV9,0)","v":0},{"$f":"IF(AND(C9=\"Subcontratada\",D9=\"Downstream\"),AV9,0)","v":0}]
[2,null,null,null,null,null,0,0,0,0,null,null,0,0,0,0,null,null,"",0,0,0,0,null,null,"",0,0,0,0,null,null,"l.",0,0,0,0,{"$f":"T10+AA10+AH10","v":0},0,0,0,{"$f":"IFERROR(G10+M10,\"---\")","v":0},0,0,0,{"$f":"IFERROR(AL10+AP10,\"---\")","v":0},0,0,0,0,0,0,0,0]
[3,null,null,null,null,null,0,0,0,0,null,null,0,0,0,0,null,null,"",0,0,0,0,null,null,"",0,0,0,0,null,null,"l.",0,0,0,0,0,0,0,0,0,0,0,0,0,0,0,0,0,0,0,0,0]
[4,null,null,null,null,null,0,0,0,0,null,null,0,0,0,0,null,null,"",0,0,0,0,null,null,"",0,0,0,0,null,null,"l.",0,0,0,0,0,0,0,0,0,0,0,0,0,0,0,0,0,0,0,0,0]
[5,null,null,null,null,null,0,0,0,0,null,null,0,0,0,0,null,null,"",0,0,0,0,null,null,"",0,0,0,0,null,null,"l.",0,0,0,0,0,0,0,0,0,0,0,0,0,0,0,0,0,0,0,0,0]
[6,null,null,null,null,null,0,0,0,0,null,null,0,0,0,0,null,null,"",0,0,0,0,null,null,"",0,0,0,0,null,null,"l.",0,0,0,0,0,0,0,0,0,0,0,0,0,0,0,0,0,0,0,0,0]
[7,null,null,null,null,null,0,0,0,0,null,null,0,0,0,0,null,null,"",0,0,0,0,null,null,"",0,0,0,0,null,null,"l.",0,0,0,0,0,0,0,0,0,0,0,0,0,0,0,0,0,0,0,0,0]
[8,null,null,null,null,null,0,0,0,0,null,null,0,0,0,0,null,null,"",0,0,0,0,null,null,"",0,0,0,0,null,null,"l.",0,0,0,0,0,0,0,0,0,0,0,0,0,0,0,0,0,0,0,0,0]
[9,null,null,null,null,null,0,0,0,0,null,null,0,0,0,0,null,null,"",0,0,0,0,null,null,"",0,0,0,0,null,null,"l.",0,0,0,0,0,0,0,0,0,0,0,0,0,0,0,0,0,0,0,0,0]
[10,null,null,null,null,null,0,0,0,0,null,null,0,0,0,0,null,null,"",0,0,0,0,null,null,"",0,0,0,0,null,null,"l.",0,0,0,0,0,0,0,0,0,0,0,0,0,0,0,0,0,0,0,0,0]
[11,null,null,null,null,null,0,0,0,0,null,null,0,0,0,0,null,null,"",0,0,0,0,null,null,"",0,0,0,0,null,null,"l.",0,0,0,0,0,0,0,0,0,0,0,0,0,0,0,0,0,0,0,0,0]
[12,null,null,null,null,null,0,0,0,0,null,null,0,0,0,0,null,null,"",0,0,0,0,null,null,"",0,0,0,0,null,null,"l.",0,0,0,0,0,0,0,0,0,0,0,0,0,0,0,0,0,0,0,0,0]
[13,null,null,null,null,null,0,0,0,0,null,null,0,0,0,0,null,null,"",0,0,0,0,null,null,"",0,0,0,0,null,null,"l.",0,0,0,0,0,0,0,0,0,0,0,0,0,0,0,0,0,0,0,0,0]
[14,null,null,null,null,null,0,0,0,0,null,null,0,0,0,0,null,null,"",0,0,0,0,null,null,"",0,0,0,0,null,null,"l.",0,0,0,0,0,0,0,0,0,0,0,0,0,0,0,0,0,0,0,0,0]
[15,null,null,null,null,null,0,0,0,0,null,null,0,0,0,0,null,null,"",0,0,0,0,null,null,"",0,0,0,0,null,null,"l.",0,0,0,0,0,0,0,0,0,0,0,0,0,0,0,0,0,0,0,0,0]
[16,null,null,null,null,null,0,0,0,0,null,null,0,0,0,0,null,null,"",0,0,0,0,null,null,"",0,0,0,0,null,null,"l.",0,0,0,0,0,0,0,0,0,0,0,0,0,0,0,0,0,0,0,0,0]
[17,null,null,null,null,null,0,0,0,0,null,null,0,0,0,0,null,null,"",0,0,0,0,null,null,"",0,0,0,0,null,null,"l.",0,0,0,0,0,0,0,0,0,0,0,0,0,0,0,0,0,0,0,0,0]
[18,null,null,null,null,null,0,0,0,0,null,null,0,0,0,0,null,null,"",0,0,0,0,null,null,"",0,0,0,0,null,null,"l.",0,0,0,0,0,0,0,0,0,0,0,0,0,0,0,0,0,0,0,0,0]
[19,null,null,null,null,null,0,0,0,0,null,null,0,0,0,0,null,null,"",0,0,0,0,null,null,"",0,0,0,0,null,null,"l.",0,0,0,0,0,0,0,0,0,0,0,0,0,0,0,0,0,0,0,0,0]
[20,null,null,null,null,null,0,0,0,0,null,null,0,0,0,0,null,null,"",0,0,0,0,null,null,"",0,0,0,0,null,null,"l.",0,0,0,0,0,0,0,0,0,0,0,0,0,0,0,0,0,0,0,0,0]
[21,null,null,null,null,null,0,0,0,0,null,null,0,0,0,0,null,null,"",0,0,0,0,null,null,"",0,0,0,0,null,null,"l.",0,0,0,0,0,0,0,0,0,0,0,0,0,0,0,0,0,0,0,0,0]
[22,null,null,null,null,null,0,0,0,0,null,null,0,0,0,0,null,null,"",0,0,0,0,null,null,"",0,0,0,0,null,null,"l.",0,0,0,0,0,0,0,0,0,0,0,0,0,0,0,0,0,0,0,0,0]
[23,null,null,null,null,null,0,0,0,0,null,null,0,0,0,0,null,null,"",0,0,0,0,null,null,"",0,0,0,0,null,null,"l.",0,0,0,0,0,0,0,0,0,0,0,0,0,0,0,0,0,0,0,0,0]
[24,null,null,null,null,null,0,0,0,0,null,null,0,0,0,0,null,null,"",0,0,0,0,null,null,"",0,0,0,0,null,null,"l.",0,0,0,0,0,0,0,0,0,0,0,0,0,0,0,0,0,0,0,0,0]
[25,null,null,null,null,null,0,0,0,0,null,null,0,0,0,0,null,null,"",0,0,0,0,null,null,"",0,0,0,0,null,null,"l.",0,0,0,0,0,0,0,0,0,0,0,0,0,0,0,0,0,0,0,0,0]
[26,null,null,null,null,null,0,0,0,0,null,null,0,0,0,0,null,null,"",0,0,0,0,null,null,"",0,0,0,0,null,null,"l.",0,0,0,0,0,0,0,0,0,0,0,0,0,0,0,0,0,0,0,0,0]
[27,null,null,null,null,null,0,0,0,0,null,null,0,0,0,0,null,null,"",0,0,0,0,null,null,"",0,0,0,0,null,null,"l.",0,0,0,0,0,0,0,0,0,0,0,0,0,0,0,0,0,0,0,0,0]
[28,null,null,null,null,null,0,0,0,0,null,null,0,0,0,0,null,null,"",0,0,0,0,null,null,"",0,0,0,0,null,null,"l.",0,0,0,0,0,0,0,0,0,0,0,0,0,0,0,0,0,0,0,0,0]
[29,null,null,null,null,null,0,0,0,0,null,null,0,0,0,0,null,null,"",0,0,0,0,null,null,"",0,0,0,0,null,null,"l.",0,0,0,0,0,0,0,0,0,0,0,0,0,0,0,0,0,0,0,0,0]
[30,null,null,null,null,null,0,0,0,0,null,null,0,0,0,0,null,null,"",0,0,0,0,null,null,"",0,0,0,0,null,null,"l.",0,0,0,0,0,0,0,0,0,0,0,0,0,0,0,0,0,0,0,0,0]
[31,null,null,null,null,null,0,0,0,0,null,null,0,0,0,0,null,null,"",0,0,0,0,null,null,"",0,0,0,0,null,null,"l.",0,0,0,0,0,0,0,0,0,0,0,0,0,0,0,0,0,0,0,0,0]
[32,null,null,null,null,null,0,0,0,0,null,null,0,0,0,0,null,null,"",0,0,0,0,null,null,"",0,0,0,0,null,null,"l.",0,0,0,0,0,0,0,0,0,0,0,0,0,0,0,0,0,0,0,0,0]
[33,null,null,null,null,null,{"$f":"IFERROR($F41*VLOOKUP($E41,t_factores_t,3,0),0)","v":0},{"$f":"IFERROR($F41*VLOOKUP($E41,t_factores_t,5,0),0)","v":0},{"$f":"IFERROR($F41*VLOOKUP($E41,t_factores_t,7,0),0)","v":0},{"$f":"IFERROR($F41*VLOOKUP($E41,t_factores_t,9,0),0)","v":0},null,null,{"$f":"IFERROR($L41*VLOOKUP($K41,t_factores_t,3,0),0)","v":0},{"$f":"IFERROR($L41*VLOOKUP($K41,t_factores_t,5,0),0)","v":0},{"$f":"IFERROR($L41*VLOOKUP($K41,t_factores_t,7,0),0)","v":0},{"$f":"IFERROR($L41*VLOOKUP($K41,t_factores_t,9,0),0)","v":0},null,null,{"$f":"IFERROR(VLOOKUP(Q41,t_factores_a,2,0),\"\")","v":""},{"$f":"IFERROR(VLOOKUP(Q41,t_factores_a,3,0)*R41,0)","v":0},{"$f":"IFERROR(VLOOKUP(Q41,t_factores_a,4,0)*R41,0)","v":0},{"$f":"IFERROR(VLOOKUP(Q41,t_factores_a,6,0)*R41,0)","v":0},{"$f":"IFERROR(VLOOKUP(Q41,t_factores_a,7,0)*R41,0)","v":0},null,null,{"$f":"IFERROR(VLOOKUP(X41,t_factores_a,2,0),\"\")","v":""},{"$f":"IFERROR(VLOOKUP(X41,t_factores_a,3,0)*Y41,0)","v":0},{"$f":"IFERROR(VLOOKUP(X41,t_factores_a,4,0)*Y41,0)","v":0},{"$f":"IFERROR(VLOOKUP(X41,t_factores_a,6,0)*Y41,0)","v":0},{"$f":"IFERROR(VLOOKUP(X41,t_factores_a,7,0)*Y41,0)","v":0},null,null,"l.",{"$f":"IFERROR(VLOOKUP(AE41,t_factores_t,3,0)*AF41,0)","v":0},{"$f":"IFERROR(VLOOKUP(AE41,t_factores_t,5,0)*AF41,0)","v":0},{"$f":"IFERROR(VLOOKUP(AE41,t_factores_t,7,0)*AF41,0)","v":0},{"$f":"IFERROR(VLOOKUP(AE41,t_factores_t,9,0)*AF41,0)","v":0},0,0,0,0,0,0,0,0,0,0,0,0,{"$f":"IF(C41=\"Propia\",AV41,0)","v":0},0,{"$f":"IF(C41=\"Propia\",AW41-AV41,0)","v":0},{"$f":"IF(AND(C41=\"Subcontratada\",D41=\"Upstream\"),AV41,0)","v":0},{"$f":"IF(AND(C41=\"Subcontratada\",D41=\"Downstream\"),AV41,0)","v":0}]
[34,null,null,null,null,null,0,0,0,0,null,null,0,0,0,0,null,null,"",0,0,0,0,null,null,"",0,0,0,0,null,null,"l.",0,0,0,0,0,0,0,0,0,0,0,0,0,0,0,0,0,0,0,0,0]
[35,null,null,null,null,null,0,0,0,0,null,null,0,0,0,0,null,null,"",0,0,0,0,null,null,"",0,0,0,0,null,null,"l.",0,0,0,0,0,0,0,0,0,0,0,0,0,0,0,0,0,0,0,0,0]
[36,null,null,null,null,null,0,0,0,0,null,null,0,0,0,0,null,null,"",0,0,0,0,null,null,"",0,0,0,0,null,null,"l.",0,0,0,0,0,0,0,0,0,0,0,0,0,0,0,0,0,0,0,0,0]
[37,null,null,null,null,null,0,0,0,0,null,null,0,0,0,0,null,null,"",0,0,0,0,null,null,"",0,0,0,0,null,null,"l.",0,0,0,0,0,0,0,0,0,0,0,0,0,0,0,0,0,0,0,0,0]
[38,null,null,null,null,null,0,0,0,0,null,null,0,0,0,0,null,null,"",0,0,0,0,null,null,"",0,0,0,0,null,null,"l.",0,0,0,0,0,0,0,0,0,0,0,0,0,0,0,0,0,0,0,0,0]
[39,null,null,null,null,null,0,0,0,0,null,null,0,0,0,0,null,null,"",0,0,0,0,null,null,"",0,0,0,0,null,null,"l.",0,0,0,0,0,0,0,0,0,0,0,0,0,0,0,0,0,0,0,0,0]
[40,null,null,null,null,null,0,0,0,0,null,null,0,0,0,0,null,null,"",0,0,0,0,null,null,"",0,0,0,0,null,null,"l.",0,0,0,0,0,0,0,0,0,0,0,0,0,0,0,0,0,0,0,0,0]
[41,null,null,null,null,null,0,0,0,0,null,null,0,0,0,0,null,null,"",0,0,0,0,null,null,"",0,0,0,0,null,null,"l.",0,0,0,0,0,0,0,0,0,0,0,0,0,0,0,0,0,0,0,0,0]
[42,null,null,null,null,null,0,0,0,0,null,null,0,0,0,0,null,null,"",0,0,0,0,null,null,"",0,0,0,0,null,null,"l.",0,0,0,0,0,0,0,0,0,0,0,0,0,0,0,0,0,0,0,0,0]
[43,null,null,null,null,null,0,0,0,0,null,null,0,0,0,0,null,null,"",0,0,0,0,null,null,"",0,0,0,0,null,null,"l.",0,0,0,0,0,0,0,0,0,0,0,0,0,0,0,0,0,0,0,0,0]
[44,null,null,null,null,null,0,0,0,0,null,null,0,0,0,0,null,null,"",0,0,0,0,null,null,"",0,0,0,0,null,null,"l.",0,0,0,0,0,0,0,0,0,0,0,0,0,0,0,0,0,0,0,0,0]
[45,null,null,null,null,null,0,0,0,0,null,null,0,0,0,0,null,null,"",0,0,0,0,null,null,"",0,0,0,0,null,null,"l.",0,0,0,0,0,0,0,0,0,0,0,0,0,0,0,0,0,0,0,0,0]
[46,null,null,null,null,null,0,0,0,0,null,null,0,0,0,0,null,null,"",0,0,0,0,null,null,"",0,0,0,0,null,null,"l.",0,0,0,0,0,0,0,0,0,0,0,0,0,0,0,0,0,0,0,0,0]
[47,null,null,null,null,null,0,0,0,0,null,null,0,0,0,0,null,null,"",0,0,0,0,null,null,"",0,0,0,0,null,null,"l.",0,0,0,0,0,0,0,0,0,0,0,0,0,0,0,0,0,0,0,0,0]
[48,null,null,null,null,null,0,0,0,0,null,null,0,0,0,0,null,null,"",0,0,0,0,null,null,"",0,0,0,0,null,null,"l.",0,0,0,0,0,0,0,0,0,0,0,0,0,0,0,0,0,0,0,0,0]
[49,null,null,null,null,null,0,0,0,0,null,null,0,0,0,0,null,null,"",0,0,0,0,null,null,"",0,0,0,0,null,null,"l.",0,0,0,0,0,0,0,0,0,0,0,0,0,0,0,0,0,0,0,0,0]
[50,null,null,null,null,null,0,0,0,0,null,null,0,0,0,0,null,null,"",0,0,0,0,null,null,"",0,0,0,0,null,null,"l.",0,0,0,0,0,0,0,0,0,0,0,0,0,0,0,0,0,0,0,0,0]
[null,null,null,null,null,"TOTAL",{"$f":"SUM(G9:G58)","v":0},{"$f":"SUM(H9:H58)","v":0},0,0,null,"TOTAL",0,0,0,0,null,null,null,null,null,null,null,null,null,null,null,null,null,null,null,null,null,null,null,null,"TOTAL",0,0,0,0,0,0,0,0,0,{"$f":"SUM(AU9:AU58)","v":0},0,0,0,0,{"$f":"SUM(AZ9:AZ58)","v":0},{"$f":"SUM(BA9:BA58)","v":0},{"$f":"SUM(BB9:BB58)","v":0}]
[]
[]
[]
["RESULTADOS POR TIPO DE ACTIVIDAD - CONSUMO DE COMBUSTIBLE (FACTORES DEFRA)"]
[]
[null,"Denominación de la actividad","Tipo de actividad (propia o subcontratada)","Cadena de suministro (Upstream o Downstream)","ACTIVIDADES DE PROPULSIÓN DEL VEHÍCULO",null,null,null,null,null,"ACTIVIDADES DE REFRIGERACIÓN DE LA CARGA",null,null,null,null,null,"ACTIVIDADES DE ALMACENAMIENTO DE LA CARGA",null,null,null,null,null,null,null,null,null,null,null,null,null,null,null,null,null,null,null,null,null,null,null,null,"RESULTADOS TOTALES DE LAS ACTIVIDADES DE TRANSPORTE DE CARGA",null,null,null,"RESULTADOS TOTALES DE LAS ACTIVIDADES DE TRANSPORTE Y ALMACENAMIENTO DE CARGA",null,null,null,"REPORTE GHG PROTOCOL"]
[null,null,null,null,"Tipo de combustible","Consumo de combustible (l)","Consumo energético del tanque a las ruedas","Consumo energético del pozo a las ruedas","Emisiones de GEI del tanque a las ruedas","Emisiones de GEI del pozo a las ruedas","Tipo de combustible","Consumo de combustible (l)","Consumo energético del tanque a las ruedas","Consumo energético del pozo a las ruedas","Emisiones de GEI del tanque a las ruedas","Emisiones de GEI del pozo a las ruedas","Fuente de energía - 1","Consumo fuente de energía - 1",null,"Consumo energético directo - fuente de energía 1","Consumo energético total - fuente de energía 1","Emisiones de GEI directas - fuente de energía 1","Emisiones de GEI totales - fuente de energía 1","Fuente de energía - 2","Consumo fuente de energía - 2",null,"Consumo energético directo - fuente de energía 2","Consumo energético total - fuente de energía 2","Emisiones de GEI directas - fuente de energía 2","Emisiones de GEI totales - fuente de energía 2","Fuente de energía - 3","Consumo fuente de energía - 3",null,"Consumo energético directo - fuente de energía 3","Consumo energético total - fuente de energía 3","Emisiones de GEI directas - fuente de energía 3","Emisiones de GEI totales - fuente de energía 3","Consumo energético directo","Consumo energético total","Emisiones de GEI directas","Emisiones de GEI totales","Consumo energético del tanque a las ruedas","Consumo energético del pozo a las ruedas","Emisiones de GEI del tanque a las ruedas","Emisiones de GEI del pozo a las ruedas","Consumo energético del tanque a las ruedas","Consumo energético del pozo a las ruedas","Emisiones de GEI del tanque a las ruedas","Emisiones de GEI del pozo a las ruedas","Alcance 1","Alcance 2","Alcance 3. Categoría 3","Alcance 3. Categoría 4","Alcance 3. Categoría 9"]
[1,null,null,null,null,null,"---","---",{"$f":"IFERROR(F67*VLOOKUP(E67,t_DEFRA,3,0),0)","v":0},{"$f":"I67+IFERROR(F67*VLOOKUP(E67,t_DEFRA,5,0),0)","v":0},null,null,"---","---",{"$f":"IFERROR(L67*VLOOKUP(K67,t_DEFRA,3,0),0)","v":0},{"$f":"O67+IFERROR(L67*VLOOKUP(K67,t_DEFRA,5,0),0)","v":0},null,null,"l.","---","---",{"$f":"IFERROR(R67*VLOOKUP(Q67,t_DEFRA,3,0),0)","v":0},{"$f":"IFERROR(S67*VLOOKUP(R67,t_DEFRA,3,0),0)","v":0},null,null,"l.","---","---",{"$f":"IFERROR(Y67*VLOOKUP(X67,t_DEFRA,3,0),0)","v":0},{"$f":"IFERROR(Z67*VLOOKUP(Y67,t_DEFRA,3,0),0)","v":0},null,null,"l.","---","---",{"$f":"IFERROR(AF67*VLOOKUP(AE67,t_DEFRA,3,0),0)","v":0},{"$f":"IFERROR(AG67*VLOOKUP(AF67,t_DEFRA,3,0),0)","v":0},"---","---",{"$f":"V67+AC67+AJ67","v":0},{"$f":"W67+AD67+AK67","v":0},{"$f":"IFERROR(G67+M67,\"---\")","v":"---"},{"$f":"IFERROR(H67+N67,\"---\")","v":"---"},{"$f":"IFERROR(I67+O67,\"---\")","v":0},{"$f":"IFERROR(J67+P67,\"---\")","v":0},{"$f":"IFERROR(AL67+AP67,\"---\")","v":"---"},{"$f":"IFERROR(AM67+AQ67,\"---\")","v":"---"},{"$f":"IFERROR(AN67+AR67,\"---\")","v":0},{"$f":"IFERROR(AO67+AS67,\"---\")","v":0},{"$f":"IF(C67=\"Propia\",AV67,0)","v":0},0,{"$f":"IF(C67=\"Propia\",AW67-AV67,0)","v":0},{"$f":"IF(AND(C67=\"Subcontratada\",D67=\"Upstream\"),AV67,0)","v":0},{"$f":"IF(AND(C67=\"Subcontratada\",D67=\"Downstream\"),AV67,0)","v":0}]
[2,null,null,null,null,null,"---","---",0,0,null,null,"---","---",0,0,null,null,"l.","---","---",0,0,null,null,"l.","---","---",0,0,null,null,"l.","---","---",0,0,"---","---",{"$f":"V68+AC68+AJ68","v":0},0,{"$f":"IFERROR(G68+M68,\"---\")","v":"---"},"---",0,0,{"$f":"IFERROR(AL68+AP68,\"---\")","v":"---"},"---",0,0,0,0,0,0,0]
[3,null,null,null,null,null,"---","---",0,0,null,null,"---","---",0,0,null,null,"l.","---","---",0,0,null,null,"l.","---","---",0,0,null,null,"l.","---","---",0,0,"---","---",0,0,"---","---",0,0,"---","---",0,0,0,0,0,0,0]
[4,null,null,null,null,null,"---","---",0,0,null,null,"---","---",0,0,null,null,"l.","---","---",0,0,null,null,"l.","---","---",0,0,null,null,"l.","---","---",0,0,"---","---",0,0,"---","---",0,0,"---","---",0,0,0,0,0,0,0]
[5,null,null,null,null,null,"---","---",0,0,null,null,"---","---",0,0,null,null,"l.","---","---",0,0,null,null,"l.","---","---",0,0,null,null,"l.","---","---",0,0,"---","---",0,0,"---","---",0,0,"---","---",0,0,0,0,0,0,0]
[6,null,null,null,null,null,"---","---",0,0,null,null,"---","---",0,0,null,null,"l.","---","---",0,0,null,null,"l.","---","---",0,0,null,null,"l.","---","---",0,0,"---","---",0,0,"---","---",0,0,"---","---",0,0,0,0,0,0,0]
[7,null,null,null,null,null,"---","---",0,0,null,null,"---","---",0,0,null,null,"l.","---","---",0,0,null,null,"l.","---","---",0,0,null,null,"l.","---","---",0,0,"---","---",0,0,"---","---",0,0,"---","---",0,0,0,0,0,0,0]
[8,null,null,null,null,null,"---","---",0,0,null,null,"---","---",0,0,null,null,"l.","---","---",0,0,null,null,"l.","---","---",0,0,null,null,"l.","---","---",0,0,"---","---",0,0,"---","---",0,0,"---","---",0,0,0,0,0,0,0]
[9,null,null,null,null,null,"---","---",0,0,null,null,"---","---",0,0,null,null,"l.","---","---",0,0,null,null,"l.","---","---",0,0,null,null,"l.","---","---",0,0,"---","---",0,0,"---","---",0,0,"---","---",0,0,0,0,0,0,0]
[10,null,null,null,null,null,"---","---",0,0,null,null,"---","---",0,0,null,null,"l.","---","---",0,0,null,null,"l.","---","---",0,0,null,null,"l.","---","---",0,0,"---","---",0,0,"---","---",0,0,"---","---",0,0,0,0,0,0,0]
[11,null,null,null,null,null,"---","---",0,0,null,null,"---","---",0,0,null,null,"l.","---","---",0,0,null,null,"l.","---","---",0,0,null,null,"l.","---","---",0,0,"---","---",0,0,"---","---",0,0,"---","---",0,0,0,0,0,0,0]
[12,null,null,null,null,null,"---","---",0,0,null,null,"---","---",0,0,null,null,"l.","---","---",0,0,null,null,"l.","---","---",0,0,null,null,"l.","---","---",0,0,"---","---",0,0,"---","---",0,0,"---","---",0,0,0,0,0,0,0]
[13,null,null,null,null,null,"---","---",0,0,null,null,"---","---",0,0,null,null,"l.","---","---",0,0,null,null,"l.","---","---",0,0,null,null,"l.","---","---",0,0,"---","---",0,0,"---","---",0,0,"---","---",0,0,0,0,0,0,0]
[14,null,null,null,null,null,"---","---",0,0,null,null,"---","---",0,0,null,null,"l.","---","---",0,0,null,null,"l.","---","---",0,0,null,null,"l.","---","---",0,0,"---","---",0,0,"---","---",0,0,"---","---",0,0,0,0,0,0,0]
[15,null,null,null,null,null,"---","---",0,0,null,null,"---","---",0,0,null,null,"l.","---","---",0,0,null,null,"l.","---","---",0,0,null,null,"l.","---","---",0,0,"---","---",0,0,"---","---",0,0,"---","---",0,0,0,0,0,0,0]
[16,null,null,null,null,null,"---","---",0,0,null,null,"---","---",0,0,null,null,"l.","---","---",0,0,null,null,"l.","---","---",0,0,null,null,"l.","---","---",0,0,"---","---",0,0,"---","---",0,0,"---","---",0,0,0,0,0,0,0]
[17,null,null,null,null,null,"---","---",0,0,null,null,"---","---",0,0,null,null,"l.","---","---",0,0,null,null,"l.","---","---",0,0,null,null,"l.","---","---",0,0,"---","---",0,0,"---","---",0,0,"---","---",0,0,0,0,0,0,0]
[18,null,null,null,null,null,"---","---",0,0,null,null,"---","---",0,0,null,null,"l.","---","---",0,0,null,null,"l.","---","---",0,0,null,null,"l.","---","---",0,0,"---","---",0,0,"---","---",0,0,"---","---",0,0,0,0,0,0,0]
[19,null,null,null,null,null,"---","---",0,0,null,null,"---","---",0,0,null,null,"l.","---","---",0,0,null,null,"l.","---","---",0,0,null,null,"l.","---","---",0,0,"---","---",0,0,"---","---",0,0,"---","---",0,0,0,0,0,0,0]
[20,null,null,null,null,null,"---","---",0,0,null,null,"---","---",0,0,null,null,"l.","---","---",0,0,null,null,"l.","---","---",0,0,null,null,"l.","---","---",0,0,"---","---",0,0,"---","---",0,0,"---","---",0,0,0,0,0,0,0]
[21,null,null,null,null,null,"---","---",0,0,null,null,"---","---",0,0,null,null,"l.","---","---",0,0,null,null,"l.","---","---",0,0,null,null,"l.","---","---",0,0,"---","---",0,0,"---","---",0,0,"---","---",0,0,0,0,0,0,0]
[22,null,null,null,null,null,"---","---",0,0,null,null,"---","---",0,0,null,null,"l.","---","---",0,0,null,null,"l.","---","---",0,0,null,null,"l.","---","---",0,0,"---","---",0,0,"---","---",0,0,"---","---",0,0,0,0,0,0,0]
[23,null,null,null,null,null,"---","---",0,0,null,null,"---","---",0,0,null,null,"l.","---","---",0,0,null,null,"l.","---","---",0,0,null,null,"l.","---","---",0,0,"---","---",0,0,"---","---",0,0,"---","---",0,0,0,0,0,0,0]
[24,null,null,null,null,null,"---","---",0,0,null,null,"---","---",0,0,null,null,"l.","---","---",0,0,null,null,"l.","---","---",0,0,null,null,"l.","---","---",0,0,"---","---",0,0,"---","---",0,0,"---","---",0,0,0,0,0,0,0]
[25,null,null,null,null,null,"---","---",0,0,null,null,"---","---",0,0,null,null,"l.","---","---",0,0,null,null,"l.","---","---",0,0,null,null,"l.","---","---",0,0,"---","---",0,0,"---","---",0,0,"---","---",0,0,0,0,0,0,0]
[26,null,null,null,null,null,"---","---",0,0,null,null,"---","---",0,0,null,null,"l.","---","---",0,0,null,null,"l.","---","---",0,0,null,null,"l.","---","---",0,0,"---","---",0,0,"---","---",0,0,"---","---",0,0,0,0,0,0,0]
[27,null,null,null,null,null,"---","---",0,0,null,null,"---","---",0,0,null,null,"l.","---","---",0,0,null,null,"l.","---","---",0,0,null,null,"l.","---","---",0,0,"---","---",0,0,"---","---",0,0,"---","---",0,0,0,0,0,0,0]
[28,null,null,null,null,null,"---","---",0,0,null,null,"---","---",0,0,null,null,"l.","---","---",0,0,null,null,"l.","---","---",0,0,null,null,"l.","---","---",0,0,"---","---",0,0,"---","---",0,0,"---","---",0,0,0,0,0,0,0]
[29,null,null,null,null,null,"---","---",0,0,null,null,"---","---",0,0,null,null,"l.","---","---",0,0,null,null,"l.","---","---",0,0,null,null,"l.","---","---",0,0,"---","---",0,0,"---","---",0,0,"---","---",0,0,0,0,0,0,0]
[30,null,null,null,null,null,"---","---",0,0,null,null,"---","---",0,0,null,null,"l.","---","---",0,0,null,null,"l.","---","---",0,0,null,null,"l.","---","---",0,0,"---","---",0,0,"---","---",0,0,"---","---",0,0,0,0,0,0,0]
[31,null,null,null,null,null,"---","---",0,0,null,null,"---","---",0,0,null,null,"l.","---","---",0,0,null,null,"l.","---","---",0,0,null,null,"l.","---","---",0,0,"---","---",0,0,"---","---",0,0,"---","---",0,0,0,0,0,0,0]
[32,null,null,null,null,null,"---","---",0,0,null,null,"---","---",0,0,null,null,"l.","---","---",0,0,null,null,"l.","---","---",0,0,null,null,"l.","---","---",0,0,"---","---",0,0,"---","---",0,0,"---","---",0,0,0,0,0,0,0]
[33,null,null,null,null,null,"---","---",{"$f":"IFERROR(F99*VLOOKUP(E99,t_DEFRA,3,0),0)","v":0},{"$f":"I99+IFERROR(F99*VLOOKUP(E99,t_DEFRA,5,0),0)","v":0},null,null,"---","---",{"$f":"IFERROR(L99*VLOOKUP(K99,t_DEFRA,3,0),0)","v":0},{"$f":"O99+IFERROR(L99*VLOOKUP(K99,t_DEFRA,5,0),0)","v":0},null,null,"l.","---","---",{"$f":"IFERROR(R99*VLOOKUP(Q99,t_DEFRA,3,0),0)","v":0},{"$f":"IFERROR(S99*VLOOKUP(R99,t_DEFRA,3,0),0)","v":0},null,null,"l.","---","---",{"$f":"IFERROR(Y99*VLOOKUP(X99,t_DEFRA,3,0),0)","v":0},{"$f":"IFERROR(Z99*VLOOKUP(Y99,t_DEFRA,3,0),0)","v":0},null,null,"l.","---","---",{"$f":"IFERROR(AF99*VLOOKUP(AE99,t_DEFRA,3,0),0)","v":0},{"$f":"IFERROR(AG99*VLOOKUP(AF99,t_DEFRA,3,0),0)","v":0},"---","---",0,0,"---","---",0,0,"---","---",0,0,{"$f":"IF(C99=\"Propia\",AV99,0)","v":0},0,{"$f":"IF(C99=\"Propia\",AW99-AV99,0)","v":0},{"$f":"IF(AND(C99=\"Subcontratada\",D99=\"Upstream\"),AV99,0)","v":0},{"$f":"IF(AND(C99=\"Subcontratada\",D99=\"Downstream\"),AV99,0)","v":0}]
[34,null,null,null,null,null,"---","---",0,0,null,null,"---","---",0,0,null,null,"l.","---","---",0,0,null,null,"l.","---","---",0,0,null,null,"l.","---","---",0,0,"---","---",0,0,"---","---",0,0,"---","---",0,0,0,0,0,0,0]
[35,null,null,null,null,null,"---","---",0,0,null,null,"---","---",0,0,null,null,"l.","---","---",0,0,null,null,"l.","---","---",0,0,null,null,"l.","---","---",0,0,"---","---",0,0,"---","---",0,0,"---","---",0,0,0,0,0,0,0]
[36,null,null,null,null,null,"---","---",0,0,null,null,"---","---",0,0,null,null,"l.","---","---",0,0,null,null,"l.","---","---",0,0,null,null,"l.","---","---",0,0,"---","---",0,0,"---","---",0,0,"---","---",0,0,0,0,0,0,0]
[37,null,null,null,null,null,"---","---",0,0,null,null,"---","---",0,0,null,null,"l.","---","---",0,0,null,null,"l.","---","---",0,0,null,null,"l.","---","---",0,0,"---","---",0,0,"---","---",0,0,"---","---",0,0,0,0,0,0,0]
[38,null,null,null,null,null,"---","---",0,0,null,null,"---","---",0,0,null,null,"l.","---","---",0,0,null,null,"l.","---","---",0,0,null,null,"l.","---","---",0,0,"---","---",0,0,"---","---",0,0,"---","---",0,0,0,0,0,0,0]
[39,null,null,null,null,null,"---","---",0,0,null,null,"---","---",0,0,null,null,"l.","---","---",0,0,null,null,"l.","---","---",0,0,null,null,"l.","---","---",0,0,"---","---",0,0,"---","---",0,0,"---","---",0,0,0,0,0,0,0]
[40,null,null,null,null,null,"---","---",0,0,null,null,"---","---",0,0,null,null,"l.","---","---",0,0,null,null,"l.","---","---",0,0,null,null,"l.","---","---",0,0,"---","---",0,0,"---","---",0,0,"---","---",0,0,0,0,0,0,0]
[41,null,null,null,null,null,"---","---",0,0,null,null,"---","---",0,0,null,null,"l.","---","---",0,0,null,null,"l.","---","---",0,0,null,null,"l.","---","---",0,0,"---","---",0,0,"---","---",0,0,"---","---",0,0,0,0,0,0,0]
[42,null,null,null,null,null,"---","---",0,0,null,null,"---","---",0,0,null,null,"l.","---","---",0,0,null,null,"l.","---","---",0,0,null,null,"l.","---","---",0,0,"---","---",0,0,"---","---",0,0,"---","---",0,0,0,0,0,0,0]
[43,null,null,null,null,null,"---","---",0,0,null,null,"---","---",0,0,null,null,"l.","---","---",0,0,null,null,"l.","---","---",0,0,null,null,"l.","---","---",0,0,"---","---",0,0,"---","---",0,0,"---","---",0,0,0,0,0,0,0]
[44,null,null,null,null,null,"---","---",0,0,null,null,"---","---",0,0,null,null,"l.","---","---",0,0,null,null,"l.","---","---",0,0,null,null,"l.","---","---",0,0,"---","---",0,0,"---","---",0,0,"---","---",0,0,0,0,0,0,0]
[45,null,null,null,null,null,"---","---",0,0,null,null,"---","---",0,0,null,null,"l.","---","---",0,0,null,null,"l.","---","---",0,0,null,null,"l.","---","---",0,0,"---","---",0,0,"---","---",0,0,"---","---",0,0,0,0,0,0,0]
[46,null,null,null,null,null,"---","---",0,0,null,null,"---","---",0,0,null,null,"l.","---","---",0,0,null,null,"l.","---","---",0,0,null,null,"l.","---","---",0,0,"---","---",0,0,"---","---",0,0,"---","---",0,0,0,0,0,0,0]
[47,null,null,null,null,null,"---","---",0,0,null,null,"---","---",0,0,null,null,"l.","---","---",0,0,null,null,"l.","---","---",0,0,null,null,"l.","---","---",0,0,"---","---",0,0,"---","---",0,0,"---","---",0,0,0,0,0,0,0]
[48,null,null,null,null,null,"---","---",0,0,null,null,"---","---",0,0,null,null,"l.","---","---",0,0,null,null,"l.","---","---",0,0,null,null,"l.","---","---",0,0,"---","---",0,0,"---","---",0,0,"---","---",0,0,0,0,0,0,0]
[49,null,null,null,null,null,"---","---",0,0,null,null,"---","---",0,0,null,null,"l.","---","---",0,0,null,null,"l.","---","---",0,0,null,null,"l.","---","---",0,0,"---","---",0,0,"---","---",0,0,"---","---",0,0,0,0,0,0,0]
[50,null,null,null,null,null,"---","---",0,0,null,null,"---","---",0,0,null,null,"l.","---","---",0,0,null,null,"l.","---","---",0,0,null,null,"l.","---","---",0,0,"---","---",0,0,"---","---",0,0,"---","---",0,0,0,0,0,0,0]
[null,null,null,null,null,"TOTAL",{"$f":"SUM(G67:G116)","v":0},{"$f":"SUM(H67:H116)","v":0},0,0,null,"TOTAL",0,0,0,0,null,null,null,null,null,null,null,null,null,null,null,null,null,null,null,null,null,null,null,null,"TOTAL",0,0,0,0,0,0,0,0,0,{"$f":"SUM(AU67:AU116)","v":0},0,0,0,0,{"$f":"SUM(AZ67:AZ116)","v":0},{"$f":"SUM(BA67:BA116)","v":0},{"$f":"SUM(BB67:BB116)","v":0}]
[]
[]
[]
["RESULTADOS POR TIPO DE ACTIVIDAD - CONSUMO DE COMBUSTIBLE (FACTORES GHG - SÓLO EMISIONES DIRECTAS DEL SERVICIO DE TRANSPORTE)"]
[]
[null,"Denominación de la actividad","Tipo de actividad (propia o subcontratada)","Cadena de suministro (Upstream o Downstream)","ACTIVIDADES DE PROPULSIÓN DEL VEHÍCULO",null,null,null,null,null,"ACTIVIDADES DE REFRIGERACIÓN DE LA CARGA",null,null,null,null,null,"ACTIVIDADES DE ALMACENAMIENTO DE LA CARGA",null,null,null,null,null,null,null,null,null,null,null,null,null,null,null,null,null,null,null,null,null,null,null,null,"RESULTADOS TOTALES DE LAS ACTIVIDADES DE TRANSPORTE DE CARGA",null,null,null,"RESULTADOS TOTALES DE LAS ACTIVIDADES DE TRANSPORTE Y ALMACENAMIENTO DE CARGA",null,null,null,"REPORTE GHG PROTOCOL"]
[null,null,null,null,"Tipo de combustible","Consumo de combustible (l)","Consumo energético del tanque a las ruedas","Consumo energético del pozo a las ruedas","Emisiones de GEI del tanque a las ruedas","Emisiones de GEI del pozo a las ruedas","Tipo de combustible","Consumo de combustible (l)","Consumo energético del tanque a las ruedas","Consumo energético del pozo a las ruedas","Emisiones de GEI del tanque a las ruedas","Emisiones de GEI del pozo a las ruedas","Fuente de energía - 1","Consumo fuente de energía - 1",null,"Consumo energético directo - fuente de energía 1","Consumo energético total - fuente de energía 1","Emisiones de GEI directas - fuente de energía 1","Emisiones de GEI totales - fuente de energía 1","Fuente de energía - 2","Consumo fuente de energía - 2",null,"Consumo energético directo - fuente de energía 2","Consumo energético total - fuente de energía 2","Emisiones de GEI directas - fuente de energía 2","Emisiones de GEI totales - fuente de energía 2","Fuente de energía - 3","Consumo fuente de energía - 3",null,"Consumo energético directo - fuente de energía 3","Consumo energético total - fuente de energía 3","Emisiones de GEI directas - fuente de energía 3","Emisiones de GEI totales - fuente de energía 3","Consumo energético directo","Consumo energético total","Emisiones de GEI directas","Emisiones de GEI totales","Consumo energético del tanque a las ruedas","Consumo energético del pozo a las ruedas","Emisiones de GEI del tanque a las ruedas","Emisiones de GEI del pozo a las ruedas","Consumo energético del tanque a las ruedas","Consumo energético del pozo a las ruedas","Emisiones de GEI del tanque a las ruedas","Emisiones de GEI del pozo a las ruedas","Alcance 1","Alcance 2","Alcance 3. Categoría 3","Alcance 3. Categoría 4","Alcance 3. Categoría 9"]
[1,null,null,null,null,null,"---","---",{"$f":"IFERROR(F125*VLOOKUP(E125,t_GHG,2,0),0)","v":0},"---",null,null,"---","---",{"$f":"IFERROR(L125*VLOOKUP(K125,t_GHG,2,0),0)","v":0},"---",null,null,"l.","---","---",{"$f":"IFERROR(R125*VLOOKUP(Q125,t_GHG,2,0),0)","v":0},"---",null,null,"l.","---","---",{"$f":"IFERROR(Y125*VLOOKUP(X125,t_GHG,2,0),0)","v":0},"---",null,null,"l.","---","---",{"$f":"IFERROR(AF125*VLOOKUP(AE125,t_GHG,2,0),0)","v":0},"---","---","---",{"$f":"V125+AC125+AJ125","v":0},"---",{"$f":"IFERROR(G125+M125,\"---\")","v":"---"},{"$f":"IFERROR(H125+N125,\"---\")","v":"---"},{"$f":"IFERROR(I125+O125,\"---\")","v":0},{"$f":"IFERROR(J125+P125,\"---\")","v":"---"},{"$f":"IFERROR(AL125+AP125,\"---\")","v":"---"},{"$f":"IFERROR(AM125+AQ125,\"---\")","v":"---"},{"$f":"IFERROR(AN125+AR125,\"---\")","v":0},{"$f":"IFERROR(AO125+AS125,\"---\")","v":"---"},{"$f":"IF(C125=\"Propia\",AV125,0)","v":0},0,"N/D",{"$f":"IF(AND(C125=\"Subcontratada\",D125=\"Upstream\"),AV125,0)","v":0},{"$f":"IF(AND(C125=\"Subcontratada\",D125=\"Downstream\"),AV125,0)","v":0}]
[2,null,null,null,null,null,"---","---",0,"---",null,null,"---","---",0,"---",null,null,"l.","---","---",0,"---",null,null,"l.","---","---",0,"---",null,null,"l.","---","---",0,"---","---","---",{"$f":"V126+AC126+AJ126","v":0},"---",{"$f":"IFERROR(G126+M126,\"---\")","v":"---"},"---",0,"---",{"$f":"IFERROR(AL126+AP126,\"---\")","v":"---"},"---",0,"---",0,0,"N/D",0,0]
[3,null,null,null,null,null,"---","---",0,"---",null,null,"---","---",0,"---",null,null,"l.","---","---",0,"---",null,null,"l.","---","---",0,"---",null,null,"l.","---","---",0,"---","---","---",0,"---","---","---",0,"---","---","---",0,"---",0,0,"N/D",{"$f":"IF(AND(C127=\"Subcontratada\",D127=\"Upstream\"),AV127,0)","v":0},0]
[4,null,null,null,null,null,"---","---",0,"---",null,null,"---","---",0,"---",null,null,"l.","---","---",0,"---",null,null,"l.","---","---",0,"---",null,null,"l.","---","---",0,"---","---","---",0,"---","---","---",0,"---","---","---",0,"---",0,0,"N/D",0,0]
[5,null,null,null,null,null,"---","---",0,"---",null,null,"---","---",0,"---",null,null,"l.","---","---",0,"---",null,null,"l.","---","---",0,"---",null,null,"l.","---","---",0,"---","---","---",0,"---","---","---",0,"---","---","---",0,"---",0,0,"N/D",0,0]
[6,null,null,null,null,null,"---","---",0,"---",null,null,"---","---",0,"---",null,null,"l.","---","---",0,"---",null,null,"l.","---","---",0,"---",null,null,"l.","---","---",0,"---","---","---",0,"---","---","---",0,"---","---","---",0,"---",0,0,"N/D",0,0]
[7,null,null,null,null,null,"---","---",0,"---",null,null,"---","---",0,"---",null,null,"l.","---","---",0,"---",null,null,"l.","---","---",0,"---",null,null,"l.","---","---",0,"---","---","---",0,"---","---","---",0,"---","---","---",0,"---",0,0,"N/D",0,0]
[8,null,null,null,null,null,"---","---",0,"---",null,null,"---","---",0,"---",null,null,"l.","---","---",0,"---",null,null,"l.","---","---",0,"---",null,null,"l.","---","---",0,"---","---","---",0,"---","---","---",0,"---","---","---",0,"---",0,0,"N/D",0,{"$f":"IF(AND(C132=\"Subcontratada\",D132=\"Downstream\"),AV132,0)","v":0}]
[9,null,null,null,null,null,"---","---",0,"---",null,null,"---","---",0,"---",null,null,"l.","---","---",0,"---",null,null,"l.","---","---",0,"---",null,null,"l.","---","---",0,"---","---","---",0,"---","---","---",0,"---","---","---",0,"---",0,0,"N/D",0,0]
[10,null,null,null,null,null,"---","---",0,"---",null,null,"---","---",0,"---",null,null,"l.","---","---",0,"---",null,null,"l.","---","---",0,"---",null,null,"l.","---","---",0,"---","---","---",0,"---","---","---",0,"---","---","---",0,"---",0,0,"N/D",0,0]
[11,null,null,null,null,null,"---","---",0,"---",null,null,"---","---",0,"---",null,null,"l.","---","---",0,"---",null,null,"l.","---","---",0,"---",null,null,"l.","---","---",0,"---","---","---",0,"---","---","---",0,"---","---","---",0,"---",0,0,"N/D",0,0]
[12,null,null,null,null,null,"---","---",0,"---",null,null,"---","---",0,"---",null,null,"l.","---","---",0,"---",null,null,"l.","---","---",0,"---",null,null,"l.","---","---",0,"---","---","---",0,"---","---","---",0,"---","---","---",0,"---",0,0,"N/D",0,0]
[13,null,null,null,null,null,"---","---",0,"---",null,null,"---","---",0,"---",null,null,"l.","---","---",0,"---",null,null,"l.","---","---",0,"---",null,null,"l.","---","---",0,"---","---","---",0,"---","---","---",0,"---","---","---",0,"---",0,0,"N/D",0,0]
[14,null,null,null,null,null,"---","---",0,"---",null,null,"---","---",0,"---",null,null,"l.","---","---",0,"---",null,null,"l.","---","---",0,"---",null,null,"l.","---","---",0,"---","---","---",0,"---","---","---",0,"---","---","---",0,"---",0,0,"N/D",0,0]
[15,null,null,null,null,null,"---","---",0,"---",null,null,"---","---",0,"---",null,null,"l.","---","---",0,"---",null,null,"l.","---","---",0,"---",null,null,"l.","---","---",0,"---","---","---",0,"---","---","---",0,"---","---","---",0,"---",0,0,"N/D",0,0]
[16,null,null,null,null,null,"---","---",0,"---",null,null,"---","---",0,"---",null,null,"l.","---","---",0,"---",null,null,"l.","---","---",0,"---",null,null,"l.","---","---",0,"---","---","---",0,"---","---","---",0,"---","---","---",0,"---",0,0,"N/D",0,0]
[17,null,null,null,null,null,"---","---",0,"---",null,null,"---","---",0,"---",null,null,"l.","---","---",0,"---",null,null,"l.","---","---",0,"---",null,null,"l.","---","---",0,"---","---","---",0,"---","---","---",0,"---","---","---",0,"---",0,0,"N/D",0,0]
[18,null,null,null,null,null,"---","---",0,"---",null,null,"---","---",0,"---",null,null,"l.","---","---",0,"---",null,null,"l.","---","---",0,"---",null,null,"l.","---","---",0,"---","---","---",0,"---","---","---",0,"---","---","---",0,"---",0,0,"N/D",0,0]
[19,null,null,null,null,null,"---","---",0,"---",null,null,"---","---",0,"---",null,null,"l.","---","---",0,"---",null,null,"l.","---","---",0,"---",null,null,"l.","---","---",0,"---","---","---",0,"---","---","---",0,"---","---","---",0,"---",0,0,"N/D",0,0]
[20,null,null,null,null,null,"---","---",0,"---",null,null,"---","---",0,"---",null,null,"l.","---","---",0,"---",null,null,"l.","---","---",0,"---",null,null,"l.","---","---",0,"---","---","---",0,"---","---","---",0,"---","---","---",0,"---",0,0,"N/D",0,0]
[21,null,null,null,null,null,"---","---",0,"---",null,null,"---","---",0,"---",null,null,"l.","---","---",0,"---",null,null,"l.","---","---",0,"---",null,null,"l.","---","---",0,"---","---","---",0,"---","---","---",0,"---","---","---",0,"---",0,0,"N/D",0,0]
[22,null,null,null,null,null,"---","---",0,"---",null,null,"---","---",0,"---",null,null,"l.","---","---",0,"---",null,null,"l.","---","---",0,"---",null,null,"l.","---","---",0,"---","---","---",0,"---","---","---",0,"---","---","---",0,"---",0,0,"N/D",0,0]
[23,null,null,null,null,null,"---","---",0,"---",null,null,"---","---",0,"---",null,null,"l.","---","---",0,"---",null,null,"l.","---","---",0,"---",null,null,"l.","---","---",0,"---","---","---",0,"---","---","---",0,"---","---","---",0,"---",0,0,"N/D",0,0]
[24,null,null,null,null,null,"---","---",0,"---",null,null,"---","---",0,"---",null,null,"l.","---","---",0,"---",null,null,"l.","---","---",0,"---",null,null,"l.","---","---",0,"---","---","---",0,"---","---","---",0,"---","---","---",0,"---",0,0,"N/D",0,0]
[25,null,null,null,null,null,"---","---",0,"---",null,null,"---","---",0,"---",null,null,"l.","---","---",0,"---",null,null,"l.","---","---",0,"---",null,null,"l.","---","---",0,"---","---","---",0,"---","---","---",0,"---","---","---",0,"---",0,0,"N/D",0,0]
[26,null,null,null,null,null,"---","---",0,"---",null,null,"---","---",0,"---",null,null,"l.","---","---",0,"---",null,null,"l.","---","---",0,"---",null,null,"l.","---","---",0,"---","---","---",0,"---","---","---",0,"---","---","---",0,"---",0,0,"N/D",0,0]
[27,null,null,null,null,null,"---","---",0,"---",null,null,"---","---",0,"---",null,null,"l.","---","---",0,"---",null,null,"l.","---","---",0,"---",null,null,"l.","---","---",0,"---","---","---",0,"---","---","---",0,"---","---","---",0,"---",0,0,"N/D",0,0]
[28,null,null,null,null,null,"---","---",0,"---",null,null,"---","---",0,"---",null,null,"l.","---","---",0,"---",null,null,"l.","---","---",0,"---",null,null,"l.","---","---",0,"---","---","---",0,"---","---","---",0,"---","---","---",0,"---",0,0,"N/D",0,0]
[29,null,null,null,null,null,"---","---",0,"---",null,null,"---","---",0,"---",null,null,"l.","---","---",0,"---",null,null,"l.","---","---",0,"---",null,null,"l.","---","---",0,"---","---","---",0,"---","---","---",0,"---","---","---",0,"---",0,0,"N/D",0,0]
[30,null,null,null,null,null,"---","---",0,"---",null,null,"---","---",0,"---",null,null,"l.","---","---",0,"---",null,null,"l.","---","---",0,"---",null,null,"l.","---","---",0,"---","---","---",0,"---","---","---",0,"---","---","---",0,"---",0,0,"N/D",0,0]
[31,null,null,null,null,null,"---","---",0,"---",null,null,"---","---",0,"---",null,null,"l.","---","---",0,"---",null,null,"l.","---","---",0,"---",null,null,"l.","---","---",0,"---","---","---",0,"---","---","---",0,"---","---","---",0,"---",0,0,"N/D",0,0]
[32,null,null,null,null,null,"---","---",0,"---",null,null,"---","---",0,"---",null,null,"l.","---","---",0,"---",null,null,"l.","---","---",0,"---",null,null,"l.","---","---",0,"---","---","---",0,"---","---","---",0,"---","---","---",0,"---",0,0,"N/D",0,0]
[33,null,null,null,null,null,"---","---",{"$f":"IFERROR(F157*VLOOKUP(E157,t_GHG,2,0),0)","v":0},"---",null,null,"---","---",{"$f":"IFERROR(L157*VLOOKUP(K157,t_GHG,2,0),0)","v":0},"---",null,null,"l.","---","---",{"$f":"IFERROR(R157*VLOOKUP(Q157,t_GHG,2,0),0)","v":0},"---",null,null,"l.","---","---",{"$f":"IFERROR(Y157*VLOOKUP(X157,t_GHG,2,0),0)","v":0},"---",null,null,"l.","---","---",{"$f":"IFERROR(AF157*VLOOKUP(AE157,t_GHG,2,0),0)","v":0},"---","---","---",0,"---","---","---",0,"---","---","---",0,"---",{"$f":"IF(C157=\"Propia\",AV157,0)","v":0},0,"N/D",{"$f":"IF(AND(C157=\"Subcontratada\",D157=\"Upstream\"),AV157,0)","v":0},{"$f":"IF(AND(C157=\"Subcontratada\",D157=\"Downstream\"),AV157,0)","v":0}]
[34,null,null,null,null,null,"---","---",0,"---",null,null,"---","---",0,"---",null,null,"l.","---","---",0,"---",null,null,"l.","---","---",0,"---",null,null,"l.","---","---",0,"---","---","---",0,"---","---","---",0,"---","---","---",0,"---",0,0,"N/D",0,0]
[35,null,null,null,null,null,"---","---",0,"---",null,null,"---","---",0,"---",null,null,"l.","---","---",0,"---",null,null,"l.","---","---",0,"---",null,null,"l.","---","---",0,"---","---","---",0,"---","---","---",0,"---","---","---",0,"---",0,0,"N/D",0,0]
[36,null,null,null,null,null,"---","---",0,"---",null,null,"---","---",0,"---",null,null,"l.","---","---",0,"---",null,null,"l.","---","---",0,"---",null,null,"l.","---","---",0,"---","---","---",0,"---","---","---",0,"---","---","---",0,"---",0,0,"N/D",0,0]
[37,null,null,null,null,null,"---","---",0,"---",null,null,"---","---",0,"---",null,null,"l.","---","---",0,"---",null,null,"l.","---","---",0,"---",null,null,"l.","---","---",0,"---","---","---",0,"---","---","---",0,"---","---","---",0,"---",0,0,"N/D",0,0]
[38,null,null,null,null,null,"---","---",0,"---",null,null,"---","---",0,"---",null,null,"l.","---","---",0,"---",null,null,"l.","---","---",0,"---",null,null,"l.","---","---",0,"---","---","---",0,"---","---","---",0,"---","---","---",0,"---",0,0,"N/D",0,0]
[39,null,null,null,null,null,"---","---",0,"---",null,null,"---","---",0,"---",null,null,"l.","---","---",0,"---",null,null,"l.","---","---",0,"---",null,null,"l.","---","---",0,"---","---","---",0,"---","---","---",0,"---","---","---",0,"---",0,0,"N/D",0,0]
[40,null,null,null,null,null,"---","---",0,"---",null,null,"---","---",0,"---",null,null,"l.","---","---",0,"---",null,null,"l.","---","---",0,"---",null,null,"l.","---","---",0,"---","---","---",0,"---","---","---",0,"---","---","---",0,"---",0,0,"N/D",0,0]
[41,null,null,null,null,null,"---","---",0,"---",null,null,"---","---",0,"---",null,null,"l.","---","---",0,"---",null,null,"l.","---","---",0,"---",null,null,"l.","---","---",0,"---","---","---",0,"---","---","---",0,"---","---","---",0,"---",0,0,"N/D",0,0]
[42,null,null,null,null,null,"---","---",0,"---",null,null,"---","---",0,"---",null,null,"l.","---","---",0,"---",null,null,"l.","---","---",0,"---",null,null,"l.","---","---",0,"---","---","---",0,"---","---","---",0,"---","---","---",0,"---",0,0,"N/D",0,0]
[43,null,null,null,null,null,"---","---",0,"---",null,null,"---","---",0,"---",null,null,"l.","---","---",0,"---",null,null,"l.","---","---",0,"---",null,null,"l.","---","---",0,"---","---","---",0,"---","---","---",0,"---","---","---",0,"---",0,0,"N/D",0,0]
[44,null,null,null,null,null,"---","---",0,"---",null,null,"---","---",0,"---",null,null,"l.","---","---",0,"---",null,null,"l.","---","---",0,"---",null,null,"l.","---","---",0,"---","---","---",0,"---","---","---",0,"---","---","---",0,"---",0,0,"N/D",0,0]
[45,null,null,null,null,null,"---","---",0,"---",null,null,"---","---",0,"---",null,null,"l.","---","---",0,"---",null,null,"l.","---","---",0,"---",null,null,"l.","---","---",0,"---","---","---",0,"---","---","---",0,"---","---","---",0,"---",0,0,"N/D",0,0]
[46,null,null,null,null,null,"---","---",0,"---",null,null,"---","---",0,"---",null,null,"l.","---","---",0,"---",null,null,"l.","---","---",0,"---",null,null,"l.","---","---",0,"---","---","---",0,"---","---","---",0,"---","---","---",0,"---",0,0,"N/D",0,0]
[47,null,null,null,null,null,"---","---",0,"---",null,null,"---","---",0,"---",null,null,"l.","---","---",0,"---",null,null,"l.","---","---",0,"---",null,null,"l.","---","---",0,"---","---","---",0,"---","---","---",0,"---","---","---",0,"---",0,0,"N/D",0,0]
[48,null,null,null,null,null,"---","---",0,"---",null,null,"---","---",0,"---",null,null,"l.","---","---",0,"---",null,null,"l.","---","---",0,"---",null,null,"l.","---","---",0,"---","---","---",0,"---","---","---",0,"---","---","---",0,"---",0,0,"N/D",0,0]
[49,null,null,null,null,null,"---","---",0,"---",null,null,"---","---",0,"---",null,null,"l.","---","---",0,"---",null,null,"l.","---","---",0,"---",null,null,"l.","---","---",0,"---","---","---",0,"---","---","---",0,"---","---","---",0,"---",0,0,"N/D",0,0]
[50,null,null,null,null,null,"---","---",0,"---",null,null,"---","---",0,"---",null,null,"l.","---","---",0,"---",null,null,"l.","---","---",0,"---",null,null,"l.","---","---",0,"---","---","---",0,"---","---","---",0,"---","---","---",0,"---",0,0,"N/D",0,0]
[null,null,null,null,null,"TOTAL",{"$f":"SUM(G125:G174)","v":0},{"$f":"SUM(H125:H174)","v":0},0,0,null,"TOTAL",0,0,0,0,null,null,null,null,null,null,null,null,null,null,null,null,null,null,null,null,null,null,null,null,"TOTAL",0,0,0,0,0,0,0,0,0,{"$f":"SUM(AU125:AU174)","v":0},0,0,0,0,"N/D",{"$f":"SUM(BA125:BA174)","v":0},{"$f":"SUM(BB125:BB174)","v":0}]
[]
[]
[]
["RESULTADOS POR TIPO DE ACTIVIDAD - CONSUMO DE COMBUSTIBLE (FACTORES MAGRAMA - SÓLO EMISIONES DIRECTAS DEL SERVICIO DE TRANSPORTE)"]
[]
[null,"Denominación de la actividad","Tipo de actividad (propia o subcontratada)","Cadena de suministro (Upstream o Downstream)","ACTIVIDADES DE PROPULSIÓN DEL VEHÍCULO",null,null,null,null,null,"ACTIVIDADES DE REFRIGERACIÓN DE LA CARGA",null,null,null,null,null,"ACTIVIDADES DE ALMACENAMIENTO DE LA CARGA",null,null,null,null,null,null,null,null,null,null,null,null,null,null,null,null,null,null,null,null,null,null,null,null,"RESULTADOS TOTALES DE LAS ACTIVIDADES DE TRANSPORTE DE CARGA",null,null,null,"RESULTADOS TOTALES DE LAS ACTIVIDADES DE TRANSPORTE Y ALMACENAMIENTO DE CARGA",null,null,null,"REPORTE GHG PROTOCOL"]
[null,null,null,null,"Tipo de combustible","Consumo de combustible (l)","Consumo energético del tanque a las ruedas","Consumo energético del pozo a las ruedas","Emisiones de GEI del tanque a las ruedas","Emisiones de GEI del pozo a las ruedas","Tipo de combustible","Consumo de combustible (l)","Consumo energético del tanque a las ruedas","Consumo energético del pozo a las ruedas","Emisiones de GEI del tanque a las ruedas","Emisiones de GEI del pozo a las ruedas","Fuente de energía - 1","Consumo fuente de energía - 1",null,"Consumo energético directo - fuente de energía 1","Consumo energético total - fuente de energía 1","Emisiones de GEI directas - fuente de energía 1","Emisiones de GEI totales - fuente de energía 1","Fuente de energía - 2","Consumo fuente de energía - 2",null,"Consumo energético directo - fuente de energía 2","Consumo energético total - fuente de energía 2","Emisiones de GEI directas - fuente de energía 2","Emisiones de GEI totales - fuente de energía 2","Fuente de energía - 3","Consumo fuente de energía - 3",null,"Consumo energético directo - fuente de energía 3","Consumo energético total - fuente de energía 3","Emisiones de GEI directas - fuente de energía 3","Emisiones de GEI totales - fuente de energía 3","Consumo energético directo","Consumo energético total","Emisiones de GEI directas","Emisiones de GEI totales","Consumo energético del tanque a las ruedas","Consumo energético del pozo a las ruedas","Emisiones de GEI del tanque a las ruedas","Emisiones de GEI del pozo a las ruedas","Consumo energético del tanque a las ruedas","Consumo energético del pozo a las ruedas","Emisiones de GEI del tanque a las ruedas","Emisiones de GEI del pozo a las ruedas","Alcance 1","Alcance 2","Alcance 3. Categoría 3","Alcance 3. Categoría 4","Alcance 3. Categoría 9"]
[1,null,null,null,null,null,"---","---",{"$f":"IFERROR(F183*VLOOKUP(E183,t_MAGRAMA,2,0),0)","v":0},"---",null,null,"---","---",{"$f":"IFERROR(L183*VLOOKUP(K183,t_MAGRAMA,2,0),0)","v":0},"---",null,null,"l.","---","---",{"$f":"IFERROR(R183*VLOOKUP(Q183,t_MAGRAMA,2,0),0)","v":0},"---",null,null,"l.","---","---",{"$f":"IFERROR(Y183*VLOOKUP(X183,t_MAGRAMA,2,0),0)","v":0},"---",null,null,"l.","---","---",{"$f":"IFERROR(AF183*VLOOKUP(AE183,t_MAGRAMA,2,0),0)","v":0},"---","---","---",{"$f":"V183+AC183+AJ183","v":0},"---",{"$f":"IFERROR(G183+M183,\"---\")","v":"---"},{"$f":"IFERROR(H183+N183,\"---\")","v":"---"},{"$f":"IFERROR(I183+O183,\"---\")","v":0},{"$f":"IFERROR(J183+P183,\"---\")","v":"---"},{"$f":"IFERROR(AL183+AP183,\"---\")","v":"---"},{"$f":"IFERROR(AM183+AQ183,\"---\")","v":"---"},{"$f":"IFERROR(AN183+AR183,\"---\")","v":0},{"$f":"IFERROR(AO183+AS183,\"---\")","v":"---"},{"$f":"IF(C183=\"Propia\",AV183,0)","v":0},0,"N/D",{"$f":"IF(AND(C183=\"Subcontratada\",D183=\"Upstream\"),AV183,0)","v":0},{"$f":"IF(AND(C183=\"Subcontratada\",D183=\"Downstream\"),AV183,0)","v":0}]
[2,null,null,null,null,null,"---","---",0,"---",null,null,"---","---",0,"---",null,null,"l.","---","---",0,"---",null,null,"l.","---","---",0,"---",null,null,"l.","---","---",0,"---","---","---",{"$f":"V184+AC184+AJ184","v":0},"---",{"$f":"IFERROR(G184+M184,\"---\")","v":"---"},"---",0,"---",{"$f":"IFERROR(AL184+AP184,\"---\")","v":"---"},"---",0,"---",0,0,"N/D",0,0]
[3,null,null,null,null,null,"---","---",0,"---",null,null,"---","---",0,"---",null,null,"l.","---","---",0,"---",null,null,"l.","---","---",0,"---",null,null,"l.","---","---",0,"---","---","---",0,"---","---","---",0,"---","---","---",0,"---",0,0,"N/D",0,0]
[4,null,null,null,null,null,"---","---",0,"---",null,null,"---","---",0,"---",null,null,"l.","---","---",0,"---",null,null,"l.","---","---",0,"---",null,null,"l.","---","---",0,"---","---","---",0,"---","---","---",0,"---","---","---",0,"---",0,0,"N/D",0,0]
[5,null,null,null,null,null,"---","---",0,"---",null,null,"---","---",0,"---",null,null,"l.","---","---",0,"---",null,null,"l.","---","---",0,"---",null,null,"l.","---","---",0,"---","---","---",0,"---","---","---",0,"---","---","---",0,"---",0,0,"N/D",0,0]
[6,null,null,null,null,null,"---","---",0,"---",null,null,"---","---",0,"---",null,null,"l.","---","---",0,"---",null,null,"l.","---","---",0,"---",null,null,"l.","---","---",0,"---","---","---",0,"---","---","---",0,"---","---","---",0,"---",0,0,"N/D",0,0]
[7,null,null,null,null,null,"---","---",0,"---",null,null,"---","---",0,"---",null,null,"l.","---","---",0,"---",null,null,"l.","---","---",0,"---",null,null,"l.","---","---",0,"---","---","---",0,"---","---","---",0,"---","---","---",0,"---",0,0,"N/D",0,0]
[8,null,null,null,null,null,"---","---",0,"---",null,null,"---","---",0,"---",null,null,"l.","---","---",0,"---",null,null,"l.","---","---",0,"---",null,null,"l.","---","---",0,"---","---","---",0,"---","---","---",0,"---","---","---",0,"---",0,0,"N/D",0,0]
[9,null,null,null,null,null,"---","---",0,"---",null,null,"---","---",0,"---",null,null,"l.","---","---",0,"---",null,null,"l.","---","---",0,"---",null,null,"l.","---","---",0,"---","---","---",0,"---","---","---",0,"---","---","---",0,"---",0,0,"N/D",0,0]
[10,null,null,null,null,null,"---","---",0,"---",null,null,"---","---",0,"---",null,null,"l.","---","---",0,"---",null,null,"l.","---","---",0,"---",null,null,"l.","---","---",0,"---","---","---",0,"---","---","---",0,"---","---","---",0,"---",0,0,"N/D",0,0]
[11,null,null,null,null,null,"---","---",0,"---",null,null,"---","---",0,"---",null,null,"l.","---","---",0,"---",null,null,"l.","---","---",0,"---",null,null,"l.","---","---",0,"---","---","---",0,"---","---","---",0,"---","---","---",0,"---",0,0,"N/D",0,0]
[12,null,null,null,null,null,"---","---",0,"---",null,null,"---","---",0,"---",null,null,"l.","---","---",0,"---",null,null,"l.","---","---",0,"---",null,null,"l.","---","---",0,"---","---","---",0,"---","---","---",0,"---","---","---",0,"---",0,0,"N/D",0,0]
[13,null,null,null,null,null,"---","---",0,"---",null,null,"---","---",0,"---",null,null,"l.","---","---",0,"---",null,null,"l.","---","---",0,"---",null,null,"l.","---","---",0,"---","---","---",0,"---","---","---",0,"---","---","---",0,"---",0,0,"N/D",0,0]
[14,null,null,null,null,null,"---","---",0,"---",null,null,"---","---",0,"---",null,null,"l.","---","---",0,"---",null,null,"l.","---","---",0,"---",null,null,"l.","---","---",0,"---","---","---",0,"---","---","---",0,"---","---","---",0,"---",0,0,"N/D",0,0]
[15,null,null,null,null,null,"---","---",0,"---",null,null,"---","---",0,"---",null,null,"l.","---","---",0,"---",null,null,"l.","---","---",0,"---",null,null,"l.","---","---",0,"---","---","---",0,"---","---","---",0,"---","---","---",0,"---",0,0,"N/D",0,0]
[16,null,null,null,null,null,"---","---",0,"---",null,null,"---","---",0,"---",null,null,"l.","---","---",0,"---",null,null,"l.","---","---",0,"---",null,null,"l.","---","---",0,"---","---","---",0,"---","---","---",0,"---","---","---",0,"---",0,0,"N/D",0,0]
[17,null,null,null,null,null,"---","---",0,"---",null,null,"---","---",0,"---",null,null,"l.","---","---",0,"---",null,null,"l.","---","---",0,"---",null,null,"l.","---","---",0,"---","---","---",0,"---","---","---",0,"---","---","---",0,"---",0,0,"N/D",0,0]
[18,null,null,null,null,null,"---","---",0,"---",null,null,"---","---",0,"---",null,null,"l.","---","---",0,"---",null,null,"l.","---","---",0,"---",null,null,"l.","---","---",0,"---","---","---",0,"---","---","---",0,"---","---","---",0,"---",0,0,"N/D",0,0]
[19,null,null,null,null,null,"---","---",0,"---",null,null,"---","---",0,"---",null,null,"l.","---","---",0,"---",null,null,"l.","---","---",0,"---",null,null,"l.","---","---",0,"---","---","---",0,"---","---","---",0,"---","---","---",0,"---",0,0,"N/D",0,0]
[20,null,null,null,null,null,"---","---",0,"---",null,null,"---","---",0,"---",null,null,"l.","---","---",0,"---",null,null,"l.","---","---",0,"---",null,null,"l.","---","---",0,"---","---","---",0,"---","---","---",0,"---","---","---",0,"---",0,0,"N/D",0,0]
[21,null,null,null,null,null,"---","---",0,"---",null,null,"---","---",0,"---",null,null,"l.","---","---",0,"---",null,null,"l.","---","---",0,"---",null,null,"l.","---","---",0,"---","---","---",0,"---","---","---",0,"---","---","---",0,"---",0,0,"N/D",0,0]
[22,null,null,null,null,null,"---","---",0,"---",null,null,"---","---",0,"---",null,null,"l.","---","---",0,"---",null,null,"l.","---","---",0,"---",null,null,"l.","---","---",0,"---","---","---",0,"---","---","---",0,"---","---","---",0,"---",0,0,"N/D",0,0]
[23,null,null,null,null,null,"---","---",0,"---",null,null,"---","---",0,"---",null,null,"l.","---","---",0,"---",null,null,"l.","---","---",0,"---",null,null,"l.","---","---",0,"---","---","---",0,"---","---","---",0,"---","---","---",0,"---",0,0,"N/D",0,0]
[24,null,null,null,null,null,"---","---",0,"---",null,null,"---","---",0,"---",null,null,"l.","---","---",0,"---",null,null,"l.","---","---",0,"---",null,null,"l.","---","---",0,"---","---","---",0,"---","---","---",0,"---","---","---",0,"---",0,0,"N/D",0,0]
[25,null,null,null,null,null,"---","---",0,"---",null,null,"---","---",0,"---",null,null,"l.","---","---",0,"---",null,null,"l.","---","---",0,"---",null,null,"l.","---","---",0,"---","---","---",0,"---","---","---",0,"---","---","---",0,"---",0,0,"N/D",0,0]
[26,null,null,null,null,null,"---","---",0,"---",null,null,"---","---",0,"---",null,null,"l.","---","---",0,"---",null,null,"l.","---","---",0,"---",null,null,"l.","---","---",0,"---","---","---",0,"---","---","---",0,"---","---","---",0,"---",0,0,"N/D",0,0]
[27,null,null,null,null,null,"---","---",0,"---",null,null,"---","---",0,"---",null,null,"l.","---","---",0,"---",null,null,"l.","---","---",0,"---",null,null,"l.","---","---",0,"---","---","---",0,"---","---","---",0,"---","---","---",0,"---",0,0,"N/D",0,0]
[28,null,null,null,null,null,"---","---",0,"---",null,null,"---","---",0,"---",null,null,"l.","---","---",0,"---",null,null,"l.","---","---",0,"---",null,null,"l.","---","---",0,"---","---","---",0,"---","---","---",0,"---","---","---",0,"---",0,0,"N/D",0,0]
[29,null,null,null,null,null,"---","---",0,"---",null,null,"---","---",0,"---",null,null,"l.","---","---",0,"---",null,null,"l.","---","---",0,"---",null,null,"l.","---","---",0,"---","---","---",0,"---","---","---",0,"---","---","---",0,"---",0,0,"N/D",0,0]
[30,null,null,null,null,null,"---","---",0,"---",null,null,"---","---",0,"---",null,null,"l.","---","---",0,"---",null,null,"l.","---","---",0,"---",null,null,"l.","---","---",0,"---","---","---",0,"---","---","---",0,"---","---","---",0,"---",0,0,"N/D",0,0]
[31,null,null,null,null,null,"---","---",0,"---",null,null,"---","---",0,"---",null,null,"l.","---","---",0,"---",null,null,"l.","---","---",0,"---",null,null,"l.","---","---",0,"---","---","---",0,"---","---","---",0,"---","---","---",0,"---",0,0,"N/D",0,0]
[32,null,null,null,null,null,"---","---",0,"---",null,null,"---","---",0,"---",null,null,"l.","---","---",0,"---",null,null,"l.","---","---",0,"---",null,null,"l.","---","---",0,"---","---","---",0,"---","---","---",0,"---","---","---",0,"---",0,0,"N/D",0,0]
[33,null,null,null,null,null,"---","---",{"$f":"IFERROR(F215*VLOOKUP(E215,t_MAGRAMA,2,0),0)","v":0},"---",null,null,"---","---",{"$f":"IFERROR(L215*VLOOKUP(K215,t_MAGRAMA,2,0),0)","v":0},"---",null,null,"l.","---","---",{"$f":"IFERROR(R215*VLOOKUP(Q215,t_MAGRAMA,2,0),0)","v":0},"---",null,null,"l.","---","---",{"$f":"IFERROR(Y215*VLOOKUP(X215,t_MAGRAMA,2,0),0)","v":0},"---",null,null,"l.","---","---",{"$f":"IFERROR(AF215*VLOOKUP(AE215,t_MAGRAMA,2,0),0)","v":0},"---","---","---",0,"---","---","---",0,"---","---","---",0,"---",0,0,"N/D",0,0]
[34,null,null,null,null,null,"---","---",0,"---",null,null,"---","---",0,"---",null,null,"l.","---","---",0,"---",null,null,"l.","---","---",0,"---",null,null,"l.","---","---",0,"---","---","---",0,"---","---","---",0,"---","---","---",0,"---",0,0,"N/D",0,0]
[35,null,null,null,null,null,"---","---",0,"---",null,null,"---","---",0,"---",null,null,"l.","---","---",0,"---",null,null,"l.","---","---",0,"---",null,null,"l.","---","---",0,"---","---","---",0,"---","---","---",0,"---","---","---",0,"---",0,0,"N/D",0,0]
[36,null,null,null,null,null,"---","---",0,"---",null,null,"---","---",0,"---",null,null,"l.","---","---",0,"---",null,null,"l.","---","---",0,"---",null,null,"l.","---","---",0,"---","---","---",0,"---","---","---",0,"---","---","---",0,"---",0,0,"N/D",0,0]
[37,null,null,null,null,null,"---","---",0,"---",null,null,"---","---",0,"---",null,null,"l.","---","---",0,"---",null,null,"l.","---","---",0,"---",null,null,"l.","---","---",0,"---","---","---",0,"---","---","---",0,"---","---","---",0,"---",0,0,"N/D",0,0]
[38,null,null,null,null,null,"---","---",0,"---",null,null,"---","---",0,"---",null,null,"l.","---","---",0,"---",null,null,"l.","---","---",0,"---",null,null,"l.","---","---",0,"---","---","---",0,"---","---","---",0,"---","---","---",0,"---",0,0,"N/D",0,0]
[39,null,null,null,null,null,"---","---",0,"---",null,null,"---","---",0,"---",null,null,"l.","---","---",0,"---",null,null,"l.","---","---",0,"---",null,null,"l.","---","---",0,"---","---","---",0,"---","---","---",0,"---","---","---",0,"---",0,0,"N/D",0,0]
[40,null,null,null,null,null,"---","---",0,"---",null,null,"---","---",0,"---",null,null,"l.","---","---",0,"---",null,null,"l.","---","---",0,"---",null,null,"l.","---","---",0,"---","---","---",0,"---","---","---",0,"---","---","---",0,"---",0,0,"N/D",0,0]
[41,null,null,null,null,null,"---","---",0,"---",null,null,"---","---",0,"---",null,null,"l.","---","---",0,"---",null,null,"l.","---","---",0,"---",null,null,"l.","---","---",0,"---","---","---",0,"---","---","---",0,"---","---","---",0,"---",0,0,"N/D",0,0]
[42,null,null,null,null,null,"---","---",0,"---",null,null,"---","---",0,"---",null,null,"l.","---","---",0,"---",null,null,"l.","---","---",0,"---",null,null,"l.","---","---",0,"---","---","---",0,"---","---","---",0,"---","---","---",0,"---",0,0,"N/D",0,0]
[43,null,null,null,null,null,"---","---",0,"---",null,null,"---","---",0,"---",null,null,"l.","---","---",0,"---",null,null,"l.","---","---",0,"---",null,null,"l.","---","---",0,"---","---","---",0,"---","---","---",0,"---","---","---",0,"---",0,0,"N/D",0,0]
[44,null,null,null,null,null,"---","---",0,"---",null,null,"---","---",0,"---",null,null,"l.","---","---",0,"---",null,null,"l.","---","---",0,"---",null,null,"l.","---","---",0,"---","---","---",0,"---","---","---",0,"---","---","---",0,"---",0,0,"N/D",0,0]
[45,null,null,null,null,null,"---","---",0,"---",null,null,"---","---",0,"---",null,null,"l.","---","---",0,"---",null,null,"l.","---","---",0,"---",null,null,"l.","---","---",0,"---","---","---",0,"---","---","---",0,"---","---","---",0,"---",0,0,"N/D",0,0]
[46,null,null,null,null,null,"---","---",0,"---",null,null,"---","---",0,"---",null,null,"l.","---","---",0,"---",null,null,"l.","---","---",0,"---",null,null,"l.","---","---",0,"---","---","---",0,"---","---","---",0,"---","---","---",0,"---",0,0,"N/D",0,0]
[47,null,null,null,null,null,"---","---",0,"---",null,null,"---","---",0,"---",null,null,"l.","---","---",0,"---",null,null,"l.","---","---",0,"---",null,null,"l.","---","---",0,"---","---","---",0,"---","---","---",0,"---","---","---",0,"---",0,0,"N/D",0,0]
[48,null,null,null,null,null,"---","---",0,"---",null,null,"---","---",0,"---",null,null,"l.","---","---",0,"---",null,null,"l.","---","---",0,"---",null,null,"l.","---","---",0,"---","---","---",0,"---","---","---",0,"---","---","---",0,"---",0,0,"N/D",0,0]
[49,null,null,null,null,null,"---","---",0,"---",null,null,"---","---",0,"---",null,null,"l.","---","---",0,"---",null,null,"l.","---","---",0,"---",null,null,"l.","---","---",0,"---","---","---",0,"---","---","---",0,"---","---","---",0,"---",0,0,"N/D",0,0]
[50,null,null,null,null,null,"---","---",0,"---",null,null,"---","---",0,"---",null,null,"l.","---","---",0,"---",null,null,"l.","---","---",0,"---",null,null,"l.","---","---",0,"---","---","---",0,"---","---","---",0,"---","---","---",0,"---",0,0,"N/D",0,0]
[null,null,null,null,null,"TOTAL",{"$f":"SUM(G183:G232)","v":0},{"$f":"SUM(H183:H232)","v":0},0,0,null,"TOTAL",{"$f":"SUM(M183:M232)","v":0},0,0,0,null,null,null,null,null,null,null,null,null,null,null,null,null,null,null,null,null,null,null,null,"TOTAL",{"$f":"SUM(AL183:AL232)","v":0},0,0,0,0,0,0,0,0,{"$f":"SUM(AU183:AU232)","v":0},{"$f":"SUM(AV183:AV232)","v":0},0,0,0,"N/D",{"$f":"SUM(BA183:BA232)","v":0},{"$f":"SUM(BB183:BB232)","v":0}]
[]
[]
[]
["RESULTADOS POR TIPO DE ACTIVIDAD - CONSUMO DE ELECTRICIDAD"]
[]
[null,"Denominación de la actividad","Tipo de actividad (propia o subcontratada)","Cadena de suministro (Upstream o Downstream)","ACTIVIDADES DE PROPULSIÓN DEL VEHÍCULO",null,null,null,null,null,"ACTIVIDADES DE REFRIGERACIÓN DE LA CARGA",null,null,null,null,null,"ACTIVIDADES DE ALMACENAMIENTO DE LA CARGA",null,null,null,null,null,null,null,null,null,null,null,null,null,null,null,null,null,null,null,null,null,null,null,null,"RESULTADOS TOTALES DE LAS ACTIVIDADES DE TRANSPORTE DE CARGA",null,null,null,"RESULTADOS TOTALES DE LAS ACTIVIDADES DE TRANSPORTE Y ALMACENAMIENTO DE CARGA",null,null,null,"REPORTE GHG PROTOCOL"]
[null,null,null,null,"Tipo de suministro","Consumo de electricidad (kWh)","Consumo energético del tanque a las ruedas","Consumo energético del pozo a las ruedas","Emisiones de GEI por generación de electricidad","Emisiones de GEI indirectas totales","Tipo de suministro","Consumo de electricidad (kWh)","Consumo energético del tanque a las ruedas","Consumo energético del pozo a las ruedas","Emisiones de GEI por generación de electricidad","Emisiones de GEI indirectas totales","Tipo de suministro","Consumo de electricidad (kWh)",null,"Consumo energético directo","Consumo energético total","Emisiones de GEI por generación de electricidad","Emisiones de GEI indirectas totales",null,null,null,null,null,null,null,null,null,null,null,null,null,null,null,null,null,null,"Consumo energético del tanque a las ruedas","Consumo energético del pozo a las ruedas","Emisiones de GEI por generación de electricidad","Emisiones de GEI indirectas totales","Consumo energético del tanque a las ruedas","Consumo energético del pozo a las ruedas","Emisiones de GEI por generación de electricidad","Emisiones de GEI indirectas totales","Alcance 1","Alcance 2","Alcance 3. Categoría 3","Alcance 3. Categoría 4","Alcance 3. Categoría 9"]
[null,null,null,null,null,null,{"$f":"IFERROR(F241*VLOOKUP(E241,t_factores_e,3,0),0)","v":0},{"$f":"IFERROR(F241*VLOOKUP(E241,t_factores_e,4,0),0)","v":0},{"$f":"IFERROR(F241*VLOOKUP(E241,t_factores_e,8,0),0)","v":0},{"$f":"IFERROR(F241*VLOOKUP(E241,t_factores_e,7,0),0)","v":0},null,null,{"$f":"IFERROR(L241*VLOOKUP(K241,t_factores_e,3,0),0)","v":0},{"$f":"IFERROR(L241*VLOOKUP(K241,t_factores_e,4,0),0)","v":0},{"$f":"IFERROR(L241*VLOOKUP(K241,t_factores_e,8,0),0)","v":0},{"$f":"IFERROR(L241*VLOOKUP(K241,t_factores_e,7,0),0)","v":0},null,null,null,{"$f":"IFERROR(R241*VLOOKUP(Q241,t_electricidad_e,3,0),0)","v":0},{"$f":"IFERROR(R241*VLOOKUP(Q241,t_factores_e,4,0),0)","v":0},{"$f":"IFERROR(R241*VLOOKUP(Q241,t_factores_e,8,0),0)","v":0},{"$f":"IFERROR(R241*VLOOKUP(Q241,t_factores_e,7,0),0)","v":0},null,null,null,null,null,null,null,null,null,null,null,null,null,null,null,null,null,null,{"$f":"IFERROR(G241+M241,\"---\")","v":0},{"$f":"IFERROR(H241+N241,\"---\")","v":0},{"$f":"IFERROR(I241+O241,\"---\")","v":0},{"$f":"IFERROR(J241+P241,\"---\")","v":0},{"$f":"IFERROR(T241+AP241,\"---\")","v":0},{"$f":"IFERROR(U241+AQ241,\"---\")","v":0},{"$f":"IFERROR(V241+AR241,\"---\")","v":0},{"$f":"IFERROR(W241+AS241,\"---\")","v":0},0,{"$f":"IF(C241=\"Propia\",AV241,0)","v":0},{"$f":"IF(C241=\"Propia\",AW241-AV241,0)","v":0},{"$f":"IF(AND(C241=\"Subcontratada\",D241=\"Upstream\"),AV241,0)","v":0},{"$f":"IF(AND(C241=\"Subcontratada\",D241=\"Downstream\"),AV241,0)","v":0}]
[null,null,null,null,null,null,0,0,0,0,null,null,{"$f":"IFERROR(L242*VLOOKUP(K242,t_factores_e,3,0),0)","v":0},0,0,0,null,null,null,{"$f":"IFERROR(R242*VLOOKUP(Q242,t_factores_e,3,0),0)","v":0},0,0,0,null,null,null,null,null,null,null,null,null,null,null,null,null,null,null,null,null,null,0,0,0,0,0,0,0,0,0,0,0,0,0]
[null,null,null,null,null,null,0,0,0,0,null,null,0,0,0,0,null,null,null,0,0,0,0,null,null,null,null,null,null,null,null,null,null,null,null,null,null,null,null,null,null,0,0,0,0,0,0,0,0,0,0,0,0,0]
[null,null,null,null,null,null,0,0,0,0,null,null,0,0,0,0,null,null,null,0,0,0,0,null,null,null,null,null,null,null,null,null,null,null,null,null,null,null,null,null,null,0,0,0,0,0,0,0,0,0,0,0,0,0]
[null,null,null,null,null,null,0,0,0,0,null,null,0,0,0,0,null,null,null,0,0,0,0,null,null,null,null,null,null,null,null,null,null,null,null,null,null,null,null,null,null,0,0,0,0,0,0,0,0,0,0,0,0,0]
[null,null,null,null,null,null,0,0,0,0,null,null,0,0,0,0,null,null,null,0,0,0,0,null,null,null,null,null,null,null,null,null,null,null,null,null,null,null,null,null,null,0,0,0,0,0,0,0,0,0,0,0,0,0]
[null,null,null,null,null,null,0,0,0,0,null,null,0,0,0,0,null,null,null,0,0,0,0,null,null,null,null,null,null,null,null,null,null,null,null,null,null,null,null,null,null,0,0,0,0,0,0,0,0,0,0,0,0,0]
[null,null,null,null,null,null,0,0,0,0,null,null,0,0,0,0,null,null,null,0,0,0,0,null,null,null,null,null,null,null,null,null,null,null,null,null,null,null,null,null,null,0,0,0,0,0,0,0,0,0,0,0,0,0]
[null,null,null,null,null,null,0,0,0,0,null,null,0,0,0,0,null,null,null,0,0,0,0,null,null,null,null,null,null,null,null,null,null,null,null,null,null,null,null,null,null,0,0,0,0,0,0,0,0,0,0,0,0,0]
[null,null,null,null,null,null,0,0,0,0,null,null,0,0,0,0,null,null,null,0,0,0,0,null,null,null,null,null,null,null,null,null,null,null,null,null,null,null,null,null,null,0,0,0,0,0,0,0,0,0,0,0,0,0]
[null,null,null,null,null,null,0,0,0,0,null,null,0,0,0,0,null,null,null,0,0,0,0,null,null,null,null,null,null,null,null,null,null,null,null,null,null,null,null,null,null,0,0,0,0,0,0,0,0,0,0,0,0,0]
[null,null,null,null,null,null,0,0,0,0,null,null,0,0,0,0,null,null,null,0,0,0,0,null,null,null,null,null,null,null,null,null,null,null,null,null,null,null,null,null,null,0,0,0,0,0,0,0,0,0,0,0,0,0]
[null,null,null,null,null,null,0,0,0,0,null,null,0,0,0,0,null,null,null,0,0,0,0,null,null,null,null,null,null,null,null,null,null,null,null,null,null,null,null,null,null,0,0,0,0,0,0,0,0,0,0,0,0,0]
[null,null,null,null,null,null,0,0,0,0,null,null,0,0,0,0,null,null,null,0,0,0,0,null,null,null,null,null,null,null,null,null,null,null,null,null,null,null,null,null,null,0,0,0,0,0,0,0,0,0,0,0,0,0]
[null,null,null,null,null,null,0,0,0,0,null,null,0,0,0,0,null,null,null,0,0,0,0,null,null,null,null,null,null,null,null,null,null,null,null,null,null,null,null,null,null,0,0,0,0,0,0,0,0,0,0,0,0,0]
[null,null,null,null,null,null,0,0,0,0,null,null,0,0,0,0,null,null,null,0,0,0,0,null,null,null,null,null,null,null,null,null,null,null,null,null,null,null,null,null,null,0,0,0,0,0,0,0,0,0,0,0,0,0]
[null,null,null,null,null,null,0,0,0,0,null,null,0,0,0,0,null,null,null,0,0,0,0,null,null,null,null,null,null,null,null,null,null,null,null,null,null,null,null,null,null,0,0,0,0,0,0,0,0,0,0,0,0,0]
[null,null,null,null,null,null,0,0,0,0,null,null,0,0,0,0,null,null,null,0,0,0,0,null,null,null,null,null,null,null,null,null,null,null,null,null,null,null,null,null,null,0,0,0,0,0,0,0,0,0,0,0,0,0]
[null,null,null,null,null,null,0,0,0,0,null,null,0,0,0,0,null,null,null,0,0,0,0,null,null,null,null,null,null,null,null,null,null,null,null,null,null,null,null,null,null,0,0,0,0,0,0,0,0,0,0,0,0,0]
[null,null,null,null,null,null,0,0,0,0,null,null,0,0,0,0,null,null,null,0,0,0,0,null,null,null,null,null,null,null,null,null,null,null,null,null,null,null,null,null,null,0,0,0,0,0,0,0,0,0,0,0,0,0]
[null,null,null,null,null,null,0,0,0,0,null,null,0,0,0,0,null,null,null,0,0,0,0,null,null,null,null,null,null,null,null,null,null,null,null,null,null,null,null,null,null,0,0,0,0,0,0,0,0,0,0,0,0,0]
[null,null,null,null,null,null,0,0,0,0,null,null,0,0,0,0,null,null,null,0,0,0,0,null,null,null,null,null,null,null,null,null,null,null,null,null,null,null,null,null,null,0,0,0,0,0,0,0,0,0,0,0,0,0]
[null,null,null,null,null,null,0,0,0,0,null,null,0,0,0,0,null,null,null,0,0,0,0,null,null,null,null,null,null,null,null,null,null,null,null,null,null,null,null,null,null,0,0,0,0,0,0,0,0,0,0,0,0,0]
[null,null,null,null,null,null,0,0,0,0,null,null,0,0,0,0,null,null,null,0,0,0,0,null,null,null,null,null,null,null,null,null,null,null,null,null,null,null,null,null,null,0,0,0,0,0,0,0,0,0,0,0,0,0]
[null,null,null,null,null,null,0,0,0,0,null,null,0,0,0,0,null,null,null,0,0,0,0,null,null,null,null,null,null,null,null,null,null,null,null,null,null,null,null,null,null,0,0,0,0,0,0,0,0,0,0,0,0,0]
[null,null,null,null,null,null,0,0,0,0,null,null,0,0,0,0,null,null,null,0,0,0,0,null,null,null,null,null,null,null,null,null,null,null,null,null,null,null,null,null,null,0,0,0,0,0,0,0,0,0,0,0,0,0]
[null,null,null,null,null,null,0,0,0,0,null,null,0,0,0,0,null,null,null,0,0,0,0,null,null,null,null,null,null,null,null,null,null,null,null,null,null,null,null,null,null,0,0,0,0,0,0,0,0,0,0,0,0,0]
[null,null,null,null,null,null,0,0,0,0,null,null,0,0,0,0,null,null,null,0,0,0,0,null,null,null,null,null,null,null,null,null,null,null,null,null,null,null,null,null,null,0,0,0,0,0,0,0,0,0,0,0,0,0]
[null,null,null,null,null,null,0,0,0,0,null,null,0,0,0,0,null,null,null,0,0,0,0,null,null,null,null,null,null,null,null,null,null,null,null,null,null,null,null,null,null,0,0,0,0,0,0,0,0,0,0,0,0,0]
[null,null,null,null,null,null,0,0,0,0,null,null,0,0,0,0,null,null,null,0,0,0,0,null,null,null,null,null,null,null,null,null,null,null,null,null,null,null,null,null,null,0,0,0,0,0,0,0,0,0,0,0,0,0]
[null,null,null,null,null,null,0,0,0,0,null,null,0,0,0,0,null,null,null,0,0,0,0,null,null,null,null,null,null,null,null,null,null,null,null,null,null,null,null,null,null,0,0,0,0,0,0,0,0,0,0,0,0,0]
[null,null,null,null,null,null,0,0,0,0,null,null,0,0,0,0,null,null,null,0,0,0,0,null,null,null,null,null,null,null,null,null,null,null,null,null,null,null,null,null,null,0,0,0,0,0,0,0,0,0,0,0,0,0]
[null,null,null,null,null,null,{"$f":"IFERROR(F273*VLOOKUP(E273,t_factores_e,3,0),0)","v":0},{"$f":"IFERROR(F273*VLOOKUP(E273,t_factores_e,4,0),0)","v":0},{"$f":"IFERROR(F273*VLOOKUP(E273,t_factores_e,8,0),0)","v":0},{"$f":"IFERROR(F273*VLOOKUP(E273,t_factores_e,7,0),0)","v":0},null,null,{"$f":"IFERROR(L273*VLOOKUP(K273,t_factores_e,3,0),0)","v":0},{"$f":"IFERROR(L273*VLOOKUP(K273,t_factores_e,4,0),0)","v":0},{"$f":"IFERROR(L273*VLOOKUP(K273,t_factores_e,8,0),0)","v":0},{"$f":"IFERROR(L273*VLOOKUP(K273,t_factores_e,7,0),0)","v":0},null,null,null,0,{"$f":"IFERROR(R273*VLOOKUP(Q273,t_factores_e,4,0),0)","v":0},{"$f":"IFERROR(R273*VLOOKUP(Q273,t_factores_e,8,0),0)","v":0},{"$f":"IFERROR(R273*VLOOKUP(Q273,t_factores_e,7,0),0)","v":0},null,null,null,null,null,null,null,null,null,null,null,null,null,null,null,null,null,null,{"$f":"IFERROR(G273+M273,\"---\")","v":0},{"$f":"IFERROR(H273+N273,\"---\")","v":0},{"$f":"IFERROR(I273+O273,\"---\")","v":0},{"$f":"IFERROR(J273+P273,\"---\")","v":0},{"$f":"IFERROR(T273+AP273,\"---\")","v":0},{"$f":"IFERROR(U273+AQ273,\"---\")","v":0},{"$f":"IFERROR(V273+AR273,\"---\")","v":0},{"$f":"IFERROR(W273+AS273,\"---\")","v":0},0,{"$f":"IF(C273=\"Propia\",AV273,0)","v":0},{"$f":"IF(C273=\"Propia\",AW273-AV273,0)","v":0},{"$f":"IF(AND(C273=\"Subcontratada\",D273=\"Upstream\"),AV273,0)","v":0},{"$f":"IF(AND(C273=\"Subcontratada\",D273=\"Downstream\"),AV273,0)","v":0}]
[null,null,null,null,null,null,0,0,0,0,null,null,0,0,0,0,null,null,null,{"$f":"IFERROR(R274*VLOOKUP(Q274,t_factores_e,3,0),0)","v":0},0,0,0,null,null,null,null,null,null,null,null,null,null,null,null,null,null,null,null,null,null,0,0,0,0,0,0,0,0,0,0,0,0,0]
[null,null,null,null,null,null,0,0,0,0,null,null,0,0,0,0,null,null,null,0,0,0,0,null,null,null,null,null,null,null,null,null,null,null,null,null,null,null,null,null,null,0,0,0,0,0,0,0,0,0,0,0,0,0]
[null,null,null,null,null,null,0,0,0,0,null,null,0,0,0,0,null,null,null,0,0,0,0,null,null,null,null,null,null,null,null,null,null,null,null,null,null,null,null,null,null,0,0,0,0,0,0,0,0,0,0,0,0,0]
[null,null,null,null,null,null,0,0,0,0,null,null,0,0,0,0,null,null,null,0,0,0,0,null,null,null,null,null,null,null,null,null,null,null,null,null,null,null,null,null,null,0,0,0,0,0,0,0,0,0,0,0,0,0]
[null,null,null,null,null,null,0,0,0,0,null,null,0,0,0,0,null,null,null,0,0,0,0,null,null,null,null,null,null,null,null,null,null,null,null,null,null,null,null,null,null,0,0,0,0,0,0,0,0,0,0,0,0,0]
[null,null,null,null,null,null,0,0,0,0,null,null,0,0,0,0,null,null,null,0,0,0,0,null,null,null,null,null,null,null,null,null,null,null,null,null,null,null,null,null,null,0,0,0,0,0,0,0,0,0,0,0,0,0]
[null,null,null,null,null,null,0,0,0,0,null,null,0,0,0,0,null,null,null,0,0,0,0,null,null,null,null,null,null,null,null,null,null,null,null,null,null,null,null,null,null,0,0,0,0,0,0,0,0,0,0,0,0,0]
[null,null,null,null,null,null,0,0,0,0,null,null,0,0,0,0,null,null,null,0,0,0,0,null,null,null,null,null,null,null,null,null,null,null,null,null,null,null,null,null,null,0,0,0,0,0,0,0,0,0,0,0,0,0]
[null,null,null,null,null,null,0,0,0,0,null,null,0,0,0,0,null,null,null,0,0,0,0,null,null,null,null,null,null,null,null,null,null,null,null,null,null,null,null,null,null,0,0,0,0,0,0,0,0,0,0,0,0,0]
[null,null,null,null,null,null,0,0,0,0,null,null,0,0,0,0,null,null,null,0,0,0,0,null,null,null,null,null,null,null,null,null,null,null,null,null,null,null,null,null,null,0,0,0,0,0,0,0,0,0,0,0,0,0]
[null,null,null,null,null,null,0,0,0,0,null,null,0,0,0,0,null,null,null,0,0,0,0,null,null,null,null,null,null,null,null,null,null,null,null,null,null,null,null,null,null,0,0,0,0,0,0,0,0,0,0,0,0,0]
[null,null,null,null,null,null,0,0,0,0,null,null,0,0,0,0,null,null,null,0,0,0,0,null,null,null,null,null,null,null,null,null,null,null,null,null,null,null,null,null,null,0,0,0,0,0,0,0,0,0,0,0,0,0]
[null,null,null,null,null,null,0,0,0,0,null,null,0,0,0,0,null,null,null,0,0,0,0,null,null,null,null,null,null,null,null,null,null,null,null,null,null,null,null,null,null,0,0,0,0,0,0,0,0,0,0,0,0,0]
[null,null,null,null,null,null,0,0,0,0,null,null,0,0,0,0,null,null,null,0,0,0,0,null,null,null,null,null,null,null,null,null,null,null,null,null,null,null,null,null,null,0,0,0,0,0,0,0,0,0,0,0,0,0]
[null,null,null,null,null,null,0,0,0,0,null,null,0,0,0,0,null,null,null,0,0,0,0,null,null,null,null,null,null,null,null,null,null,null,null,null,null,null,null,null,null,0,0,0,0,0,0,0,0,0,0,0,0,0]
[null,null,null,null,null,null,0,0,0,0,null,null,0,0,0,0,null,null,null,0,0,0,0,null,null,null,null,null,null,null,null,null,null,null,null,null,null,null,null,null,null,0,0,0,0,0,0,0,0,0,0,0,0,0]
[null,null,null,null,null,null,0,0,0,0,null,null,0,0,0,0,null,null,null,0,0,0,0,null,null,null,null,null,null,null,null,null,null,null,null,null,null,null,null,null,null,0,0,0,0,0,0,0,0,0,0,0,0,0]
[null,null,null,null,null,"TOTAL",{"$f":"SUM(G241:G290)","v":0},{"$f":"SUM(H241:H290)","v":0},0,0,null,"TOTAL",0,0,0,0,null,null,null,null,null,null,null,null,null,null,null,null,null,null,null,null,null,null,null,null,null,null,null,null,"TOTAL",0,0,0,0,0,{"$f":"SUM(AU241:AU290)","v":0},0,0,0,0,{"$f":"SUM(AZ241:AZ290)","v":0},{"$f":"SUM(BA241:BA290)","v":0},{"$f":"SUM(BB241:BB290)","v":0}]

{"sheet":"ESCENARIO COLLAGE","index":15,"n_rows":144,"n_cols":11,"rows_kept":144,"cut":false,"hidden":true,"merged":[[6,1,6,6],[7,1,7,6],[2,1,2,6],[15,7,15,8],[16,7,16,8],[11,5,11,11],[13,7,13,8],[14,7,14,8],[19,7,19,8],[20,7,20,8],[17,7,17,8],[18,7,18,8],[23,7,23,8],[24,7,24,8],[21,7,21,8],[22,7,22,8],[27,7,27,8],[28,7,28,8],[25,7,25,8],[26,7,26,8],[31,7,31,8],[32,7,32,8],[29,7,29,8],[30,7,30,8],[35,7,35,8],[36,7,36,8],[33,7,33,8],[34,7,34,8],[39,7,39,8],[40,7,40,8],[37,7,37,8],[38,7,38,8],[43,7,43,8],[44,7,44,8],[41,7,41,8],[42,7,42,8],[47,7,47,8],[48,7,48,8],[45,7,45,8],[46,7,46,8],[51,7,51,8],[52,7,52,8],[49,7,49,8],[50,7,50,8],[55,7,55,8],[56,7,56,8],[53,7,53,8],[54,7,54,8],[59,7,59,8],[60,7,60,8],[57,7,57,8],[58,7,58,8],[63,7,63,8],[70,5,70,6],[61,7,61,8],[62,7,62,8],[68,3,68,13],[70,8,70,12],[73,3,73,4],[73,5,73,6],[74,3,74,4],[74,5,74,6],[71,3,71,4],[71,5,71,6],[72,3,72,4],[72,5,72,6],[71,8,71,12],[72,8,72,12],[73,8,73,12],[74,8,74,12],[77,3,77,4],[77,5,77,6],[78,3,78,4],[78,5,78,6],[75,3,75,4],[75,5,75,6],[76,3,76,4],[76,5,76,6],[75,8,75,12],[76,8,76,12],[77,8,77,12],[78,8,78,12],[81,3,81,4],[81,5,81,6],[82,3,82,4],[82,5,82,6],[79,3,79,4],[79,5,79,6],[80,3,80,4],[80,5,80,6],[79,8,79,12],[80,8,80,12],[81,8,81,12],[82,8,82,12],[85,3,85,4],[85,5,85,6],[86,3,86,4],[86,5,86,6],[83,3,83,4],[83,5,83,6],[84,3,84,4],[84,5,84,6],[83,8,83,12],[84,8,84,12],[85,8,85,12],[86,8,86,12],[89,3,89,4],[89,5,89,6],[90,3,90,4],[90,5,90,6],[87,3,87,4],[87,5,87,6],[88,3,88,4],[88,5,88,6],[87,8,87,12],[88,8,88,12],[89,8,89,12],[90,8,90,12],[93,3,93,4],[93,5,93,6],[94,3,94,4],[94,5,94,6],[91,3,91,4],[91,5,91,6],[92,3,92,4],[92,5,92,6],[91,8,91,12],[92,8,92,12],[93,8,93,12],[94,8,94,12],[97,3,97,4],[97,5,97,6],[98,3,98,4],[98,5,98,6],[95,3,95,4],[95,5,95,6],[96,3,96,4],[96,5,96,6],[95,8,95,12],[96,8,96,12],[97,8,97,12],[98,8,98,12],[101,3,101,4],[101,5,101,6],[102,3,102,4],[102,5,102,6],[99,3,99,4],[99,5,99,6],[100,3,100,4],[100,5,100,6],[99,8,99,12],[100,8,100,12],[101,8,101,12],[102,8,102,12],[105,3,105,4],[105,5,105,6],[106,3,106,4],[106,5,106,6],[103,3,103,4],[103,5,103,6],[104,3,104,4],[104,5,104,6],[103,8,103,12],[104,8,104,12],[105,8,105,12],[106,8,106,12],[109,3,109,4],[109,5,109,6],[110,3,110,4],[110,5,110,6],[107,3,107,4],[107,5,107,6],[108,3,108,4],[108,5,108,6],[107,8,107,12],[108,8,108,12],[109,8,109,12],[110,8,110,12],[113,3,113,4],[113,5,113,6],[114,3,114,4],[114,5,114,6],[111,3,111,4],[111,5,111,6],[112,3,112,4],[112,5,112,6],[111,8,111,12],[112,8,112,12],[113,8,113,12],[114,8,114,12],[117,3,117,4],[117,5,117,6],[118,3,118,4],[118,5,118,6],[115,3,115,4],[115,5,115,6],[116,3,116,4],[116,5,116,6],[115,8,115,12],[116,8,116,12],[117,8,117,12],[118,8,118,12],[119,3,119,4],[119,5,119,6],[120,3,120,4],[120,5,120,6],[119,8,119,12],[120,8,120,12],[128,6,128,7],[129,6,129,7],[130,6,130,7],[125,4,125,12],[143,4,143,10],[138,6,138,7],[138,9,138,11],[129,9,129,11],[130,9,130,11],[131,9,131,11],[128,9,128,11],[135,9,135,11],[136,9,136,11],[137,9,137,11],[136,6,136,7],[131,6,131,7],[132,6,132,7],[133,6,133,7],[134,6,134,7],[135,6,135,7],[132,9,132,11],[133,9,133,11],[134,9,134,11],[137,6,137,7]]}
[]
[]
[null,"A continuación se establecen una serie de preguntas previas a la entrada de datos, con objeto de concretar el tipo de datos que solicitará la herramienta"]
[]
[null,"Número de envíos",null,null,null,null,null,2]
[null,"Número de paradas",null,null,null,null,null,3]
[null,"Número de patrones",null,null,null,null,null,1]
[]
[]
[]
[]
[null,null,null,null,null,"ENVÍOS DEL ESCENARIO"]
[]
[null,null,null,null,null,null,null,"Denominación",null,null,"Peso neto (ton)"]
[null,null,null,null,null,null,"Envío 1","paquete 1 kg"]
[null,null,null,null,null,null,"Envío 2"]
[null,null,null,null,null,null,"Envío 3"]
[null,null,null,null,null,null,"Envío 4"]
[null,null,null,null,null,null,"Envío 5"]
[null,null,null,null,null,null,"Envío 6"]
[null,null,null,null,null,null,"Envío 7"]
[null,null,null,null,null,null,"Envío 8"]
[null,null,null,null,null,null,"Envío 9"]
[null,null,null,null,null,null,"Envío 10"]
[null,null,null,null,null,null,"Envío 11"]
[null,null,null,null,null,null,"Envío 12"]
[null,null,null,null,null,null,"Envío 13"]
[null,null,null,null,null,null,"Envío 14"]
[null,null,null,null,null,null,"Envío 15"]
[null,null,null,null,null,null,"Envío 16"]
[null,null,null,null,null,null,"Envío 17"]
[null,null,null,null,null,null,"Envío 18"]
[null,null,null,null,null,null,"Envío 19"]
[null,null,null,null,null,null,"Envío 20"]
[null,null,null,null,null,null,"Envío 21"]
[null,null,null,null,null,null,"Envío 22"]
[null,null,null,null,null,null,"Envío 23"]
[null,null,null,null,null,null,"Envío 24"]
[null,null,null,null,null,null,"Envío 25"]
[null,null,null,null,null,null,"Envío 26"]
[null,null,null,null,null,null,"Envío 27"]
[null,null,null,null,null,null,"Envío 28"]
[null,null,null,null,null,null,"Envío 29"]
[null,null,null,null,null,null,"Envío 30"]
[null,null,null,null,null,null,"Envío 31"]
[null,null,null,null,null,null,"Envío 32"]
[null,null,null,null,null,null,"Envío 33"]
[null,null,null,null,null,null,"Envío 34"]
[null,null,null,null,null,null,"Envío 35"]
[null,null,null,null,null,null,"Envío 36"]
[null,null,null,null,null,null,"Envío 37"]
[null,null,null,null,null,null,"Envío 38"]
[null,null,null,null,null,null,"Envío 39"]
[null,null,null,null,null,null,"Envío 40"]
[null,null,null,null,null,null,"Envío 41"]
[null,null,null,null,null,null,"Envío 42"]
[null,null,null,null,null,null,"Envío 43"]
[null,null,null,null,null,null,"Envío 44"]
[null,null,null,null,null,null,"Envío 45"]
[null,null,null,null,null,null,"Envío 46"]
[null,null,null,null,null,null,"Envío 47"]
[null,null,null,null,null,null,"Envío 48"]
[null,null,null,null,null,null,"Envío 49"]
[null,null,null,null,null,null,"Envío 50"]
[]
[]
[]
[]
[null,null,null,"PARADAS DEL ESCENARIO"]
[]
[null,null,null,null,null,"Denominación",null,null,"Localización"]
[null,null,null,"Parada 1"]
[null,null,null,"Parada 2"]
[null,null,null,"Parada 3"]
[null,null,null,"Parada 4"]
[null,null,null,"Parada 5"]
[null,null,null,"Parada 6"]
[null,null,null,"Parada 7"]
[null,null,null,"Parada 8"]
[null,null,null,"Parada 9"]
[null,null,null,"Parada 10"]
[null,null,null,"Parada 11"]
[null,null,null,"Parada 12"]
[null,null,null,"Parada 13"]
[null,null,null,"Parada 14"]
[null,null,null,"Parada 15"]
[null,null,null,"Parada 16"]
[null,null,null,"Parada 17"]
[null,null,null,"Parada 18"]
[null,null,null,"Parada 19"]
[null,null,null,"Parada 20"]
[null,null,null,"Parada 21"]
[null,null,null,"Parada 22"]
[null,null,null,"Parada 23"]
[null,null,null,"Parada 24"]
[null,null,null,"Parada 25"]
[null,null,null,"Parada 26"]
[null,null,null,"Parada 27"]
[null,null,null,"Parada 28"]
[null,null,null,"Parada 29"]
[null,null,null,"Parada 30"]
[null,null,null,"Parada 31"]
[null,null,null,"Parada 32"]
[null,null,null,"Parada 33"]
[null,null,null,"Parada 34"]
[null,null,null,"Parada 35"]
[null,null,null,"Parada 36"]
[null,null,null,"Parada 37"]
[null,null,null,"Parada 38"]
[null,null,null,"Parada 39"]
[null,null,null,"Parada 40"]
[null,null,null,"Parada 41"]
[null,null,null,"Parada 42"]
[null,null,null,"Parada 43"]
[null,null,null,"Parada 44"]
[null,null,null,"Parada 45"]
[null,null,null,"Parada 46"]
[null,null,null,"Parada 47"]
[null,null,null,"Parada 48"]
[null,null,null,"Parada 49"]
[null,null,null,"Parada 50"]
[]
[]
[]
[]
[null,null,null,null,"PATRONES DEL ESCENARIO"]
[]
[]
[null,null,null,null,null,null,"Denominación",null,null,"Tipo de patrón"]
[null,null,null,null,null,"Patrón 1"]
[null,null,null,null,null,"Patrón 2"]
[null,null,null,null,null,"Patrón 3"]
[null,null,null,null,null,"Patrón 4"]
[null,null,null,null,null,"Patrón 5"]
[null,null,null,null,null,"Patrón 6"]
[null,null,null,null,null,"Patrón 7"]
[null,null,null,null,null,"Patrón 8"]
[null,null,null,null,null,"Patrón 9"]
[null,null,null,null,null,"Patrón 10"]
[]
[]
[]
[]
[null,null,null,null,"Una vez introducidos los datos, pulse el siguiente botón para generar las hojas excel correspondientes a cada uno de los patrones"]

{"sheet":"Lista de Patrones","index":16,"n_rows":7,"n_cols":1,"rows_kept":7,"cut":false,"hidden":true,"merged":[]}
["A.1. CONSUMOS DE LA FLOTA. RUTA GENÉRICA"]
["A.2. CONSUMOS DE LA FLOTA. RUTA DE IDA Y VUELTA"]
["B.1. DISTANCIAS Y CARGAS DE LA RUTA. RUTA GENÉRICA"]
["B.2. DISTANCIAS Y CARGAS DE LA RUTA. RUTA DE IDA Y VUELTA"]
["C.1. ORIGEN Y DESTINO. CÁLCULO POR CONSUMO ESPECÍFICO"]
["C.2. ORIGEN Y DESTINO. CÁLCULO POR TASA DE CARGA/ PROPORCIÓN DE VIAJES EN VACÍO"]
["C.3. ORIGEN Y DESTINO. CÁLCULO POR TIPO DE MERCANCÍA"]

{"sheet":"PUBLICACIÓN DE RESULTADOS (C)","index":17,"n_rows":82,"n_cols":11,"rows_kept":82,"cut":false,"hidden":true,"merged":[[131,10,131,11],[132,10,132,11],[133,10,133,11],[129,10,129,11],[130,10,130,11],[80,2,80,3],[23,0,23,13],[80,4,80,5],[75,1,75,12],[7,6,7,8],[8,6,8,8],[9,6,9,8],[10,6,10,8],[11,6,11,8],[15,10,15,12],[16,10,16,12],[9,10,9,12],[10,10,10,12],[11,10,11,12],[12,10,12,12],[13,10,13,12],[12,6,12,8],[13,6,13,8],[14,10,14,12],[2,3,2,5],[0,1,0,12],[14,6,14,8],[6,6,6,8],[7,10,7,12],[8,10,8,12],[7,2,7,4],[6,2,6,4],[10,2,10,4],[11,2,11,4],[12,2,12,4],[8,2,8,4],[9,2,9,4],[15,6,15,8],[16,6,16,8],[65,2,65,3],[65,4,65,5],[13,2,13,4],[14,2,14,4],[15,2,15,4],[16,2,16,4],[27,2,27,3],[27,4,27,5],[46,2,46,3],[46,4,46,5]]}
[null,"PUBLICACIÓN DE RESULTADOS. ENVÍO 1"]
[]
[null,"Denominación del envío"]
[]
[null,"Trayectos de los que se compone el servicio de transporte"]
[]
[null,null,"Denominación del origen",null,null,null,"Denominación del destino",null,null,null,"Denominación de la ruta"]
[null,"Trayecto 1:",null,null,null,"a"]
[null,"Trayecto 2:",null,null,null,"a"]
[null,"Trayecto 3:",null,null,null,"a"]
[null,"Trayecto 4:",null,null,null,"a"]
[null,"Trayecto 5:",null,null,null,"a"]
[null,"Trayecto 6:",null,null,null,"a"]
[null,"Trayecto 7:",null,null,null,"a"]
[null,"Trayecto 8:",null,null,null,"a"]
[null,"Trayecto 9:",null,null,null,"a"]
[null,"Trayecto 10:",null,null,null,"a"]
[]
[]
[]
[]
[]
[]
["CONSUMO ENERGÉTICO Y EMISIONES DE GEI DEL SERVICIO DE TRANSPORTE, DE ACUERDO AL ALCANCE DE LA NORMA EN 16258"]
[]
[null,"Consumo energético (MJ)"]
[]
[null,null,"\"Del pozo a la rueda\" (WtW)",null,"\"Del tanque a la rueda\" (TtW)"]
[null,"Trayecto 1:",null,"MJ",null,"MJ"]
[null,"Trayecto 2:",null,"MJ",null,"MJ"]
[null,"Trayecto 3:",null,"MJ",null,"MJ",null,null,null,"Del tanque a la rueda (TtW)","Del pozo al tanque (WtT)"]
[null,"Trayecto 4:",null,"MJ",null,"MJ",null,null,null,{"$f":"E39","v":0},{"$f":"C39-E39","v":0}]
[null,"Trayecto 5:",null,"MJ",null,"MJ"]
[null,"Trayecto 6:",null,"MJ",null,"MJ"]
[null,"Trayecto 7:",null,"MJ",null,"MJ"]
[null,"Trayecto 8:",null,"MJ",null,"MJ"]
[null,"Trayecto 9:",null,"MJ",null,"MJ"]
[null,"Trayecto 10:",null,"MJ",null,"MJ"]
[null,"TOTAL",null,"MJ",null,"MJ"]
[]
[]
[]
[]
[]
[null,"Emisiones de GEI (kgCO2e)"]
[]
[null,null,"\"Del pozo a la rueda\" (WtW)",null,"\"Del tanque a la rueda\" (TtW)"]
[null,"Trayecto 1:",null,"kg CO2e",null,"kg CO2e"]
[null,"Trayecto 2:",null,"kg CO2e",null,"kg CO2e"]
[null,"Trayecto 3:",null,"kg CO2e",null,"kg CO2e",null,null,"Del tanque a la rueda (TtW)","Del pozo al tanque (WtT)"]
[null,"Trayecto 4:",null,"kg CO2e",null,"kg CO2e",null,null,{"$f":"E58","v":0},{"$f":"C58-E58","v":0}]
[null,"Trayecto 5:",null,"kg CO2e",null,"kg CO2e"]
[null,"Trayecto 6:",null,"kg CO2e",null,"kg CO2e"]
[null,"Trayecto 7:",null,"kg CO2e",null,"kg CO2e"]
[null,"Trayecto 8:",null,"kg CO2e",null,"kg CO2e"]
[null,"Trayecto 9:",null,"kg CO2e",null,"kg CO2e"]
[null,"Trayecto 10:",null,"kg CO2e",null,"kg CO2e"]
[null,"TOTAL",null,"kg CO2e",null,"kg CO2e"]
[]
[]
[]
[]
[]
[null,"Emisiones de GEI por tonelada-kilómetro"]
[]
[null,null,"\"Del pozo a la rueda\" (WtW)",null,"\"Del tanque a la rueda\" (TtW)"]
[null,"TOTAL",null,"kg CO2e / t-km",null,"kg CO2e/ t-km"]
[]
[]
[]
[]
[]
[]
[]
[]
[null,"CONSUMO ENERGÉTICO Y EMISIONES DE GEI DEL SERVICIO DE TRANSPORTE. INFORMACIÓN ADICIONAL"]
[]
[null,"Fugas de refrigerantes en vehículos"]
[null,"Emisiones de GEI (kgCO2e)"]
[]
[null,null,"\"Del pozo a la rueda\" (WtW)",null,"\"Del tanque a la rueda\" (TtW)"]
[null,"TOTAL",null,"kg CO2e",null,"kg CO2e"]

{"sheet":"C3","index":18,"n_rows":227,"n_cols":17,"rows_kept":227,"cut":false,"hidden":true,"merged":[[54,3,54,4],[49,3,49,4],[50,3,50,4],[51,3,51,4],[52,3,52,4],[53,3,53,4],[60,3,60,4],[64,3,64,4],[65,3,65,4],[66,3,66,4],[61,3,61,4],[62,3,62,4],[63,3,63,4],[55,3,55,4],[56,3,56,4],[57,3,57,4],[58,3,58,4],[59,3,59,4],[36,4,36,5],[38,2,38,3],[38,4,38,5],[36,6,36,8],[37,2,37,3],[37,4,37,5],[37,6,37,8],[38,6,38,8],[8,4,8,6],[17,4,17,6],[24,2,24,3],[24,4,24,6],[1,1,1,10],[67,3,67,4],[68,3,68,4],[69,3,69,4],[70,3,70,4],[71,3,71,4],[72,3,72,4],[73,3,73,4],[74,3,74,4],[75,3,75,4],[76,3,76,4],[77,3,77,4],[78,3,78,4],[79,3,79,4],[80,3,80,4],[86,3,86,4],[81,3,81,4],[82,3,82,4],[83,3,83,4],[84,3,84,4],[85,3,85,4],[87,3,87,4],[88,3,88,4],[89,3,89,4],[90,3,90,4],[91,3,91,4],[96,3,96,4],[97,3,97,4],[207,6,207,8],[92,3,92,4],[93,3,93,4],[94,3,94,4],[95,3,95,4],[107,6,107,8],[98,3,98,4],[99,3,99,4],[210,6,210,8],[213,6,213,8],[222,7,222,8],[223,7,223,8],[110,6,110,8],[115,7,115,8]]}
["C.3."]
[null,"PATRÓN C.3. ORIGEN Y DESTINO. CÁLCULO POR TIPO DE MERCANCÍA"]
[]
[]
[]
[]
[null,"Tipo de vehículo",null,null,null,null,null,null,null,null," "]
[]
[null,null,"Tipo de vehículo (MMA)"]
[]
[null,null,"Carga útil del camión",null,null,null,null,"t"]
[]
[]
[]
[]
[null,"Tipo de combustible"]
[]
[null,null,"Tipo de combustible"]
[]
[]
[]
[]
[null,"Cálculo del consumo específico"]
[]
[null,null,"Tipo de transporte",null,null,null,null,null,null,null,null,null,"Tasa de carga media del trayecto estimada",null,null,null,{"$f":"IFERROR(VLOOKUP($E$25,t_porcentaje_tasadecarga,2,0),\"\")","v":""}]
[null,null,null,null,null,null,null,null,null,null,null,null,"Proporción de recorrido adicional en vacío estimada",null,null,null,{"$f":"IFERROR(VLOOKUP($E$25,t_porcentaje_vacio,2,0),\"\")","v":""}]
[null,null,"Trayecto urbano-no urbano"]
[null,null,"Trayecto llano-montañoso"]
[]
[null,null,"Consumo específico del trayecto (en términos de ton-km)",null,null,null,{"$f":"IFERROR(IF(G27=\"Urbano\",VLOOKUP($E$9,t_fcorreccion_urbana,2,0),1)*VLOOKUP($E$9,t_consumoespecificotkm,2+IF($E$25=\"Resto de mercancías\",1,0)+IF(G28=\"Llano\",2,0))*RAW_DATA_transporte!$D$134/VLOOKUP($E$18,t_factores_t,3,0),\"\")","v":""},"l/tkm"]
[]
[]
[]
[]
[null,"Localización del origen y destino de los envíos"]
[]
[null,null,null,null,"Denominación",null,"Localización"]
[null,null,"Origen de los envíos"]
[null,null,"Destino de los envíos"]
[]
[null,null,"Distancia estimada del trayecto",null,null,null,null,"km"]
[null,null,"Distancia directa origen-destino",null,null,null,{"$f":"IF(AND(G38<>\"\",G39<>\"\"),getGoogleDistance(txtNoAcc(G38),txtNoAcc(G39)),\"\")","v":""},"km"]
[null,null,"Distancia de cálculo origen-destino",null,null,null,{"$f":"IF($G$41<>0,$G$41,$G$42)","v":""},"km"]
[]
[]
[]
[]
[null,"Caracterísiticas de los envíos"]
[]
[null,null,"Cliente del envío","Denominación del envío",null,null,"Carga bruta del envío (t)","Carga refrigerada - no refrigerada","Volumen del envío en almacenamiento (m3) - en caso de que la carga sea almacenada","Días de almacenamiento - en caso de que la carga sea almacenada"]
[]
[]
[]
[]
[]
[]
[]
[]
[]
[]
[]
[]
[]
[]
[]
[]
[]
[]
[]
[]
[]
[]
[]
[]
[]
[]
[]
[]
[]
[]
[]
[]
[]
[]
[]
[]
[]
[]
[]
[]
[]
[]
[]
[]
[]
[]
[]
[]
[]
[]
[]
[]
[]
[]
[null,"Consumo energético por la refrigeración de la carga del vehículo"]
[]
[null,null,"Seleccione si el vehículo dispone de un depósito por separado"]
[null,null,"Tipo de depósito"]
[]
[null,null,"En caso de que el vehículo cuente con un depósito de combustible separado, introduzca los siguientes datos:"]
[null,null,"Tipo de combustible"]
[null,null,"Consumo específico de combustible",null,null,null,null,null,null,"l/h"]
[null,null,"Tiempo de refrigeración",null,null,null,null,null,null,"h"]
[]
[null,null,"Si no conoce el consumo específico de combustible por refrigeración, introduzca los siguientes datos:"]
[null,null,"Tipo de unidad refrigerada y temperatura de refrigeración"]
[]
[null,null,"Consumo específico de combustible por refrigeración",null,null,null,null,null,{"$f":"IFERROR(IF(I112<>0,I112,VLOOKUP(H116,t_consumo_refrigeracion_v,2,0)),\"\")","v":""},"l/h"]
[null,null,"Consumo de combustible en la ruta por refrigeración",null,null,null,null,null,{"$f":"IFERROR(I118*I113,\"\")","v":""},"l"]
[]
[]
[]
[]
[]
[]
[]
[]
[]
[]
[]
[]
[]
[]
[]
[]
[]
[]
[]
[]
[]
[]
[]
[]
[]
[]
[]
[]
[]
[]
[]
[]
[]
[]
[]
[]
[]
[]
[]
[]
[]
[]
[]
[]
[]
[]
[]
[]
[]
[]
[]
[]
[]
[]
[]
[]
[]
[]
[]
[]
[]
[]
[]
[]
[]
[]
[]
[]
[]
[]
[]
[]
[]
[]
[]
[]
[]
[]
[]
[]
[]
[]
[]
[]
[]
[null,"Consumo energético por el almacenamiento de la carga"]
[]
[null,null,"Si conoce el consumo de energía de las instalaciones logísticas, introduzca los siguientes datos"]
[null,null,"Tipo de fuente de energía - 1"]
[null,null,"Consumo anual de la fuente de energía - 1",null,null,null,null,null,null,"kWh"]
[null,null,"Volumen de ocupación medio anual asociado a la fuente de energía - 1",null,null,null,null,null,null,"m3"]
[null,null,"Tipo de fuente de energía - 2"]
[null,null,"Consumo anual de la fuente de energía - 2",null,null,null,null,null,null,{"$f":"IFERROR(VLOOKUP(G211,t_factores_a,2,0),\"\")","v":""}]
[null,null,"Volumen de ocupación medio anual asociado a la fuente de energía - 2",null,null,null,null,null,null,"m3"]
[null,null,"Tipo de fuente de energía - 3"]
[null,null,"Consumo anual de la fuente de energía - 3",null,null,null,null,null,null,"l."]
[null,null,"Volumen de ocupación medio anual asociado a la fuente de energía - 3",null,null,null,null,null,null,"m3"]
[]
[null,null,{"$f":"\"Consumo específico de \"&G208&\" - almacenamiento\"","v":"Consumo específico de  - almacenamiento"},null,null,null,null,null,{"$f":"IFERROR($I$209/($I$210*365),\"\")","v":""},{"$f":"IF($G$208<>\"\",$J$209&\"/m3-día\",\"\")","v":""}]
[null,null,{"$f":"\"Consumo específico de \"&G211&\" - almacenamiento\"","v":"Consumo específico de  - almacenamiento"},null,null,null,null,null,{"$f":"IFERROR($I$212/($I$213*365),\"\")","v":""},{"$f":"IF(G211<>\"\",J212&\"/m3-día\",\"\")","v":""}]
[null,null,{"$f":"\"Consumo específico de \"&G214&\" - almacenamiento\"","v":"Consumo específico de  - almacenamiento"},null,null,null,null,null,{"$f":"IFERROR($I$215/($I$216*365),\"\")","v":""},{"$f":"IF(G214<>\"\",J215&\"/m3-día\",\"\")","v":""}]
[]
[null,null,"Si no conoce el consumo de energía de las instalaciones logísticas, introduzca los siguientes datos"]
[null,null,"Tipo de refrigeración de la carga"]
[null,null,"Tipo de electricidad consumida"]
[]
[null,null,{"$f":"\"Consumo específico de Electricidad de Red -\"&H224&\" - almacenamiento\"","v":"Consumo específico de Electricidad de Red - - almacenamiento"},null,null,null,null,null,{"$f":"IFERROR(VLOOKUP($H$223,t_consumo_tipocarga_a,5,0),\"\")","v":""},{"$f":"IF($H$223<>\"\",\"kWh/m3-día\",\"\")","v":""}]
[null,null,"Consumo específico de Gas natural: potencia calorífica neta - almacenamiento",null,null,null,null,null,{"$f":"IFERROR(VLOOKUP($H$223,t_consumo_tipocarga_a,6,0),\"\")","v":""},{"$f":"IF($H$223<>\"\",\"kWh/m3-día\",\"\")","v":""}]

{"sheet":"RESULTADOSAUX","index":19,"n_rows":126,"n_cols":46,"rows_kept":126,"cut":false,"hidden":true,"merged":[[123,1,123,7],[124,1,124,7],[115,1,115,7],[116,1,116,7],[117,1,117,7],[118,1,118,7],[119,1,119,7],[120,1,120,7],[114,1,114,7],[112,1,112,7],[113,1,113,7],[121,1,121,7],[122,1,122,7],[88,1,88,7],[89,1,89,7],[102,1,102,7],[91,1,91,7],[92,1,92,7],[93,1,93,7],[94,1,94,7],[95,1,95,7],[96,1,96,7],[97,1,97,7],[98,1,98,7],[99,1,99,7],[100,1,100,7],[101,1,101,7],[73,34,73,37],[75,1,75,7],[76,1,76,7],[77,1,77,7],[73,23,73,29],[69,28,69,29],[70,28,70,29],[14,30,14,33],[78,1,78,7],[73,1,74,7],[73,8,74,8],[73,9,74,9],[73,30,73,33],[14,10,15,10],[14,5,15,5],[73,17,73,22],[14,43,14,44],[68,15,68,16],[68,21,68,22],[68,28,68,29],[14,11,14,16],[14,17,14,22],[14,39,14,42],[0,0,0,37],[4,3,4,4],[5,3,5,4],[6,3,6,4],[14,1,15,1],[14,2,15,2],[14,3,15,3],[14,4,15,4],[14,6,15,6],[14,7,15,7],[14,8,15,8],[14,9,15,9],[14,23,14,29],[14,34,14,37],[111,1,111,7],[110,1,110,7],[109,1,109,7],[108,1,108,7],[107,1,107,7],[106,1,106,7],[105,1,105,7],[104,1,104,7],[103,1,103,7],[73,11,73,16],[73,10,74,10],[90,1,90,7],[79,1,79,7],[80,1,80,7],[81,1,81,7],[82,1,82,7],[83,1,83,7],[84,1,84,7],[85,1,85,7],[86,1,86,7],[87,1,87,7]]}
["RESULTADOS OBTENIDOS"]
[]
["INFORMACIÓN GENERAL"]
[]
[null,"Tipo de patrón",null,{"$f":"SHEETOFFSET(-1,B2)","v":"PATRÓN C.3. ORIGEN Y DESTINO. CÁLCULO POR TIPO DE MERCANCÍA"}]
[null,"Código de patrón",null,{"$f":"SHEETOFFSET(-1,A1)","v":"C.3."}]
[null,"Tipo de vehículo",null,{"$f":"SHEETOFFSET(-1,$E$9)","v":0}]
[]
[]
[]
[]
[]
["RESULTADOS POR ENVÍO"]
[]
[null,"Cliente del envío","Denominación del envío","Origen del envío","Destino del envío","Carga refrigerada / no refrigerada","Distancia directa del envío (km)","Distancia recorrida por el envío (km)","Peso bruto del envío (t)","Volumen del envío en almacenamiento (m3) - en caso de que la carga sea almacenada","Días de almacenamiento - en caso de que la carga sea almacenada",{"$f":"IF(SELECCIONPATRON(SHEETOFFSET(-1,G189),SHEETOFFSET(-1,G150),SHEETOFFSET(-1,G151),SHEETOFFSET(-1,G114),SHEETOFFSET(-1,G121),SHEETOFFSET(-1,G123),SHEETOFFSET(-1,G108))=\"Depósito conjunto\",\"RESULTADOS: PROPULSIÓN Y REFRIGERACIÓN DE LA CARGA\",\"RESULTADOS: PROPULSIÓN DE LA CARGA\")","v":"RESULTADOS: PROPULSIÓN DE LA CARGA"},null,null,null,null,null,{"$f":"IF(OR(SELECCIONPATRON(SHEETOFFSET(-1,G189),SHEETOFFSET(-1,G150),SHEETOFFSET(-1,G151),SHEETOFFSET(-1,G114),SHEETOFFSET(-1,G121),SHEETOFFSET(-1,G123),SHEETOFFSET(-1,G108))=\"Depósito conjunto\",SELECCIONPATRON(SHEETOFFSET(-1,G189),SHEETOFFSET(-1,G150),SHEETOFFSET(-1,G151),SHEETOFFSET(-1,G114),SHEETOFFSET(-1,G121),SHEETOFFSET(-1,G123),SHEETOFFSET(-1,G108))=0),\"---\",\"RESULTADOS: REFRIGERACIÓN DE LA CARGA\")","v":"---"},null,null,null,null,null,"RESULTADOS: ALMACENAMIENTO DE LA CARGA",null,null,null,null,null,null,"RESULTADOS TOTALES DEL SERVICIO DE TRANSPORTE DE LA CARGA (ALCANCE NORMA CEN-EN 16258)",null,null,null,"RESULTADOS TOTALES DEL SERVICIO DE TRANSPORTE Y ALMACENAMIENTO DE LA CARGA",null,null,null,null,"INTENSIDAD DE EMISIONES DEL SERVICIO DE TRANSPORTE"]
[null,null,null,null,null,null,null,null,null,null,null,"Proporción de cupo para cada envío (%)",{"$f":"\"Consumo de combustible: \"&P69","v":"Consumo de combustible: 0"},"Consumo energético del tanque a las ruedas","Consumo energético del pozo a las ruedas","Emisiones de GEI del tanque a las ruedas","Emisiones de GEI del pozo a las ruedas","Proporción de cupo para cada envío (%)",{"$f":"\"Consumo de combustible: \"&V69","v":"Consumo de combustible: 0"},"Consumo energético del tanque a las ruedas","Consumo energético del pozo a las ruedas","Emisiones de GEI del tanque a las ruedas","Emisiones de GEI del pozo a las ruedas",{"$f":"\"Consumo por fuente de energía: \"&IF(AC69<>0,AC69&\" (kWh)\",\"\")","v":"Consumo por fuente de energía: "},{"$f":"\"Consumo por fuente de energía: \"&IF(AC70<>0,AC70&\" \"&SHEETOFFSET(-1,J212),\"\")","v":"Consumo por fuente de energía: "},{"$f":"\"Consumo por fuente de energía: \"&IF(AC71<>0,AC71&\" (l.)\",\"\")","v":"Consumo por fuente de energía: "},"Consumo energético directo","Consumo energético directo e indirecto","Emisiones de GEI directas","Emisiones de GEI directas e indirectas","Consumo energético del tanque a las ruedas","Consumo energético del pozo a las ruedas","Emisiones de GEI del tanque a las ruedas","Emisiones de GEI del pozo a las ruedas","Consumo energético directo","Consumo energético total","Emisiones de GEI directas","Emisiones de GEI totales",null,"Emisiones específicas de GEI (del tanque a las ruedas) - propulsión de la carga","Emisiones específicas de GEI (del pozo a las ruedas) - propulsión de la carga","Emisiones específicas de GEI (del tanque a las ruedas) - transporte de la carga","Emisiones específicas de GEI (del pozo a las ruedas) - transporte de la carga",null,"Propulsión","Refrigeración"]
[1,{"$f":"SELECCIONPATRON(SHEETOFFSET(-1,C132),SHEETOFFSET(-1,C93),SHEETOFFSET(-1,C94),SHEETOFFSET(-1,C57),SHEETOFFSET(-1,C64),SHEETOFFSET(-1,C66),SHEETOFFSET(-1,C51))","v":0},{"$f":"SELECCIONPATRON(SHEETOFFSET(-1,D132),SHEETOFFSET(-1,D93),SHEETOFFSET(-1,D94),SHEETOFFSET(-1,D57),SHEETOFFSET(-1,D64),SHEETOFFSET(-1,D66),SHEETOFFSET(-1,D51))","v":0},{"$f":"SELECCIONPATRON(SHEETOFFSET(-1,M132),SHEETOFFSET(-1,M93),SHEETOFFSET(-1,M94),SHEETOFFSET(-1,M57),SHEETOFFSET(-1,$E$51),SHEETOFFSET(-1,$E$52),SHEETOFFSET(-1,$E$38))","v":0},{"$f":"SELECCIONPATRON(SHEETOFFSET(-1,P132),SHEETOFFSET(-1,P93),SHEETOFFSET(-1,P94),SHEETOFFSET(-1,P57),SHEETOFFSET(-1,$E$52),SHEETOFFSET(-1,$E$53),SHEETOFFSET(-1,$E$39))","v":0},{"$f":"SELECCIONPATRON(SHEETOFFSET(-1,H132),SHEETOFFSET(-1,H93),SHEETOFFSET(-1,H94),SHEETOFFSET(-1,H57),SHEETOFFSET(-1,H64),SHEETOFFSET(-1,H66),SHEETOFFSET(-1,H51))","v":0},{"$f":"SELECCIONPATRON(SHEETOFFSET(-1,R132),SHEETOFFSET(-1,R93),SHEETOFFSET(-1,S94),SHEETOFFSET(-1,S57),SHEETOFFSET(-1,$G$55),SHEETOFFSET(-1,$G$56),SHEETOFFSET(-1,$G$42))","v":0},{"$f":"SELECCIONPATRON(SHEETOFFSET(-1,S132),SHEETOFFSET(-1,S93),SHEETOFFSET(-1,T94),SHEETOFFSET(-1,T57),SHEETOFFSET(-1,$G$56),SHEETOFFSET(-1,$G$57),SHEETOFFSET(-1,$G$43))","v":0},{"$f":"SELECCIONPATRON(SHEETOFFSET(-1,G132),SHEETOFFSET(-1,G93),SHEETOFFSET(-1,G94),SHEETOFFSET(-1,G57),SHEETOFFSET(-1,G64),SHEETOFFSET(-1,G66),SHEETOFFSET(-1,G51))","v":0},{"$f":"SELECCIONPATRON(SHEETOFFSET(-1,I132),SHEETOFFSET(-1,I93),SHEETOFFSET(-1,I94),SHEETOFFSET(-1,I57),SHEETOFFSET(-1,I64),SHEETOFFSET(-1,I66),SHEETOFFSET(-1,I51))","v":0},{"$f":"SELECCIONPATRON(SHEETOFFSET(-1,J132),SHEETOFFSET(-1,J93),SHEETOFFSET(-1,J94),SHEETOFFSET(-1,J57),SHEETOFFSET(-1,J64),SHEETOFFSET(-1,J66),SHEETOFFSET(-1,J51))","v":0},{"$f":"IFERROR(IF(OR($D$6=\"A.1.\",$D$6=\"A.2.\",$D$6=\"B.1.\",$D$6=\"B.2.\"),AS17/SUM($AS$17:$AS$66),\"---\"),\"---\")","v":"---"},{"$f":"IFERROR(SELECCIONPATRON(L17,L17,L17,L17,H17*I17,H17*I17,H17*I17)*SELECCIONPATRON(SHEETOFFSET(-1,$T$122),SHEETOFFSET(-1,$T$85),SHEETOFFSET(-1,$V$86),SHEETOFFSET(-1,$V$49),SHEETOFFSET(-1,$G$29),SHEETOFFSET(-1,$G$44),SHEETOFFSET(-1,$G$30)),0)","v":0},{"$f":"IFERROR($M17*VLOOKUP($P$69,t_factores_t,3,0),0)","v":0},{"$f":"IFERROR($M17*VLOOKUP($P$69,t_factores_t,5,0),0)","v":0},{"$f":"IFERROR($M17*VLOOKUP($P$69,t_factores_t,7,0),0)","v":0},{"$f":"IFERROR($M17*VLOOKUP($P$69,t_factores_t,9,0),0)","v":0},{"$f":"IFERROR(IF(OR($D$6=\"A.1.\",$D$6=\"A.2.\",$D$6=\"B.1.\",$D$6=\"B.2.\"),AT17/SUM($AT$17:$AT$66),\"---\"),\"---\")","v":"---"},{"$f":"IFERROR(IF(F17=\"Refrigerada\",SELECCIONPATRON(R17,R17,R17,R17,I17,I17,I17)*SELECCIONPATRON(SHEETOFFSET(-1,$I$200),SHEETOFFSET(-1,$I$161),SHEETOFFSET(-1,$I$162),SHEETOFFSET(-1,$I$125),SHEETOFFSET(-1,$I$132)/(SHEETOFFSET(-1,$G$11)*IF(SHEETOFFSET(-1,$G$37)<>\"\",SHEETOFFSET(-1,$G$37),SHEETOFFSET(-1,$G$42))),SHEETOFFSET(-1,$I$134)/(SHEETOFFSET(-1,$G$11)*IF(SHEETOFFSET(-1,$G$26)<>\"\",SHEETOFFSET(-1,$G$26),SHEETOFFSET(-1,$G$31))),SHEETOFFSET(-1,$I$119)/(SHEETOFFSET(-1,$G$11)*IF(SHEETOFFSET(-1,$G$25)=\"Mercancías a granel\",1,0.45))),0),0)","v":0},{"$f":"IFERROR($S17*VLOOKUP($V$69,t_factores_t,3,0),0)","v":0},{"$f":"IFERROR($S17*VLOOKUP($V$69,t_factores_t,5,0),0)","v":0},{"$f":"IFERROR($S17*VLOOKUP($V$69,t_factores_t,7,0),0)","v":0},{"$f":"IFERROR($S17*VLOOKUP($V$69,t_factores_t,9,0),0)","v":0},{"$f":"IFERROR(IF(SHEETOFFSET(-1,$I$218)<>\"\",SHEETOFFSET(-1,$I$218),SHEETOFFSET(-1,$I$226))*$J17*$K17,0)","v":0},{"$f":"IFERROR(IF(SHEETOFFSET(-1,$I$219)<>\"\",SHEETOFFSET(-1,$I$219),SHEETOFFSET(-1,$I$227))*$J17*$K17,0)","v":0},{"$f":"IFERROR(SHEETOFFSET(-1,$I$220)*$J17*$K17,0)","v":0},{"$f":"IFERROR(VLOOKUP($AC$69,t_factores_e,3,0)*$X17,0)+IFERROR(VLOOKUP($AC$70,t_factores_a,3,0)*$Y17,0)+IFERROR(VLOOKUP($AC$71,t_factores_t,3,0)*$Z17,0)","v":0},{"$f":"IFERROR(VLOOKUP($AC$69,t_factores_e,4,0)*$X17,0)+IFERROR(VLOOKUP($AC$70,t_factores_a,4,0)*$Y17,0)+IFERROR(VLOOKUP($AC$71,t_factores_t,5,0)*$Z17,0)","v":0},{"$f":"IFERROR(VLOOKUP($AC$69,t_factores_e,6,0)*$X17,0)+IFERROR(VLOOKUP($AC$70,t_factores_a,6,0)*$Y17,0)+IFERROR(VLOOKUP($AC$71,t_factores_t,7,0)*$Z17,0)","v":0},{"$f":"IFERROR(VLOOKUP($AC$69,t_factores_e,7,0)*$X17,0)+IFERROR(VLOOKUP($AC$70,t_factores_a,7,0)*$Y17,0)+IFERROR(VLOOKUP($AC$71,t_factores_t,9,0)*$Z17,0)","v":0},{"$f":"N17+T17","v":0},0,0,0,{"$f":"IFERROR(AA17+AE17,\"---\")","v":0},{"$f":"IFERROR(AB17+AF17,\"---\")","v":0},{"$f":"IFERROR(AC17+AG17,\"---\")","v":0},0,null,{"$f":"IFERROR(P17/($I17*$G17),\"\")","v":""},{"$f":"IFERROR(Q17/($I17*$G17),\"\")","v":""},{"$f":"IFERROR(AG17/($I17*$G17),\"\")","v":""},{"$f":"IFERROR(AH17/($I17*$G17),\"\")","v":""},null,{"$f":"IFERROR(G17*I17,0)","v":0},{"$f":"IF(F17=\"Refrigerada\",AS17,0)","v":0}]
[2,{"$f":"SELECCIONPATRON(SHEETOFFSET(-1,C133),SHEETOFFSET(-1,C94),SHEETOFFSET(-1,C95),SHEETOFFSET(-1,C58),SHEETOFFSET(-1,C65),SHEETOFFSET(-1,C67),SHEETOFFSET(-1,C52))","v":0},{"$f":"SELECCIONPATRON(SHEETOFFSET(-1,D133),SHEETOFFSET(-1,D94),SHEETOFFSET(-1,D95),SHEETOFFSET(-1,D58),SHEETOFFSET(-1,D65),SHEETOFFSET(-1,D67),SHEETOFFSET(-1,D52))","v":0},{"$f":"SELECCIONPATRON(SHEETOFFSET(-1,M133),SHEETOFFSET(-1,M94),SHEETOFFSET(-1,M95),SHEETOFFSET(-1,M58),SHEETOFFSET(-1,$E$51),SHEETOFFSET(-1,$E$52),SHEETOFFSET(-1,$E$38))","v":0},{"$f":"SELECCIONPATRON(SHEETOFFSET(-1,P133),SHEETOFFSET(-1,P94),SHEETOFFSET(-1,P95),SHEETOFFSET(-1,P58),SHEETOFFSET(-1,$E$52),SHEETOFFSET(-1,$E$53),SHEETOFFSET(-1,$E$39))","v":0},{"$f":"SELECCIONPATRON(SHEETOFFSET(-1,H133),SHEETOFFSET(-1,H94),SHEETOFFSET(-1,H95),SHEETOFFSET(-1,H58),SHEETOFFSET(-1,H65),SHEETOFFSET(-1,H67),SHEETOFFSET(-1,H52))","v":0},{"$f":"SELECCIONPATRON(SHEETOFFSET(-1,R133),SHEETOFFSET(-1,R94),SHEETOFFSET(-1,S95),SHEETOFFSET(-1,S58),SHEETOFFSET(-1,$G$55),SHEETOFFSET(-1,$G$56),SHEETOFFSET(-1,$G$42))","v":0},{"$f":"SELECCIONPATRON(SHEETOFFSET(-1,S133),SHEETOFFSET(-1,S94),SHEETOFFSET(-1,T95),SHEETOFFSET(-1,T58),SHEETOFFSET(-1,$G$56),SHEETOFFSET(-1,$G$57),SHEETOFFSET(-1,$G$43))","v":0},{"$f":"SELECCIONPATRON(SHEETOFFSET(-1,G133),SHEETOFFSET(-1,G94),SHEETOFFSET(-1,G95),SHEETOFFSET(-1,G58),SHEETOFFSET(-1,G65),SHEETOFFSET(-1,G67),SHEETOFFSET(-1,G52))","v":0},{"$f":"SELECCIONPATRON(SHEETOFFSET(-1,I133),SHEETOFFSET(-1,I94),SHEETOFFSET(-1,I95),SHEETOFFSET(-1,I58),SHEETOFFSET(-1,I65),SHEETOFFSET(-1,I67),SHEETOFFSET(-1,I52))","v":0},{"$f":"SELECCIONPATRON(SHEETOFFSET(-1,J133),SHEETOFFSET(-1,J94),SHEETOFFSET(-1,J95),SHEETOFFSET(-1,J58),SHEETOFFSET(-1,J65),SHEETOFFSET(-1,J67),SHEETOFFSET(-1,J52))","v":0},"---",{"$f":"IFERROR(SELECCIONPATRON(L18,L18,L18,L18,H18*I18,H18*I18,H18*I18)*SELECCIONPATRON(SHEETOFFSET(-1,$T$122),SHEETOFFSET(-1,$T$85),SHEETOFFSET(-1,$V$86),SHEETOFFSET(-1,$V$49),SHEETOFFSET(-1,$G$29),SHEETOFFSET(-1,$G$44),SHEETOFFSET(-1,$G$30)),0)","v":0},0,0,0,0,"---",{"$f":"IFERROR(IF(F18=\"Refrigerada\",SELECCIONPATRON(R18,R18,R18,R18,I18,I18,I18)*SELECCIONPATRON(SHEETOFFSET(-1,$I$200),SHEETOFFSET(-1,$I$161),SHEETOFFSET(-1,$I$162),SHEETOFFSET(-1,$I$125),SHEETOFFSET(-1,$I$132)/(SHEETOFFSET(-1,$G$11)*IF(SHEETOFFSET(-1,$G$37)<>\"\",SHEETOFFSET(-1,$G$37),SHEETOFFSET(-1,$G$42))),SHEETOFFSET(-1,$I$134)/(SHEETOFFSET(-1,$G$11)*IF(SHEETOFFSET(-1,$G$26)<>\"\",SHEETOFFSET(-1,$G$26),SHEETOFFSET(-1,$G$31))),SHEETOFFSET(-1,$I$119)/(SHEETOFFSET(-1,$G$11)*IF(SHEETOFFSET(-1,$G$25)=\"Mercancías a granel\",1,0.45))),0),0)","v":0},0,0,0,0,0,0,{"$f":"IFERROR(SHEETOFFSET(-1,$I$220)*$J18*$K18,0)","v":0},0,0,0,0,{"$f":"N18+T18","v":0},{"$f":"O18+U18","v":0},{"$f":"P18+V18","v":0},{"$f":"Q18+W18","v":0},{"$f":"IFERROR(AA18+AE18,\"---\")","v":0},{"$f":"IFERROR(AB18+AF18,\"---\")","v":0},{"$f":"IFERROR(AC18+AG18,\"---\")","v":0},{"$f":"IFERROR(AD18+AH18,\"---\")","v":0},null,{"$f":"IFERROR(P18/($I18*$G18),\"\")","v":""},{"$f":"IFERROR(Q18/($I18*$G18),\"\")","v":""},{"$f":"IFERROR(AG18/($I18*$G18),\"\")","v":""},{"$f":"IFERROR(AH18/($I18*$G18),\"\")","v":""},null,0,{"$f":"IF(F18=\"Refrigerada\",AS18,0)","v":0}]
[3,{"$f":"SELECCIONPATRON(SHEETOFFSET(-1,C134),SHEETOFFSET(-1,C95),SHEETOFFSET(-1,C96),SHEETOFFSET(-1,C59),SHEETOFFSET(-1,C66),SHEETOFFSET(-1,C68),SHEETOFFSET(-1,C53))","v":0},{"$f":"SELECCIONPATRON(SHEETOFFSET(-1,D134),SHEETOFFSET(-1,D95),SHEETOFFSET(-1,D96),SHEETOFFSET(-1,D59),SHEETOFFSET(-1,D66),SHEETOFFSET(-1,D68),SHEETOFFSET(-1,D53))","v":0},{"$f":"SELECCIONPATRON(SHEETOFFSET(-1,M134),SHEETOFFSET(-1,M95),SHEETOFFSET(-1,M96),SHEETOFFSET(-1,M59),SHEETOFFSET(-1,$E$51),SHEETOFFSET(-1,$E$52),SHEETOFFSET(-1,$E$38))","v":0},{"$f":"SELECCIONPATRON(SHEETOFFSET(-1,P134),SHEETOFFSET(-1,P95),SHEETOFFSET(-1,P96),SHEETOFFSET(-1,P59),SHEETOFFSET(-1,$E$52),SHEETOFFSET(-1,$E$53),SHEETOFFSET(-1,$E$39))","v":0},{"$f":"SELECCIONPATRON(SHEETOFFSET(-1,H134),SHEETOFFSET(-1,H95),SHEETOFFSET(-1,H96),SHEETOFFSET(-1,H59),SHEETOFFSET(-1,H66),SHEETOFFSET(-1,H68),SHEETOFFSET(-1,H53))","v":0},{"$f":"SELECCIONPATRON(SHEETOFFSET(-1,R134),SHEETOFFSET(-1,R95),SHEETOFFSET(-1,S96),SHEETOFFSET(-1,S59),SHEETOFFSET(-1,$G$55),SHEETOFFSET(-1,$G$56),SHEETOFFSET(-1,$G$42))","v":0},{"$f":"SELECCIONPATRON(SHEETOFFSET(-1,S134),SHEETOFFSET(-1,S95),SHEETOFFSET(-1,T96),SHEETOFFSET(-1,T59),SHEETOFFSET(-1,$G$56),SHEETOFFSET(-1,$G$57),SHEETOFFSET(-1,$G$43))","v":0},{"$f":"SELECCIONPATRON(SHEETOFFSET(-1,G134),SHEETOFFSET(-1,G95),SHEETOFFSET(-1,G96),SHEETOFFSET(-1,G59),SHEETOFFSET(-1,G66),SHEETOFFSET(-1,G68),SHEETOFFSET(-1,G53))","v":0},{"$f":"SELECCIONPATRON(SHEETOFFSET(-1,I134),SHEETOFFSET(-1,I95),SHEETOFFSET(-1,I96),SHEETOFFSET(-1,I59),SHEETOFFSET(-1,I66),SHEETOFFSET(-1,I68),SHEETOFFSET(-1,I53))","v":0},{"$f":"SELECCIONPATRON(SHEETOFFSET(-1,J134),SHEETOFFSET(-1,J95),SHEETOFFSET(-1,J96),SHEETOFFSET(-1,J59),SHEETOFFSET(-1,J66),SHEETOFFSET(-1,J68),SHEETOFFSET(-1,J53))","v":0},"---",{"$f":"IFERROR(SELECCIONPATRON(L19,L19,L19,L19,H19*I19,H19*I19,H19*I19)*SELECCIONPATRON(SHEETOFFSET(-1,$T$122),SHEETOFFSET(-1,$T$85),SHEETOFFSET(-1,$V$86),SHEETOFFSET(-1,$V$49),SHEETOFFSET(-1,$G$29),SHEETOFFSET(-1,$G$44),SHEETOFFSET(-1,$G$30)),0)","v":0},0,0,0,0,"---",{"$f":"IFERROR(IF(F19=\"Refrigerada\",SELECCIONPATRON(R19,R19,R19,R19,I19,I19,I19)*SELECCIONPATRON(SHEETOFFSET(-1,$I$200),SHEETOFFSET(-1,$I$161),SHEETOFFSET(-1,$I$162),SHEETOFFSET(-1,$I$125),SHEETOFFSET(-1,$I$132)/(SHEETOFFSET(-1,$G$11)*IF(SHEETOFFSET(-1,$G$37)<>\"\",SHEETOFFSET(-1,$G$37),SHEETOFFSET(-1,$G$42))),SHEETOFFSET(-1,$I$134)/(SHEETOFFSET(-1,$G$11)*IF(SHEETOFFSET(-1,$G$26)<>\"\",SHEETOFFSET(-1,$G$26),SHEETOFFSET(-1,$G$31))),SHEETOFFSET(-1,$I$119)/(SHEETOFFSET(-1,$G$11)*IF(SHEETOFFSET(-1,$G$25)=\"Mercancías a granel\",1,0.45))),0),0)","v":0},0,0,0,0,0,0,0,0,0,0,0,0,0,0,0,0,0,0,0,null,"","","","",null,0,0]
[4,{"$f":"SELECCIONPATRON(SHEETOFFSET(-1,C135),SHEETOFFSET(-1,C96),SHEETOFFSET(-1,C97),SHEETOFFSET(-1,C60),SHEETOFFSET(-1,C67),SHEETOFFSET(-1,C69),SHEETOFFSET(-1,C54))","v":0},{"$f":"SELECCIONPATRON(SHEETOFFSET(-1,D135),SHEETOFFSET(-1,D96),SHEETOFFSET(-1,D97),SHEETOFFSET(-1,D60),SHEETOFFSET(-1,D67),SHEETOFFSET(-1,D69),SHEETOFFSET(-1,D54))","v":0},{"$f":"SELECCIONPATRON(SHEETOFFSET(-1,M135),SHEETOFFSET(-1,M96),SHEETOFFSET(-1,M97),SHEETOFFSET(-1,M60),SHEETOFFSET(-1,$E$51),SHEETOFFSET(-1,$E$52),SHEETOFFSET(-1,$E$38))","v":0},{"$f":"SELECCIONPATRON(SHEETOFFSET(-1,P135),SHEETOFFSET(-1,P96),SHEETOFFSET(-1,P97),SHEETOFFSET(-1,P60),SHEETOFFSET(-1,$E$52),SHEETOFFSET(-1,$E$53),SHEETOFFSET(-1,$E$39))","v":0},{"$f":"SELECCIONPATRON(SHEETOFFSET(-1,H135),SHEETOFFSET(-1,H96),SHEETOFFSET(-1,H97),SHEETOFFSET(-1,H60),SHEETOFFSET(-1,H67),SHEETOFFSET(-1,H69),SHEETOFFSET(-1,H54))","v":0},{"$f":"SELECCIONPATRON(SHEETOFFSET(-1,R135),SHEETOFFSET(-1,R96),SHEETOFFSET(-1,S97),SHEETOFFSET(-1,S60),SHEETOFFSET(-1,$G$55),SHEETOFFSET(-1,$G$56),SHEETOFFSET(-1,$G$42))","v":0},{"$f":"SELECCIONPATRON(SHEETOFFSET(-1,S135),SHEETOFFSET(-1,S96),SHEETOFFSET(-1,T97),SHEETOFFSET(-1,T60),SHEETOFFSET(-1,$G$56),SHEETOFFSET(-1,$G$57),SHEETOFFSET(-1,$G$43))","v":0},{"$f":"SELECCIONPATRON(SHEETOFFSET(-1,G135),SHEETOFFSET(-1,G96),SHEETOFFSET(-1,G97),SHEETOFFSET(-1,G60),SHEETOFFSET(-1,G67),SHEETOFFSET(-1,G69),SHEETOFFSET(-1,G54))","v":0},{"$f":"SELECCIONPATRON(SHEETOFFSET(-1,I135),SHEETOFFSET(-1,I96),SHEETOFFSET(-1,I97),SHEETOFFSET(-1,I60),SHEETOFFSET(-1,I67),SHEETOFFSET(-1,I69),SHEETOFFSET(-1,I54))","v":0},{"$f":"SELECCIONPATRON(SHEETOFFSET(-1,J135),SHEETOFFSET(-1,J96),SHEETOFFSET(-1,J97),SHEETOFFSET(-1,J60),SHEETOFFSET(-1,J67),SHEETOFFSET(-1,J69),SHEETOFFSET(-1,J54))","v":0},"---",{"$f":"IFERROR(SELECCIONPATRON(L20,L20,L20,L20,H20*I20,H20*I20,H20*I20)*SELECCIONPATRON(SHEETOFFSET(-1,$T$122),SHEETOFFSET(-1,$T$85),SHEETOFFSET(-1,$V$86),SHEETOFFSET(-1,$V$49),SHEETOFFSET(-1,$G$29),SHEETOFFSET(-1,$G$44),SHEETOFFSET(-1,$G$30)),0)","v":0},0,0,0,0,"---",{"$f":"IFERROR(IF(F20=\"Refrigerada\",SELECCIONPATRON(R20,R20,R20,R20,I20,I20,I20)*SELECCIONPATRON(SHEETOFFSET(-1,$I$200),SHEETOFFSET(-1,$I$161),SHEETOFFSET(-1,$I$162),SHEETOFFSET(-1,$I$125),SHEETOFFSET(-1,$I$132)/(SHEETOFFSET(-1,$G$11)*IF(SHEETOFFSET(-1,$G$37)<>\"\",SHEETOFFSET(-1,$G$37),SHEETOFFSET(-1,$G$42))),SHEETOFFSET(-1,$I$134)/(SHEETOFFSET(-1,$G$11)*IF(SHEETOFFSET(-1,$G$26)<>\"\",SHEETOFFSET(-1,$G$26),SHEETOFFSET(-1,$G$31))),SHEETOFFSET(-1,$I$119)/(SHEETOFFSET(-1,$G$11)*IF(SHEETOFFSET(-1,$G$25)=\"Mercancías a granel\",1,0.45))),0),0)","v":0},0,0,0,0,0,0,0,0,0,0,0,0,0,0,0,0,0,0,0,null,"","","","",null,0,0]
[5,{"$f":"SELECCIONPATRON(SHEETOFFSET(-1,C136),SHEETOFFSET(-1,C97),SHEETOFFSET(-1,C98),SHEETOFFSET(-1,C61),SHEETOFFSET(-1,C68),SHEETOFFSET(-1,C70),SHEETOFFSET(-1,C55))","v":0},{"$f":"SELECCIONPATRON(SHEETOFFSET(-1,D136),SHEETOFFSET(-1,D97),SHEETOFFSET(-1,D98),SHEETOFFSET(-1,D61),SHEETOFFSET(-1,D68),SHEETOFFSET(-1,D70),SHEETOFFSET(-1,D55))","v":0},{"$f":"SELECCIONPATRON(SHEETOFFSET(-1,M136),SHEETOFFSET(-1,M97),SHEETOFFSET(-1,M98),SHEETOFFSET(-1,M61),SHEETOFFSET(-1,$E$51),SHEETOFFSET(-1,$E$52),SHEETOFFSET(-1,$E$38))","v":0},{"$f":"SELECCIONPATRON(SHEETOFFSET(-1,P136),SHEETOFFSET(-1,P97),SHEETOFFSET(-1,P98),SHEETOFFSET(-1,P61),SHEETOFFSET(-1,$E$52),SHEETOFFSET(-1,$E$53),SHEETOFFSET(-1,$E$39))","v":0},{"$f":"SELECCIONPATRON(SHEETOFFSET(-1,H136),SHEETOFFSET(-1,H97),SHEETOFFSET(-1,H98),SHEETOFFSET(-1,H61),SHEETOFFSET(-1,H68),SHEETOFFSET(-1,H70),SHEETOFFSET(-1,H55))","v":0},{"$f":"SELECCIONPATRON(SHEETOFFSET(-1,R136),SHEETOFFSET(-1,R97),SHEETOFFSET(-1,S98),SHEETOFFSET(-1,S61),SHEETOFFSET(-1,$G$55),SHEETOFFSET(-1,$G$56),SHEETOFFSET(-1,$G$42))","v":0},{"$f":"SELECCIONPATRON(SHEETOFFSET(-1,S136),SHEETOFFSET(-1,S97),SHEETOFFSET(-1,T98),SHEETOFFSET(-1,T61),SHEETOFFSET(-1,$G$56),SHEETOFFSET(-1,$G$57),SHEETOFFSET(-1,$G$43))","v":0},{"$f":"SELECCIONPATRON(SHEETOFFSET(-1,G136),SHEETOFFSET(-1,G97),SHEETOFFSET(-1,G98),SHEETOFFSET(-1,G61),SHEETOFFSET(-1,G68),SHEETOFFSET(-1,G70),SHEETOFFSET(-1,G55))","v":0},{"$f":"SELECCIONPATRON(SHEETOFFSET(-1,I136),SHEETOFFSET(-1,I97),SHEETOFFSET(-1,I98),SHEETOFFSET(-1,I61),SHEETOFFSET(-1,I68),SHEETOFFSET(-1,I70),SHEETOFFSET(-1,I55))","v":0},{"$f":"SELECCIONPATRON(SHEETOFFSET(-1,J136),SHEETOFFSET(-1,J97),SHEETOFFSET(-1,J98),SHEETOFFSET(-1,J61),SHEETOFFSET(-1,J68),SHEETOFFSET(-1,J70),SHEETOFFSET(-1,J55))","v":0},"---",{"$f":"IFERROR(SELECCIONPATRON(L21,L21,L21,L21,H21*I21,H21*I21,H21*I21)*SELECCIONPATRON(SHEETOFFSET(-1,$T$122),SHEETOFFSET(-1,$T$85),SHEETOFFSET(-1,$V$86),SHEETOFFSET(-1,$V$49),SHEETOFFSET(-1,$G$29),SHEETOFFSET(-1,$G$44),SHEETOFFSET(-1,$G$30)),0)","v":0},0,0,0,0,"---",{"$f":"IFERROR(IF(F21=\"Refrigerada\",SELECCIONPATRON(R21,R21,R21,R21,I21,I21,I21)*SELECCIONPATRON(SHEETOFFSET(-1,$I$200),SHEETOFFSET(-1,$I$161),SHEETOFFSET(-1,$I$162),SHEETOFFSET(-1,$I$125),SHEETOFFSET(-1,$I$132)/(SHEETOFFSET(-1,$G$11)*IF(SHEETOFFSET(-1,$G$37)<>\"\",SHEETOFFSET(-1,$G$37),SHEETOFFSET(-1,$G$42))),SHEETOFFSET(-1,$I$134)/(SHEETOFFSET(-1,$G$11)*IF(SHEETOFFSET(-1,$G$26)<>\"\",SHEETOFFSET(-1,$G$26),SHEETOFFSET(-1,$G$31))),SHEETOFFSET(-1,$I$119)/(SHEETOFFSET(-1,$G$11)*IF(SHEETOFFSET(-1,$G$25)=\"Mercancías a granel\",1,0.45))),0),0)","v":0},0,0,0,0,0,0,0,0,0,0,0,0,0,0,0,0,0,0,0,null,"","","","",null,0,0]
[6,{"$f":"SELECCIONPATRON(SHEETOFFSET(-1,C137),SHEETOFFSET(-1,C98),SHEETOFFSET(-1,C99),SHEETOFFSET(-1,C62),SHEETOFFSET(-1,C69),SHEETOFFSET(-1,C71),SHEETOFFSET(-1,C56))","v":0},{"$f":"SELECCIONPATRON(SHEETOFFSET(-1,D137),SHEETOFFSET(-1,D98),SHEETOFFSET(-1,D99),SHEETOFFSET(-1,D62),SHEETOFFSET(-1,D69),SHEETOFFSET(-1,D71),SHEETOFFSET(-1,D56))","v":0},{"$f":"SELECCIONPATRON(SHEETOFFSET(-1,M137),SHEETOFFSET(-1,M98),SHEETOFFSET(-1,M99),SHEETOFFSET(-1,M62),SHEETOFFSET(-1,$E$51),SHEETOFFSET(-1,$E$52),SHEETOFFSET(-1,$E$38))","v":0},{"$f":"SELECCIONPATRON(SHEETOFFSET(-1,P137),SHEETOFFSET(-1,P98),SHEETOFFSET(-1,P99),SHEETOFFSET(-1,P62),SHEETOFFSET(-1,$E$52),SHEETOFFSET(-1,$E$53),SHEETOFFSET(-1,$E$39))","v":0},{"$f":"SELECCIONPATRON(SHEETOFFSET(-1,H137),SHEETOFFSET(-1,H98),SHEETOFFSET(-1,H99),SHEETOFFSET(-1,H62),SHEETOFFSET(-1,H69),SHEETOFFSET(-1,H71),SHEETOFFSET(-1,H56))","v":0},{"$f":"SELECCIONPATRON(SHEETOFFSET(-1,R137),SHEETOFFSET(-1,R98),SHEETOFFSET(-1,S99),SHEETOFFSET(-1,S62),SHEETOFFSET(-1,$G$55),SHEETOFFSET(-1,$G$56),SHEETOFFSET(-1,$G$42))","v":0},{"$f":"SELECCIONPATRON(SHEETOFFSET(-1,S137),SHEETOFFSET(-1,S98),SHEETOFFSET(-1,T99),SHEETOFFSET(-1,T62),SHEETOFFSET(-1,$G$56),SHEETOFFSET(-1,$G$57),SHEETOFFSET(-1,$G$43))","v":0},{"$f":"SELECCIONPATRON(SHEETOFFSET(-1,G137),SHEETOFFSET(-1,G98),SHEETOFFSET(-1,G99),SHEETOFFSET(-1,G62),SHEETOFFSET(-1,G69),SHEETOFFSET(-1,G71),SHEETOFFSET(-1,G56))","v":0},{"$f":"SELECCIONPATRON(SHEETOFFSET(-1,I137),SHEETOFFSET(-1,I98),SHEETOFFSET(-1,I99),SHEETOFFSET(-1,I62),SHEETOFFSET(-1,I69),SHEETOFFSET(-1,I71),SHEETOFFSET(-1,I56))","v":0},{"$f":"SELECCIONPATRON(SHEETOFFSET(-1,J137),SHEETOFFSET(-1,J98),SHEETOFFSET(-1,J99),SHEETOFFSET(-1,J62),SHEETOFFSET(-1,J69),SHEETOFFSET(-1,J71),SHEETOFFSET(-1,J56))","v":0},"---",{"$f":"IFERROR(SELECCIONPATRON(L22,L22,L22,L22,H22*I22,H22*I22,H22*I22)*SELECCIONPATRON(SHEETOFFSET(-1,$T$122),SHEETOFFSET(-1,$T$85),SHEETOFFSET(-1,$V$86),SHEETOFFSET(-1,$V$49),SHEETOFFSET(-1,$G$29),SHEETOFFSET(-1,$G$44),SHEETOFFSET(-1,$G$30)),0)","v":0},0,0,0,0,"---",{"$f":"IFERROR(IF(F22=\"Refrigerada\",SELECCIONPATRON(R22,R22,R22,R22,I22,I22,I22)*SELECCIONPATRON(SHEETOFFSET(-1,$I$200),SHEETOFFSET(-1,$I$161),SHEETOFFSET(-1,$I$162),SHEETOFFSET(-1,$I$125),SHEETOFFSET(-1,$I$132)/(SHEETOFFSET(-1,$G$11)*IF(SHEETOFFSET(-1,$G$37)<>\"\",SHEETOFFSET(-1,$G$37),SHEETOFFSET(-1,$G$42))),SHEETOFFSET(-1,$I$134)/(SHEETOFFSET(-1,$G$11)*IF(SHEETOFFSET(-1,$G$26)<>\"\",SHEETOFFSET(-1,$G$26),SHEETOFFSET(-1,$G$31))),SHEETOFFSET(-1,$I$119)/(SHEETOFFSET(-1,$G$11)*IF(SHEETOFFSET(-1,$G$25)=\"Mercancías a granel\",1,0.45))),0),0)","v":0},0,0,0,0,0,0,0,0,0,0,0,0,0,0,0,0,0,0,0,null,"","","","",null,0,0]
[7,{"$f":"SELECCIONPATRON(SHEETOFFSET(-1,C138),SHEETOFFSET(-1,C99),SHEETOFFSET(-1,C100),SHEETOFFSET(-1,C63),SHEETOFFSET(-1,C70),SHEETOFFSET(-1,C72),SHEETOFFSET(-1,C57))","v":0},{"$f":"SELECCIONPATRON(SHEETOFFSET(-1,D138),SHEETOFFSET(-1,D99),SHEETOFFSET(-1,D100),SHEETOFFSET(-1,D63),SHEETOFFSET(-1,D70),SHEETOFFSET(-1,D72),SHEETOFFSET(-1,D57))","v":0},{"$f":"SELECCIONPATRON(SHEETOFFSET(-1,M138),SHEETOFFSET(-1,M99),SHEETOFFSET(-1,M100),SHEETOFFSET(-1,M63),SHEETOFFSET(-1,$E$51),SHEETOFFSET(-1,$E$52),SHEETOFFSET(-1,$E$38))","v":0},{"$f":"SELECCIONPATRON(SHEETOFFSET(-1,P138),SHEETOFFSET(-1,P99),SHEETOFFSET(-1,P100),SHEETOFFSET(-1,P63),SHEETOFFSET(-1,$E$52),SHEETOFFSET(-1,$E$53),SHEETOFFSET(-1,$E$39))","v":0},{"$f":"SELECCIONPATRON(SHEETOFFSET(-1,H138),SHEETOFFSET(-1,H99),SHEETOFFSET(-1,H100),SHEETOFFSET(-1,H63),SHEETOFFSET(-1,H70),SHEETOFFSET(-1,H72),SHEETOFFSET(-1,H57))","v":0},{"$f":"SELECCIONPATRON(SHEETOFFSET(-1,R138),SHEETOFFSET(-1,R99),SHEETOFFSET(-1,S100),SHEETOFFSET(-1,S63),SHEETOFFSET(-1,$G$55),SHEETOFFSET(-1,$G$56),SHEETOFFSET(-1,$G$42))","v":0},{"$f":"SELECCIONPATRON(SHEETOFFSET(-1,S138),SHEETOFFSET(-1,S99),SHEETOFFSET(-1,T100),SHEETOFFSET(-1,T63),SHEETOFFSET(-1,$G$56),SHEETOFFSET(-1,$G$57),SHEETOFFSET(-1,$G$43))","v":0},{"$f":"SELECCIONPATRON(SHEETOFFSET(-1,G138),SHEETOFFSET(-1,G99),SHEETOFFSET(-1,G100),SHEETOFFSET(-1,G63),SHEETOFFSET(-1,G70),SHEETOFFSET(-1,G72),SHEETOFFSET(-1,G57))","v":0},{"$f":"SELECCIONPATRON(SHEETOFFSET(-1,I138),SHEETOFFSET(-1,I99),SHEETOFFSET(-1,I100),SHEETOFFSET(-1,I63),SHEETOFFSET(-1,I70),SHEETOFFSET(-1,I72),SHEETOFFSET(-1,I57))","v":0},{"$f":"SELECCIONPATRON(SHEETOFFSET(-1,J138),SHEETOFFSET(-1,J99),SHEETOFFSET(-1,J100),SHEETOFFSET(-1,J63),SHEETOFFSET(-1,J70),SHEETOFFSET(-1,J72),SHEETOFFSET(-1,J57))","v":0},"---",{"$f":"IFERROR(SELECCIONPATRON(L23,L23,L23,L23,H23*I23,H23*I23,H23*I23)*SELECCIONPATRON(SHEETOFFSET(-1,$T$122),SHEETOFFSET(-1,$T$85),SHEETOFFSET(-1,$V$86),SHEETOFFSET(-1,$V$49),SHEETOFFSET(-1,$G$29),SHEETOFFSET(-1,$G$44),SHEETOFFSET(-1,$G$30)),0)","v":0},0,0,0,0,"---",{"$f":"IFERROR(IF(F23=\"Refrigerada\",SELECCIONPATRON(R23,R23,R23,R23,I23,I23,I23)*SELECCIONPATRON(SHEETOFFSET(-1,$I$200),SHEETOFFSET(-1,$I$161),SHEETOFFSET(-1,$I$162),SHEETOFFSET(-1,$I$125),SHEETOFFSET(-1,$I$132)/(SHEETOFFSET(-1,$G$11)*IF(SHEETOFFSET(-1,$G$37)<>\"\",SHEETOFFSET(-1,$G$37),SHEETOFFSET(-1,$G$42))),SHEETOFFSET(-1,$I$134)/(SHEETOFFSET(-1,$G$11)*IF(SHEETOFFSET(-1,$G$26)<>\"\",SHEETOFFSET(-1,$G$26),SHEETOFFSET(-1,$G$31))),SHEETOFFSET(-1,$I$119)/(SHEETOFFSET(-1,$G$11)*IF(SHEETOFFSET(-1,$G$25)=\"Mercancías a granel\",1,0.45))),0),0)","v":0},0,0,0,0,0,0,0,0,0,0,0,0,0,0,0,0,0,0,0,null,"","","","",null,0,0]
[8,{"$f":"SELECCIONPATRON(SHEETOFFSET(-1,C139),SHEETOFFSET(-1,C100),SHEETOFFSET(-1,C101),SHEETOFFSET(-1,C64),SHEETOFFSET(-1,C71),SHEETOFFSET(-1,C73),SHEETOFFSET(-1,C58))","v":0},{"$f":"SELECCIONPATRON(SHEETOFFSET(-1,D139),SHEETOFFSET(-1,D100),SHEETOFFSET(-1,D101),SHEETOFFSET(-1,D64),SHEETOFFSET(-1,D71),SHEETOFFSET(-1,D73),SHEETOFFSET(-1,D58))","v":0},{"$f":"SELECCIONPATRON(SHEETOFFSET(-1,M139),SHEETOFFSET(-1,M100),SHEETOFFSET(-1,M101),SHEETOFFSET(-1,M64),SHEETOFFSET(-1,$E$51),SHEETOFFSET(-1,$E$52),SHEETOFFSET(-1,$E$38))","v":0},{"$f":"SELECCIONPATRON(SHEETOFFSET(-1,P139),SHEETOFFSET(-1,P100),SHEETOFFSET(-1,P101),SHEETOFFSET(-1,P64),SHEETOFFSET(-1,$E$52),SHEETOFFSET(-1,$E$53),SHEETOFFSET(-1,$E$39))","v":0},{"$f":"SELECCIONPATRON(SHEETOFFSET(-1,H139),SHEETOFFSET(-1,H100),SHEETOFFSET(-1,H101),SHEETOFFSET(-1,H64),SHEETOFFSET(-1,H71),SHEETOFFSET(-1,H73),SHEETOFFSET(-1,H58))","v":0},{"$f":"SELECCIONPATRON(SHEETOFFSET(-1,R139),SHEETOFFSET(-1,R100),SHEETOFFSET(-1,S101),SHEETOFFSET(-1,S64),SHEETOFFSET(-1,$G$55),SHEETOFFSET(-1,$G$56),SHEETOFFSET(-1,$G$42))","v":0},{"$f":"SELECCIONPATRON(SHEETOFFSET(-1,S139),SHEETOFFSET(-1,S100),SHEETOFFSET(-1,T101),SHEETOFFSET(-1,T64),SHEETOFFSET(-1,$G$56),SHEETOFFSET(-1,$G$57),SHEETOFFSET(-1,$G$43))","v":0},{"$f":"SELECCIONPATRON(SHEETOFFSET(-1,G139),SHEETOFFSET(-1,G100),SHEETOFFSET(-1,G101),SHEETOFFSET(-1,G64),SHEETOFFSET(-1,G71),SHEETOFFSET(-1,G73),SHEETOFFSET(-1,G58))","v":0},{"$f":"SELECCIONPATRON(SHEETOFFSET(-1,I139),SHEETOFFSET(-1,I100),SHEETOFFSET(-1,I101),SHEETOFFSET(-1,I64),SHEETOFFSET(-1,I71),SHEETOFFSET(-1,I73),SHEETOFFSET(-1,I58))","v":0},{"$f":"SELECCIONPATRON(SHEETOFFSET(-1,J139),SHEETOFFSET(-1,J100),SHEETOFFSET(-1,J101),SHEETOFFSET(-1,J64),SHEETOFFSET(-1,J71),SHEETOFFSET(-1,J73),SHEETOFFSET(-1,J58))","v":0},"---",{"$f":"IFERROR(SELECCIONPATRON(L24,L24,L24,L24,H24*I24,H24*I24,H24*I24)*SELECCIONPATRON(SHEETOFFSET(-1,$T$122),SHEETOFFSET(-1,$T$85),SHEETOFFSET(-1,$V$86),SHEETOFFSET(-1,$V$49),SHEETOFFSET(-1,$G$29),SHEETOFFSET(-1,$G$44),SHEETOFFSET(-1,$G$30)),0)","v":0},0,0,0,0,"---",{"$f":"IFERROR(IF(F24=\"Refrigerada\",SELECCIONPATRON(R24,R24,R24,R24,I24,I24,I24)*SELECCIONPATRON(SHEETOFFSET(-1,$I$200),SHEETOFFSET(-1,$I$161),SHEETOFFSET(-1,$I$162),SHEETOFFSET(-1,$I$125),SHEETOFFSET(-1,$I$132)/(SHEETOFFSET(-1,$G$11)*IF(SHEETOFFSET(-1,$G$37)<>\"\",SHEETOFFSET(-1,$G$37),SHEETOFFSET(-1,$G$42))),SHEETOFFSET(-1,$I$134)/(SHEETOFFSET(-1,$G$11)*IF(SHEETOFFSET(-1,$G$26)<>\"\",SHEETOFFSET(-1,$G$26),SHEETOFFSET(-1,$G$31))),SHEETOFFSET(-1,$I$119)/(SHEETOFFSET(-1,$G$11)*IF(SHEETOFFSET(-1,$G$25)=\"Mercancías a granel\",1,0.45))),0),0)","v":0},0,0,0,0,0,0,0,0,0,0,0,0,0,0,0,0,0,0,0,null,"","","","",null,0,0]
[9,{"$f":"SELECCIONPATRON(SHEETOFFSET(-1,C140),SHEETOFFSET(-1,C101),SHEETOFFSET(-1,C102),SHEETOFFSET(-1,C65),SHEETOFFSET(-1,C72),SHEETOFFSET(-1,C74),SHEETOFFSET(-1,C59))","v":0},{"$f":"SELECCIONPATRON(SHEETOFFSET(-1,D140),SHEETOFFSET(-1,D101),SHEETOFFSET(-1,D102),SHEETOFFSET(-1,D65),SHEETOFFSET(-1,D72),SHEETOFFSET(-1,D74),SHEETOFFSET(-1,D59))","v":0},{"$f":"SELECCIONPATRON(SHEETOFFSET(-1,M140),SHEETOFFSET(-1,M101),SHEETOFFSET(-1,M102),SHEETOFFSET(-1,M65),SHEETOFFSET(-1,$E$51),SHEETOFFSET(-1,$E$52),SHEETOFFSET(-1,$E$38))","v":0},{"$f":"SELECCIONPATRON(SHEETOFFSET(-1,P140),SHEETOFFSET(-1,P101),SHEETOFFSET(-1,P102),SHEETOFFSET(-1,P65),SHEETOFFSET(-1,$E$52),SHEETOFFSET(-1,$E$53),SHEETOFFSET(-1,$E$39))","v":0},{"$f":"SELECCIONPATRON(SHEETOFFSET(-1,H140),SHEETOFFSET(-1,H101),SHEETOFFSET(-1,H102),SHEETOFFSET(-1,H65),SHEETOFFSET(-1,H72),SHEETOFFSET(-1,H74),SHEETOFFSET(-1,H59))","v":0},{"$f":"SELECCIONPATRON(SHEETOFFSET(-1,R140),SHEETOFFSET(-1,R101),SHEETOFFSET(-1,S102),SHEETOFFSET(-1,S65),SHEETOFFSET(-1,$G$55),SHEETOFFSET(-1,$G$56),SHEETOFFSET(-1,$G$42))","v":0},{"$f":"SELECCIONPATRON(SHEETOFFSET(-1,S140),SHEETOFFSET(-1,S101),SHEETOFFSET(-1,T102),SHEETOFFSET(-1,T65),SHEETOFFSET(-1,$G$56),SHEETOFFSET(-1,$G$57),SHEETOFFSET(-1,$G$43))","v":0},{"$f":"SELECCIONPATRON(SHEETOFFSET(-1,G140),SHEETOFFSET(-1,G101),SHEETOFFSET(-1,G102),SHEETOFFSET(-1,G65),SHEETOFFSET(-1,G72),SHEETOFFSET(-1,G74),SHEETOFFSET(-1,G59))","v":0},{"$f":"SELECCIONPATRON(SHEETOFFSET(-1,I140),SHEETOFFSET(-1,I101),SHEETOFFSET(-1,I102),SHEETOFFSET(-1,I65),SHEETOFFSET(-1,I72),SHEETOFFSET(-1,I74),SHEETOFFSET(-1,I59))","v":0},{"$f":"SELECCIONPATRON(SHEETOFFSET(-1,J140),SHEETOFFSET(-1,J101),SHEETOFFSET(-1,J102),SHEETOFFSET(-1,J65),SHEETOFFSET(-1,J72),SHEETOFFSET(-1,J74),SHEETOFFSET(-1,J59))","v":0},"---",{"$f":"IFERROR(SELECCIONPATRON(L25,L25,L25,L25,H25*I25,H25*I25,H25*I25)*SELECCIONPATRON(SHEETOFFSET(-1,$T$122),SHEETOFFSET(-1,$T$85),SHEETOFFSET(-1,$V$86),SHEETOFFSET(-1,$V$49),SHEETOFFSET(-1,$G$29),SHEETOFFSET(-1,$G$44),SHEETOFFSET(-1,$G$30)),0)","v":0},0,0,0,0,"---",{"$f":"IFERROR(IF(F25=\"Refrigerada\",SELECCIONPATRON(R25,R25,R25,R25,I25,I25,I25)*SELECCIONPATRON(SHEETOFFSET(-1,$I$200),SHEETOFFSET(-1,$I$161),SHEETOFFSET(-1,$I$162),SHEETOFFSET(-1,$I$125),SHEETOFFSET(-1,$I$132)/(SHEETOFFSET(-1,$G$11)*IF(SHEETOFFSET(-1,$G$37)<>\"\",SHEETOFFSET(-1,$G$37),SHEETOFFSET(-1,$G$42))),SHEETOFFSET(-1,$I$134)/(SHEETOFFSET(-1,$G$11)*IF(SHEETOFFSET(-1,$G$26)<>\"\",SHEETOFFSET(-1,$G$26),SHEETOFFSET(-1,$G$31))),SHEETOFFSET(-1,$I$119)/(SHEETOFFSET(-1,$G$11)*IF(SHEETOFFSET(-1,$G$25)=\"Mercancías a granel\",1,0.45))),0),0)","v":0},0,0,0,0,0,0,0,0,0,0,0,0,0,0,0,0,0,0,0,null,"","","","",null,0,0]
[10,{"$f":"SELECCIONPATRON(SHEETOFFSET(-1,C141),SHEETOFFSET(-1,C102),SHEETOFFSET(-1,C103),SHEETOFFSET(-1,C66),SHEETOFFSET(-1,C73),SHEETOFFSET(-1,C75),SHEETOFFSET(-1,C60))","v":0},{"$f":"SELECCIONPATRON(SHEETOFFSET(-1,D141),SHEETOFFSET(-1,D102),SHEETOFFSET(-1,D103),SHEETOFFSET(-1,D66),SHEETOFFSET(-1,D73),SHEETOFFSET(-1,D75),SHEETOFFSET(-1,D60))","v":0},{"$f":"SELECCIONPATRON(SHEETOFFSET(-1,M141),SHEETOFFSET(-1,M102),SHEETOFFSET(-1,M103),SHEETOFFSET(-1,M66),SHEETOFFSET(-1,$E$51),SHEETOFFSET(-1,$E$52),SHEETOFFSET(-1,$E$38))","v":0},{"$f":"SELECCIONPATRON(SHEETOFFSET(-1,P141),SHEETOFFSET(-1,P102),SHEETOFFSET(-1,P103),SHEETOFFSET(-1,P66),SHEETOFFSET(-1,$E$52),SHEETOFFSET(-1,$E$53),SHEETOFFSET(-1,$E$39))","v":0},{"$f":"SELECCIONPATRON(SHEETOFFSET(-1,H141),SHEETOFFSET(-1,H102),SHEETOFFSET(-1,H103),SHEETOFFSET(-1,H66),SHEETOFFSET(-1,H73),SHEETOFFSET(-1,H75),SHEETOFFSET(-1,H60))","v":0},{"$f":"SELECCIONPATRON(SHEETOFFSET(-1,R141),SHEETOFFSET(-1,R102),SHEETOFFSET(-1,S103),SHEETOFFSET(-1,S66),SHEETOFFSET(-1,$G$55),SHEETOFFSET(-1,$G$56),SHEETOFFSET(-1,$G$42))","v":0},{"$f":"SELECCIONPATRON(SHEETOFFSET(-1,S141),SHEETOFFSET(-1,S102),SHEETOFFSET(-1,T103),SHEETOFFSET(-1,T66),SHEETOFFSET(-1,$G$56),SHEETOFFSET(-1,$G$57),SHEETOFFSET(-1,$G$43))","v":0},{"$f":"SELECCIONPATRON(SHEETOFFSET(-1,G141),SHEETOFFSET(-1,G102),SHEETOFFSET(-1,G103),SHEETOFFSET(-1,G66),SHEETOFFSET(-1,G73),SHEETOFFSET(-1,G75),SHEETOFFSET(-1,G60))","v":0},{"$f":"SELECCIONPATRON(SHEETOFFSET(-1,I141),SHEETOFFSET(-1,I102),SHEETOFFSET(-1,I103),SHEETOFFSET(-1,I66),SHEETOFFSET(-1,I73),SHEETOFFSET(-1,I75),SHEETOFFSET(-1,I60))","v":0},{"$f":"SELECCIONPATRON(SHEETOFFSET(-1,J141),SHEETOFFSET(-1,J102),SHEETOFFSET(-1,J103),SHEETOFFSET(-1,J66),SHEETOFFSET(-1,J73),SHEETOFFSET(-1,J75),SHEETOFFSET(-1,J60))","v":0},"---",{"$f":"IFERROR(SELECCIONPATRON(L26,L26,L26,L26,H26*I26,H26*I26,H26*I26)*SELECCIONPATRON(SHEETOFFSET(-1,$T$122),SHEETOFFSET(-1,$T$85),SHEETOFFSET(-1,$V$86),SHEETOFFSET(-1,$V$49),SHEETOFFSET(-1,$G$29),SHEETOFFSET(-1,$G$44),SHEETOFFSET(-1,$G$30)),0)","v":0},0,0,0,0,"---",{"$f":"IFERROR(IF(F26=\"Refrigerada\",SELECCIONPATRON(R26,R26,R26,R26,I26,I26,I26)*SELECCIONPATRON(SHEETOFFSET(-1,$I$200),SHEETOFFSET(-1,$I$161),SHEETOFFSET(-1,$I$162),SHEETOFFSET(-1,$I$125),SHEETOFFSET(-1,$I$132)/(SHEETOFFSET(-1,$G$11)*IF(SHEETOFFSET(-1,$G$37)<>\"\",SHEETOFFSET(-1,$G$37),SHEETOFFSET(-1,$G$42))),SHEETOFFSET(-1,$I$134)/(SHEETOFFSET(-1,$G$11)*IF(SHEETOFFSET(-1,$G$26)<>\"\",SHEETOFFSET(-1,$G$26),SHEETOFFSET(-1,$G$31))),SHEETOFFSET(-1,$I$119)/(SHEETOFFSET(-1,$G$11)*IF(SHEETOFFSET(-1,$G$25)=\"Mercancías a granel\",1,0.45))),0),0)","v":0},0,0,0,0,0,0,0,0,0,0,0,0,0,0,0,0,0,0,0,null,"","","","",null,0,0]
[11,{"$f":"SELECCIONPATRON(SHEETOFFSET(-1,C142),SHEETOFFSET(-1,C103),SHEETOFFSET(-1,C104),SHEETOFFSET(-1,C67),SHEETOFFSET(-1,C74),SHEETOFFSET(-1,C76),SHEETOFFSET(-1,C61))","v":0},{"$f":"SELECCIONPATRON(SHEETOFFSET(-1,D142),SHEETOFFSET(-1,D103),SHEETOFFSET(-1,D104),SHEETOFFSET(-1,D67),SHEETOFFSET(-1,D74),SHEETOFFSET(-1,D76),SHEETOFFSET(-1,D61))","v":0},{"$f":"SELECCIONPATRON(SHEETOFFSET(-1,M142),SHEETOFFSET(-1,M103),SHEETOFFSET(-1,M104),SHEETOFFSET(-1,M67),SHEETOFFSET(-1,$E$51),SHEETOFFSET(-1,$E$52),SHEETOFFSET(-1,$E$38))","v":0},{"$f":"SELECCIONPATRON(SHEETOFFSET(-1,P142),SHEETOFFSET(-1,P103),SHEETOFFSET(-1,P104),SHEETOFFSET(-1,P67),SHEETOFFSET(-1,$E$52),SHEETOFFSET(-1,$E$53),SHEETOFFSET(-1,$E$39))","v":0},{"$f":"SELECCIONPATRON(SHEETOFFSET(-1,H142),SHEETOFFSET(-1,H103),SHEETOFFSET(-1,H104),SHEETOFFSET(-1,H67),SHEETOFFSET(-1,H74),SHEETOFFSET(-1,H76),SHEETOFFSET(-1,H61))","v":0},{"$f":"SELECCIONPATRON(SHEETOFFSET(-1,R142),SHEETOFFSET(-1,R103),SHEETOFFSET(-1,S104),SHEETOFFSET(-1,S67),SHEETOFFSET(-1,$G$55),SHEETOFFSET(-1,$G$56),SHEETOFFSET(-1,$G$42))","v":0},{"$f":"SELECCIONPATRON(SHEETOFFSET(-1,S142),SHEETOFFSET(-1,S103),SHEETOFFSET(-1,T104),SHEETOFFSET(-1,T67),SHEETOFFSET(-1,$G$56),SHEETOFFSET(-1,$G$57),SHEETOFFSET(-1,$G$43))","v":0},{"$f":"SELECCIONPATRON(SHEETOFFSET(-1,G142),SHEETOFFSET(-1,G103),SHEETOFFSET(-1,G104),SHEETOFFSET(-1,G67),SHEETOFFSET(-1,G74),SHEETOFFSET(-1,G76),SHEETOFFSET(-1,G61))","v":0},{"$f":"SELECCIONPATRON(SHEETOFFSET(-1,I142),SHEETOFFSET(-1,I103),SHEETOFFSET(-1,I104),SHEETOFFSET(-1,I67),SHEETOFFSET(-1,I74),SHEETOFFSET(-1,I76),SHEETOFFSET(-1,I61))","v":0},{"$f":"SELECCIONPATRON(SHEETOFFSET(-1,J142),SHEETOFFSET(-1,J103),SHEETOFFSET(-1,J104),SHEETOFFSET(-1,J67),SHEETOFFSET(-1,J74),SHEETOFFSET(-1,J76),SHEETOFFSET(-1,J61))","v":0},"---",{"$f":"IFERROR(SELECCIONPATRON(L27,L27,L27,L27,H27*I27,H27*I27,H27*I27)*SELECCIONPATRON(SHEETOFFSET(-1,$T$122),SHEETOFFSET(-1,$T$85),SHEETOFFSET(-1,$V$86),SHEETOFFSET(-1,$V$49),SHEETOFFSET(-1,$G$29),SHEETOFFSET(-1,$G$44),SHEETOFFSET(-1,$G$30)),0)","v":0},0,0,0,0,"---",{"$f":"IFERROR(IF(F27=\"Refrigerada\",SELECCIONPATRON(R27,R27,R27,R27,I27,I27,I27)*SELECCIONPATRON(SHEETOFFSET(-1,$I$200),SHEETOFFSET(-1,$I$161),SHEETOFFSET(-1,$I$162),SHEETOFFSET(-1,$I$125),SHEETOFFSET(-1,$I$132)/(SHEETOFFSET(-1,$G$11)*IF(SHEETOFFSET(-1,$G$37)<>\"\",SHEETOFFSET(-1,$G$37),SHEETOFFSET(-1,$G$42))),SHEETOFFSET(-1,$I$134)/(SHEETOFFSET(-1,$G$11)*IF(SHEETOFFSET(-1,$G$26)<>\"\",SHEETOFFSET(-1,$G$26),SHEETOFFSET(-1,$G$31))),SHEETOFFSET(-1,$I$119)/(SHEETOFFSET(-1,$G$11)*IF(SHEETOFFSET(-1,$G$25)=\"Mercancías a granel\",1,0.45))),0),0)","v":0},0,0,0,0,0,0,0,0,0,0,0,0,0,0,0,0,0,0,0,null,"","","","",null,0,0]
[12,{"$f":"SELECCIONPATRON(SHEETOFFSET(-1,C143),SHEETOFFSET(-1,C104),SHEETOFFSET(-1,C105),SHEETOFFSET(-1,C68),SHEETOFFSET(-1,C75),SHEETOFFSET(-1,C77),SHEETOFFSET(-1,C62))","v":0},{"$f":"SELECCIONPATRON(SHEETOFFSET(-1,D143),SHEETOFFSET(-1,D104),SHEETOFFSET(-1,D105),SHEETOFFSET(-1,D68),SHEETOFFSET(-1,D75),SHEETOFFSET(-1,D77),SHEETOFFSET(-1,D62))","v":0},{"$f":"SELECCIONPATRON(SHEETOFFSET(-1,M143),SHEETOFFSET(-1,M104),SHEETOFFSET(-1,M105),SHEETOFFSET(-1,M68),SHEETOFFSET(-1,$E$51),SHEETOFFSET(-1,$E$52),SHEETOFFSET(-1,$E$38))","v":0},{"$f":"SELECCIONPATRON(SHEETOFFSET(-1,P143),SHEETOFFSET(-1,P104),SHEETOFFSET(-1,P105),SHEETOFFSET(-1,P68),SHEETOFFSET(-1,$E$52),SHEETOFFSET(-1,$E$53),SHEETOFFSET(-1,$E$39))","v":0},{"$f":"SELECCIONPATRON(SHEETOFFSET(-1,H143),SHEETOFFSET(-1,H104),SHEETOFFSET(-1,H105),SHEETOFFSET(-1,H68),SHEETOFFSET(-1,H75),SHEETOFFSET(-1,H77),SHEETOFFSET(-1,H62))","v":0},{"$f":"SELECCIONPATRON(SHEETOFFSET(-1,R143),SHEETOFFSET(-1,R104),SHEETOFFSET(-1,S105),SHEETOFFSET(-1,S68),SHEETOFFSET(-1,$G$55),SHEETOFFSET(-1,$G$56),SHEETOFFSET(-1,$G$42))","v":0},{"$f":"SELECCIONPATRON(SHEETOFFSET(-1,S143),SHEETOFFSET(-1,S104),SHEETOFFSET(-1,T105),SHEETOFFSET(-1,T68),SHEETOFFSET(-1,$G$56),SHEETOFFSET(-1,$G$57),SHEETOFFSET(-1,$G$43))","v":0},{"$f":"SELECCIONPATRON(SHEETOFFSET(-1,G143),SHEETOFFSET(-1,G104),SHEETOFFSET(-1,G105),SHEETOFFSET(-1,G68),SHEETOFFSET(-1,G75),SHEETOFFSET(-1,G77),SHEETOFFSET(-1,G62))","v":0},{"$f":"SELECCIONPATRON(SHEETOFFSET(-1,I143),SHEETOFFSET(-1,I104),SHEETOFFSET(-1,I105),SHEETOFFSET(-1,I68),SHEETOFFSET(-1,I75),SHEETOFFSET(-1,I77),SHEETOFFSET(-1,I62))","v":0},{"$f":"SELECCIONPATRON(SHEETOFFSET(-1,J143),SHEETOFFSET(-1,J104),SHEETOFFSET(-1,J105),SHEETOFFSET(-1,J68),SHEETOFFSET(-1,J75),SHEETOFFSET(-1,J77),SHEETOFFSET(-1,J62))","v":0},"---",{"$f":"IFERROR(SELECCIONPATRON(L28,L28,L28,L28,H28*I28,H28*I28,H28*I28)*SELECCIONPATRON(SHEETOFFSET(-1,$T$122),SHEETOFFSET(-1,$T$85),SHEETOFFSET(-1,$V$86),SHEETOFFSET(-1,$V$49),SHEETOFFSET(-1,$G$29),SHEETOFFSET(-1,$G$44),SHEETOFFSET(-1,$G$30)),0)","v":0},0,0,0,0,"---",{"$f":"IFERROR(IF(F28=\"Refrigerada\",SELECCIONPATRON(R28,R28,R28,R28,I28,I28,I28)*SELECCIONPATRON(SHEETOFFSET(-1,$I$200),SHEETOFFSET(-1,$I$161),SHEETOFFSET(-1,$I$162),SHEETOFFSET(-1,$I$125),SHEETOFFSET(-1,$I$132)/(SHEETOFFSET(-1,$G$11)*IF(SHEETOFFSET(-1,$G$37)<>\"\",SHEETOFFSET(-1,$G$37),SHEETOFFSET(-1,$G$42))),SHEETOFFSET(-1,$I$134)/(SHEETOFFSET(-1,$G$11)*IF(SHEETOFFSET(-1,$G$26)<>\"\",SHEETOFFSET(-1,$G$26),SHEETOFFSET(-1,$G$31))),SHEETOFFSET(-1,$I$119)/(SHEETOFFSET(-1,$G$11)*IF(SHEETOFFSET(-1,$G$25)=\"Mercancías a granel\",1,0.45))),0),0)","v":0},0,0,0,0,0,0,0,0,0,0,0,0,0,0,0,0,0,0,0,null,"","","","",null,0,0]
[13,{"$f":"SELECCIONPATRON(SHEETOFFSET(-1,C144),SHEETOFFSET(-1,C105),SHEETOFFSET(-1,C106),SHEETOFFSET(-1,C69),SHEETOFFSET(-1,C76),SHEETOFFSET(-1,C78),SHEETOFFSET(-1,C63))","v":0},{"$f":"SELECCIONPATRON(SHEETOFFSET(-1,D144),SHEETOFFSET(-1,D105),SHEETOFFSET(-1,D106),SHEETOFFSET(-1,D69),SHEETOFFSET(-1,D76),SHEETOFFSET(-1,D78),SHEETOFFSET(-1,D63))","v":0},{"$f":"SELECCIONPATRON(SHEETOFFSET(-1,M144),SHEETOFFSET(-1,M105),SHEETOFFSET(-1,M106),SHEETOFFSET(-1,M69),SHEETOFFSET(-1,$E$51),SHEETOFFSET(-1,$E$52),SHEETOFFSET(-1,$E$38))","v":0},{"$f":"SELECCIONPATRON(SHEETOFFSET(-1,P144),SHEETOFFSET(-1,P105),SHEETOFFSET(-1,P106),SHEETOFFSET(-1,P69),SHEETOFFSET(-1,$E$52),SHEETOFFSET(-1,$E$53),SHEETOFFSET(-1,$E$39))","v":0},{"$f":"SELECCIONPATRON(SHEETOFFSET(-1,H144),SHEETOFFSET(-1,H105),SHEETOFFSET(-1,H106),SHEETOFFSET(-1,H69),SHEETOFFSET(-1,H76),SHEETOFFSET(-1,H78),SHEETOFFSET(-1,H63))","v":0},{"$f":"SELECCIONPATRON(SHEETOFFSET(-1,R144),SHEETOFFSET(-1,R105),SHEETOFFSET(-1,S106),SHEETOFFSET(-1,S69),SHEETOFFSET(-1,$G$55),SHEETOFFSET(-1,$G$56),SHEETOFFSET(-1,$G$42))","v":0},{"$f":"SELECCIONPATRON(SHEETOFFSET(-1,S144),SHEETOFFSET(-1,S105),SHEETOFFSET(-1,T106),SHEETOFFSET(-1,T69),SHEETOFFSET(-1,$G$56),SHEETOFFSET(-1,$G$57),SHEETOFFSET(-1,$G$43))","v":0},{"$f":"SELECCIONPATRON(SHEETOFFSET(-1,G144),SHEETOFFSET(-1,G105),SHEETOFFSET(-1,G106),SHEETOFFSET(-1,G69),SHEETOFFSET(-1,G76),SHEETOFFSET(-1,G78),SHEETOFFSET(-1,G63))","v":0},{"$f":"SELECCIONPATRON(SHEETOFFSET(-1,I144),SHEETOFFSET(-1,I105),SHEETOFFSET(-1,I106),SHEETOFFSET(-1,I69),SHEETOFFSET(-1,I76),SHEETOFFSET(-1,I78),SHEETOFFSET(-1,I63))","v":0},{"$f":"SELECCIONPATRON(SHEETOFFSET(-1,J144),SHEETOFFSET(-1,J105),SHEETOFFSET(-1,J106),SHEETOFFSET(-1,J69),SHEETOFFSET(-1,J76),SHEETOFFSET(-1,J78),SHEETOFFSET(-1,J63))","v":0},"---",{"$f":"IFERROR(SELECCIONPATRON(L29,L29,L29,L29,H29*I29,H29*I29,H29*I29)*SELECCIONPATRON(SHEETOFFSET(-1,$T$122),SHEETOFFSET(-1,$T$85),SHEETOFFSET(-1,$V$86),SHEETOFFSET(-1,$V$49),SHEETOFFSET(-1,$G$29),SHEETOFFSET(-1,$G$44),SHEETOFFSET(-1,$G$30)),0)","v":0},0,0,0,0,"---",{"$f":"IFERROR(IF(F29=\"Refrigerada\",SELECCIONPATRON(R29,R29,R29,R29,I29,I29,I29)*SELECCIONPATRON(SHEETOFFSET(-1,$I$200),SHEETOFFSET(-1,$I$161),SHEETOFFSET(-1,$I$162),SHEETOFFSET(-1,$I$125),SHEETOFFSET(-1,$I$132)/(SHEETOFFSET(-1,$G$11)*IF(SHEETOFFSET(-1,$G$37)<>\"\",SHEETOFFSET(-1,$G$37),SHEETOFFSET(-1,$G$42))),SHEETOFFSET(-1,$I$134)/(SHEETOFFSET(-1,$G$11)*IF(SHEETOFFSET(-1,$G$26)<>\"\",SHEETOFFSET(-1,$G$26),SHEETOFFSET(-1,$G$31))),SHEETOFFSET(-1,$I$119)/(SHEETOFFSET(-1,$G$11)*IF(SHEETOFFSET(-1,$G$25)=\"Mercancías a granel\",1,0.45))),0),0)","v":0},0,0,0,0,0,0,0,0,0,0,0,0,0,0,0,0,0,0,0,null,"","","","",null,0,0]
[14,{"$f":"SELECCIONPATRON(SHEETOFFSET(-1,C145),SHEETOFFSET(-1,C106),SHEETOFFSET(-1,C107),SHEETOFFSET(-1,C70),SHEETOFFSET(-1,C77),SHEETOFFSET(-1,C79),SHEETOFFSET(-1,C64))","v":0},{"$f":"SELECCIONPATRON(SHEETOFFSET(-1,D145),SHEETOFFSET(-1,D106),SHEETOFFSET(-1,D107),SHEETOFFSET(-1,D70),SHEETOFFSET(-1,D77),SHEETOFFSET(-1,D79),SHEETOFFSET(-1,D64))","v":0},{"$f":"SELECCIONPATRON(SHEETOFFSET(-1,M145),SHEETOFFSET(-1,M106),SHEETOFFSET(-1,M107),SHEETOFFSET(-1,M70),SHEETOFFSET(-1,$E$51),SHEETOFFSET(-1,$E$52),SHEETOFFSET(-1,$E$38))","v":0},{"$f":"SELECCIONPATRON(SHEETOFFSET(-1,P145),SHEETOFFSET(-1,P106),SHEETOFFSET(-1,P107),SHEETOFFSET(-1,P70),SHEETOFFSET(-1,$E$52),SHEETOFFSET(-1,$E$53),SHEETOFFSET(-1,$E$39))","v":0},{"$f":"SELECCIONPATRON(SHEETOFFSET(-1,H145),SHEETOFFSET(-1,H106),SHEETOFFSET(-1,H107),SHEETOFFSET(-1,H70),SHEETOFFSET(-1,H77),SHEETOFFSET(-1,H79),SHEETOFFSET(-1,H64))","v":0},{"$f":"SELECCIONPATRON(SHEETOFFSET(-1,R145),SHEETOFFSET(-1,R106),SHEETOFFSET(-1,S107),SHEETOFFSET(-1,S70),SHEETOFFSET(-1,$G$55),SHEETOFFSET(-1,$G$56),SHEETOFFSET(-1,$G$42))","v":0},{"$f":"SELECCIONPATRON(SHEETOFFSET(-1,S145),SHEETOFFSET(-1,S106),SHEETOFFSET(-1,T107),SHEETOFFSET(-1,T70),SHEETOFFSET(-1,$G$56),SHEETOFFSET(-1,$G$57),SHEETOFFSET(-1,$G$43))","v":0},{"$f":"SELECCIONPATRON(SHEETOFFSET(-1,G145),SHEETOFFSET(-1,G106),SHEETOFFSET(-1,G107),SHEETOFFSET(-1,G70),SHEETOFFSET(-1,G77),SHEETOFFSET(-1,G79),SHEETOFFSET(-1,G64))","v":0},{"$f":"SELECCIONPATRON(SHEETOFFSET(-1,I145),SHEETOFFSET(-1,I106),SHEETOFFSET(-1,I107),SHEETOFFSET(-1,I70),SHEETOFFSET(-1,I77),SHEETOFFSET(-1,I79),SHEETOFFSET(-1,I64))","v":0},{"$f":"SELECCIONPATRON(SHEETOFFSET(-1,J145),SHEETOFFSET(-1,J106),SHEETOFFSET(-1,J107),SHEETOFFSET(-1,J70),SHEETOFFSET(-1,J77),SHEETOFFSET(-1,J79),SHEETOFFSET(-1,J64))","v":0},"---",{"$f":"IFERROR(SELECCIONPATRON(L30,L30,L30,L30,H30*I30,H30*I30,H30*I30)*SELECCIONPATRON(SHEETOFFSET(-1,$T$122),SHEETOFFSET(-1,$T$85),SHEETOFFSET(-1,$V$86),SHEETOFFSET(-1,$V$49),SHEETOFFSET(-1,$G$29),SHEETOFFSET(-1,$G$44),SHEETOFFSET(-1,$G$30)),0)","v":0},0,0,0,0,"---",{"$f":"IFERROR(IF(F30=\"Refrigerada\",SELECCIONPATRON(R30,R30,R30,R30,I30,I30,I30)*SELECCIONPATRON(SHEETOFFSET(-1,$I$200),SHEETOFFSET(-1,$I$161),SHEETOFFSET(-1,$I$162),SHEETOFFSET(-1,$I$125),SHEETOFFSET(-1,$I$132)/(SHEETOFFSET(-1,$G$11)*IF(SHEETOFFSET(-1,$G$37)<>\"\",SHEETOFFSET(-1,$G$37),SHEETOFFSET(-1,$G$42))),SHEETOFFSET(-1,$I$134)/(SHEETOFFSET(-1,$G$11)*IF(SHEETOFFSET(-1,$G$26)<>\"\",SHEETOFFSET(-1,$G$26),SHEETOFFSET(-1,$G$31))),SHEETOFFSET(-1,$I$119)/(SHEETOFFSET(-1,$G$11)*IF(SHEETOFFSET(-1,$G$25)=\"Mercancías a granel\",1,0.45))),0),0)","v":0},0,0,0,0,0,0,0,0,0,0,0,0,0,0,0,0,0,0,0,null,"","","","",null,0,0]
[15,{"$f":"SELECCIONPATRON(SHEETOFFSET(-1,C146),SHEETOFFSET(-1,C107),SHEETOFFSET(-1,C108),SHEETOFFSET(-1,C71),SHEETOFFSET(-1,C78),SHEETOFFSET(-1,C80),SHEETOFFSET(-1,C65))","v":0},{"$f":"SELECCIONPATRON(SHEETOFFSET(-1,D146),SHEETOFFSET(-1,D107),SHEETOFFSET(-1,D108),SHEETOFFSET(-1,D71),SHEETOFFSET(-1,D78),SHEETOFFSET(-1,D80),SHEETOFFSET(-1,D65))","v":0},{"$f":"SELECCIONPATRON(SHEETOFFSET(-1,M146),SHEETOFFSET(-1,M107),SHEETOFFSET(-1,M108),SHEETOFFSET(-1,M71),SHEETOFFSET(-1,$E$51),SHEETOFFSET(-1,$E$52),SHEETOFFSET(-1,$E$38))","v":0},{"$f":"SELECCIONPATRON(SHEETOFFSET(-1,P146),SHEETOFFSET(-1,P107),SHEETOFFSET(-1,P108),SHEETOFFSET(-1,P71),SHEETOFFSET(-1,$E$52),SHEETOFFSET(-1,$E$53),SHEETOFFSET(-1,$E$39))","v":0},{"$f":"SELECCIONPATRON(SHEETOFFSET(-1,H146),SHEETOFFSET(-1,H107),SHEETOFFSET(-1,H108),SHEETOFFSET(-1,H71),SHEETOFFSET(-1,H78),SHEETOFFSET(-1,H80),SHEETOFFSET(-1,H65))","v":0},{"$f":"SELECCIONPATRON(SHEETOFFSET(-1,R146),SHEETOFFSET(-1,R107),SHEETOFFSET(-1,S108),SHEETOFFSET(-1,S71),SHEETOFFSET(-1,$G$55),SHEETOFFSET(-1,$G$56),SHEETOFFSET(-1,$G$42))","v":0},{"$f":"SELECCIONPATRON(SHEETOFFSET(-1,S146),SHEETOFFSET(-1,S107),SHEETOFFSET(-1,T108),SHEETOFFSET(-1,T71),SHEETOFFSET(-1,$G$56),SHEETOFFSET(-1,$G$57),SHEETOFFSET(-1,$G$43))","v":0},{"$f":"SELECCIONPATRON(SHEETOFFSET(-1,G146),SHEETOFFSET(-1,G107),SHEETOFFSET(-1,G108),SHEETOFFSET(-1,G71),SHEETOFFSET(-1,G78),SHEETOFFSET(-1,G80),SHEETOFFSET(-1,G65))","v":0},{"$f":"SELECCIONPATRON(SHEETOFFSET(-1,I146),SHEETOFFSET(-1,I107),SHEETOFFSET(-1,I108),SHEETOFFSET(-1,I71),SHEETOFFSET(-1,I78),SHEETOFFSET(-1,I80),SHEETOFFSET(-1,I65))","v":0},{"$f":"SELECCIONPATRON(SHEETOFFSET(-1,J146),SHEETOFFSET(-1,J107),SHEETOFFSET(-1,J108),SHEETOFFSET(-1,J71),SHEETOFFSET(-1,J78),SHEETOFFSET(-1,J80),SHEETOFFSET(-1,J65))","v":0},"---",{"$f":"IFERROR(SELECCIONPATRON(L31,L31,L31,L31,H31*I31,H31*I31,H31*I31)*SELECCIONPATRON(SHEETOFFSET(-1,$T$122),SHEETOFFSET(-1,$T$85),SHEETOFFSET(-1,$V$86),SHEETOFFSET(-1,$V$49),SHEETOFFSET(-1,$G$29),SHEETOFFSET(-1,$G$44),SHEETOFFSET(-1,$G$30)),0)","v":0},0,0,0,0,"---",{"$f":"IFERROR(IF(F31=\"Refrigerada\",SELECCIONPATRON(R31,R31,R31,R31,I31,I31,I31)*SELECCIONPATRON(SHEETOFFSET(-1,$I$200),SHEETOFFSET(-1,$I$161),SHEETOFFSET(-1,$I$162),SHEETOFFSET(-1,$I$125),SHEETOFFSET(-1,$I$132)/(SHEETOFFSET(-1,$G$11)*IF(SHEETOFFSET(-1,$G$37)<>\"\",SHEETOFFSET(-1,$G$37),SHEETOFFSET(-1,$G$42))),SHEETOFFSET(-1,$I$134)/(SHEETOFFSET(-1,$G$11)*IF(SHEETOFFSET(-1,$G$26)<>\"\",SHEETOFFSET(-1,$G$26),SHEETOFFSET(-1,$G$31))),SHEETOFFSET(-1,$I$119)/(SHEETOFFSET(-1,$G$11)*IF(SHEETOFFSET(-1,$G$25)=\"Mercancías a granel\",1,0.45))),0),0)","v":0},0,0,0,0,0,0,0,0,0,0,0,0,0,0,0,0,0,0,0,null,"","","","",null,0,0]
[16,{"$f":"SELECCIONPATRON(SHEETOFFSET(-1,C147),SHEETOFFSET(-1,C108),SHEETOFFSET(-1,C109),SHEETOFFSET(-1,C72),SHEETOFFSET(-1,C79),SHEETOFFSET(-1,C81),SHEETOFFSET(-1,C66))","v":0},{"$f":"SELECCIONPATRON(SHEETOFFSET(-1,D147),SHEETOFFSET(-1,D108),SHEETOFFSET(-1,D109),SHEETOFFSET(-1,D72),SHEETOFFSET(-1,D79),SHEETOFFSET(-1,D81),SHEETOFFSET(-1,D66))","v":0},{"$f":"SELECCIONPATRON(SHEETOFFSET(-1,M147),SHEETOFFSET(-1,M108),SHEETOFFSET(-1,M109),SHEETOFFSET(-1,M72),SHEETOFFSET(-1,$E$51),SHEETOFFSET(-1,$E$52),SHEETOFFSET(-1,$E$38))","v":0},{"$f":"SELECCIONPATRON(SHEETOFFSET(-1,P147),SHEETOFFSET(-1,P108),SHEETOFFSET(-1,P109),SHEETOFFSET(-1,P72),SHEETOFFSET(-1,$E$52),SHEETOFFSET(-1,$E$53),SHEETOFFSET(-1,$E$39))","v":0},{"$f":"SELECCIONPATRON(SHEETOFFSET(-1,H147),SHEETOFFSET(-1,H108),SHEETOFFSET(-1,H109),SHEETOFFSET(-1,H72),SHEETOFFSET(-1,H79),SHEETOFFSET(-1,H81),SHEETOFFSET(-1,H66))","v":0},{"$f":"SELECCIONPATRON(SHEETOFFSET(-1,R147),SHEETOFFSET(-1,R108),SHEETOFFSET(-1,S109),SHEETOFFSET(-1,S72),SHEETOFFSET(-1,$G$55),SHEETOFFSET(-1,$G$56),SHEETOFFSET(-1,$G$42))","v":0},{"$f":"SELECCIONPATRON(SHEETOFFSET(-1,S147),SHEETOFFSET(-1,S108),SHEETOFFSET(-1,T109),SHEETOFFSET(-1,T72),SHEETOFFSET(-1,$G$56),SHEETOFFSET(-1,$G$57),SHEETOFFSET(-1,$G$43))","v":0},{"$f":"SELECCIONPATRON(SHEETOFFSET(-1,G147),SHEETOFFSET(-1,G108),SHEETOFFSET(-1,G109),SHEETOFFSET(-1,G72),SHEETOFFSET(-1,G79),SHEETOFFSET(-1,G81),SHEETOFFSET(-1,G66))","v":0},{"$f":"SELECCIONPATRON(SHEETOFFSET(-1,I147),SHEETOFFSET(-1,I108),SHEETOFFSET(-1,I109),SHEETOFFSET(-1,I72),SHEETOFFSET(-1,I79),SHEETOFFSET(-1,I81),SHEETOFFSET(-1,I66))","v":0},{"$f":"SELECCIONPATRON(SHEETOFFSET(-1,J147),SHEETOFFSET(-1,J108),SHEETOFFSET(-1,J109),SHEETOFFSET(-1,J72),SHEETOFFSET(-1,J79),SHEETOFFSET(-1,J81),SHEETOFFSET(-1,J66))","v":0},"---",{"$f":"IFERROR(SELECCIONPATRON(L32,L32,L32,L32,H32*I32,H32*I32,H32*I32)*SELECCIONPATRON(SHEETOFFSET(-1,$T$122),SHEETOFFSET(-1,$T$85),SHEETOFFSET(-1,$V$86),SHEETOFFSET(-1,$V$49),SHEETOFFSET(-1,$G$29),SHEETOFFSET(-1,$G$44),SHEETOFFSET(-1,$G$30)),0)","v":0},0,0,0,0,"---",{"$f":"IFERROR(IF(F32=\"Refrigerada\",SELECCIONPATRON(R32,R32,R32,R32,I32,I32,I32)*SELECCIONPATRON(SHEETOFFSET(-1,$I$200),SHEETOFFSET(-1,$I$161),SHEETOFFSET(-1,$I$162),SHEETOFFSET(-1,$I$125),SHEETOFFSET(-1,$I$132)/(SHEETOFFSET(-1,$G$11)*IF(SHEETOFFSET(-1,$G$37)<>\"\",SHEETOFFSET(-1,$G$37),SHEETOFFSET(-1,$G$42))),SHEETOFFSET(-1,$I$134)/(SHEETOFFSET(-1,$G$11)*IF(SHEETOFFSET(-1,$G$26)<>\"\",SHEETOFFSET(-1,$G$26),SHEETOFFSET(-1,$G$31))),SHEETOFFSET(-1,$I$119)/(SHEETOFFSET(-1,$G$11)*IF(SHEETOFFSET(-1,$G$25)=\"Mercancías a granel\",1,0.45))),0),0)","v":0},0,0,0,0,0,0,0,0,0,0,0,0,0,0,0,0,0,0,0,null,"","","","",null,0,0]
[17,{"$f":"SELECCIONPATRON(SHEETOFFSET(-1,C148),SHEETOFFSET(-1,C109),SHEETOFFSET(-1,C110),SHEETOFFSET(-1,C73),SHEETOFFSET(-1,C80),SHEETOFFSET(-1,C82),SHEETOFFSET(-1,C67))","v":0},{"$f":"SELECCIONPATRON(SHEETOFFSET(-1,D148),SHEETOFFSET(-1,D109),SHEETOFFSET(-1,D110),SHEETOFFSET(-1,D73),SHEETOFFSET(-1,D80),SHEETOFFSET(-1,D82),SHEETOFFSET(-1,D67))","v":0},{"$f":"SELECCIONPATRON(SHEETOFFSET(-1,M148),SHEETOFFSET(-1,M109),SHEETOFFSET(-1,M110),SHEETOFFSET(-1,M73),SHEETOFFSET(-1,$E$51),SHEETOFFSET(-1,$E$52),SHEETOFFSET(-1,$E$38))","v":0},{"$f":"SELECCIONPATRON(SHEETOFFSET(-1,P148),SHEETOFFSET(-1,P109),SHEETOFFSET(-1,P110),SHEETOFFSET(-1,P73),SHEETOFFSET(-1,$E$52),SHEETOFFSET(-1,$E$53),SHEETOFFSET(-1,$E$39))","v":0},{"$f":"SELECCIONPATRON(SHEETOFFSET(-1,H148),SHEETOFFSET(-1,H109),SHEETOFFSET(-1,H110),SHEETOFFSET(-1,H73),SHEETOFFSET(-1,H80),SHEETOFFSET(-1,H82),SHEETOFFSET(-1,H67))","v":0},{"$f":"SELECCIONPATRON(SHEETOFFSET(-1,R148),SHEETOFFSET(-1,R109),SHEETOFFSET(-1,S110),SHEETOFFSET(-1,S73),SHEETOFFSET(-1,$G$55),SHEETOFFSET(-1,$G$56),SHEETOFFSET(-1,$G$42))","v":0},{"$f":"SELECCIONPATRON(SHEETOFFSET(-1,S148),SHEETOFFSET(-1,S109),SHEETOFFSET(-1,T110),SHEETOFFSET(-1,T73),SHEETOFFSET(-1,$G$56),SHEETOFFSET(-1,$G$57),SHEETOFFSET(-1,$G$43))","v":0},{"$f":"SELECCIONPATRON(SHEETOFFSET(-1,G148),SHEETOFFSET(-1,G109),SHEETOFFSET(-1,G110),SHEETOFFSET(-1,G73),SHEETOFFSET(-1,G80),SHEETOFFSET(-1,G82),SHEETOFFSET(-1,G67))","v":0},{"$f":"SELECCIONPATRON(SHEETOFFSET(-1,I148),SHEETOFFSET(-1,I109),SHEETOFFSET(-1,I110),SHEETOFFSET(-1,I73),SHEETOFFSET(-1,I80),SHEETOFFSET(-1,I82),SHEETOFFSET(-1,I67))","v":0},{"$f":"SELECCIONPATRON(SHEETOFFSET(-1,J148),SHEETOFFSET(-1,J109),SHEETOFFSET(-1,J110),SHEETOFFSET(-1,J73),SHEETOFFSET(-1,J80),SHEETOFFSET(-1,J82),SHEETOFFSET(-1,J67))","v":0},"---",{"$f":"IFERROR(SELECCIONPATRON(L33,L33,L33,L33,H33*I33,H33*I33,H33*I33)*SELECCIONPATRON(SHEETOFFSET(-1,$T$122),SHEETOFFSET(-1,$T$85),SHEETOFFSET(-1,$V$86),SHEETOFFSET(-1,$V$49),SHEETOFFSET(-1,$G$29),SHEETOFFSET(-1,$G$44),SHEETOFFSET(-1,$G$30)),0)","v":0},0,0,0,0,"---",{"$f":"IFERROR(IF(F33=\"Refrigerada\",SELECCIONPATRON(R33,R33,R33,R33,I33,I33,I33)*SELECCIONPATRON(SHEETOFFSET(-1,$I$200),SHEETOFFSET(-1,$I$161),SHEETOFFSET(-1,$I$162),SHEETOFFSET(-1,$I$125),SHEETOFFSET(-1,$I$132)/(SHEETOFFSET(-1,$G$11)*IF(SHEETOFFSET(-1,$G$37)<>\"\",SHEETOFFSET(-1,$G$37),SHEETOFFSET(-1,$G$42))),SHEETOFFSET(-1,$I$134)/(SHEETOFFSET(-1,$G$11)*IF(SHEETOFFSET(-1,$G$26)<>\"\",SHEETOFFSET(-1,$G$26),SHEETOFFSET(-1,$G$31))),SHEETOFFSET(-1,$I$119)/(SHEETOFFSET(-1,$G$11)*IF(SHEETOFFSET(-1,$G$25)=\"Mercancías a granel\",1,0.45))),0),0)","v":0},0,0,0,0,0,0,0,0,0,0,0,0,0,0,0,0,0,0,0,null,"","","","",null,0,0]
[18,{"$f":"SELECCIONPATRON(SHEETOFFSET(-1,C149),SHEETOFFSET(-1,C110),SHEETOFFSET(-1,C111),SHEETOFFSET(-1,C74),SHEETOFFSET(-1,C81),SHEETOFFSET(-1,C83),SHEETOFFSET(-1,C68))","v":0},{"$f":"SELECCIONPATRON(SHEETOFFSET(-1,D149),SHEETOFFSET(-1,D110),SHEETOFFSET(-1,D111),SHEETOFFSET(-1,D74),SHEETOFFSET(-1,D81),SHEETOFFSET(-1,D83),SHEETOFFSET(-1,D68))","v":0},{"$f":"SELECCIONPATRON(SHEETOFFSET(-1,M149),SHEETOFFSET(-1,M110),SHEETOFFSET(-1,M111),SHEETOFFSET(-1,M74),SHEETOFFSET(-1,$E$51),SHEETOFFSET(-1,$E$52),SHEETOFFSET(-1,$E$38))","v":0},{"$f":"SELECCIONPATRON(SHEETOFFSET(-1,P149),SHEETOFFSET(-1,P110),SHEETOFFSET(-1,P111),SHEETOFFSET(-1,P74),SHEETOFFSET(-1,$E$52),SHEETOFFSET(-1,$E$53),SHEETOFFSET(-1,$E$39))","v":0},{"$f":"SELECCIONPATRON(SHEETOFFSET(-1,H149),SHEETOFFSET(-1,H110),SHEETOFFSET(-1,H111),SHEETOFFSET(-1,H74),SHEETOFFSET(-1,H81),SHEETOFFSET(-1,H83),SHEETOFFSET(-1,H68))","v":0},{"$f":"SELECCIONPATRON(SHEETOFFSET(-1,R149),SHEETOFFSET(-1,R110),SHEETOFFSET(-1,S111),SHEETOFFSET(-1,S74),SHEETOFFSET(-1,$G$55),SHEETOFFSET(-1,$G$56),SHEETOFFSET(-1,$G$42))","v":0},{"$f":"SELECCIONPATRON(SHEETOFFSET(-1,S149),SHEETOFFSET(-1,S110),SHEETOFFSET(-1,T111),SHEETOFFSET(-1,T74),SHEETOFFSET(-1,$G$56),SHEETOFFSET(-1,$G$57),SHEETOFFSET(-1,$G$43))","v":0},{"$f":"SELECCIONPATRON(SHEETOFFSET(-1,G149),SHEETOFFSET(-1,G110),SHEETOFFSET(-1,G111),SHEETOFFSET(-1,G74),SHEETOFFSET(-1,G81),SHEETOFFSET(-1,G83),SHEETOFFSET(-1,G68))","v":0},{"$f":"SELECCIONPATRON(SHEETOFFSET(-1,I149),SHEETOFFSET(-1,I110),SHEETOFFSET(-1,I111),SHEETOFFSET(-1,I74),SHEETOFFSET(-1,I81),SHEETOFFSET(-1,I83),SHEETOFFSET(-1,I68))","v":0},{"$f":"SELECCIONPATRON(SHEETOFFSET(-1,J149),SHEETOFFSET(-1,J110),SHEETOFFSET(-1,J111),SHEETOFFSET(-1,J74),SHEETOFFSET(-1,J81),SHEETOFFSET(-1,J83),SHEETOFFSET(-1,J68))","v":0},"---",{"$f":"IFERROR(SELECCIONPATRON(L34,L34,L34,L34,H34*I34,H34*I34,H34*I34)*SELECCIONPATRON(SHEETOFFSET(-1,$T$122),SHEETOFFSET(-1,$T$85),SHEETOFFSET(-1,$V$86),SHEETOFFSET(-1,$V$49),SHEETOFFSET(-1,$G$29),SHEETOFFSET(-1,$G$44),SHEETOFFSET(-1,$G$30)),0)","v":0},0,0,0,0,"---",{"$f":"IFERROR(IF(F34=\"Refrigerada\",SELECCIONPATRON(R34,R34,R34,R34,I34,I34,I34)*SELECCIONPATRON(SHEETOFFSET(-1,$I$200),SHEETOFFSET(-1,$I$161),SHEETOFFSET(-1,$I$162),SHEETOFFSET(-1,$I$125),SHEETOFFSET(-1,$I$132)/(SHEETOFFSET(-1,$G$11)*IF(SHEETOFFSET(-1,$G$37)<>\"\",SHEETOFFSET(-1,$G$37),SHEETOFFSET(-1,$G$42))),SHEETOFFSET(-1,$I$134)/(SHEETOFFSET(-1,$G$11)*IF(SHEETOFFSET(-1,$G$26)<>\"\",SHEETOFFSET(-1,$G$26),SHEETOFFSET(-1,$G$31))),SHEETOFFSET(-1,$I$119)/(SHEETOFFSET(-1,$G$11)*IF(SHEETOFFSET(-1,$G$25)=\"Mercancías a granel\",1,0.45))),0),0)","v":0},0,0,0,0,0,0,0,0,0,0,0,0,0,0,0,0,0,0,0,null,"","","","",null,0,0]
[19,{"$f":"SELECCIONPATRON(SHEETOFFSET(-1,C150),SHEETOFFSET(-1,C111),SHEETOFFSET(-1,C112),SHEETOFFSET(-1,C75),SHEETOFFSET(-1,C82),SHEETOFFSET(-1,C84),SHEETOFFSET(-1,C69))","v":0},{"$f":"SELECCIONPATRON(SHEETOFFSET(-1,D150),SHEETOFFSET(-1,D111),SHEETOFFSET(-1,D112),SHEETOFFSET(-1,D75),SHEETOFFSET(-1,D82),SHEETOFFSET(-1,D84),SHEETOFFSET(-1,D69))","v":0},{"$f":"SELECCIONPATRON(SHEETOFFSET(-1,M150),SHEETOFFSET(-1,M111),SHEETOFFSET(-1,M112),SHEETOFFSET(-1,M75),SHEETOFFSET(-1,$E$51),SHEETOFFSET(-1,$E$52),SHEETOFFSET(-1,$E$38))","v":0},{"$f":"SELECCIONPATRON(SHEETOFFSET(-1,P150),SHEETOFFSET(-1,P111),SHEETOFFSET(-1,P112),SHEETOFFSET(-1,P75),SHEETOFFSET(-1,$E$52),SHEETOFFSET(-1,$E$53),SHEETOFFSET(-1,$E$39))","v":0},{"$f":"SELECCIONPATRON(SHEETOFFSET(-1,H150),SHEETOFFSET(-1,H111),SHEETOFFSET(-1,H112),SHEETOFFSET(-1,H75),SHEETOFFSET(-1,H82),SHEETOFFSET(-1,H84),SHEETOFFSET(-1,H69))","v":0},{"$f":"SELECCIONPATRON(SHEETOFFSET(-1,R150),SHEETOFFSET(-1,R111),SHEETOFFSET(-1,S112),SHEETOFFSET(-1,S75),SHEETOFFSET(-1,$G$55),SHEETOFFSET(-1,$G$56),SHEETOFFSET(-1,$G$42))","v":0},{"$f":"SELECCIONPATRON(SHEETOFFSET(-1,S150),SHEETOFFSET(-1,S111),SHEETOFFSET(-1,T112),SHEETOFFSET(-1,T75),SHEETOFFSET(-1,$G$56),SHEETOFFSET(-1,$G$57),SHEETOFFSET(-1,$G$43))","v":0},{"$f":"SELECCIONPATRON(SHEETOFFSET(-1,G150),SHEETOFFSET(-1,G111),SHEETOFFSET(-1,G112),SHEETOFFSET(-1,G75),SHEETOFFSET(-1,G82),SHEETOFFSET(-1,G84),SHEETOFFSET(-1,G69))","v":0},{"$f":"SELECCIONPATRON(SHEETOFFSET(-1,I150),SHEETOFFSET(-1,I111),SHEETOFFSET(-1,I112),SHEETOFFSET(-1,I75),SHEETOFFSET(-1,I82),SHEETOFFSET(-1,I84),SHEETOFFSET(-1,I69))","v":0},{"$f":"SELECCIONPATRON(SHEETOFFSET(-1,J150),SHEETOFFSET(-1,J111),SHEETOFFSET(-1,J112),SHEETOFFSET(-1,J75),SHEETOFFSET(-1,J82),SHEETOFFSET(-1,J84),SHEETOFFSET(-1,J69))","v":0},"---",{"$f":"IFERROR(SELECCIONPATRON(L35,L35,L35,L35,H35*I35,H35*I35,H35*I35)*SELECCIONPATRON(SHEETOFFSET(-1,$T$122),SHEETOFFSET(-1,$T$85),SHEETOFFSET(-1,$V$86),SHEETOFFSET(-1,$V$49),SHEETOFFSET(-1,$G$29),SHEETOFFSET(-1,$G$44),SHEETOFFSET(-1,$G$30)),0)","v":0},0,0,0,0,"---",{"$f":"IFERROR(IF(F35=\"Refrigerada\",SELECCIONPATRON(R35,R35,R35,R35,I35,I35,I35)*SELECCIONPATRON(SHEETOFFSET(-1,$I$200),SHEETOFFSET(-1,$I$161),SHEETOFFSET(-1,$I$162),SHEETOFFSET(-1,$I$125),SHEETOFFSET(-1,$I$132)/(SHEETOFFSET(-1,$G$11)*IF(SHEETOFFSET(-1,$G$37)<>\"\",SHEETOFFSET(-1,$G$37),SHEETOFFSET(-1,$G$42))),SHEETOFFSET(-1,$I$134)/(SHEETOFFSET(-1,$G$11)*IF(SHEETOFFSET(-1,$G$26)<>\"\",SHEETOFFSET(-1,$G$26),SHEETOFFSET(-1,$G$31))),SHEETOFFSET(-1,$I$119)/(SHEETOFFSET(-1,$G$11)*IF(SHEETOFFSET(-1,$G$25)=\"Mercancías a granel\",1,0.45))),0),0)","v":0},0,0,0,0,0,0,0,0,0,0,0,0,0,0,0,0,0,0,0,null,"","","","",null,0,0]
[20,{"$f":"SELECCIONPATRON(SHEETOFFSET(-1,C151),SHEETOFFSET(-1,C112),SHEETOFFSET(-1,C113),SHEETOFFSET(-1,C76),SHEETOFFSET(-1,C83),SHEETOFFSET(-1,C85),SHEETOFFSET(-1,C70))","v":0},{"$f":"SELECCIONPATRON(SHEETOFFSET(-1,D151),SHEETOFFSET(-1,D112),SHEETOFFSET(-1,D113),SHEETOFFSET(-1,D76),SHEETOFFSET(-1,D83),SHEETOFFSET(-1,D85),SHEETOFFSET(-1,D70))","v":0},{"$f":"SELECCIONPATRON(SHEETOFFSET(-1,M151),SHEETOFFSET(-1,M112),SHEETOFFSET(-1,M113),SHEETOFFSET(-1,M76),SHEETOFFSET(-1,$E$51),SHEETOFFSET(-1,$E$52),SHEETOFFSET(-1,$E$38))","v":0},{"$f":"SELECCIONPATRON(SHEETOFFSET(-1,P151),SHEETOFFSET(-1,P112),SHEETOFFSET(-1,P113),SHEETOFFSET(-1,P76),SHEETOFFSET(-1,$E$52),SHEETOFFSET(-1,$E$53),SHEETOFFSET(-1,$E$39))","v":0},{"$f":"SELECCIONPATRON(SHEETOFFSET(-1,H151),SHEETOFFSET(-1,H112),SHEETOFFSET(-1,H113),SHEETOFFSET(-1,H76),SHEETOFFSET(-1,H83),SHEETOFFSET(-1,H85),SHEETOFFSET(-1,H70))","v":0},{"$f":"SELECCIONPATRON(SHEETOFFSET(-1,R151),SHEETOFFSET(-1,R112),SHEETOFFSET(-1,S113),SHEETOFFSET(-1,S76),SHEETOFFSET(-1,$G$55),SHEETOFFSET(-1,$G$56),SHEETOFFSET(-1,$G$42))","v":0},{"$f":"SELECCIONPATRON(SHEETOFFSET(-1,S151),SHEETOFFSET(-1,S112),SHEETOFFSET(-1,T113),SHEETOFFSET(-1,T76),SHEETOFFSET(-1,$G$56),SHEETOFFSET(-1,$G$57),SHEETOFFSET(-1,$G$43))","v":0},{"$f":"SELECCIONPATRON(SHEETOFFSET(-1,G151),SHEETOFFSET(-1,G112),SHEETOFFSET(-1,G113),SHEETOFFSET(-1,G76),SHEETOFFSET(-1,G83),SHEETOFFSET(-1,G85),SHEETOFFSET(-1,G70))","v":0},{"$f":"SELECCIONPATRON(SHEETOFFSET(-1,I151),SHEETOFFSET(-1,I112),SHEETOFFSET(-1,I113),SHEETOFFSET(-1,I76),SHEETOFFSET(-1,I83),SHEETOFFSET(-1,I85),SHEETOFFSET(-1,I70))","v":0},{"$f":"SELECCIONPATRON(SHEETOFFSET(-1,J151),SHEETOFFSET(-1,J112),SHEETOFFSET(-1,J113),SHEETOFFSET(-1,J76),SHEETOFFSET(-1,J83),SHEETOFFSET(-1,J85),SHEETOFFSET(-1,J70))","v":0},"---",{"$f":"IFERROR(SELECCIONPATRON(L36,L36,L36,L36,H36*I36,H36*I36,H36*I36)*SELECCIONPATRON(SHEETOFFSET(-1,$T$122),SHEETOFFSET(-1,$T$85),SHEETOFFSET(-1,$V$86),SHEETOFFSET(-1,$V$49),SHEETOFFSET(-1,$G$29),SHEETOFFSET(-1,$G$44),SHEETOFFSET(-1,$G$30)),0)","v":0},0,0,0,0,"---",{"$f":"IFERROR(IF(F36=\"Refrigerada\",SELECCIONPATRON(R36,R36,R36,R36,I36,I36,I36)*SELECCIONPATRON(SHEETOFFSET(-1,$I$200),SHEETOFFSET(-1,$I$161),SHEETOFFSET(-1,$I$162),SHEETOFFSET(-1,$I$125),SHEETOFFSET(-1,$I$132)/(SHEETOFFSET(-1,$G$11)*IF(SHEETOFFSET(-1,$G$37)<>\"\",SHEETOFFSET(-1,$G$37),SHEETOFFSET(-1,$G$42))),SHEETOFFSET(-1,$I$134)/(SHEETOFFSET(-1,$G$11)*IF(SHEETOFFSET(-1,$G$26)<>\"\",SHEETOFFSET(-1,$G$26),SHEETOFFSET(-1,$G$31))),SHEETOFFSET(-1,$I$119)/(SHEETOFFSET(-1,$G$11)*IF(SHEETOFFSET(-1,$G$25)=\"Mercancías a granel\",1,0.45))),0),0)","v":0},0,0,0,0,0,0,0,0,0,0,0,0,0,0,0,0,0,0,0,null,"","","","",null,0,0]
[21,{"$f":"SELECCIONPATRON(SHEETOFFSET(-1,C152),SHEETOFFSET(-1,C113),SHEETOFFSET(-1,C114),SHEETOFFSET(-1,C77),SHEETOFFSET(-1,C84),SHEETOFFSET(-1,C86),SHEETOFFSET(-1,C71))","v":0},{"$f":"SELECCIONPATRON(SHEETOFFSET(-1,D152),SHEETOFFSET(-1,D113),SHEETOFFSET(-1,D114),SHEETOFFSET(-1,D77),SHEETOFFSET(-1,D84),SHEETOFFSET(-1,D86),SHEETOFFSET(-1,D71))","v":0},{"$f":"SELECCIONPATRON(SHEETOFFSET(-1,M152),SHEETOFFSET(-1,M113),SHEETOFFSET(-1,M114),SHEETOFFSET(-1,M77),SHEETOFFSET(-1,$E$51),SHEETOFFSET(-1,$E$52),SHEETOFFSET(-1,$E$38))","v":0},{"$f":"SELECCIONPATRON(SHEETOFFSET(-1,P152),SHEETOFFSET(-1,P113),SHEETOFFSET(-1,P114),SHEETOFFSET(-1,P77),SHEETOFFSET(-1,$E$52),SHEETOFFSET(-1,$E$53),SHEETOFFSET(-1,$E$39))","v":0},{"$f":"SELECCIONPATRON(SHEETOFFSET(-1,H152),SHEETOFFSET(-1,H113),SHEETOFFSET(-1,H114),SHEETOFFSET(-1,H77),SHEETOFFSET(-1,H84),SHEETOFFSET(-1,H86),SHEETOFFSET(-1,H71))","v":0},{"$f":"SELECCIONPATRON(SHEETOFFSET(-1,R152),SHEETOFFSET(-1,R113),SHEETOFFSET(-1,S114),SHEETOFFSET(-1,S77),SHEETOFFSET(-1,$G$55),SHEETOFFSET(-1,$G$56),SHEETOFFSET(-1,$G$42))","v":0},{"$f":"SELECCIONPATRON(SHEETOFFSET(-1,S152),SHEETOFFSET(-1,S113),SHEETOFFSET(-1,T114),SHEETOFFSET(-1,T77),SHEETOFFSET(-1,$G$56),SHEETOFFSET(-1,$G$57),SHEETOFFSET(-1,$G$43))","v":0},{"$f":"SELECCIONPATRON(SHEETOFFSET(-1,G152),SHEETOFFSET(-1,G113),SHEETOFFSET(-1,G114),SHEETOFFSET(-1,G77),SHEETOFFSET(-1,G84),SHEETOFFSET(-1,G86),SHEETOFFSET(-1,G71))","v":0},{"$f":"SELECCIONPATRON(SHEETOFFSET(-1,I152),SHEETOFFSET(-1,I113),SHEETOFFSET(-1,I114),SHEETOFFSET(-1,I77),SHEETOFFSET(-1,I84),SHEETOFFSET(-1,I86),SHEETOFFSET(-1,I71))","v":0},{"$f":"SELECCIONPATRON(SHEETOFFSET(-1,J152),SHEETOFFSET(-1,J113),SHEETOFFSET(-1,J114),SHEETOFFSET(-1,J77),SHEETOFFSET(-1,J84),SHEETOFFSET(-1,J86),SHEETOFFSET(-1,J71))","v":0},"---",{"$f":"IFERROR(SELECCIONPATRON(L37,L37,L37,L37,H37*I37,H37*I37,H37*I37)*SELECCIONPATRON(SHEETOFFSET(-1,$T$122),SHEETOFFSET(-1,$T$85),SHEETOFFSET(-1,$V$86),SHEETOFFSET(-1,$V$49),SHEETOFFSET(-1,$G$29),SHEETOFFSET(-1,$G$44),SHEETOFFSET(-1,$G$30)),0)","v":0},0,0,0,0,"---",{"$f":"IFERROR(IF(F37=\"Refrigerada\",SELECCIONPATRON(R37,R37,R37,R37,I37,I37,I37)*SELECCIONPATRON(SHEETOFFSET(-1,$I$200),SHEETOFFSET(-1,$I$161),SHEETOFFSET(-1,$I$162),SHEETOFFSET(-1,$I$125),SHEETOFFSET(-1,$I$132)/(SHEETOFFSET(-1,$G$11)*IF(SHEETOFFSET(-1,$G$37)<>\"\",SHEETOFFSET(-1,$G$37),SHEETOFFSET(-1,$G$42))),SHEETOFFSET(-1,$I$134)/(SHEETOFFSET(-1,$G$11)*IF(SHEETOFFSET(-1,$G$26)<>\"\",SHEETOFFSET(-1,$G$26),SHEETOFFSET(-1,$G$31))),SHEETOFFSET(-1,$I$119)/(SHEETOFFSET(-1,$G$11)*IF(SHEETOFFSET(-1,$G$25)=\"Mercancías a granel\",1,0.45))),0),0)","v":0},0,0,0,0,0,0,0,0,0,0,0,0,0,0,0,0,0,0,0,null,"","","","",null,0,0]
[22,{"$f":"SELECCIONPATRON(SHEETOFFSET(-1,C153),SHEETOFFSET(-1,C114),SHEETOFFSET(-1,C115),SHEETOFFSET(-1,C78),SHEETOFFSET(-1,C85),SHEETOFFSET(-1,C87),SHEETOFFSET(-1,C72))","v":0},{"$f":"SELECCIONPATRON(SHEETOFFSET(-1,D153),SHEETOFFSET(-1,D114),SHEETOFFSET(-1,D115),SHEETOFFSET(-1,D78),SHEETOFFSET(-1,D85),SHEETOFFSET(-1,D87),SHEETOFFSET(-1,D72))","v":0},{"$f":"SELECCIONPATRON(SHEETOFFSET(-1,M153),SHEETOFFSET(-1,M114),SHEETOFFSET(-1,M115),SHEETOFFSET(-1,M78),SHEETOFFSET(-1,$E$51),SHEETOFFSET(-1,$E$52),SHEETOFFSET(-1,$E$38))","v":0},{"$f":"SELECCIONPATRON(SHEETOFFSET(-1,P153),SHEETOFFSET(-1,P114),SHEETOFFSET(-1,P115),SHEETOFFSET(-1,P78),SHEETOFFSET(-1,$E$52),SHEETOFFSET(-1,$E$53),SHEETOFFSET(-1,$E$39))","v":0},{"$f":"SELECCIONPATRON(SHEETOFFSET(-1,H153),SHEETOFFSET(-1,H114),SHEETOFFSET(-1,H115),SHEETOFFSET(-1,H78),SHEETOFFSET(-1,H85),SHEETOFFSET(-1,H87),SHEETOFFSET(-1,H72))","v":0},{"$f":"SELECCIONPATRON(SHEETOFFSET(-1,R153),SHEETOFFSET(-1,R114),SHEETOFFSET(-1,S115),SHEETOFFSET(-1,S78),SHEETOFFSET(-1,$G$55),SHEETOFFSET(-1,$G$56),SHEETOFFSET(-1,$G$42))","v":0},{"$f":"SELECCIONPATRON(SHEETOFFSET(-1,S153),SHEETOFFSET(-1,S114),SHEETOFFSET(-1,T115),SHEETOFFSET(-1,T78),SHEETOFFSET(-1,$G$56),SHEETOFFSET(-1,$G$57),SHEETOFFSET(-1,$G$43))","v":0},{"$f":"SELECCIONPATRON(SHEETOFFSET(-1,G153),SHEETOFFSET(-1,G114),SHEETOFFSET(-1,G115),SHEETOFFSET(-1,G78),SHEETOFFSET(-1,G85),SHEETOFFSET(-1,G87),SHEETOFFSET(-1,G72))","v":0},{"$f":"SELECCIONPATRON(SHEETOFFSET(-1,I153),SHEETOFFSET(-1,I114),SHEETOFFSET(-1,I115),SHEETOFFSET(-1,I78),SHEETOFFSET(-1,I85),SHEETOFFSET(-1,I87),SHEETOFFSET(-1,I72))","v":0},{"$f":"SELECCIONPATRON(SHEETOFFSET(-1,J153),SHEETOFFSET(-1,J114),SHEETOFFSET(-1,J115),SHEETOFFSET(-1,J78),SHEETOFFSET(-1,J85),SHEETOFFSET(-1,J87),SHEETOFFSET(-1,J72))","v":0},"---",{"$f":"IFERROR(SELECCIONPATRON(L38,L38,L38,L38,H38*I38,H38*I38,H38*I38)*SELECCIONPATRON(SHEETOFFSET(-1,$T$122),SHEETOFFSET(-1,$T$85),SHEETOFFSET(-1,$V$86),SHEETOFFSET(-1,$V$49),SHEETOFFSET(-1,$G$29),SHEETOFFSET(-1,$G$44),SHEETOFFSET(-1,$G$30)),0)","v":0},0,0,0,0,"---",{"$f":"IFERROR(IF(F38=\"Refrigerada\",SELECCIONPATRON(R38,R38,R38,R38,I38,I38,I38)*SELECCIONPATRON(SHEETOFFSET(-1,$I$200),SHEETOFFSET(-1,$I$161),SHEETOFFSET(-1,$I$162),SHEETOFFSET(-1,$I$125),SHEETOFFSET(-1,$I$132)/(SHEETOFFSET(-1,$G$11)*IF(SHEETOFFSET(-1,$G$37)<>\"\",SHEETOFFSET(-1,$G$37),SHEETOFFSET(-1,$G$42))),SHEETOFFSET(-1,$I$134)/(SHEETOFFSET(-1,$G$11)*IF(SHEETOFFSET(-1,$G$26)<>\"\",SHEETOFFSET(-1,$G$26),SHEETOFFSET(-1,$G$31))),SHEETOFFSET(-1,$I$119)/(SHEETOFFSET(-1,$G$11)*IF(SHEETOFFSET(-1,$G$25)=\"Mercancías a granel\",1,0.45))),0),0)","v":0},0,0,0,0,0,0,0,0,0,0,0,0,0,0,0,0,0,0,0,null,"","","","",null,0,0]
[23,{"$f":"SELECCIONPATRON(SHEETOFFSET(-1,C154),SHEETOFFSET(-1,C115),SHEETOFFSET(-1,C116),SHEETOFFSET(-1,C79),SHEETOFFSET(-1,C86),SHEETOFFSET(-1,C88),SHEETOFFSET(-1,C73))","v":0},{"$f":"SELECCIONPATRON(SHEETOFFSET(-1,D154),SHEETOFFSET(-1,D115),SHEETOFFSET(-1,D116),SHEETOFFSET(-1,D79),SHEETOFFSET(-1,D86),SHEETOFFSET(-1,D88),SHEETOFFSET(-1,D73))","v":0},{"$f":"SELECCIONPATRON(SHEETOFFSET(-1,M154),SHEETOFFSET(-1,M115),SHEETOFFSET(-1,M116),SHEETOFFSET(-1,M79),SHEETOFFSET(-1,$E$51),SHEETOFFSET(-1,$E$52),SHEETOFFSET(-1,$E$38))","v":0},{"$f":"SELECCIONPATRON(SHEETOFFSET(-1,P154),SHEETOFFSET(-1,P115),SHEETOFFSET(-1,P116),SHEETOFFSET(-1,P79),SHEETOFFSET(-1,$E$52),SHEETOFFSET(-1,$E$53),SHEETOFFSET(-1,$E$39))","v":0},{"$f":"SELECCIONPATRON(SHEETOFFSET(-1,H154),SHEETOFFSET(-1,H115),SHEETOFFSET(-1,H116),SHEETOFFSET(-1,H79),SHEETOFFSET(-1,H86),SHEETOFFSET(-1,H88),SHEETOFFSET(-1,H73))","v":0},{"$f":"SELECCIONPATRON(SHEETOFFSET(-1,R154),SHEETOFFSET(-1,R115),SHEETOFFSET(-1,S116),SHEETOFFSET(-1,S79),SHEETOFFSET(-1,$G$55),SHEETOFFSET(-1,$G$56),SHEETOFFSET(-1,$G$42))","v":0},{"$f":"SELECCIONPATRON(SHEETOFFSET(-1,S154),SHEETOFFSET(-1,S115),SHEETOFFSET(-1,T116),SHEETOFFSET(-1,T79),SHEETOFFSET(-1,$G$56),SHEETOFFSET(-1,$G$57),SHEETOFFSET(-1,$G$43))","v":0},{"$f":"SELECCIONPATRON(SHEETOFFSET(-1,G154),SHEETOFFSET(-1,G115),SHEETOFFSET(-1,G116),SHEETOFFSET(-1,G79),SHEETOFFSET(-1,G86),SHEETOFFSET(-1,G88),SHEETOFFSET(-1,G73))","v":0},{"$f":"SELECCIONPATRON(SHEETOFFSET(-1,I154),SHEETOFFSET(-1,I115),SHEETOFFSET(-1,I116),SHEETOFFSET(-1,I79),SHEETOFFSET(-1,I86),SHEETOFFSET(-1,I88),SHEETOFFSET(-1,I73))","v":0},{"$f":"SELECCIONPATRON(SHEETOFFSET(-1,J154),SHEETOFFSET(-1,J115),SHEETOFFSET(-1,J116),SHEETOFFSET(-1,J79),SHEETOFFSET(-1,J86),SHEETOFFSET(-1,J88),SHEETOFFSET(-1,J73))","v":0},"---",{"$f":"IFERROR(SELECCIONPATRON(L39,L39,L39,L39,H39*I39,H39*I39,H39*I39)*SELECCIONPATRON(SHEETOFFSET(-1,$T$122),SHEETOFFSET(-1,$T$85),SHEETOFFSET(-1,$V$86),SHEETOFFSET(-1,$V$49),SHEETOFFSET(-1,$G$29),SHEETOFFSET(-1,$G$44),SHEETOFFSET(-1,$G$30)),0)","v":0},0,0,0,0,"---",{"$f":"IFERROR(IF(F39=\"Refrigerada\",SELECCIONPATRON(R39,R39,R39,R39,I39,I39,I39)*SELECCIONPATRON(SHEETOFFSET(-1,$I$200),SHEETOFFSET(-1,$I$161),SHEETOFFSET(-1,$I$162),SHEETOFFSET(-1,$I$125),SHEETOFFSET(-1,$I$132)/(SHEETOFFSET(-1,$G$11)*IF(SHEETOFFSET(-1,$G$37)<>\"\",SHEETOFFSET(-1,$G$37),SHEETOFFSET(-1,$G$42))),SHEETOFFSET(-1,$I$134)/(SHEETOFFSET(-1,$G$11)*IF(SHEETOFFSET(-1,$G$26)<>\"\",SHEETOFFSET(-1,$G$26),SHEETOFFSET(-1,$G$31))),SHEETOFFSET(-1,$I$119)/(SHEETOFFSET(-1,$G$11)*IF(SHEETOFFSET(-1,$G$25)=\"Mercancías a granel\",1,0.45))),0),0)","v":0},0,0,0,0,0,0,0,0,0,0,0,0,0,0,0,0,0,0,0,null,"","","","",null,0,0]
[24,{"$f":"SELECCIONPATRON(SHEETOFFSET(-1,C155),SHEETOFFSET(-1,C116),SHEETOFFSET(-1,C117),SHEETOFFSET(-1,C80),SHEETOFFSET(-1,C87),SHEETOFFSET(-1,C89),SHEETOFFSET(-1,C74))","v":0},{"$f":"SELECCIONPATRON(SHEETOFFSET(-1,D155),SHEETOFFSET(-1,D116),SHEETOFFSET(-1,D117),SHEETOFFSET(-1,D80),SHEETOFFSET(-1,D87),SHEETOFFSET(-1,D89),SHEETOFFSET(-1,D74))","v":0},{"$f":"SELECCIONPATRON(SHEETOFFSET(-1,M155),SHEETOFFSET(-1,M116),SHEETOFFSET(-1,M117),SHEETOFFSET(-1,M80),SHEETOFFSET(-1,$E$51),SHEETOFFSET(-1,$E$52),SHEETOFFSET(-1,$E$38))","v":0},{"$f":"SELECCIONPATRON(SHEETOFFSET(-1,P155),SHEETOFFSET(-1,P116),SHEETOFFSET(-1,P117),SHEETOFFSET(-1,P80),SHEETOFFSET(-1,$E$52),SHEETOFFSET(-1,$E$53),SHEETOFFSET(-1,$E$39))","v":0},{"$f":"SELECCIONPATRON(SHEETOFFSET(-1,H155),SHEETOFFSET(-1,H116),SHEETOFFSET(-1,H117),SHEETOFFSET(-1,H80),SHEETOFFSET(-1,H87),SHEETOFFSET(-1,H89),SHEETOFFSET(-1,H74))","v":0},{"$f":"SELECCIONPATRON(SHEETOFFSET(-1,R155),SHEETOFFSET(-1,R116),SHEETOFFSET(-1,S117),SHEETOFFSET(-1,S80),SHEETOFFSET(-1,$G$55),SHEETOFFSET(-1,$G$56),SHEETOFFSET(-1,$G$42))","v":0},{"$f":"SELECCIONPATRON(SHEETOFFSET(-1,S155),SHEETOFFSET(-1,S116),SHEETOFFSET(-1,T117),SHEETOFFSET(-1,T80),SHEETOFFSET(-1,$G$56),SHEETOFFSET(-1,$G$57),SHEETOFFSET(-1,$G$43))","v":0},{"$f":"SELECCIONPATRON(SHEETOFFSET(-1,G155),SHEETOFFSET(-1,G116),SHEETOFFSET(-1,G117),SHEETOFFSET(-1,G80),SHEETOFFSET(-1,G87),SHEETOFFSET(-1,G89),SHEETOFFSET(-1,G74))","v":0},{"$f":"SELECCIONPATRON(SHEETOFFSET(-1,I155),SHEETOFFSET(-1,I116),SHEETOFFSET(-1,I117),SHEETOFFSET(-1,I80),SHEETOFFSET(-1,I87),SHEETOFFSET(-1,I89),SHEETOFFSET(-1,I74))","v":0},{"$f":"SELECCIONPATRON(SHEETOFFSET(-1,J155),SHEETOFFSET(-1,J116),SHEETOFFSET(-1,J117),SHEETOFFSET(-1,J80),SHEETOFFSET(-1,J87),SHEETOFFSET(-1,J89),SHEETOFFSET(-1,J74))","v":0},"---",{"$f":"IFERROR(SELECCIONPATRON(L40,L40,L40,L40,H40*I40,H40*I40,H40*I40)*SELECCIONPATRON(SHEETOFFSET(-1,$T$122),SHEETOFFSET(-1,$T$85),SHEETOFFSET(-1,$V$86),SHEETOFFSET(-1,$V$49),SHEETOFFSET(-1,$G$29),SHEETOFFSET(-1,$G$44),SHEETOFFSET(-1,$G$30)),0)","v":0},0,0,0,0,"---",{"$f":"IFERROR(IF(F40=\"Refrigerada\",SELECCIONPATRON(R40,R40,R40,R40,I40,I40,I40)*SELECCIONPATRON(SHEETOFFSET(-1,$I$200),SHEETOFFSET(-1,$I$161),SHEETOFFSET(-1,$I$162),SHEETOFFSET(-1,$I$125),SHEETOFFSET(-1,$I$132)/(SHEETOFFSET(-1,$G$11)*IF(SHEETOFFSET(-1,$G$37)<>\"\",SHEETOFFSET(-1,$G$37),SHEETOFFSET(-1,$G$42))),SHEETOFFSET(-1,$I$134)/(SHEETOFFSET(-1,$G$11)*IF(SHEETOFFSET(-1,$G$26)<>\"\",SHEETOFFSET(-1,$G$26),SHEETOFFSET(-1,$G$31))),SHEETOFFSET(-1,$I$119)/(SHEETOFFSET(-1,$G$11)*IF(SHEETOFFSET(-1,$G$25)=\"Mercancías a granel\",1,0.45))),0),0)","v":0},0,0,0,0,0,0,0,0,0,0,0,0,0,0,0,0,0,0,0,null,"","","","",null,0,0]
[25,{"$f":"SELECCIONPATRON(SHEETOFFSET(-1,C156),SHEETOFFSET(-1,C117),SHEETOFFSET(-1,C118),SHEETOFFSET(-1,C81),SHEETOFFSET(-1,C88),SHEETOFFSET(-1,C90),SHEETOFFSET(-1,C75))","v":0},{"$f":"SELECCIONPATRON(SHEETOFFSET(-1,D156),SHEETOFFSET(-1,D117),SHEETOFFSET(-1,D118),SHEETOFFSET(-1,D81),SHEETOFFSET(-1,D88),SHEETOFFSET(-1,D90),SHEETOFFSET(-1,D75))","v":0},{"$f":"SELECCIONPATRON(SHEETOFFSET(-1,M156),SHEETOFFSET(-1,M117),SHEETOFFSET(-1,M118),SHEETOFFSET(-1,M81),SHEETOFFSET(-1,$E$51),SHEETOFFSET(-1,$E$52),SHEETOFFSET(-1,$E$38))","v":0},{"$f":"SELECCIONPATRON(SHEETOFFSET(-1,P156),SHEETOFFSET(-1,P117),SHEETOFFSET(-1,P118),SHEETOFFSET(-1,P81),SHEETOFFSET(-1,$E$52),SHEETOFFSET(-1,$E$53),SHEETOFFSET(-1,$E$39))","v":0},{"$f":"SELECCIONPATRON(SHEETOFFSET(-1,H156),SHEETOFFSET(-1,H117),SHEETOFFSET(-1,H118),SHEETOFFSET(-1,H81),SHEETOFFSET(-1,H88),SHEETOFFSET(-1,H90),SHEETOFFSET(-1,H75))","v":0},{"$f":"SELECCIONPATRON(SHEETOFFSET(-1,R156),SHEETOFFSET(-1,R117),SHEETOFFSET(-1,S118),SHEETOFFSET(-1,S81),SHEETOFFSET(-1,$G$55),SHEETOFFSET(-1,$G$56),SHEETOFFSET(-1,$G$42))","v":0},{"$f":"SELECCIONPATRON(SHEETOFFSET(-1,S156),SHEETOFFSET(-1,S117),SHEETOFFSET(-1,T118),SHEETOFFSET(-1,T81),SHEETOFFSET(-1,$G$56),SHEETOFFSET(-1,$G$57),SHEETOFFSET(-1,$G$43))","v":0},{"$f":"SELECCIONPATRON(SHEETOFFSET(-1,G156),SHEETOFFSET(-1,G117),SHEETOFFSET(-1,G118),SHEETOFFSET(-1,G81),SHEETOFFSET(-1,G88),SHEETOFFSET(-1,G90),SHEETOFFSET(-1,G75))","v":0},{"$f":"SELECCIONPATRON(SHEETOFFSET(-1,I156),SHEETOFFSET(-1,I117),SHEETOFFSET(-1,I118),SHEETOFFSET(-1,I81),SHEETOFFSET(-1,I88),SHEETOFFSET(-1,I90),SHEETOFFSET(-1,I75))","v":0},{"$f":"SELECCIONPATRON(SHEETOFFSET(-1,J156),SHEETOFFSET(-1,J117),SHEETOFFSET(-1,J118),SHEETOFFSET(-1,J81),SHEETOFFSET(-1,J88),SHEETOFFSET(-1,J90),SHEETOFFSET(-1,J75))","v":0},"---",{"$f":"IFERROR(SELECCIONPATRON(L41,L41,L41,L41,H41*I41,H41*I41,H41*I41)*SELECCIONPATRON(SHEETOFFSET(-1,$T$122),SHEETOFFSET(-1,$T$85),SHEETOFFSET(-1,$V$86),SHEETOFFSET(-1,$V$49),SHEETOFFSET(-1,$G$29),SHEETOFFSET(-1,$G$44),SHEETOFFSET(-1,$G$30)),0)","v":0},0,0,0,0,"---",{"$f":"IFERROR(IF(F41=\"Refrigerada\",SELECCIONPATRON(R41,R41,R41,R41,I41,I41,I41)*SELECCIONPATRON(SHEETOFFSET(-1,$I$200),SHEETOFFSET(-1,$I$161),SHEETOFFSET(-1,$I$162),SHEETOFFSET(-1,$I$125),SHEETOFFSET(-1,$I$132)/(SHEETOFFSET(-1,$G$11)*IF(SHEETOFFSET(-1,$G$37)<>\"\",SHEETOFFSET(-1,$G$37),SHEETOFFSET(-1,$G$42))),SHEETOFFSET(-1,$I$134)/(SHEETOFFSET(-1,$G$11)*IF(SHEETOFFSET(-1,$G$26)<>\"\",SHEETOFFSET(-1,$G$26),SHEETOFFSET(-1,$G$31))),SHEETOFFSET(-1,$I$119)/(SHEETOFFSET(-1,$G$11)*IF(SHEETOFFSET(-1,$G$25)=\"Mercancías a granel\",1,0.45))),0),0)","v":0},0,0,0,0,0,0,0,0,0,0,0,0,0,0,0,0,0,0,0,null,"","","","",null,0,0]
[26,{"$f":"SELECCIONPATRON(SHEETOFFSET(-1,C157),SHEETOFFSET(-1,C118),SHEETOFFSET(-1,C119),SHEETOFFSET(-1,C82),SHEETOFFSET(-1,C89),SHEETOFFSET(-1,C91),SHEETOFFSET(-1,C76))","v":0},{"$f":"SELECCIONPATRON(SHEETOFFSET(-1,D157),SHEETOFFSET(-1,D118),SHEETOFFSET(-1,D119),SHEETOFFSET(-1,D82),SHEETOFFSET(-1,D89),SHEETOFFSET(-1,D91),SHEETOFFSET(-1,D76))","v":0},{"$f":"SELECCIONPATRON(SHEETOFFSET(-1,M157),SHEETOFFSET(-1,M118),SHEETOFFSET(-1,M119),SHEETOFFSET(-1,M82),SHEETOFFSET(-1,$E$51),SHEETOFFSET(-1,$E$52),SHEETOFFSET(-1,$E$38))","v":0},{"$f":"SELECCIONPATRON(SHEETOFFSET(-1,P157),SHEETOFFSET(-1,P118),SHEETOFFSET(-1,P119),SHEETOFFSET(-1,P82),SHEETOFFSET(-1,$E$52),SHEETOFFSET(-1,$E$53),SHEETOFFSET(-1,$E$39))","v":0},{"$f":"SELECCIONPATRON(SHEETOFFSET(-1,H157),SHEETOFFSET(-1,H118),SHEETOFFSET(-1,H119),SHEETOFFSET(-1,H82),SHEETOFFSET(-1,H89),SHEETOFFSET(-1,H91),SHEETOFFSET(-1,H76))","v":0},{"$f":"SELECCIONPATRON(SHEETOFFSET(-1,R157),SHEETOFFSET(-1,R118),SHEETOFFSET(-1,S119),SHEETOFFSET(-1,S82),SHEETOFFSET(-1,$G$55),SHEETOFFSET(-1,$G$56),SHEETOFFSET(-1,$G$42))","v":0},{"$f":"SELECCIONPATRON(SHEETOFFSET(-1,S157),SHEETOFFSET(-1,S118),SHEETOFFSET(-1,T119),SHEETOFFSET(-1,T82),SHEETOFFSET(-1,$G$56),SHEETOFFSET(-1,$G$57),SHEETOFFSET(-1,$G$43))","v":0},{"$f":"SELECCIONPATRON(SHEETOFFSET(-1,G157),SHEETOFFSET(-1,G118),SHEETOFFSET(-1,G119),SHEETOFFSET(-1,G82),SHEETOFFSET(-1,G89),SHEETOFFSET(-1,G91),SHEETOFFSET(-1,G76))","v":0},{"$f":"SELECCIONPATRON(SHEETOFFSET(-1,I157),SHEETOFFSET(-1,I118),SHEETOFFSET(-1,I119),SHEETOFFSET(-1,I82),SHEETOFFSET(-1,I89),SHEETOFFSET(-1,I91),SHEETOFFSET(-1,I76))","v":0},{"$f":"SELECCIONPATRON(SHEETOFFSET(-1,J157),SHEETOFFSET(-1,J118),SHEETOFFSET(-1,J119),SHEETOFFSET(-1,J82),SHEETOFFSET(-1,J89),SHEETOFFSET(-1,J91),SHEETOFFSET(-1,J76))","v":0},"---",{"$f":"IFERROR(SELECCIONPATRON(L42,L42,L42,L42,H42*I42,H42*I42,H42*I42)*SELECCIONPATRON(SHEETOFFSET(-1,$T$122),SHEETOFFSET(-1,$T$85),SHEETOFFSET(-1,$V$86),SHEETOFFSET(-1,$V$49),SHEETOFFSET(-1,$G$29),SHEETOFFSET(-1,$G$44),SHEETOFFSET(-1,$G$30)),0)","v":0},0,0,0,0,"---",{"$f":"IFERROR(IF(F42=\"Refrigerada\",SELECCIONPATRON(R42,R42,R42,R42,I42,I42,I42)*SELECCIONPATRON(SHEETOFFSET(-1,$I$200),SHEETOFFSET(-1,$I$161),SHEETOFFSET(-1,$I$162),SHEETOFFSET(-1,$I$125),SHEETOFFSET(-1,$I$132)/(SHEETOFFSET(-1,$G$11)*IF(SHEETOFFSET(-1,$G$37)<>\"\",SHEETOFFSET(-1,$G$37),SHEETOFFSET(-1,$G$42))),SHEETOFFSET(-1,$I$134)/(SHEETOFFSET(-1,$G$11)*IF(SHEETOFFSET(-1,$G$26)<>\"\",SHEETOFFSET(-1,$G$26),SHEETOFFSET(-1,$G$31))),SHEETOFFSET(-1,$I$119)/(SHEETOFFSET(-1,$G$11)*IF(SHEETOFFSET(-1,$G$25)=\"Mercancías a granel\",1,0.45))),0),0)","v":0},0,0,0,0,0,0,0,0,0,0,0,0,0,0,0,0,0,0,0,null,"","","","",null,0,0]
[27,{"$f":"SELECCIONPATRON(SHEETOFFSET(-1,C158),SHEETOFFSET(-1,C119),SHEETOFFSET(-1,C120),SHEETOFFSET(-1,C83),SHEETOFFSET(-1,C90),SHEETOFFSET(-1,C92),SHEETOFFSET(-1,C77))","v":0},{"$f":"SELECCIONPATRON(SHEETOFFSET(-1,D158),SHEETOFFSET(-1,D119),SHEETOFFSET(-1,D120),SHEETOFFSET(-1,D83),SHEETOFFSET(-1,D90),SHEETOFFSET(-1,D92),SHEETOFFSET(-1,D77))","v":0},{"$f":"SELECCIONPATRON(SHEETOFFSET(-1,M158),SHEETOFFSET(-1,M119),SHEETOFFSET(-1,M120),SHEETOFFSET(-1,M83),SHEETOFFSET(-1,$E$51),SHEETOFFSET(-1,$E$52),SHEETOFFSET(-1,$E$38))","v":0},{"$f":"SELECCIONPATRON(SHEETOFFSET(-1,P158),SHEETOFFSET(-1,P119),SHEETOFFSET(-1,P120),SHEETOFFSET(-1,P83),SHEETOFFSET(-1,$E$52),SHEETOFFSET(-1,$E$53),SHEETOFFSET(-1,$E$39))","v":0},{"$f":"SELECCIONPATRON(SHEETOFFSET(-1,H158),SHEETOFFSET(-1,H119),SHEETOFFSET(-1,H120),SHEETOFFSET(-1,H83),SHEETOFFSET(-1,H90),SHEETOFFSET(-1,H92),SHEETOFFSET(-1,H77))","v":0},{"$f":"SELECCIONPATRON(SHEETOFFSET(-1,R158),SHEETOFFSET(-1,R119),SHEETOFFSET(-1,S120),SHEETOFFSET(-1,S83),SHEETOFFSET(-1,$G$55),SHEETOFFSET(-1,$G$56),SHEETOFFSET(-1,$G$42))","v":0},{"$f":"SELECCIONPATRON(SHEETOFFSET(-1,S158),SHEETOFFSET(-1,S119),SHEETOFFSET(-1,T120),SHEETOFFSET(-1,T83),SHEETOFFSET(-1,$G$56),SHEETOFFSET(-1,$G$57),SHEETOFFSET(-1,$G$43))","v":0},{"$f":"SELECCIONPATRON(SHEETOFFSET(-1,G158),SHEETOFFSET(-1,G119),SHEETOFFSET(-1,G120),SHEETOFFSET(-1,G83),SHEETOFFSET(-1,G90),SHEETOFFSET(-1,G92),SHEETOFFSET(-1,G77))","v":0},{"$f":"SELECCIONPATRON(SHEETOFFSET(-1,I158),SHEETOFFSET(-1,I119),SHEETOFFSET(-1,I120),SHEETOFFSET(-1,I83),SHEETOFFSET(-1,I90),SHEETOFFSET(-1,I92),SHEETOFFSET(-1,I77))","v":0},{"$f":"SELECCIONPATRON(SHEETOFFSET(-1,J158),SHEETOFFSET(-1,J119),SHEETOFFSET(-1,J120),SHEETOFFSET(-1,J83),SHEETOFFSET(-1,J90),SHEETOFFSET(-1,J92),SHEETOFFSET(-1,J77))","v":0},"---",{"$f":"IFERROR(SELECCIONPATRON(L43,L43,L43,L43,H43*I43,H43*I43,H43*I43)*SELECCIONPATRON(SHEETOFFSET(-1,$T$122),SHEETOFFSET(-1,$T$85),SHEETOFFSET(-1,$V$86),SHEETOFFSET(-1,$V$49),SHEETOFFSET(-1,$G$29),SHEETOFFSET(-1,$G$44),SHEETOFFSET(-1,$G$30)),0)","v":0},0,0,0,0,"---",{"$f":"IFERROR(IF(F43=\"Refrigerada\",SELECCIONPATRON(R43,R43,R43,R43,I43,I43,I43)*SELECCIONPATRON(SHEETOFFSET(-1,$I$200),SHEETOFFSET(-1,$I$161),SHEETOFFSET(-1,$I$162),SHEETOFFSET(-1,$I$125),SHEETOFFSET(-1,$I$132)/(SHEETOFFSET(-1,$G$11)*IF(SHEETOFFSET(-1,$G$37)<>\"\",SHEETOFFSET(-1,$G$37),SHEETOFFSET(-1,$G$42))),SHEETOFFSET(-1,$I$134)/(SHEETOFFSET(-1,$G$11)*IF(SHEETOFFSET(-1,$G$26)<>\"\",SHEETOFFSET(-1,$G$26),SHEETOFFSET(-1,$G$31))),SHEETOFFSET(-1,$I$119)/(SHEETOFFSET(-1,$G$11)*IF(SHEETOFFSET(-1,$G$25)=\"Mercancías a granel\",1,0.45))),0),0)","v":0},0,0,0,0,0,0,0,0,0,0,0,0,0,0,0,0,0,0,0,null,"","","","",null,0,0]
[28,{"$f":"SELECCIONPATRON(SHEETOFFSET(-1,C159),SHEETOFFSET(-1,C120),SHEETOFFSET(-1,C121),SHEETOFFSET(-1,C84),SHEETOFFSET(-1,C91),SHEETOFFSET(-1,C93),SHEETOFFSET(-1,C78))","v":0},{"$f":"SELECCIONPATRON(SHEETOFFSET(-1,D159),SHEETOFFSET(-1,D120),SHEETOFFSET(-1,D121),SHEETOFFSET(-1,D84),SHEETOFFSET(-1,D91),SHEETOFFSET(-1,D93),SHEETOFFSET(-1,D78))","v":0},{"$f":"SELECCIONPATRON(SHEETOFFSET(-1,M159),SHEETOFFSET(-1,M120),SHEETOFFSET(-1,M121),SHEETOFFSET(-1,M84),SHEETOFFSET(-1,$E$51),SHEETOFFSET(-1,$E$52),SHEETOFFSET(-1,$E$38))","v":0},{"$f":"SELECCIONPATRON(SHEETOFFSET(-1,P159),SHEETOFFSET(-1,P120),SHEETOFFSET(-1,P121),SHEETOFFSET(-1,P84),SHEETOFFSET(-1,$E$52),SHEETOFFSET(-1,$E$53),SHEETOFFSET(-1,$E$39))","v":0},{"$f":"SELECCIONPATRON(SHEETOFFSET(-1,H159),SHEETOFFSET(-1,H120),SHEETOFFSET(-1,H121),SHEETOFFSET(-1,H84),SHEETOFFSET(-1,H91),SHEETOFFSET(-1,H93),SHEETOFFSET(-1,H78))","v":0},{"$f":"SELECCIONPATRON(SHEETOFFSET(-1,R159),SHEETOFFSET(-1,R120),SHEETOFFSET(-1,S121),SHEETOFFSET(-1,S84),SHEETOFFSET(-1,$G$55),SHEETOFFSET(-1,$G$56),SHEETOFFSET(-1,$G$42))","v":0},{"$f":"SELECCIONPATRON(SHEETOFFSET(-1,S159),SHEETOFFSET(-1,S120),SHEETOFFSET(-1,T121),SHEETOFFSET(-1,T84),SHEETOFFSET(-1,$G$56),SHEETOFFSET(-1,$G$57),SHEETOFFSET(-1,$G$43))","v":0},{"$f":"SELECCIONPATRON(SHEETOFFSET(-1,G159),SHEETOFFSET(-1,G120),SHEETOFFSET(-1,G121),SHEETOFFSET(-1,G84),SHEETOFFSET(-1,G91),SHEETOFFSET(-1,G93),SHEETOFFSET(-1,G78))","v":0},{"$f":"SELECCIONPATRON(SHEETOFFSET(-1,I159),SHEETOFFSET(-1,I120),SHEETOFFSET(-1,I121),SHEETOFFSET(-1,I84),SHEETOFFSET(-1,I91),SHEETOFFSET(-1,I93),SHEETOFFSET(-1,I78))","v":0},{"$f":"SELECCIONPATRON(SHEETOFFSET(-1,J159),SHEETOFFSET(-1,J120),SHEETOFFSET(-1,J121),SHEETOFFSET(-1,J84),SHEETOFFSET(-1,J91),SHEETOFFSET(-1,J93),SHEETOFFSET(-1,J78))","v":0},"---",{"$f":"IFERROR(SELECCIONPATRON(L44,L44,L44,L44,H44*I44,H44*I44,H44*I44)*SELECCIONPATRON(SHEETOFFSET(-1,$T$122),SHEETOFFSET(-1,$T$85),SHEETOFFSET(-1,$V$86),SHEETOFFSET(-1,$V$49),SHEETOFFSET(-1,$G$29),SHEETOFFSET(-1,$G$44),SHEETOFFSET(-1,$G$30)),0)","v":0},0,0,0,0,"---",{"$f":"IFERROR(IF(F44=\"Refrigerada\",SELECCIONPATRON(R44,R44,R44,R44,I44,I44,I44)*SELECCIONPATRON(SHEETOFFSET(-1,$I$200),SHEETOFFSET(-1,$I$161),SHEETOFFSET(-1,$I$162),SHEETOFFSET(-1,$I$125),SHEETOFFSET(-1,$I$132)/(SHEETOFFSET(-1,$G$11)*IF(SHEETOFFSET(-1,$G$37)<>\"\",SHEETOFFSET(-1,$G$37),SHEETOFFSET(-1,$G$42))),SHEETOFFSET(-1,$I$134)/(SHEETOFFSET(-1,$G$11)*IF(SHEETOFFSET(-1,$G$26)<>\"\",SHEETOFFSET(-1,$G$26),SHEETOFFSET(-1,$G$31))),SHEETOFFSET(-1,$I$119)/(SHEETOFFSET(-1,$G$11)*IF(SHEETOFFSET(-1,$G$25)=\"Mercancías a granel\",1,0.45))),0),0)","v":0},0,0,0,0,0,0,0,0,0,0,0,0,0,0,0,0,0,0,0,null,"","","","",null,0,0]
[29,{"$f":"SELECCIONPATRON(SHEETOFFSET(-1,C160),SHEETOFFSET(-1,C121),SHEETOFFSET(-1,C122),SHEETOFFSET(-1,C85),SHEETOFFSET(-1,C92),SHEETOFFSET(-1,C94),SHEETOFFSET(-1,C79))","v":0},{"$f":"SELECCIONPATRON(SHEETOFFSET(-1,D160),SHEETOFFSET(-1,D121),SHEETOFFSET(-1,D122),SHEETOFFSET(-1,D85),SHEETOFFSET(-1,D92),SHEETOFFSET(-1,D94),SHEETOFFSET(-1,D79))","v":0},{"$f":"SELECCIONPATRON(SHEETOFFSET(-1,M160),SHEETOFFSET(-1,M121),SHEETOFFSET(-1,M122),SHEETOFFSET(-1,M85),SHEETOFFSET(-1,$E$51),SHEETOFFSET(-1,$E$52),SHEETOFFSET(-1,$E$38))","v":0},{"$f":"SELECCIONPATRON(SHEETOFFSET(-1,P160),SHEETOFFSET(-1,P121),SHEETOFFSET(-1,P122),SHEETOFFSET(-1,P85),SHEETOFFSET(-1,$E$52),SHEETOFFSET(-1,$E$53),SHEETOFFSET(-1,$E$39))","v":0},{"$f":"SELECCIONPATRON(SHEETOFFSET(-1,H160),SHEETOFFSET(-1,H121),SHEETOFFSET(-1,H122),SHEETOFFSET(-1,H85),SHEETOFFSET(-1,H92),SHEETOFFSET(-1,H94),SHEETOFFSET(-1,H79))","v":0},{"$f":"SELECCIONPATRON(SHEETOFFSET(-1,R160),SHEETOFFSET(-1,R121),SHEETOFFSET(-1,S122),SHEETOFFSET(-1,S85),SHEETOFFSET(-1,$G$55),SHEETOFFSET(-1,$G$56),SHEETOFFSET(-1,$G$42))","v":0},{"$f":"SELECCIONPATRON(SHEETOFFSET(-1,S160),SHEETOFFSET(-1,S121),SHEETOFFSET(-1,T122),SHEETOFFSET(-1,T85),SHEETOFFSET(-1,$G$56),SHEETOFFSET(-1,$G$57),SHEETOFFSET(-1,$G$43))","v":0},{"$f":"SELECCIONPATRON(SHEETOFFSET(-1,G160),SHEETOFFSET(-1,G121),SHEETOFFSET(-1,G122),SHEETOFFSET(-1,G85),SHEETOFFSET(-1,G92),SHEETOFFSET(-1,G94),SHEETOFFSET(-1,G79))","v":0},{"$f":"SELECCIONPATRON(SHEETOFFSET(-1,I160),SHEETOFFSET(-1,I121),SHEETOFFSET(-1,I122),SHEETOFFSET(-1,I85),SHEETOFFSET(-1,I92),SHEETOFFSET(-1,I94),SHEETOFFSET(-1,I79))","v":0},{"$f":"SELECCIONPATRON(SHEETOFFSET(-1,J160),SHEETOFFSET(-1,J121),SHEETOFFSET(-1,J122),SHEETOFFSET(-1,J85),SHEETOFFSET(-1,J92),SHEETOFFSET(-1,J94),SHEETOFFSET(-1,J79))","v":0},"---",{"$f":"IFERROR(SELECCIONPATRON(L45,L45,L45,L45,H45*I45,H45*I45,H45*I45)*SELECCIONPATRON(SHEETOFFSET(-1,$T$122),SHEETOFFSET(-1,$T$85),SHEETOFFSET(-1,$V$86),SHEETOFFSET(-1,$V$49),SHEETOFFSET(-1,$G$29),SHEETOFFSET(-1,$G$44),SHEETOFFSET(-1,$G$30)),0)","v":0},0,0,0,0,"---",{"$f":"IFERROR(IF(F45=\"Refrigerada\",SELECCIONPATRON(R45,R45,R45,R45,I45,I45,I45)*SELECCIONPATRON(SHEETOFFSET(-1,$I$200),SHEETOFFSET(-1,$I$161),SHEETOFFSET(-1,$I$162),SHEETOFFSET(-1,$I$125),SHEETOFFSET(-1,$I$132)/(SHEETOFFSET(-1,$G$11)*IF(SHEETOFFSET(-1,$G$37)<>\"\",SHEETOFFSET(-1,$G$37),SHEETOFFSET(-1,$G$42))),SHEETOFFSET(-1,$I$134)/(SHEETOFFSET(-1,$G$11)*IF(SHEETOFFSET(-1,$G$26)<>\"\",SHEETOFFSET(-1,$G$26),SHEETOFFSET(-1,$G$31))),SHEETOFFSET(-1,$I$119)/(SHEETOFFSET(-1,$G$11)*IF(SHEETOFFSET(-1,$G$25)=\"Mercancías a granel\",1,0.45))),0),0)","v":0},0,0,0,0,0,0,0,0,0,0,0,0,0,0,0,0,0,0,0,null,"","","","",null,0,0]
[30,{"$f":"SELECCIONPATRON(SHEETOFFSET(-1,C161),SHEETOFFSET(-1,C122),SHEETOFFSET(-1,C123),SHEETOFFSET(-1,C86),SHEETOFFSET(-1,C93),SHEETOFFSET(-1,C95),SHEETOFFSET(-1,C80))","v":0},{"$f":"SELECCIONPATRON(SHEETOFFSET(-1,D161),SHEETOFFSET(-1,D122),SHEETOFFSET(-1,D123),SHEETOFFSET(-1,D86),SHEETOFFSET(-1,D93),SHEETOFFSET(-1,D95),SHEETOFFSET(-1,D80))","v":0},{"$f":"SELECCIONPATRON(SHEETOFFSET(-1,M161),SHEETOFFSET(-1,M122),SHEETOFFSET(-1,M123),SHEETOFFSET(-1,M86),SHEETOFFSET(-1,$E$51),SHEETOFFSET(-1,$E$52),SHEETOFFSET(-1,$E$38))","v":0},{"$f":"SELECCIONPATRON(SHEETOFFSET(-1,P161),SHEETOFFSET(-1,P122),SHEETOFFSET(-1,P123),SHEETOFFSET(-1,P86),SHEETOFFSET(-1,$E$52),SHEETOFFSET(-1,$E$53),SHEETOFFSET(-1,$E$39))","v":0},{"$f":"SELECCIONPATRON(SHEETOFFSET(-1,H161),SHEETOFFSET(-1,H122),SHEETOFFSET(-1,H123),SHEETOFFSET(-1,H86),SHEETOFFSET(-1,H93),SHEETOFFSET(-1,H95),SHEETOFFSET(-1,H80))","v":0},{"$f":"SELECCIONPATRON(SHEETOFFSET(-1,R161),SHEETOFFSET(-1,R122),SHEETOFFSET(-1,S123),SHEETOFFSET(-1,S86),SHEETOFFSET(-1,$G$55),SHEETOFFSET(-1,$G$56),SHEETOFFSET(-1,$G$42))","v":0},{"$f":"SELECCIONPATRON(SHEETOFFSET(-1,S161),SHEETOFFSET(-1,S122),SHEETOFFSET(-1,T123),SHEETOFFSET(-1,T86),SHEETOFFSET(-1,$G$56),SHEETOFFSET(-1,$G$57),SHEETOFFSET(-1,$G$43))","v":0},{"$f":"SELECCIONPATRON(SHEETOFFSET(-1,G161),SHEETOFFSET(-1,G122),SHEETOFFSET(-1,G123),SHEETOFFSET(-1,G86),SHEETOFFSET(-1,G93),SHEETOFFSET(-1,G95),SHEETOFFSET(-1,G80))","v":0},{"$f":"SELECCIONPATRON(SHEETOFFSET(-1,I161),SHEETOFFSET(-1,I122),SHEETOFFSET(-1,I123),SHEETOFFSET(-1,I86),SHEETOFFSET(-1,I93),SHEETOFFSET(-1,I95),SHEETOFFSET(-1,I80))","v":0},{"$f":"SELECCIONPATRON(SHEETOFFSET(-1,J161),SHEETOFFSET(-1,J122),SHEETOFFSET(-1,J123),SHEETOFFSET(-1,J86),SHEETOFFSET(-1,J93),SHEETOFFSET(-1,J95),SHEETOFFSET(-1,J80))","v":0},"---",{"$f":"IFERROR(SELECCIONPATRON(L46,L46,L46,L46,H46*I46,H46*I46,H46*I46)*SELECCIONPATRON(SHEETOFFSET(-1,$T$122),SHEETOFFSET(-1,$T$85),SHEETOFFSET(-1,$V$86),SHEETOFFSET(-1,$V$49),SHEETOFFSET(-1,$G$29),SHEETOFFSET(-1,$G$44),SHEETOFFSET(-1,$G$30)),0)","v":0},0,0,0,0,"---",{"$f":"IFERROR(IF(F46=\"Refrigerada\",SELECCIONPATRON(R46,R46,R46,R46,I46,I46,I46)*SELECCIONPATRON(SHEETOFFSET(-1,$I$200),SHEETOFFSET(-1,$I$161),SHEETOFFSET(-1,$I$162),SHEETOFFSET(-1,$I$125),SHEETOFFSET(-1,$I$132)/(SHEETOFFSET(-1,$G$11)*IF(SHEETOFFSET(-1,$G$37)<>\"\",SHEETOFFSET(-1,$G$37),SHEETOFFSET(-1,$G$42))),SHEETOFFSET(-1,$I$134)/(SHEETOFFSET(-1,$G$11)*IF(SHEETOFFSET(-1,$G$26)<>\"\",SHEETOFFSET(-1,$G$26),SHEETOFFSET(-1,$G$31))),SHEETOFFSET(-1,$I$119)/(SHEETOFFSET(-1,$G$11)*IF(SHEETOFFSET(-1,$G$25)=\"Mercancías a granel\",1,0.45))),0),0)","v":0},0,0,0,0,0,0,0,0,0,0,0,0,0,0,0,0,0,0,0,null,"","","","",null,0,0]
[31,{"$f":"SELECCIONPATRON(SHEETOFFSET(-1,C162),SHEETOFFSET(-1,C123),SHEETOFFSET(-1,C124),SHEETOFFSET(-1,C87),SHEETOFFSET(-1,C94),SHEETOFFSET(-1,C96),SHEETOFFSET(-1,C81))","v":0},{"$f":"SELECCIONPATRON(SHEETOFFSET(-1,D162),SHEETOFFSET(-1,D123),SHEETOFFSET(-1,D124),SHEETOFFSET(-1,D87),SHEETOFFSET(-1,D94),SHEETOFFSET(-1,D96),SHEETOFFSET(-1,D81))","v":0},{"$f":"SELECCIONPATRON(SHEETOFFSET(-1,M162),SHEETOFFSET(-1,M123),SHEETOFFSET(-1,M124),SHEETOFFSET(-1,M87),SHEETOFFSET(-1,$E$51),SHEETOFFSET(-1,$E$52),SHEETOFFSET(-1,$E$38))","v":0},{"$f":"SELECCIONPATRON(SHEETOFFSET(-1,P162),SHEETOFFSET(-1,P123),SHEETOFFSET(-1,P124),SHEETOFFSET(-1,P87),SHEETOFFSET(-1,$E$52),SHEETOFFSET(-1,$E$53),SHEETOFFSET(-1,$E$39))","v":0},{"$f":"SELECCIONPATRON(SHEETOFFSET(-1,H162),SHEETOFFSET(-1,H123),SHEETOFFSET(-1,H124),SHEETOFFSET(-1,H87),SHEETOFFSET(-1,H94),SHEETOFFSET(-1,H96),SHEETOFFSET(-1,H81))","v":0},{"$f":"SELECCIONPATRON(SHEETOFFSET(-1,R162),SHEETOFFSET(-1,R123),SHEETOFFSET(-1,S124),SHEETOFFSET(-1,S87),SHEETOFFSET(-1,$G$55),SHEETOFFSET(-1,$G$56),SHEETOFFSET(-1,$G$42))","v":0},{"$f":"SELECCIONPATRON(SHEETOFFSET(-1,S162),SHEETOFFSET(-1,S123),SHEETOFFSET(-1,T124),SHEETOFFSET(-1,T87),SHEETOFFSET(-1,$G$56),SHEETOFFSET(-1,$G$57),SHEETOFFSET(-1,$G$43))","v":0},{"$f":"SELECCIONPATRON(SHEETOFFSET(-1,G162),SHEETOFFSET(-1,G123),SHEETOFFSET(-1,G124),SHEETOFFSET(-1,G87),SHEETOFFSET(-1,G94),SHEETOFFSET(-1,G96),SHEETOFFSET(-1,G81))","v":0},{"$f":"SELECCIONPATRON(SHEETOFFSET(-1,I162),SHEETOFFSET(-1,I123),SHEETOFFSET(-1,I124),SHEETOFFSET(-1,I87),SHEETOFFSET(-1,I94),SHEETOFFSET(-1,I96),SHEETOFFSET(-1,I81))","v":0},{"$f":"SELECCIONPATRON(SHEETOFFSET(-1,J162),SHEETOFFSET(-1,J123),SHEETOFFSET(-1,J124),SHEETOFFSET(-1,J87),SHEETOFFSET(-1,J94),SHEETOFFSET(-1,J96),SHEETOFFSET(-1,J81))","v":0},"---",{"$f":"IFERROR(SELECCIONPATRON(L47,L47,L47,L47,H47*I47,H47*I47,H47*I47)*SELECCIONPATRON(SHEETOFFSET(-1,$T$122),SHEETOFFSET(-1,$T$85),SHEETOFFSET(-1,$V$86),SHEETOFFSET(-1,$V$49),SHEETOFFSET(-1,$G$29),SHEETOFFSET(-1,$G$44),SHEETOFFSET(-1,$G$30)),0)","v":0},0,0,0,0,"---",{"$f":"IFERROR(IF(F47=\"Refrigerada\",SELECCIONPATRON(R47,R47,R47,R47,I47,I47,I47)*SELECCIONPATRON(SHEETOFFSET(-1,$I$200),SHEETOFFSET(-1,$I$161),SHEETOFFSET(-1,$I$162),SHEETOFFSET(-1,$I$125),SHEETOFFSET(-1,$I$132)/(SHEETOFFSET(-1,$G$11)*IF(SHEETOFFSET(-1,$G$37)<>\"\",SHEETOFFSET(-1,$G$37),SHEETOFFSET(-1,$G$42))),SHEETOFFSET(-1,$I$134)/(SHEETOFFSET(-1,$G$11)*IF(SHEETOFFSET(-1,$G$26)<>\"\",SHEETOFFSET(-1,$G$26),SHEETOFFSET(-1,$G$31))),SHEETOFFSET(-1,$I$119)/(SHEETOFFSET(-1,$G$11)*IF(SHEETOFFSET(-1,$G$25)=\"Mercancías a granel\",1,0.45))),0),0)","v":0},0,0,0,0,0,0,0,0,0,0,0,0,0,0,0,0,0,0,0,null,"","","","",null,0,0]
[32,{"$f":"SELECCIONPATRON(SHEETOFFSET(-1,C163),SHEETOFFSET(-1,C124),SHEETOFFSET(-1,C125),SHEETOFFSET(-1,C88),SHEETOFFSET(-1,C95),SHEETOFFSET(-1,C97),SHEETOFFSET(-1,C82))","v":0},{"$f":"SELECCIONPATRON(SHEETOFFSET(-1,D163),SHEETOFFSET(-1,D124),SHEETOFFSET(-1,D125),SHEETOFFSET(-1,D88),SHEETOFFSET(-1,D95),SHEETOFFSET(-1,D97),SHEETOFFSET(-1,D82))","v":0},{"$f":"SELECCIONPATRON(SHEETOFFSET(-1,M163),SHEETOFFSET(-1,M124),SHEETOFFSET(-1,M125),SHEETOFFSET(-1,M88),SHEETOFFSET(-1,$E$51),SHEETOFFSET(-1,$E$52),SHEETOFFSET(-1,$E$38))","v":0},{"$f":"SELECCIONPATRON(SHEETOFFSET(-1,P163),SHEETOFFSET(-1,P124),SHEETOFFSET(-1,P125),SHEETOFFSET(-1,P88),SHEETOFFSET(-1,$E$52),SHEETOFFSET(-1,$E$53),SHEETOFFSET(-1,$E$39))","v":0},{"$f":"SELECCIONPATRON(SHEETOFFSET(-1,H163),SHEETOFFSET(-1,H124),SHEETOFFSET(-1,H125),SHEETOFFSET(-1,H88),SHEETOFFSET(-1,H95),SHEETOFFSET(-1,H97),SHEETOFFSET(-1,H82))","v":0},{"$f":"SELECCIONPATRON(SHEETOFFSET(-1,R163),SHEETOFFSET(-1,R124),SHEETOFFSET(-1,S125),SHEETOFFSET(-1,S88),SHEETOFFSET(-1,$G$55),SHEETOFFSET(-1,$G$56),SHEETOFFSET(-1,$G$42))","v":0},{"$f":"SELECCIONPATRON(SHEETOFFSET(-1,S163),SHEETOFFSET(-1,S124),SHEETOFFSET(-1,T125),SHEETOFFSET(-1,T88),SHEETOFFSET(-1,$G$56),SHEETOFFSET(-1,$G$57),SHEETOFFSET(-1,$G$43))","v":0},{"$f":"SELECCIONPATRON(SHEETOFFSET(-1,G163),SHEETOFFSET(-1,G124),SHEETOFFSET(-1,G125),SHEETOFFSET(-1,G88),SHEETOFFSET(-1,G95),SHEETOFFSET(-1,G97),SHEETOFFSET(-1,G82))","v":0},{"$f":"SELECCIONPATRON(SHEETOFFSET(-1,I163),SHEETOFFSET(-1,I124),SHEETOFFSET(-1,I125),SHEETOFFSET(-1,I88),SHEETOFFSET(-1,I95),SHEETOFFSET(-1,I97),SHEETOFFSET(-1,I82))","v":0},{"$f":"SELECCIONPATRON(SHEETOFFSET(-1,J163),SHEETOFFSET(-1,J124),SHEETOFFSET(-1,J125),SHEETOFFSET(-1,J88),SHEETOFFSET(-1,J95),SHEETOFFSET(-1,J97),SHEETOFFSET(-1,J82))","v":0},"---",{"$f":"IFERROR(SELECCIONPATRON(L48,L48,L48,L48,H48*I48,H48*I48,H48*I48)*SELECCIONPATRON(SHEETOFFSET(-1,$T$122),SHEETOFFSET(-1,$T$85),SHEETOFFSET(-1,$V$86),SHEETOFFSET(-1,$V$49),SHEETOFFSET(-1,$G$29),SHEETOFFSET(-1,$G$44),SHEETOFFSET(-1,$G$30)),0)","v":0},0,0,0,0,"---",{"$f":"IFERROR(IF(F48=\"Refrigerada\",SELECCIONPATRON(R48,R48,R48,R48,I48,I48,I48)*SELECCIONPATRON(SHEETOFFSET(-1,$I$200),SHEETOFFSET(-1,$I$161),SHEETOFFSET(-1,$I$162),SHEETOFFSET(-1,$I$125),SHEETOFFSET(-1,$I$132)/(SHEETOFFSET(-1,$G$11)*IF(SHEETOFFSET(-1,$G$37)<>\"\",SHEETOFFSET(-1,$G$37),SHEETOFFSET(-1,$G$42))),SHEETOFFSET(-1,$I$134)/(SHEETOFFSET(-1,$G$11)*IF(SHEETOFFSET(-1,$G$26)<>\"\",SHEETOFFSET(-1,$G$26),SHEETOFFSET(-1,$G$31))),SHEETOFFSET(-1,$I$119)/(SHEETOFFSET(-1,$G$11)*IF(SHEETOFFSET(-1,$G$25)=\"Mercancías a granel\",1,0.45))),0),0)","v":0},0,0,0,0,0,0,0,0,0,0,0,0,0,0,0,0,0,0,0,null,"","","","",null,0,0]
[33,{"$f":"SELECCIONPATRON(SHEETOFFSET(-1,C164),SHEETOFFSET(-1,C125),SHEETOFFSET(-1,C126),SHEETOFFSET(-1,C89),SHEETOFFSET(-1,C96),SHEETOFFSET(-1,C98),SHEETOFFSET(-1,C83))","v":0},{"$f":"SELECCIONPATRON(SHEETOFFSET(-1,D164),SHEETOFFSET(-1,D125),SHEETOFFSET(-1,D126),SHEETOFFSET(-1,D89),SHEETOFFSET(-1,D96),SHEETOFFSET(-1,D98),SHEETOFFSET(-1,D83))","v":0},{"$f":"SELECCIONPATRON(SHEETOFFSET(-1,M164),SHEETOFFSET(-1,M125),SHEETOFFSET(-1,M126),SHEETOFFSET(-1,M89),SHEETOFFSET(-1,$E$51),SHEETOFFSET(-1,$E$52),SHEETOFFSET(-1,$E$38))","v":0},{"$f":"SELECCIONPATRON(SHEETOFFSET(-1,P164),SHEETOFFSET(-1,P125),SHEETOFFSET(-1,P126),SHEETOFFSET(-1,P89),SHEETOFFSET(-1,$E$52),SHEETOFFSET(-1,$E$53),SHEETOFFSET(-1,$E$39))","v":0},{"$f":"SELECCIONPATRON(SHEETOFFSET(-1,H164),SHEETOFFSET(-1,H125),SHEETOFFSET(-1,H126),SHEETOFFSET(-1,H89),SHEETOFFSET(-1,H96),SHEETOFFSET(-1,H98),SHEETOFFSET(-1,H83))","v":0},{"$f":"SELECCIONPATRON(SHEETOFFSET(-1,R164),SHEETOFFSET(-1,R125),SHEETOFFSET(-1,S126),SHEETOFFSET(-1,S89),SHEETOFFSET(-1,$G$55),SHEETOFFSET(-1,$G$56),SHEETOFFSET(-1,$G$42))","v":0},{"$f":"SELECCIONPATRON(SHEETOFFSET(-1,S164),SHEETOFFSET(-1,S125),SHEETOFFSET(-1,T126),SHEETOFFSET(-1,T89),SHEETOFFSET(-1,$G$56),SHEETOFFSET(-1,$G$57),SHEETOFFSET(-1,$G$43))","v":0},{"$f":"SELECCIONPATRON(SHEETOFFSET(-1,G164),SHEETOFFSET(-1,G125),SHEETOFFSET(-1,G126),SHEETOFFSET(-1,G89),SHEETOFFSET(-1,G96),SHEETOFFSET(-1,G98),SHEETOFFSET(-1,G83))","v":0},{"$f":"SELECCIONPATRON(SHEETOFFSET(-1,I164),SHEETOFFSET(-1,I125),SHEETOFFSET(-1,I126),SHEETOFFSET(-1,I89),SHEETOFFSET(-1,I96),SHEETOFFSET(-1,I98),SHEETOFFSET(-1,I83))","v":0},{"$f":"SELECCIONPATRON(SHEETOFFSET(-1,J164),SHEETOFFSET(-1,J125),SHEETOFFSET(-1,J126),SHEETOFFSET(-1,J89),SHEETOFFSET(-1,J96),SHEETOFFSET(-1,J98),SHEETOFFSET(-1,J83))","v":0},{"$f":"IFERROR(IF(OR($D$6=\"A.1.\",$D$6=\"A.2.\",$D$6=\"B.1.\",$D$6=\"B.2.\"),AS49/SUM($AS$17:$AS$66),\"---\"),\"---\")","v":"---"},{"$f":"IFERROR(SELECCIONPATRON(L49,L49,L49,L49,H49*I49,H49*I49,H49*I49)*SELECCIONPATRON(SHEETOFFSET(-1,$T$122),SHEETOFFSET(-1,$T$85),SHEETOFFSET(-1,$V$86),SHEETOFFSET(-1,$V$49),SHEETOFFSET(-1,$G$29),SHEETOFFSET(-1,$G$44),SHEETOFFSET(-1,$G$30)),0)","v":0},{"$f":"IFERROR($M49*VLOOKUP($P$69,t_factores_t,3,0),0)","v":0},{"$f":"IFERROR($M49*VLOOKUP($P$69,t_factores_t,5,0),0)","v":0},{"$f":"IFERROR($M49*VLOOKUP($P$69,t_factores_t,7,0),0)","v":0},0,{"$f":"IFERROR(IF(OR($D$6=\"A.1.\",$D$6=\"A.2.\",$D$6=\"B.1.\",$D$6=\"B.2.\"),AT49/SUM($AT$17:$AT$66),\"---\"),\"---\")","v":"---"},{"$f":"IFERROR(IF(F49=\"Refrigerada\",SELECCIONPATRON(R49,R49,R49,R49,I49,I49,I49)*SELECCIONPATRON(SHEETOFFSET(-1,$I$200),SHEETOFFSET(-1,$I$161),SHEETOFFSET(-1,$I$162),SHEETOFFSET(-1,$I$125),SHEETOFFSET(-1,$I$132)/(SHEETOFFSET(-1,$G$11)*IF(SHEETOFFSET(-1,$G$37)<>\"\",SHEETOFFSET(-1,$G$37),SHEETOFFSET(-1,$G$42))),SHEETOFFSET(-1,$I$134)/(SHEETOFFSET(-1,$G$11)*IF(SHEETOFFSET(-1,$G$26)<>\"\",SHEETOFFSET(-1,$G$26),SHEETOFFSET(-1,$G$31))),SHEETOFFSET(-1,$I$119)/(SHEETOFFSET(-1,$G$11)*IF(SHEETOFFSET(-1,$G$25)=\"Mercancías a granel\",1,0.45))),0),0)","v":0},{"$f":"IFERROR($S49*VLOOKUP($V$69,t_factores_t,3,0),0)","v":0},0,0,0,0,0,0,0,0,0,0,0,0,0,0,0,0,0,0,null,"","","","",null,{"$f":"IFERROR(G49*I49,0)","v":0},0]
[34,{"$f":"SELECCIONPATRON(SHEETOFFSET(-1,C165),SHEETOFFSET(-1,C126),SHEETOFFSET(-1,C127),SHEETOFFSET(-1,C90),SHEETOFFSET(-1,C97),SHEETOFFSET(-1,C99),SHEETOFFSET(-1,C84))","v":0},{"$f":"SELECCIONPATRON(SHEETOFFSET(-1,D165),SHEETOFFSET(-1,D126),SHEETOFFSET(-1,D127),SHEETOFFSET(-1,D90),SHEETOFFSET(-1,D97),SHEETOFFSET(-1,D99),SHEETOFFSET(-1,D84))","v":0},{"$f":"SELECCIONPATRON(SHEETOFFSET(-1,M165),SHEETOFFSET(-1,M126),SHEETOFFSET(-1,M127),SHEETOFFSET(-1,M90),SHEETOFFSET(-1,$E$51),SHEETOFFSET(-1,$E$52),SHEETOFFSET(-1,$E$38))","v":0},{"$f":"SELECCIONPATRON(SHEETOFFSET(-1,P165),SHEETOFFSET(-1,P126),SHEETOFFSET(-1,P127),SHEETOFFSET(-1,P90),SHEETOFFSET(-1,$E$52),SHEETOFFSET(-1,$E$53),SHEETOFFSET(-1,$E$39))","v":0},{"$f":"SELECCIONPATRON(SHEETOFFSET(-1,H165),SHEETOFFSET(-1,H126),SHEETOFFSET(-1,H127),SHEETOFFSET(-1,H90),SHEETOFFSET(-1,H97),SHEETOFFSET(-1,H99),SHEETOFFSET(-1,H84))","v":0},{"$f":"SELECCIONPATRON(SHEETOFFSET(-1,R165),SHEETOFFSET(-1,R126),SHEETOFFSET(-1,S127),SHEETOFFSET(-1,S90),SHEETOFFSET(-1,$G$55),SHEETOFFSET(-1,$G$56),SHEETOFFSET(-1,$G$42))","v":0},{"$f":"SELECCIONPATRON(SHEETOFFSET(-1,S165),SHEETOFFSET(-1,S126),SHEETOFFSET(-1,T127),SHEETOFFSET(-1,T90),SHEETOFFSET(-1,$G$56),SHEETOFFSET(-1,$G$57),SHEETOFFSET(-1,$G$43))","v":0},{"$f":"SELECCIONPATRON(SHEETOFFSET(-1,G165),SHEETOFFSET(-1,G126),SHEETOFFSET(-1,G127),SHEETOFFSET(-1,G90),SHEETOFFSET(-1,G97),SHEETOFFSET(-1,G99),SHEETOFFSET(-1,G84))","v":0},{"$f":"SELECCIONPATRON(SHEETOFFSET(-1,I165),SHEETOFFSET(-1,I126),SHEETOFFSET(-1,I127),SHEETOFFSET(-1,I90),SHEETOFFSET(-1,I97),SHEETOFFSET(-1,I99),SHEETOFFSET(-1,I84))","v":0},{"$f":"SELECCIONPATRON(SHEETOFFSET(-1,J165),SHEETOFFSET(-1,J126),SHEETOFFSET(-1,J127),SHEETOFFSET(-1,J90),SHEETOFFSET(-1,J97),SHEETOFFSET(-1,J99),SHEETOFFSET(-1,J84))","v":0},"---",{"$f":"IFERROR(SELECCIONPATRON(L50,L50,L50,L50,H50*I50,H50*I50,H50*I50)*SELECCIONPATRON(SHEETOFFSET(-1,$T$122),SHEETOFFSET(-1,$T$85),SHEETOFFSET(-1,$V$86),SHEETOFFSET(-1,$V$49),SHEETOFFSET(-1,$G$29),SHEETOFFSET(-1,$G$44),SHEETOFFSET(-1,$G$30)),0)","v":0},0,0,0,0,"---",{"$f":"IFERROR(IF(F50=\"Refrigerada\",SELECCIONPATRON(R50,R50,R50,R50,I50,I50,I50)*SELECCIONPATRON(SHEETOFFSET(-1,$I$200),SHEETOFFSET(-1,$I$161),SHEETOFFSET(-1,$I$162),SHEETOFFSET(-1,$I$125),SHEETOFFSET(-1,$I$132)/(SHEETOFFSET(-1,$G$11)*IF(SHEETOFFSET(-1,$G$37)<>\"\",SHEETOFFSET(-1,$G$37),SHEETOFFSET(-1,$G$42))),SHEETOFFSET(-1,$I$134)/(SHEETOFFSET(-1,$G$11)*IF(SHEETOFFSET(-1,$G$26)<>\"\",SHEETOFFSET(-1,$G$26),SHEETOFFSET(-1,$G$31))),SHEETOFFSET(-1,$I$119)/(SHEETOFFSET(-1,$G$11)*IF(SHEETOFFSET(-1,$G$25)=\"Mercancías a granel\",1,0.45))),0),0)","v":0},0,0,0,0,0,0,0,0,0,0,0,0,0,0,0,0,0,0,0,null,"","","","",null,0,0]
[35,{"$f":"SELECCIONPATRON(SHEETOFFSET(-1,C166),SHEETOFFSET(-1,C127),SHEETOFFSET(-1,C128),SHEETOFFSET(-1,C91),SHEETOFFSET(-1,C98),SHEETOFFSET(-1,C100),SHEETOFFSET(-1,C85))","v":0},{"$f":"SELECCIONPATRON(SHEETOFFSET(-1,D166),SHEETOFFSET(-1,D127),SHEETOFFSET(-1,D128),SHEETOFFSET(-1,D91),SHEETOFFSET(-1,D98),SHEETOFFSET(-1,D100),SHEETOFFSET(-1,D85))","v":0},{"$f":"SELECCIONPATRON(SHEETOFFSET(-1,M166),SHEETOFFSET(-1,M127),SHEETOFFSET(-1,M128),SHEETOFFSET(-1,M91),SHEETOFFSET(-1,$E$51),SHEETOFFSET(-1,$E$52),SHEETOFFSET(-1,$E$38))","v":0},{"$f":"SELECCIONPATRON(SHEETOFFSET(-1,P166),SHEETOFFSET(-1,P127),SHEETOFFSET(-1,P128),SHEETOFFSET(-1,P91),SHEETOFFSET(-1,$E$52),SHEETOFFSET(-1,$E$53),SHEETOFFSET(-1,$E$39))","v":0},{"$f":"SELECCIONPATRON(SHEETOFFSET(-1,H166),SHEETOFFSET(-1,H127),SHEETOFFSET(-1,H128),SHEETOFFSET(-1,H91),SHEETOFFSET(-1,H98),SHEETOFFSET(-1,H100),SHEETOFFSET(-1,H85))","v":0},{"$f":"SELECCIONPATRON(SHEETOFFSET(-1,R166),SHEETOFFSET(-1,R127),SHEETOFFSET(-1,S128),SHEETOFFSET(-1,S91),SHEETOFFSET(-1,$G$55),SHEETOFFSET(-1,$G$56),SHEETOFFSET(-1,$G$42))","v":0},{"$f":"SELECCIONPATRON(SHEETOFFSET(-1,S166),SHEETOFFSET(-1,S127),SHEETOFFSET(-1,T128),SHEETOFFSET(-1,T91),SHEETOFFSET(-1,$G$56),SHEETOFFSET(-1,$G$57),SHEETOFFSET(-1,$G$43))","v":0},{"$f":"SELECCIONPATRON(SHEETOFFSET(-1,G166),SHEETOFFSET(-1,G127),SHEETOFFSET(-1,G128),SHEETOFFSET(-1,G91),SHEETOFFSET(-1,G98),SHEETOFFSET(-1,G100),SHEETOFFSET(-1,G85))","v":0},{"$f":"SELECCIONPATRON(SHEETOFFSET(-1,I166),SHEETOFFSET(-1,I127),SHEETOFFSET(-1,I128),SHEETOFFSET(-1,I91),SHEETOFFSET(-1,I98),SHEETOFFSET(-1,I100),SHEETOFFSET(-1,I85))","v":0},{"$f":"SELECCIONPATRON(SHEETOFFSET(-1,J166),SHEETOFFSET(-1,J127),SHEETOFFSET(-1,J128),SHEETOFFSET(-1,J91),SHEETOFFSET(-1,J98),SHEETOFFSET(-1,J100),SHEETOFFSET(-1,J85))","v":0},"---",{"$f":"IFERROR(SELECCIONPATRON(L51,L51,L51,L51,H51*I51,H51*I51,H51*I51)*SELECCIONPATRON(SHEETOFFSET(-1,$T$122),SHEETOFFSET(-1,$T$85),SHEETOFFSET(-1,$V$86),SHEETOFFSET(-1,$V$49),SHEETOFFSET(-1,$G$29),SHEETOFFSET(-1,$G$44),SHEETOFFSET(-1,$G$30)),0)","v":0},0,0,0,0,"---",{"$f":"IFERROR(IF(F51=\"Refrigerada\",SELECCIONPATRON(R51,R51,R51,R51,I51,I51,I51)*SELECCIONPATRON(SHEETOFFSET(-1,$I$200),SHEETOFFSET(-1,$I$161),SHEETOFFSET(-1,$I$162),SHEETOFFSET(-1,$I$125),SHEETOFFSET(-1,$I$132)/(SHEETOFFSET(-1,$G$11)*IF(SHEETOFFSET(-1,$G$37)<>\"\",SHEETOFFSET(-1,$G$37),SHEETOFFSET(-1,$G$42))),SHEETOFFSET(-1,$I$134)/(SHEETOFFSET(-1,$G$11)*IF(SHEETOFFSET(-1,$G$26)<>\"\",SHEETOFFSET(-1,$G$26),SHEETOFFSET(-1,$G$31))),SHEETOFFSET(-1,$I$119)/(SHEETOFFSET(-1,$G$11)*IF(SHEETOFFSET(-1,$G$25)=\"Mercancías a granel\",1,0.45))),0),0)","v":0},0,0,0,0,0,0,0,0,0,0,0,0,0,0,0,0,0,0,0,null,"","","","",null,0,0]
[36,{"$f":"SELECCIONPATRON(SHEETOFFSET(-1,C167),SHEETOFFSET(-1,C128),SHEETOFFSET(-1,C129),SHEETOFFSET(-1,C92),SHEETOFFSET(-1,C99),SHEETOFFSET(-1,C101),SHEETOFFSET(-1,C86))","v":0},{"$f":"SELECCIONPATRON(SHEETOFFSET(-1,D167),SHEETOFFSET(-1,D128),SHEETOFFSET(-1,D129),SHEETOFFSET(-1,D92),SHEETOFFSET(-1,D99),SHEETOFFSET(-1,D101),SHEETOFFSET(-1,D86))","v":0},{"$f":"SELECCIONPATRON(SHEETOFFSET(-1,M167),SHEETOFFSET(-1,M128),SHEETOFFSET(-1,M129),SHEETOFFSET(-1,M92),SHEETOFFSET(-1,$E$51),SHEETOFFSET(-1,$E$52),SHEETOFFSET(-1,$E$38))","v":0},{"$f":"SELECCIONPATRON(SHEETOFFSET(-1,P167),SHEETOFFSET(-1,P128),SHEETOFFSET(-1,P129),SHEETOFFSET(-1,P92),SHEETOFFSET(-1,$E$52),SHEETOFFSET(-1,$E$53),SHEETOFFSET(-1,$E$39))","v":0},{"$f":"SELECCIONPATRON(SHEETOFFSET(-1,H167),SHEETOFFSET(-1,H128),SHEETOFFSET(-1,H129),SHEETOFFSET(-1,H92),SHEETOFFSET(-1,H99),SHEETOFFSET(-1,H101),SHEETOFFSET(-1,H86))","v":0},{"$f":"SELECCIONPATRON(SHEETOFFSET(-1,R167),SHEETOFFSET(-1,R128),SHEETOFFSET(-1,S129),SHEETOFFSET(-1,S92),SHEETOFFSET(-1,$G$55),SHEETOFFSET(-1,$G$56),SHEETOFFSET(-1,$G$42))","v":0},{"$f":"SELECCIONPATRON(SHEETOFFSET(-1,S167),SHEETOFFSET(-1,S128),SHEETOFFSET(-1,T129),SHEETOFFSET(-1,T92),SHEETOFFSET(-1,$G$56),SHEETOFFSET(-1,$G$57),SHEETOFFSET(-1,$G$43))","v":0},{"$f":"SELECCIONPATRON(SHEETOFFSET(-1,G167),SHEETOFFSET(-1,G128),SHEETOFFSET(-1,G129),SHEETOFFSET(-1,G92),SHEETOFFSET(-1,G99),SHEETOFFSET(-1,G101),SHEETOFFSET(-1,G86))","v":0},{"$f":"SELECCIONPATRON(SHEETOFFSET(-1,I167),SHEETOFFSET(-1,I128),SHEETOFFSET(-1,I129),SHEETOFFSET(-1,I92),SHEETOFFSET(-1,I99),SHEETOFFSET(-1,I101),SHEETOFFSET(-1,I86))","v":0},{"$f":"SELECCIONPATRON(SHEETOFFSET(-1,J167),SHEETOFFSET(-1,J128),SHEETOFFSET(-1,J129),SHEETOFFSET(-1,J92),SHEETOFFSET(-1,J99),SHEETOFFSET(-1,J101),SHEETOFFSET(-1,J86))","v":0},"---",{"$f":"IFERROR(SELECCIONPATRON(L52,L52,L52,L52,H52*I52,H52*I52,H52*I52)*SELECCIONPATRON(SHEETOFFSET(-1,$T$122),SHEETOFFSET(-1,$T$85),SHEETOFFSET(-1,$V$86),SHEETOFFSET(-1,$V$49),SHEETOFFSET(-1,$G$29),SHEETOFFSET(-1,$G$44),SHEETOFFSET(-1,$G$30)),0)","v":0},0,0,0,0,"---",{"$f":"IFERROR(IF(F52=\"Refrigerada\",SELECCIONPATRON(R52,R52,R52,R52,I52,I52,I52)*SELECCIONPATRON(SHEETOFFSET(-1,$I$200),SHEETOFFSET(-1,$I$161),SHEETOFFSET(-1,$I$162),SHEETOFFSET(-1,$I$125),SHEETOFFSET(-1,$I$132)/(SHEETOFFSET(-1,$G$11)*IF(SHEETOFFSET(-1,$G$37)<>\"\",SHEETOFFSET(-1,$G$37),SHEETOFFSET(-1,$G$42))),SHEETOFFSET(-1,$I$134)/(SHEETOFFSET(-1,$G$11)*IF(SHEETOFFSET(-1,$G$26)<>\"\",SHEETOFFSET(-1,$G$26),SHEETOFFSET(-1,$G$31))),SHEETOFFSET(-1,$I$119)/(SHEETOFFSET(-1,$G$11)*IF(SHEETOFFSET(-1,$G$25)=\"Mercancías a granel\",1,0.45))),0),0)","v":0},0,0,0,0,0,0,0,0,0,0,0,0,0,0,0,0,0,0,0,null,"","","","",null,0,0]
[37,{"$f":"SELECCIONPATRON(SHEETOFFSET(-1,C168),SHEETOFFSET(-1,C129),SHEETOFFSET(-1,C130),SHEETOFFSET(-1,C93),SHEETOFFSET(-1,C100),SHEETOFFSET(-1,C102),SHEETOFFSET(-1,C87))","v":0},{"$f":"SELECCIONPATRON(SHEETOFFSET(-1,D168),SHEETOFFSET(-1,D129),SHEETOFFSET(-1,D130),SHEETOFFSET(-1,D93),SHEETOFFSET(-1,D100),SHEETOFFSET(-1,D102),SHEETOFFSET(-1,D87))","v":0},{"$f":"SELECCIONPATRON(SHEETOFFSET(-1,M168),SHEETOFFSET(-1,M129),SHEETOFFSET(-1,M130),SHEETOFFSET(-1,M93),SHEETOFFSET(-1,$E$51),SHEETOFFSET(-1,$E$52),SHEETOFFSET(-1,$E$38))","v":0},{"$f":"SELECCIONPATRON(SHEETOFFSET(-1,P168),SHEETOFFSET(-1,P129),SHEETOFFSET(-1,P130),SHEETOFFSET(-1,P93),SHEETOFFSET(-1,$E$52),SHEETOFFSET(-1,$E$53),SHEETOFFSET(-1,$E$39))","v":0},{"$f":"SELECCIONPATRON(SHEETOFFSET(-1,H168),SHEETOFFSET(-1,H129),SHEETOFFSET(-1,H130),SHEETOFFSET(-1,H93),SHEETOFFSET(-1,H100),SHEETOFFSET(-1,H102),SHEETOFFSET(-1,H87))","v":0},{"$f":"SELECCIONPATRON(SHEETOFFSET(-1,R168),SHEETOFFSET(-1,R129),SHEETOFFSET(-1,S130),SHEETOFFSET(-1,S93),SHEETOFFSET(-1,$G$55),SHEETOFFSET(-1,$G$56),SHEETOFFSET(-1,$G$42))","v":0},{"$f":"SELECCIONPATRON(SHEETOFFSET(-1,S168),SHEETOFFSET(-1,S129),SHEETOFFSET(-1,T130),SHEETOFFSET(-1,T93),SHEETOFFSET(-1,$G$56),SHEETOFFSET(-1,$G$57),SHEETOFFSET(-1,$G$43))","v":0},{"$f":"SELECCIONPATRON(SHEETOFFSET(-1,G168),SHEETOFFSET(-1,G129),SHEETOFFSET(-1,G130),SHEETOFFSET(-1,G93),SHEETOFFSET(-1,G100),SHEETOFFSET(-1,G102),SHEETOFFSET(-1,G87))","v":0},{"$f":"SELECCIONPATRON(SHEETOFFSET(-1,I168),SHEETOFFSET(-1,I129),SHEETOFFSET(-1,I130),SHEETOFFSET(-1,I93),SHEETOFFSET(-1,I100),SHEETOFFSET(-1,I102),SHEETOFFSET(-1,I87))","v":0},{"$f":"SELECCIONPATRON(SHEETOFFSET(-1,J168),SHEETOFFSET(-1,J129),SHEETOFFSET(-1,J130),SHEETOFFSET(-1,J93),SHEETOFFSET(-1,J100),SHEETOFFSET(-1,J102),SHEETOFFSET(-1,J87))","v":0},"---",{"$f":"IFERROR(SELECCIONPATRON(L53,L53,L53,L53,H53*I53,H53*I53,H53*I53)*SELECCIONPATRON(SHEETOFFSET(-1,$T$122),SHEETOFFSET(-1,$T$85),SHEETOFFSET(-1,$V$86),SHEETOFFSET(-1,$V$49),SHEETOFFSET(-1,$G$29),SHEETOFFSET(-1,$G$44),SHEETOFFSET(-1,$G$30)),0)","v":0},0,0,0,0,"---",{"$f":"IFERROR(IF(F53=\"Refrigerada\",SELECCIONPATRON(R53,R53,R53,R53,I53,I53,I53)*SELECCIONPATRON(SHEETOFFSET(-1,$I$200),SHEETOFFSET(-1,$I$161),SHEETOFFSET(-1,$I$162),SHEETOFFSET(-1,$I$125),SHEETOFFSET(-1,$I$132)/(SHEETOFFSET(-1,$G$11)*IF(SHEETOFFSET(-1,$G$37)<>\"\",SHEETOFFSET(-1,$G$37),SHEETOFFSET(-1,$G$42))),SHEETOFFSET(-1,$I$134)/(SHEETOFFSET(-1,$G$11)*IF(SHEETOFFSET(-1,$G$26)<>\"\",SHEETOFFSET(-1,$G$26),SHEETOFFSET(-1,$G$31))),SHEETOFFSET(-1,$I$119)/(SHEETOFFSET(-1,$G$11)*IF(SHEETOFFSET(-1,$G$25)=\"Mercancías a granel\",1,0.45))),0),0)","v":0},0,0,0,0,0,0,0,0,0,0,0,0,0,0,0,0,0,0,0,null,"","","","",null,0,0]
[38,{"$f":"SELECCIONPATRON(SHEETOFFSET(-1,C169),SHEETOFFSET(-1,C130),SHEETOFFSET(-1,C131),SHEETOFFSET(-1,C94),SHEETOFFSET(-1,C101),SHEETOFFSET(-1,C103),SHEETOFFSET(-1,C88))","v":0},{"$f":"SELECCIONPATRON(SHEETOFFSET(-1,D169),SHEETOFFSET(-1,D130),SHEETOFFSET(-1,D131),SHEETOFFSET(-1,D94),SHEETOFFSET(-1,D101),SHEETOFFSET(-1,D103),SHEETOFFSET(-1,D88))","v":0},{"$f":"SELECCIONPATRON(SHEETOFFSET(-1,M169),SHEETOFFSET(-1,M130),SHEETOFFSET(-1,M131),SHEETOFFSET(-1,M94),SHEETOFFSET(-1,$E$51),SHEETOFFSET(-1,$E$52),SHEETOFFSET(-1,$E$38))","v":0},{"$f":"SELECCIONPATRON(SHEETOFFSET(-1,P169),SHEETOFFSET(-1,P130),SHEETOFFSET(-1,P131),SHEETOFFSET(-1,P94),SHEETOFFSET(-1,$E$52),SHEETOFFSET(-1,$E$53),SHEETOFFSET(-1,$E$39))","v":0},{"$f":"SELECCIONPATRON(SHEETOFFSET(-1,H169),SHEETOFFSET(-1,H130),SHEETOFFSET(-1,H131),SHEETOFFSET(-1,H94),SHEETOFFSET(-1,H101),SHEETOFFSET(-1,H103),SHEETOFFSET(-1,H88))","v":0},{"$f":"SELECCIONPATRON(SHEETOFFSET(-1,R169),SHEETOFFSET(-1,R130),SHEETOFFSET(-1,S131),SHEETOFFSET(-1,S94),SHEETOFFSET(-1,$G$55),SHEETOFFSET(-1,$G$56),SHEETOFFSET(-1,$G$42))","v":0},{"$f":"SELECCIONPATRON(SHEETOFFSET(-1,S169),SHEETOFFSET(-1,S130),SHEETOFFSET(-1,T131),SHEETOFFSET(-1,T94),SHEETOFFSET(-1,$G$56),SHEETOFFSET(-1,$G$57),SHEETOFFSET(-1,$G$43))","v":0},{"$f":"SELECCIONPATRON(SHEETOFFSET(-1,G169),SHEETOFFSET(-1,G130),SHEETOFFSET(-1,G131),SHEETOFFSET(-1,G94),SHEETOFFSET(-1,G101),SHEETOFFSET(-1,G103),SHEETOFFSET(-1,G88))","v":0},{"$f":"SELECCIONPATRON(SHEETOFFSET(-1,I169),SHEETOFFSET(-1,I130),SHEETOFFSET(-1,I131),SHEETOFFSET(-1,I94),SHEETOFFSET(-1,I101),SHEETOFFSET(-1,I103),SHEETOFFSET(-1,I88))","v":0},{"$f":"SELECCIONPATRON(SHEETOFFSET(-1,J169),SHEETOFFSET(-1,J130),SHEETOFFSET(-1,J131),SHEETOFFSET(-1,J94),SHEETOFFSET(-1,J101),SHEETOFFSET(-1,J103),SHEETOFFSET(-1,J88))","v":0},"---",{"$f":"IFERROR(SELECCIONPATRON(L54,L54,L54,L54,H54*I54,H54*I54,H54*I54)*SELECCIONPATRON(SHEETOFFSET(-1,$T$122),SHEETOFFSET(-1,$T$85),SHEETOFFSET(-1,$V$86),SHEETOFFSET(-1,$V$49),SHEETOFFSET(-1,$G$29),SHEETOFFSET(-1,$G$44),SHEETOFFSET(-1,$G$30)),0)","v":0},0,0,0,0,"---",{"$f":"IFERROR(IF(F54=\"Refrigerada\",SELECCIONPATRON(R54,R54,R54,R54,I54,I54,I54)*SELECCIONPATRON(SHEETOFFSET(-1,$I$200),SHEETOFFSET(-1,$I$161),SHEETOFFSET(-1,$I$162),SHEETOFFSET(-1,$I$125),SHEETOFFSET(-1,$I$132)/(SHEETOFFSET(-1,$G$11)*IF(SHEETOFFSET(-1,$G$37)<>\"\",SHEETOFFSET(-1,$G$37),SHEETOFFSET(-1,$G$42))),SHEETOFFSET(-1,$I$134)/(SHEETOFFSET(-1,$G$11)*IF(SHEETOFFSET(-1,$G$26)<>\"\",SHEETOFFSET(-1,$G$26),SHEETOFFSET(-1,$G$31))),SHEETOFFSET(-1,$I$119)/(SHEETOFFSET(-1,$G$11)*IF(SHEETOFFSET(-1,$G$25)=\"Mercancías a granel\",1,0.45))),0),0)","v":0},0,0,0,0,0,0,0,0,0,0,0,0,0,0,0,0,0,0,0,null,"","","","",null,0,0]
[39,{"$f":"SELECCIONPATRON(SHEETOFFSET(-1,C170),SHEETOFFSET(-1,C131),SHEETOFFSET(-1,C132),SHEETOFFSET(-1,C95),SHEETOFFSET(-1,C102),SHEETOFFSET(-1,C104),SHEETOFFSET(-1,C89))","v":0},{"$f":"SELECCIONPATRON(SHEETOFFSET(-1,D170),SHEETOFFSET(-1,D131),SHEETOFFSET(-1,D132),SHEETOFFSET(-1,D95),SHEETOFFSET(-1,D102),SHEETOFFSET(-1,D104),SHEETOFFSET(-1,D89))","v":0},{"$f":"SELECCIONPATRON(SHEETOFFSET(-1,M170),SHEETOFFSET(-1,M131),SHEETOFFSET(-1,M132),SHEETOFFSET(-1,M95),SHEETOFFSET(-1,$E$51),SHEETOFFSET(-1,$E$52),SHEETOFFSET(-1,$E$38))","v":0},{"$f":"SELECCIONPATRON(SHEETOFFSET(-1,P170),SHEETOFFSET(-1,P131),SHEETOFFSET(-1,P132),SHEETOFFSET(-1,P95),SHEETOFFSET(-1,$E$52),SHEETOFFSET(-1,$E$53),SHEETOFFSET(-1,$E$39))","v":0},{"$f":"SELECCIONPATRON(SHEETOFFSET(-1,H170),SHEETOFFSET(-1,H131),SHEETOFFSET(-1,H132),SHEETOFFSET(-1,H95),SHEETOFFSET(-1,H102),SHEETOFFSET(-1,H104),SHEETOFFSET(-1,H89))","v":0},{"$f":"SELECCIONPATRON(SHEETOFFSET(-1,R170),SHEETOFFSET(-1,R131),SHEETOFFSET(-1,S132),SHEETOFFSET(-1,S95),SHEETOFFSET(-1,$G$55),SHEETOFFSET(-1,$G$56),SHEETOFFSET(-1,$G$42))","v":0},{"$f":"SELECCIONPATRON(SHEETOFFSET(-1,S170),SHEETOFFSET(-1,S131),SHEETOFFSET(-1,T132),SHEETOFFSET(-1,T95),SHEETOFFSET(-1,$G$56),SHEETOFFSET(-1,$G$57),SHEETOFFSET(-1,$G$43))","v":0},{"$f":"SELECCIONPATRON(SHEETOFFSET(-1,G170),SHEETOFFSET(-1,G131),SHEETOFFSET(-1,G132),SHEETOFFSET(-1,G95),SHEETOFFSET(-1,G102),SHEETOFFSET(-1,G104),SHEETOFFSET(-1,G89))","v":0},{"$f":"SELECCIONPATRON(SHEETOFFSET(-1,I170),SHEETOFFSET(-1,I131),SHEETOFFSET(-1,I132),SHEETOFFSET(-1,I95),SHEETOFFSET(-1,I102),SHEETOFFSET(-1,I104),SHEETOFFSET(-1,I89))","v":0},{"$f":"SELECCIONPATRON(SHEETOFFSET(-1,J170),SHEETOFFSET(-1,J131),SHEETOFFSET(-1,J132),SHEETOFFSET(-1,J95),SHEETOFFSET(-1,J102),SHEETOFFSET(-1,J104),SHEETOFFSET(-1,J89))","v":0},"---",{"$f":"IFERROR(SELECCIONPATRON(L55,L55,L55,L55,H55*I55,H55*I55,H55*I55)*SELECCIONPATRON(SHEETOFFSET(-1,$T$122),SHEETOFFSET(-1,$T$85),SHEETOFFSET(-1,$V$86),SHEETOFFSET(-1,$V$49),SHEETOFFSET(-1,$G$29),SHEETOFFSET(-1,$G$44),SHEETOFFSET(-1,$G$30)),0)","v":0},0,0,0,0,"---",{"$f":"IFERROR(IF(F55=\"Refrigerada\",SELECCIONPATRON(R55,R55,R55,R55,I55,I55,I55)*SELECCIONPATRON(SHEETOFFSET(-1,$I$200),SHEETOFFSET(-1,$I$161),SHEETOFFSET(-1,$I$162),SHEETOFFSET(-1,$I$125),SHEETOFFSET(-1,$I$132)/(SHEETOFFSET(-1,$G$11)*IF(SHEETOFFSET(-1,$G$37)<>\"\",SHEETOFFSET(-1,$G$37),SHEETOFFSET(-1,$G$42))),SHEETOFFSET(-1,$I$134)/(SHEETOFFSET(-1,$G$11)*IF(SHEETOFFSET(-1,$G$26)<>\"\",SHEETOFFSET(-1,$G$26),SHEETOFFSET(-1,$G$31))),SHEETOFFSET(-1,$I$119)/(SHEETOFFSET(-1,$G$11)*IF(SHEETOFFSET(-1,$G$25)=\"Mercancías a granel\",1,0.45))),0),0)","v":0},0,0,0,0,0,0,0,0,0,0,0,0,0,0,0,0,0,0,0,null,"","","","",null,0,0]
[40,{"$f":"SELECCIONPATRON(SHEETOFFSET(-1,C171),SHEETOFFSET(-1,C132),SHEETOFFSET(-1,C133),SHEETOFFSET(-1,C96),SHEETOFFSET(-1,C103),SHEETOFFSET(-1,C105),SHEETOFFSET(-1,C90))","v":0},{"$f":"SELECCIONPATRON(SHEETOFFSET(-1,D171),SHEETOFFSET(-1,D132),SHEETOFFSET(-1,D133),SHEETOFFSET(-1,D96),SHEETOFFSET(-1,D103),SHEETOFFSET(-1,D105),SHEETOFFSET(-1,D90))","v":0},{"$f":"SELECCIONPATRON(SHEETOFFSET(-1,M171),SHEETOFFSET(-1,M132),SHEETOFFSET(-1,M133),SHEETOFFSET(-1,M96),SHEETOFFSET(-1,$E$51),SHEETOFFSET(-1,$E$52),SHEETOFFSET(-1,$E$38))","v":0},{"$f":"SELECCIONPATRON(SHEETOFFSET(-1,P171),SHEETOFFSET(-1,P132),SHEETOFFSET(-1,P133),SHEETOFFSET(-1,P96),SHEETOFFSET(-1,$E$52),SHEETOFFSET(-1,$E$53),SHEETOFFSET(-1,$E$39))","v":0},{"$f":"SELECCIONPATRON(SHEETOFFSET(-1,H171),SHEETOFFSET(-1,H132),SHEETOFFSET(-1,H133),SHEETOFFSET(-1,H96),SHEETOFFSET(-1,H103),SHEETOFFSET(-1,H105),SHEETOFFSET(-1,H90))","v":0},{"$f":"SELECCIONPATRON(SHEETOFFSET(-1,R171),SHEETOFFSET(-1,R132),SHEETOFFSET(-1,S133),SHEETOFFSET(-1,S96),SHEETOFFSET(-1,$G$55),SHEETOFFSET(-1,$G$56),SHEETOFFSET(-1,$G$42))","v":0},{"$f":"SELECCIONPATRON(SHEETOFFSET(-1,S171),SHEETOFFSET(-1,S132),SHEETOFFSET(-1,T133),SHEETOFFSET(-1,T96),SHEETOFFSET(-1,$G$56),SHEETOFFSET(-1,$G$57),SHEETOFFSET(-1,$G$43))","v":0},{"$f":"SELECCIONPATRON(SHEETOFFSET(-1,G171),SHEETOFFSET(-1,G132),SHEETOFFSET(-1,G133),SHEETOFFSET(-1,G96),SHEETOFFSET(-1,G103),SHEETOFFSET(-1,G105),SHEETOFFSET(-1,G90))","v":0},{"$f":"SELECCIONPATRON(SHEETOFFSET(-1,I171),SHEETOFFSET(-1,I132),SHEETOFFSET(-1,I133),SHEETOFFSET(-1,I96),SHEETOFFSET(-1,I103),SHEETOFFSET(-1,I105),SHEETOFFSET(-1,I90))","v":0},{"$f":"SELECCIONPATRON(SHEETOFFSET(-1,J171),SHEETOFFSET(-1,J132),SHEETOFFSET(-1,J133),SHEETOFFSET(-1,J96),SHEETOFFSET(-1,J103),SHEETOFFSET(-1,J105),SHEETOFFSET(-1,J90))","v":0},"---",{"$f":"IFERROR(SELECCIONPATRON(L56,L56,L56,L56,H56*I56,H56*I56,H56*I56)*SELECCIONPATRON(SHEETOFFSET(-1,$T$122),SHEETOFFSET(-1,$T$85),SHEETOFFSET(-1,$V$86),SHEETOFFSET(-1,$V$49),SHEETOFFSET(-1,$G$29),SHEETOFFSET(-1,$G$44),SHEETOFFSET(-1,$G$30)),0)","v":0},0,0,0,0,"---",{"$f":"IFERROR(IF(F56=\"Refrigerada\",SELECCIONPATRON(R56,R56,R56,R56,I56,I56,I56)*SELECCIONPATRON(SHEETOFFSET(-1,$I$200),SHEETOFFSET(-1,$I$161),SHEETOFFSET(-1,$I$162),SHEETOFFSET(-1,$I$125),SHEETOFFSET(-1,$I$132)/(SHEETOFFSET(-1,$G$11)*IF(SHEETOFFSET(-1,$G$37)<>\"\",SHEETOFFSET(-1,$G$37),SHEETOFFSET(-1,$G$42))),SHEETOFFSET(-1,$I$134)/(SHEETOFFSET(-1,$G$11)*IF(SHEETOFFSET(-1,$G$26)<>\"\",SHEETOFFSET(-1,$G$26),SHEETOFFSET(-1,$G$31))),SHEETOFFSET(-1,$I$119)/(SHEETOFFSET(-1,$G$11)*IF(SHEETOFFSET(-1,$G$25)=\"Mercancías a granel\",1,0.45))),0),0)","v":0},0,0,0,0,0,0,0,0,0,0,0,0,0,0,0,0,0,0,0,null,"","","","",null,0,0]
[41,{"$f":"SELECCIONPATRON(SHEETOFFSET(-1,C172),SHEETOFFSET(-1,C133),SHEETOFFSET(-1,C134),SHEETOFFSET(-1,C97),SHEETOFFSET(-1,C104),SHEETOFFSET(-1,C106),SHEETOFFSET(-1,C91))","v":0},{"$f":"SELECCIONPATRON(SHEETOFFSET(-1,D172),SHEETOFFSET(-1,D133),SHEETOFFSET(-1,D134),SHEETOFFSET(-1,D97),SHEETOFFSET(-1,D104),SHEETOFFSET(-1,D106),SHEETOFFSET(-1,D91))","v":0},{"$f":"SELECCIONPATRON(SHEETOFFSET(-1,M172),SHEETOFFSET(-1,M133),SHEETOFFSET(-1,M134),SHEETOFFSET(-1,M97),SHEETOFFSET(-1,$E$51),SHEETOFFSET(-1,$E$52),SHEETOFFSET(-1,$E$38))","v":0},{"$f":"SELECCIONPATRON(SHEETOFFSET(-1,P172),SHEETOFFSET(-1,P133),SHEETOFFSET(-1,P134),SHEETOFFSET(-1,P97),SHEETOFFSET(-1,$E$52),SHEETOFFSET(-1,$E$53),SHEETOFFSET(-1,$E$39))","v":0},{"$f":"SELECCIONPATRON(SHEETOFFSET(-1,H172),SHEETOFFSET(-1,H133),SHEETOFFSET(-1,H134),SHEETOFFSET(-1,H97),SHEETOFFSET(-1,H104),SHEETOFFSET(-1,H106),SHEETOFFSET(-1,H91))","v":0},{"$f":"SELECCIONPATRON(SHEETOFFSET(-1,R172),SHEETOFFSET(-1,R133),SHEETOFFSET(-1,S134),SHEETOFFSET(-1,S97),SHEETOFFSET(-1,$G$55),SHEETOFFSET(-1,$G$56),SHEETOFFSET(-1,$G$42))","v":0},{"$f":"SELECCIONPATRON(SHEETOFFSET(-1,S172),SHEETOFFSET(-1,S133),SHEETOFFSET(-1,T134),SHEETOFFSET(-1,T97),SHEETOFFSET(-1,$G$56),SHEETOFFSET(-1,$G$57),SHEETOFFSET(-1,$G$43))","v":0},{"$f":"SELECCIONPATRON(SHEETOFFSET(-1,G172),SHEETOFFSET(-1,G133),SHEETOFFSET(-1,G134),SHEETOFFSET(-1,G97),SHEETOFFSET(-1,G104),SHEETOFFSET(-1,G106),SHEETOFFSET(-1,G91))","v":0},{"$f":"SELECCIONPATRON(SHEETOFFSET(-1,I172),SHEETOFFSET(-1,I133),SHEETOFFSET(-1,I134),SHEETOFFSET(-1,I97),SHEETOFFSET(-1,I104),SHEETOFFSET(-1,I106),SHEETOFFSET(-1,I91))","v":0},{"$f":"SELECCIONPATRON(SHEETOFFSET(-1,J172),SHEETOFFSET(-1,J133),SHEETOFFSET(-1,J134),SHEETOFFSET(-1,J97),SHEETOFFSET(-1,J104),SHEETOFFSET(-1,J106),SHEETOFFSET(-1,J91))","v":0},"---",{"$f":"IFERROR(SELECCIONPATRON(L57,L57,L57,L57,H57*I57,H57*I57,H57*I57)*SELECCIONPATRON(SHEETOFFSET(-1,$T$122),SHEETOFFSET(-1,$T$85),SHEETOFFSET(-1,$V$86),SHEETOFFSET(-1,$V$49),SHEETOFFSET(-1,$G$29),SHEETOFFSET(-1,$G$44),SHEETOFFSET(-1,$G$30)),0)","v":0},0,0,0,0,"---",{"$f":"IFERROR(IF(F57=\"Refrigerada\",SELECCIONPATRON(R57,R57,R57,R57,I57,I57,I57)*SELECCIONPATRON(SHEETOFFSET(-1,$I$200),SHEETOFFSET(-1,$I$161),SHEETOFFSET(-1,$I$162),SHEETOFFSET(-1,$I$125),SHEETOFFSET(-1,$I$132)/(SHEETOFFSET(-1,$G$11)*IF(SHEETOFFSET(-1,$G$37)<>\"\",SHEETOFFSET(-1,$G$37),SHEETOFFSET(-1,$G$42))),SHEETOFFSET(-1,$I$134)/(SHEETOFFSET(-1,$G$11)*IF(SHEETOFFSET(-1,$G$26)<>\"\",SHEETOFFSET(-1,$G$26),SHEETOFFSET(-1,$G$31))),SHEETOFFSET(-1,$I$119)/(SHEETOFFSET(-1,$G$11)*IF(SHEETOFFSET(-1,$G$25)=\"Mercancías a granel\",1,0.45))),0),0)","v":0},0,0,0,0,0,0,0,0,0,0,0,0,0,0,0,0,0,0,0,null,"","","","",null,0,0]
[42,{"$f":"SELECCIONPATRON(SHEETOFFSET(-1,C173),SHEETOFFSET(-1,C134),SHEETOFFSET(-1,C135),SHEETOFFSET(-1,C98),SHEETOFFSET(-1,C105),SHEETOFFSET(-1,C107),SHEETOFFSET(-1,C92))","v":0},{"$f":"SELECCIONPATRON(SHEETOFFSET(-1,D173),SHEETOFFSET(-1,D134),SHEETOFFSET(-1,D135),SHEETOFFSET(-1,D98),SHEETOFFSET(-1,D105),SHEETOFFSET(-1,D107),SHEETOFFSET(-1,D92))","v":0},{"$f":"SELECCIONPATRON(SHEETOFFSET(-1,M173),SHEETOFFSET(-1,M134),SHEETOFFSET(-1,M135),SHEETOFFSET(-1,M98),SHEETOFFSET(-1,$E$51),SHEETOFFSET(-1,$E$52),SHEETOFFSET(-1,$E$38))","v":0},{"$f":"SELECCIONPATRON(SHEETOFFSET(-1,P173),SHEETOFFSET(-1,P134),SHEETOFFSET(-1,P135),SHEETOFFSET(-1,P98),SHEETOFFSET(-1,$E$52),SHEETOFFSET(-1,$E$53),SHEETOFFSET(-1,$E$39))","v":0},{"$f":"SELECCIONPATRON(SHEETOFFSET(-1,H173),SHEETOFFSET(-1,H134),SHEETOFFSET(-1,H135),SHEETOFFSET(-1,H98),SHEETOFFSET(-1,H105),SHEETOFFSET(-1,H107),SHEETOFFSET(-1,H92))","v":0},{"$f":"SELECCIONPATRON(SHEETOFFSET(-1,R173),SHEETOFFSET(-1,R134),SHEETOFFSET(-1,S135),SHEETOFFSET(-1,S98),SHEETOFFSET(-1,$G$55),SHEETOFFSET(-1,$G$56),SHEETOFFSET(-1,$G$42))","v":0},{"$f":"SELECCIONPATRON(SHEETOFFSET(-1,S173),SHEETOFFSET(-1,S134),SHEETOFFSET(-1,T135),SHEETOFFSET(-1,T98),SHEETOFFSET(-1,$G$56),SHEETOFFSET(-1,$G$57),SHEETOFFSET(-1,$G$43))","v":0},{"$f":"SELECCIONPATRON(SHEETOFFSET(-1,G173),SHEETOFFSET(-1,G134),SHEETOFFSET(-1,G135),SHEETOFFSET(-1,G98),SHEETOFFSET(-1,G105),SHEETOFFSET(-1,G107),SHEETOFFSET(-1,G92))","v":0},{"$f":"SELECCIONPATRON(SHEETOFFSET(-1,I173),SHEETOFFSET(-1,I134),SHEETOFFSET(-1,I135),SHEETOFFSET(-1,I98),SHEETOFFSET(-1,I105),SHEETOFFSET(-1,I107),SHEETOFFSET(-1,I92))","v":0},{"$f":"SELECCIONPATRON(SHEETOFFSET(-1,J173),SHEETOFFSET(-1,J134),SHEETOFFSET(-1,J135),SHEETOFFSET(-1,J98),SHEETOFFSET(-1,J105),SHEETOFFSET(-1,J107),SHEETOFFSET(-1,J92))","v":0},"---",{"$f":"IFERROR(SELECCIONPATRON(L58,L58,L58,L58,H58*I58,H58*I58,H58*I58)*SELECCIONPATRON(SHEETOFFSET(-1,$T$122),SHEETOFFSET(-1,$T$85),SHEETOFFSET(-1,$V$86),SHEETOFFSET(-1,$V$49),SHEETOFFSET(-1,$G$29),SHEETOFFSET(-1,$G$44),SHEETOFFSET(-1,$G$30)),0)","v":0},0,0,0,0,"---",{"$f":"IFERROR(IF(F58=\"Refrigerada\",SELECCIONPATRON(R58,R58,R58,R58,I58,I58,I58)*SELECCIONPATRON(SHEETOFFSET(-1,$I$200),SHEETOFFSET(-1,$I$161),SHEETOFFSET(-1,$I$162),SHEETOFFSET(-1,$I$125),SHEETOFFSET(-1,$I$132)/(SHEETOFFSET(-1,$G$11)*IF(SHEETOFFSET(-1,$G$37)<>\"\",SHEETOFFSET(-1,$G$37),SHEETOFFSET(-1,$G$42))),SHEETOFFSET(-1,$I$134)/(SHEETOFFSET(-1,$G$11)*IF(SHEETOFFSET(-1,$G$26)<>\"\",SHEETOFFSET(-1,$G$26),SHEETOFFSET(-1,$G$31))),SHEETOFFSET(-1,$I$119)/(SHEETOFFSET(-1,$G$11)*IF(SHEETOFFSET(-1,$G$25)=\"Mercancías a granel\",1,0.45))),0),0)","v":0},0,0,0,0,0,0,0,0,0,0,0,0,0,0,0,0,0,0,0,null,"","","","",null,0,0]
[43,{"$f":"SELECCIONPATRON(SHEETOFFSET(-1,C174),SHEETOFFSET(-1,C135),SHEETOFFSET(-1,C136),SHEETOFFSET(-1,C99),SHEETOFFSET(-1,C106),SHEETOFFSET(-1,C108),SHEETOFFSET(-1,C93))","v":0},{"$f":"SELECCIONPATRON(SHEETOFFSET(-1,D174),SHEETOFFSET(-1,D135),SHEETOFFSET(-1,D136),SHEETOFFSET(-1,D99),SHEETOFFSET(-1,D106),SHEETOFFSET(-1,D108),SHEETOFFSET(-1,D93))","v":0},{"$f":"SELECCIONPATRON(SHEETOFFSET(-1,M174),SHEETOFFSET(-1,M135),SHEETOFFSET(-1,M136),SHEETOFFSET(-1,M99),SHEETOFFSET(-1,$E$51),SHEETOFFSET(-1,$E$52),SHEETOFFSET(-1,$E$38))","v":0},{"$f":"SELECCIONPATRON(SHEETOFFSET(-1,P174),SHEETOFFSET(-1,P135),SHEETOFFSET(-1,P136),SHEETOFFSET(-1,P99),SHEETOFFSET(-1,$E$52),SHEETOFFSET(-1,$E$53),SHEETOFFSET(-1,$E$39))","v":0},{"$f":"SELECCIONPATRON(SHEETOFFSET(-1,H174),SHEETOFFSET(-1,H135),SHEETOFFSET(-1,H136),SHEETOFFSET(-1,H99),SHEETOFFSET(-1,H106),SHEETOFFSET(-1,H108),SHEETOFFSET(-1,H93))","v":0},{"$f":"SELECCIONPATRON(SHEETOFFSET(-1,R174),SHEETOFFSET(-1,R135),SHEETOFFSET(-1,S136),SHEETOFFSET(-1,S99),SHEETOFFSET(-1,$G$55),SHEETOFFSET(-1,$G$56),SHEETOFFSET(-1,$G$42))","v":0},{"$f":"SELECCIONPATRON(SHEETOFFSET(-1,S174),SHEETOFFSET(-1,S135),SHEETOFFSET(-1,T136),SHEETOFFSET(-1,T99),SHEETOFFSET(-1,$G$56),SHEETOFFSET(-1,$G$57),SHEETOFFSET(-1,$G$43))","v":0},{"$f":"SELECCIONPATRON(SHEETOFFSET(-1,G174),SHEETOFFSET(-1,G135),SHEETOFFSET(-1,G136),SHEETOFFSET(-1,G99),SHEETOFFSET(-1,G106),SHEETOFFSET(-1,G108),SHEETOFFSET(-1,G93))","v":0},{"$f":"SELECCIONPATRON(SHEETOFFSET(-1,I174),SHEETOFFSET(-1,I135),SHEETOFFSET(-1,I136),SHEETOFFSET(-1,I99),SHEETOFFSET(-1,I106),SHEETOFFSET(-1,I108),SHEETOFFSET(-1,I93))","v":0},{"$f":"SELECCIONPATRON(SHEETOFFSET(-1,J174),SHEETOFFSET(-1,J135),SHEETOFFSET(-1,J136),SHEETOFFSET(-1,J99),SHEETOFFSET(-1,J106),SHEETOFFSET(-1,J108),SHEETOFFSET(-1,J93))","v":0},"---",{"$f":"IFERROR(SELECCIONPATRON(L59,L59,L59,L59,H59*I59,H59*I59,H59*I59)*SELECCIONPATRON(SHEETOFFSET(-1,$T$122),SHEETOFFSET(-1,$T$85),SHEETOFFSET(-1,$V$86),SHEETOFFSET(-1,$V$49),SHEETOFFSET(-1,$G$29),SHEETOFFSET(-1,$G$44),SHEETOFFSET(-1,$G$30)),0)","v":0},0,0,0,0,"---",{"$f":"IFERROR(IF(F59=\"Refrigerada\",SELECCIONPATRON(R59,R59,R59,R59,I59,I59,I59)*SELECCIONPATRON(SHEETOFFSET(-1,$I$200),SHEETOFFSET(-1,$I$161),SHEETOFFSET(-1,$I$162),SHEETOFFSET(-1,$I$125),SHEETOFFSET(-1,$I$132)/(SHEETOFFSET(-1,$G$11)*IF(SHEETOFFSET(-1,$G$37)<>\"\",SHEETOFFSET(-1,$G$37),SHEETOFFSET(-1,$G$42))),SHEETOFFSET(-1,$I$134)/(SHEETOFFSET(-1,$G$11)*IF(SHEETOFFSET(-1,$G$26)<>\"\",SHEETOFFSET(-1,$G$26),SHEETOFFSET(-1,$G$31))),SHEETOFFSET(-1,$I$119)/(SHEETOFFSET(-1,$G$11)*IF(SHEETOFFSET(-1,$G$25)=\"Mercancías a granel\",1,0.45))),0),0)","v":0},0,0,0,0,0,0,0,0,0,0,0,0,0,0,0,0,0,0,0,null,"","","","",null,0,0]
[44,{"$f":"SELECCIONPATRON(SHEETOFFSET(-1,C175),SHEETOFFSET(-1,C136),SHEETOFFSET(-1,C137),SHEETOFFSET(-1,C100),SHEETOFFSET(-1,C107),SHEETOFFSET(-1,C109),SHEETOFFSET(-1,C94))","v":0},{"$f":"SELECCIONPATRON(SHEETOFFSET(-1,D175),SHEETOFFSET(-1,D136),SHEETOFFSET(-1,D137),SHEETOFFSET(-1,D100),SHEETOFFSET(-1,D107),SHEETOFFSET(-1,D109),SHEETOFFSET(-1,D94))","v":0},{"$f":"SELECCIONPATRON(SHEETOFFSET(-1,M175),SHEETOFFSET(-1,M136),SHEETOFFSET(-1,M137),SHEETOFFSET(-1,M100),SHEETOFFSET(-1,$E$51),SHEETOFFSET(-1,$E$52),SHEETOFFSET(-1,$E$38))","v":0},{"$f":"SELECCIONPATRON(SHEETOFFSET(-1,P175),SHEETOFFSET(-1,P136),SHEETOFFSET(-1,P137),SHEETOFFSET(-1,P100),SHEETOFFSET(-1,$E$52),SHEETOFFSET(-1,$E$53),SHEETOFFSET(-1,$E$39))","v":0},{"$f":"SELECCIONPATRON(SHEETOFFSET(-1,H175),SHEETOFFSET(-1,H136),SHEETOFFSET(-1,H137),SHEETOFFSET(-1,H100),SHEETOFFSET(-1,H107),SHEETOFFSET(-1,H109),SHEETOFFSET(-1,H94))","v":0},{"$f":"SELECCIONPATRON(SHEETOFFSET(-1,R175),SHEETOFFSET(-1,R136),SHEETOFFSET(-1,S137),SHEETOFFSET(-1,S100),SHEETOFFSET(-1,$G$55),SHEETOFFSET(-1,$G$56),SHEETOFFSET(-1,$G$42))","v":0},{"$f":"SELECCIONPATRON(SHEETOFFSET(-1,S175),SHEETOFFSET(-1,S136),SHEETOFFSET(-1,T137),SHEETOFFSET(-1,T100),SHEETOFFSET(-1,$G$56),SHEETOFFSET(-1,$G$57),SHEETOFFSET(-1,$G$43))","v":0},{"$f":"SELECCIONPATRON(SHEETOFFSET(-1,G175),SHEETOFFSET(-1,G136),SHEETOFFSET(-1,G137),SHEETOFFSET(-1,G100),SHEETOFFSET(-1,G107),SHEETOFFSET(-1,G109),SHEETOFFSET(-1,G94))","v":0},{"$f":"SELECCIONPATRON(SHEETOFFSET(-1,I175),SHEETOFFSET(-1,I136),SHEETOFFSET(-1,I137),SHEETOFFSET(-1,I100),SHEETOFFSET(-1,I107),SHEETOFFSET(-1,I109),SHEETOFFSET(-1,I94))","v":0},{"$f":"SELECCIONPATRON(SHEETOFFSET(-1,J175),SHEETOFFSET(-1,J136),SHEETOFFSET(-1,J137),SHEETOFFSET(-1,J100),SHEETOFFSET(-1,J107),SHEETOFFSET(-1,J109),SHEETOFFSET(-1,J94))","v":0},"---",{"$f":"IFERROR(SELECCIONPATRON(L60,L60,L60,L60,H60*I60,H60*I60,H60*I60)*SELECCIONPATRON(SHEETOFFSET(-1,$T$122),SHEETOFFSET(-1,$T$85),SHEETOFFSET(-1,$V$86),SHEETOFFSET(-1,$V$49),SHEETOFFSET(-1,$G$29),SHEETOFFSET(-1,$G$44),SHEETOFFSET(-1,$G$30)),0)","v":0},0,0,0,0,"---",{"$f":"IFERROR(IF(F60=\"Refrigerada\",SELECCIONPATRON(R60,R60,R60,R60,I60,I60,I60)*SELECCIONPATRON(SHEETOFFSET(-1,$I$200),SHEETOFFSET(-1,$I$161),SHEETOFFSET(-1,$I$162),SHEETOFFSET(-1,$I$125),SHEETOFFSET(-1,$I$132)/(SHEETOFFSET(-1,$G$11)*IF(SHEETOFFSET(-1,$G$37)<>\"\",SHEETOFFSET(-1,$G$37),SHEETOFFSET(-1,$G$42))),SHEETOFFSET(-1,$I$134)/(SHEETOFFSET(-1,$G$11)*IF(SHEETOFFSET(-1,$G$26)<>\"\",SHEETOFFSET(-1,$G$26),SHEETOFFSET(-1,$G$31))),SHEETOFFSET(-1,$I$119)/(SHEETOFFSET(-1,$G$11)*IF(SHEETOFFSET(-1,$G$25)=\"Mercancías a granel\",1,0.45))),0),0)","v":0},0,0,0,0,0,0,0,0,0,0,0,0,0,0,0,0,0,0,0,null,"","","","",null,0,0]
[45,{"$f":"SELECCIONPATRON(SHEETOFFSET(-1,C176),SHEETOFFSET(-1,C137),SHEETOFFSET(-1,C138),SHEETOFFSET(-1,C101),SHEETOFFSET(-1,C108),SHEETOFFSET(-1,C110),SHEETOFFSET(-1,C95))","v":0},{"$f":"SELECCIONPATRON(SHEETOFFSET(-1,D176),SHEETOFFSET(-1,D137),SHEETOFFSET(-1,D138),SHEETOFFSET(-1,D101),SHEETOFFSET(-1,D108),SHEETOFFSET(-1,D110),SHEETOFFSET(-1,D95))","v":0},{"$f":"SELECCIONPATRON(SHEETOFFSET(-1,M176),SHEETOFFSET(-1,M137),SHEETOFFSET(-1,M138),SHEETOFFSET(-1,M101),SHEETOFFSET(-1,$E$51),SHEETOFFSET(-1,$E$52),SHEETOFFSET(-1,$E$38))","v":0},{"$f":"SELECCIONPATRON(SHEETOFFSET(-1,P176),SHEETOFFSET(-1,P137),SHEETOFFSET(-1,P138),SHEETOFFSET(-1,P101),SHEETOFFSET(-1,$E$52),SHEETOFFSET(-1,$E$53),SHEETOFFSET(-1,$E$39))","v":0},{"$f":"SELECCIONPATRON(SHEETOFFSET(-1,H176),SHEETOFFSET(-1,H137),SHEETOFFSET(-1,H138),SHEETOFFSET(-1,H101),SHEETOFFSET(-1,H108),SHEETOFFSET(-1,H110),SHEETOFFSET(-1,H95))","v":0},{"$f":"SELECCIONPATRON(SHEETOFFSET(-1,R176),SHEETOFFSET(-1,R137),SHEETOFFSET(-1,S138),SHEETOFFSET(-1,S101),SHEETOFFSET(-1,$G$55),SHEETOFFSET(-1,$G$56),SHEETOFFSET(-1,$G$42))","v":0},{"$f":"SELECCIONPATRON(SHEETOFFSET(-1,S176),SHEETOFFSET(-1,S137),SHEETOFFSET(-1,T138),SHEETOFFSET(-1,T101),SHEETOFFSET(-1,$G$56),SHEETOFFSET(-1,$G$57),SHEETOFFSET(-1,$G$43))","v":0},{"$f":"SELECCIONPATRON(SHEETOFFSET(-1,G176),SHEETOFFSET(-1,G137),SHEETOFFSET(-1,G138),SHEETOFFSET(-1,G101),SHEETOFFSET(-1,G108),SHEETOFFSET(-1,G110),SHEETOFFSET(-1,G95))","v":0},{"$f":"SELECCIONPATRON(SHEETOFFSET(-1,I176),SHEETOFFSET(-1,I137),SHEETOFFSET(-1,I138),SHEETOFFSET(-1,I101),SHEETOFFSET(-1,I108),SHEETOFFSET(-1,I110),SHEETOFFSET(-1,I95))","v":0},{"$f":"SELECCIONPATRON(SHEETOFFSET(-1,J176),SHEETOFFSET(-1,J137),SHEETOFFSET(-1,J138),SHEETOFFSET(-1,J101),SHEETOFFSET(-1,J108),SHEETOFFSET(-1,J110),SHEETOFFSET(-1,J95))","v":0},"---",{"$f":"IFERROR(SELECCIONPATRON(L61,L61,L61,L61,H61*I61,H61*I61,H61*I61)*SELECCIONPATRON(SHEETOFFSET(-1,$T$122),SHEETOFFSET(-1,$T$85),SHEETOFFSET(-1,$V$86),SHEETOFFSET(-1,$V$49),SHEETOFFSET(-1,$G$29),SHEETOFFSET(-1,$G$44),SHEETOFFSET(-1,$G$30)),0)","v":0},0,0,0,0,"---",{"$f":"IFERROR(IF(F61=\"Refrigerada\",SELECCIONPATRON(R61,R61,R61,R61,I61,I61,I61)*SELECCIONPATRON(SHEETOFFSET(-1,$I$200),SHEETOFFSET(-1,$I$161),SHEETOFFSET(-1,$I$162),SHEETOFFSET(-1,$I$125),SHEETOFFSET(-1,$I$132)/(SHEETOFFSET(-1,$G$11)*IF(SHEETOFFSET(-1,$G$37)<>\"\",SHEETOFFSET(-1,$G$37),SHEETOFFSET(-1,$G$42))),SHEETOFFSET(-1,$I$134)/(SHEETOFFSET(-1,$G$11)*IF(SHEETOFFSET(-1,$G$26)<>\"\",SHEETOFFSET(-1,$G$26),SHEETOFFSET(-1,$G$31))),SHEETOFFSET(-1,$I$119)/(SHEETOFFSET(-1,$G$11)*IF(SHEETOFFSET(-1,$G$25)=\"Mercancías a granel\",1,0.45))),0),0)","v":0},0,0,0,0,0,0,0,0,0,0,0,0,0,0,0,0,0,0,0,null,"","","","",null,0,0]
[46,{"$f":"SELECCIONPATRON(SHEETOFFSET(-1,C177),SHEETOFFSET(-1,C138),SHEETOFFSET(-1,C139),SHEETOFFSET(-1,C102),SHEETOFFSET(-1,C109),SHEETOFFSET(-1,C111),SHEETOFFSET(-1,C96))","v":0},{"$f":"SELECCIONPATRON(SHEETOFFSET(-1,D177),SHEETOFFSET(-1,D138),SHEETOFFSET(-1,D139),SHEETOFFSET(-1,D102),SHEETOFFSET(-1,D109),SHEETOFFSET(-1,D111),SHEETOFFSET(-1,D96))","v":0},{"$f":"SELECCIONPATRON(SHEETOFFSET(-1,M177),SHEETOFFSET(-1,M138),SHEETOFFSET(-1,M139),SHEETOFFSET(-1,M102),SHEETOFFSET(-1,$E$51),SHEETOFFSET(-1,$E$52),SHEETOFFSET(-1,$E$38))","v":0},{"$f":"SELECCIONPATRON(SHEETOFFSET(-1,P177),SHEETOFFSET(-1,P138),SHEETOFFSET(-1,P139),SHEETOFFSET(-1,P102),SHEETOFFSET(-1,$E$52),SHEETOFFSET(-1,$E$53),SHEETOFFSET(-1,$E$39))","v":0},{"$f":"SELECCIONPATRON(SHEETOFFSET(-1,H177),SHEETOFFSET(-1,H138),SHEETOFFSET(-1,H139),SHEETOFFSET(-1,H102),SHEETOFFSET(-1,H109),SHEETOFFSET(-1,H111),SHEETOFFSET(-1,H96))","v":0},{"$f":"SELECCIONPATRON(SHEETOFFSET(-1,R177),SHEETOFFSET(-1,R138),SHEETOFFSET(-1,S139),SHEETOFFSET(-1,S102),SHEETOFFSET(-1,$G$55),SHEETOFFSET(-1,$G$56),SHEETOFFSET(-1,$G$42))","v":0},{"$f":"SELECCIONPATRON(SHEETOFFSET(-1,S177),SHEETOFFSET(-1,S138),SHEETOFFSET(-1,T139),SHEETOFFSET(-1,T102),SHEETOFFSET(-1,$G$56),SHEETOFFSET(-1,$G$57),SHEETOFFSET(-1,$G$43))","v":0},{"$f":"SELECCIONPATRON(SHEETOFFSET(-1,G177),SHEETOFFSET(-1,G138),SHEETOFFSET(-1,G139),SHEETOFFSET(-1,G102),SHEETOFFSET(-1,G109),SHEETOFFSET(-1,G111),SHEETOFFSET(-1,G96))","v":0},{"$f":"SELECCIONPATRON(SHEETOFFSET(-1,I177),SHEETOFFSET(-1,I138),SHEETOFFSET(-1,I139),SHEETOFFSET(-1,I102),SHEETOFFSET(-1,I109),SHEETOFFSET(-1,I111),SHEETOFFSET(-1,I96))","v":0},{"$f":"SELECCIONPATRON(SHEETOFFSET(-1,J177),SHEETOFFSET(-1,J138),SHEETOFFSET(-1,J139),SHEETOFFSET(-1,J102),SHEETOFFSET(-1,J109),SHEETOFFSET(-1,J111),SHEETOFFSET(-1,J96))","v":0},"---",{"$f":"IFERROR(SELECCIONPATRON(L62,L62,L62,L62,H62*I62,H62*I62,H62*I62)*SELECCIONPATRON(SHEETOFFSET(-1,$T$122),SHEETOFFSET(-1,$T$85),SHEETOFFSET(-1,$V$86),SHEETOFFSET(-1,$V$49),SHEETOFFSET(-1,$G$29),SHEETOFFSET(-1,$G$44),SHEETOFFSET(-1,$G$30)),0)","v":0},0,0,0,0,"---",{"$f":"IFERROR(IF(F62=\"Refrigerada\",SELECCIONPATRON(R62,R62,R62,R62,I62,I62,I62)*SELECCIONPATRON(SHEETOFFSET(-1,$I$200),SHEETOFFSET(-1,$I$161),SHEETOFFSET(-1,$I$162),SHEETOFFSET(-1,$I$125),SHEETOFFSET(-1,$I$132)/(SHEETOFFSET(-1,$G$11)*IF(SHEETOFFSET(-1,$G$37)<>\"\",SHEETOFFSET(-1,$G$37),SHEETOFFSET(-1,$G$42))),SHEETOFFSET(-1,$I$134)/(SHEETOFFSET(-1,$G$11)*IF(SHEETOFFSET(-1,$G$26)<>\"\",SHEETOFFSET(-1,$G$26),SHEETOFFSET(-1,$G$31))),SHEETOFFSET(-1,$I$119)/(SHEETOFFSET(-1,$G$11)*IF(SHEETOFFSET(-1,$G$25)=\"Mercancías a granel\",1,0.45))),0),0)","v":0},0,0,0,0,0,0,0,0,0,0,0,0,0,0,0,0,0,0,0,null,"","","","",null,0,0]
[47,{"$f":"SELECCIONPATRON(SHEETOFFSET(-1,C178),SHEETOFFSET(-1,C139),SHEETOFFSET(-1,C140),SHEETOFFSET(-1,C103),SHEETOFFSET(-1,C110),SHEETOFFSET(-1,C112),SHEETOFFSET(-1,C97))","v":0},{"$f":"SELECCIONPATRON(SHEETOFFSET(-1,D178),SHEETOFFSET(-1,D139),SHEETOFFSET(-1,D140),SHEETOFFSET(-1,D103),SHEETOFFSET(-1,D110),SHEETOFFSET(-1,D112),SHEETOFFSET(-1,D97))","v":0},{"$f":"SELECCIONPATRON(SHEETOFFSET(-1,M178),SHEETOFFSET(-1,M139),SHEETOFFSET(-1,M140),SHEETOFFSET(-1,M103),SHEETOFFSET(-1,$E$51),SHEETOFFSET(-1,$E$52),SHEETOFFSET(-1,$E$38))","v":0},{"$f":"SELECCIONPATRON(SHEETOFFSET(-1,P178),SHEETOFFSET(-1,P139),SHEETOFFSET(-1,P140),SHEETOFFSET(-1,P103),SHEETOFFSET(-1,$E$52),SHEETOFFSET(-1,$E$53),SHEETOFFSET(-1,$E$39))","v":0},{"$f":"SELECCIONPATRON(SHEETOFFSET(-1,H178),SHEETOFFSET(-1,H139),SHEETOFFSET(-1,H140),SHEETOFFSET(-1,H103),SHEETOFFSET(-1,H110),SHEETOFFSET(-1,H112),SHEETOFFSET(-1,H97))","v":0},{"$f":"SELECCIONPATRON(SHEETOFFSET(-1,R178),SHEETOFFSET(-1,R139),SHEETOFFSET(-1,S140),SHEETOFFSET(-1,S103),SHEETOFFSET(-1,$G$55),SHEETOFFSET(-1,$G$56),SHEETOFFSET(-1,$G$42))","v":0},{"$f":"SELECCIONPATRON(SHEETOFFSET(-1,S178),SHEETOFFSET(-1,S139),SHEETOFFSET(-1,T140),SHEETOFFSET(-1,T103),SHEETOFFSET(-1,$G$56),SHEETOFFSET(-1,$G$57),SHEETOFFSET(-1,$G$43))","v":0},{"$f":"SELECCIONPATRON(SHEETOFFSET(-1,G178),SHEETOFFSET(-1,G139),SHEETOFFSET(-1,G140),SHEETOFFSET(-1,G103),SHEETOFFSET(-1,G110),SHEETOFFSET(-1,G112),SHEETOFFSET(-1,G97))","v":0},{"$f":"SELECCIONPATRON(SHEETOFFSET(-1,I178),SHEETOFFSET(-1,I139),SHEETOFFSET(-1,I140),SHEETOFFSET(-1,I103),SHEETOFFSET(-1,I110),SHEETOFFSET(-1,I112),SHEETOFFSET(-1,I97))","v":0},{"$f":"SELECCIONPATRON(SHEETOFFSET(-1,J178),SHEETOFFSET(-1,J139),SHEETOFFSET(-1,J140),SHEETOFFSET(-1,J103),SHEETOFFSET(-1,J110),SHEETOFFSET(-1,J112),SHEETOFFSET(-1,J97))","v":0},"---",{"$f":"IFERROR(SELECCIONPATRON(L63,L63,L63,L63,H63*I63,H63*I63,H63*I63)*SELECCIONPATRON(SHEETOFFSET(-1,$T$122),SHEETOFFSET(-1,$T$85),SHEETOFFSET(-1,$V$86),SHEETOFFSET(-1,$V$49),SHEETOFFSET(-1,$G$29),SHEETOFFSET(-1,$G$44),SHEETOFFSET(-1,$G$30)),0)","v":0},0,0,0,0,"---",{"$f":"IFERROR(IF(F63=\"Refrigerada\",SELECCIONPATRON(R63,R63,R63,R63,I63,I63,I63)*SELECCIONPATRON(SHEETOFFSET(-1,$I$200),SHEETOFFSET(-1,$I$161),SHEETOFFSET(-1,$I$162),SHEETOFFSET(-1,$I$125),SHEETOFFSET(-1,$I$132)/(SHEETOFFSET(-1,$G$11)*IF(SHEETOFFSET(-1,$G$37)<>\"\",SHEETOFFSET(-1,$G$37),SHEETOFFSET(-1,$G$42))),SHEETOFFSET(-1,$I$134)/(SHEETOFFSET(-1,$G$11)*IF(SHEETOFFSET(-1,$G$26)<>\"\",SHEETOFFSET(-1,$G$26),SHEETOFFSET(-1,$G$31))),SHEETOFFSET(-1,$I$119)/(SHEETOFFSET(-1,$G$11)*IF(SHEETOFFSET(-1,$G$25)=\"Mercancías a granel\",1,0.45))),0),0)","v":0},0,0,0,0,0,0,0,0,0,0,0,0,0,0,0,0,0,0,0,null,"","","","",null,0,0]
[48,{"$f":"SELECCIONPATRON(SHEETOFFSET(-1,C179),SHEETOFFSET(-1,C140),SHEETOFFSET(-1,C141),SHEETOFFSET(-1,C104),SHEETOFFSET(-1,C111),SHEETOFFSET(-1,C113),SHEETOFFSET(-1,C98))","v":0},{"$f":"SELECCIONPATRON(SHEETOFFSET(-1,D179),SHEETOFFSET(-1,D140),SHEETOFFSET(-1,D141),SHEETOFFSET(-1,D104),SHEETOFFSET(-1,D111),SHEETOFFSET(-1,D113),SHEETOFFSET(-1,D98))","v":0},{"$f":"SELECCIONPATRON(SHEETOFFSET(-1,M179),SHEETOFFSET(-1,M140),SHEETOFFSET(-1,M141),SHEETOFFSET(-1,M104),SHEETOFFSET(-1,$E$51),SHEETOFFSET(-1,$E$52),SHEETOFFSET(-1,$E$38))","v":0},{"$f":"SELECCIONPATRON(SHEETOFFSET(-1,P179),SHEETOFFSET(-1,P140),SHEETOFFSET(-1,P141),SHEETOFFSET(-1,P104),SHEETOFFSET(-1,$E$52),SHEETOFFSET(-1,$E$53),SHEETOFFSET(-1,$E$39))","v":0},{"$f":"SELECCIONPATRON(SHEETOFFSET(-1,H179),SHEETOFFSET(-1,H140),SHEETOFFSET(-1,H141),SHEETOFFSET(-1,H104),SHEETOFFSET(-1,H111),SHEETOFFSET(-1,H113),SHEETOFFSET(-1,H98))","v":0},{"$f":"SELECCIONPATRON(SHEETOFFSET(-1,R179),SHEETOFFSET(-1,R140),SHEETOFFSET(-1,S141),SHEETOFFSET(-1,S104),SHEETOFFSET(-1,$G$55),SHEETOFFSET(-1,$G$56),SHEETOFFSET(-1,$G$42))","v":0},{"$f":"SELECCIONPATRON(SHEETOFFSET(-1,S179),SHEETOFFSET(-1,S140),SHEETOFFSET(-1,T141),SHEETOFFSET(-1,T104),SHEETOFFSET(-1,$G$56),SHEETOFFSET(-1,$G$57),SHEETOFFSET(-1,$G$43))","v":0},{"$f":"SELECCIONPATRON(SHEETOFFSET(-1,G179),SHEETOFFSET(-1,G140),SHEETOFFSET(-1,G141),SHEETOFFSET(-1,G104),SHEETOFFSET(-1,G111),SHEETOFFSET(-1,G113),SHEETOFFSET(-1,G98))","v":0},{"$f":"SELECCIONPATRON(SHEETOFFSET(-1,I179),SHEETOFFSET(-1,I140),SHEETOFFSET(-1,I141),SHEETOFFSET(-1,I104),SHEETOFFSET(-1,I111),SHEETOFFSET(-1,I113),SHEETOFFSET(-1,I98))","v":0},{"$f":"SELECCIONPATRON(SHEETOFFSET(-1,J179),SHEETOFFSET(-1,J140),SHEETOFFSET(-1,J141),SHEETOFFSET(-1,J104),SHEETOFFSET(-1,J111),SHEETOFFSET(-1,J113),SHEETOFFSET(-1,J98))","v":0},"---",{"$f":"IFERROR(SELECCIONPATRON(L64,L64,L64,L64,H64*I64,H64*I64,H64*I64)*SELECCIONPATRON(SHEETOFFSET(-1,$T$122),SHEETOFFSET(-1,$T$85),SHEETOFFSET(-1,$V$86),SHEETOFFSET(-1,$V$49),SHEETOFFSET(-1,$G$29),SHEETOFFSET(-1,$G$44),SHEETOFFSET(-1,$G$30)),0)","v":0},0,0,0,0,"---",{"$f":"IFERROR(IF(F64=\"Refrigerada\",SELECCIONPATRON(R64,R64,R64,R64,I64,I64,I64)*SELECCIONPATRON(SHEETOFFSET(-1,$I$200),SHEETOFFSET(-1,$I$161),SHEETOFFSET(-1,$I$162),SHEETOFFSET(-1,$I$125),SHEETOFFSET(-1,$I$132)/(SHEETOFFSET(-1,$G$11)*IF(SHEETOFFSET(-1,$G$37)<>\"\",SHEETOFFSET(-1,$G$37),SHEETOFFSET(-1,$G$42))),SHEETOFFSET(-1,$I$134)/(SHEETOFFSET(-1,$G$11)*IF(SHEETOFFSET(-1,$G$26)<>\"\",SHEETOFFSET(-1,$G$26),SHEETOFFSET(-1,$G$31))),SHEETOFFSET(-1,$I$119)/(SHEETOFFSET(-1,$G$11)*IF(SHEETOFFSET(-1,$G$25)=\"Mercancías a granel\",1,0.45))),0),0)","v":0},0,0,0,0,0,0,0,0,0,0,0,0,0,0,0,0,0,0,0,null,"","","","",null,0,0]
[49,{"$f":"SELECCIONPATRON(SHEETOFFSET(-1,C180),SHEETOFFSET(-1,C141),SHEETOFFSET(-1,C142),SHEETOFFSET(-1,C105),SHEETOFFSET(-1,C112),SHEETOFFSET(-1,C114),SHEETOFFSET(-1,C99))","v":0},{"$f":"SELECCIONPATRON(SHEETOFFSET(-1,D180),SHEETOFFSET(-1,D141),SHEETOFFSET(-1,D142),SHEETOFFSET(-1,D105),SHEETOFFSET(-1,D112),SHEETOFFSET(-1,D114),SHEETOFFSET(-1,D99))","v":0},{"$f":"SELECCIONPATRON(SHEETOFFSET(-1,M180),SHEETOFFSET(-1,M141),SHEETOFFSET(-1,M142),SHEETOFFSET(-1,M105),SHEETOFFSET(-1,$E$51),SHEETOFFSET(-1,$E$52),SHEETOFFSET(-1,$E$38))","v":0},{"$f":"SELECCIONPATRON(SHEETOFFSET(-1,P180),SHEETOFFSET(-1,P141),SHEETOFFSET(-1,P142),SHEETOFFSET(-1,P105),SHEETOFFSET(-1,$E$52),SHEETOFFSET(-1,$E$53),SHEETOFFSET(-1,$E$39))","v":0},{"$f":"SELECCIONPATRON(SHEETOFFSET(-1,H180),SHEETOFFSET(-1,H141),SHEETOFFSET(-1,H142),SHEETOFFSET(-1,H105),SHEETOFFSET(-1,H112),SHEETOFFSET(-1,H114),SHEETOFFSET(-1,H99))","v":0},{"$f":"SELECCIONPATRON(SHEETOFFSET(-1,R180),SHEETOFFSET(-1,R141),SHEETOFFSET(-1,S142),SHEETOFFSET(-1,S105),SHEETOFFSET(-1,$G$55),SHEETOFFSET(-1,$G$56),SHEETOFFSET(-1,$G$42))","v":0},{"$f":"SELECCIONPATRON(SHEETOFFSET(-1,S180),SHEETOFFSET(-1,S141),SHEETOFFSET(-1,T142),SHEETOFFSET(-1,T105),SHEETOFFSET(-1,$G$56),SHEETOFFSET(-1,$G$57),SHEETOFFSET(-1,$G$43))","v":0},{"$f":"SELECCIONPATRON(SHEETOFFSET(-1,G180),SHEETOFFSET(-1,G141),SHEETOFFSET(-1,G142),SHEETOFFSET(-1,G105),SHEETOFFSET(-1,G112),SHEETOFFSET(-1,G114),SHEETOFFSET(-1,G99))","v":0},{"$f":"SELECCIONPATRON(SHEETOFFSET(-1,I180),SHEETOFFSET(-1,I141),SHEETOFFSET(-1,I142),SHEETOFFSET(-1,I105),SHEETOFFSET(-1,I112),SHEETOFFSET(-1,I114),SHEETOFFSET(-1,I99))","v":0},{"$f":"SELECCIONPATRON(SHEETOFFSET(-1,J180),SHEETOFFSET(-1,J141),SHEETOFFSET(-1,J142),SHEETOFFSET(-1,J105),SHEETOFFSET(-1,J112),SHEETOFFSET(-1,J114),SHEETOFFSET(-1,J99))","v":0},"---",{"$f":"IFERROR(SELECCIONPATRON(L65,L65,L65,L65,H65*I65,H65*I65,H65*I65)*SELECCIONPATRON(SHEETOFFSET(-1,$T$122),SHEETOFFSET(-1,$T$85),SHEETOFFSET(-1,$V$86),SHEETOFFSET(-1,$V$49),SHEETOFFSET(-1,$G$29),SHEETOFFSET(-1,$G$44),SHEETOFFSET(-1,$G$30)),0)","v":0},0,0,0,0,"---",{"$f":"IFERROR(IF(F65=\"Refrigerada\",SELECCIONPATRON(R65,R65,R65,R65,I65,I65,I65)*SELECCIONPATRON(SHEETOFFSET(-1,$I$200),SHEETOFFSET(-1,$I$161),SHEETOFFSET(-1,$I$162),SHEETOFFSET(-1,$I$125),SHEETOFFSET(-1,$I$132)/(SHEETOFFSET(-1,$G$11)*IF(SHEETOFFSET(-1,$G$37)<>\"\",SHEETOFFSET(-1,$G$37),SHEETOFFSET(-1,$G$42))),SHEETOFFSET(-1,$I$134)/(SHEETOFFSET(-1,$G$11)*IF(SHEETOFFSET(-1,$G$26)<>\"\",SHEETOFFSET(-1,$G$26),SHEETOFFSET(-1,$G$31))),SHEETOFFSET(-1,$I$119)/(SHEETOFFSET(-1,$G$11)*IF(SHEETOFFSET(-1,$G$25)=\"Mercancías a granel\",1,0.45))),0),0)","v":0},0,0,0,0,0,0,0,0,0,0,0,0,0,0,0,0,0,0,0,null,"","","","",null,0,0]
[50,{"$f":"SELECCIONPATRON(SHEETOFFSET(-1,C181),SHEETOFFSET(-1,C142),SHEETOFFSET(-1,C143),SHEETOFFSET(-1,C106),SHEETOFFSET(-1,C113),SHEETOFFSET(-1,C115),SHEETOFFSET(-1,C100))","v":0},{"$f":"SELECCIONPATRON(SHEETOFFSET(-1,D181),SHEETOFFSET(-1,D142),SHEETOFFSET(-1,D143),SHEETOFFSET(-1,D106),SHEETOFFSET(-1,D113),SHEETOFFSET(-1,D115),SHEETOFFSET(-1,D100))","v":0},{"$f":"SELECCIONPATRON(SHEETOFFSET(-1,M181),SHEETOFFSET(-1,M142),SHEETOFFSET(-1,M143),SHEETOFFSET(-1,M106),SHEETOFFSET(-1,$E$51),SHEETOFFSET(-1,$E$52),SHEETOFFSET(-1,$E$38))","v":0},{"$f":"SELECCIONPATRON(SHEETOFFSET(-1,P181),SHEETOFFSET(-1,P142),SHEETOFFSET(-1,P143),SHEETOFFSET(-1,P106),SHEETOFFSET(-1,$E$52),SHEETOFFSET(-1,$E$53),SHEETOFFSET(-1,$E$39))","v":0},{"$f":"SELECCIONPATRON(SHEETOFFSET(-1,H181),SHEETOFFSET(-1,H142),SHEETOFFSET(-1,H143),SHEETOFFSET(-1,H106),SHEETOFFSET(-1,H113),SHEETOFFSET(-1,H115),SHEETOFFSET(-1,H100))","v":0},{"$f":"SELECCIONPATRON(SHEETOFFSET(-1,R181),SHEETOFFSET(-1,R142),SHEETOFFSET(-1,S143),SHEETOFFSET(-1,S106),SHEETOFFSET(-1,$G$55),SHEETOFFSET(-1,$G$56),SHEETOFFSET(-1,$G$42))","v":0},{"$f":"SELECCIONPATRON(SHEETOFFSET(-1,S181),SHEETOFFSET(-1,S142),SHEETOFFSET(-1,T143),SHEETOFFSET(-1,T106),SHEETOFFSET(-1,$G$56),SHEETOFFSET(-1,$G$57),SHEETOFFSET(-1,$G$43))","v":0},{"$f":"SELECCIONPATRON(SHEETOFFSET(-1,G181),SHEETOFFSET(-1,G142),SHEETOFFSET(-1,G143),SHEETOFFSET(-1,G106),SHEETOFFSET(-1,G113),SHEETOFFSET(-1,G115),SHEETOFFSET(-1,G100))","v":0},{"$f":"SELECCIONPATRON(SHEETOFFSET(-1,I181),SHEETOFFSET(-1,I142),SHEETOFFSET(-1,I143),SHEETOFFSET(-1,I106),SHEETOFFSET(-1,I113),SHEETOFFSET(-1,I115),SHEETOFFSET(-1,I100))","v":0},{"$f":"SELECCIONPATRON(SHEETOFFSET(-1,J181),SHEETOFFSET(-1,J142),SHEETOFFSET(-1,J143),SHEETOFFSET(-1,J106),SHEETOFFSET(-1,J113),SHEETOFFSET(-1,J115),SHEETOFFSET(-1,J100))","v":0},"---",{"$f":"IFERROR(SELECCIONPATRON(L66,L66,L66,L66,H66*I66,H66*I66,H66*I66)*SELECCIONPATRON(SHEETOFFSET(-1,$T$122),SHEETOFFSET(-1,$T$85),SHEETOFFSET(-1,$V$86),SHEETOFFSET(-1,$V$49),SHEETOFFSET(-1,$G$29),SHEETOFFSET(-1,$G$44),SHEETOFFSET(-1,$G$30)),0)","v":0},0,0,0,0,"---",{"$f":"IFERROR(IF(F66=\"Refrigerada\",SELECCIONPATRON(R66,R66,R66,R66,I66,I66,I66)*SELECCIONPATRON(SHEETOFFSET(-1,$I$200),SHEETOFFSET(-1,$I$161),SHEETOFFSET(-1,$I$162),SHEETOFFSET(-1,$I$125),SHEETOFFSET(-1,$I$132)/(SHEETOFFSET(-1,$G$11)*IF(SHEETOFFSET(-1,$G$37)<>\"\",SHEETOFFSET(-1,$G$37),SHEETOFFSET(-1,$G$42))),SHEETOFFSET(-1,$I$134)/(SHEETOFFSET(-1,$G$11)*IF(SHEETOFFSET(-1,$G$26)<>\"\",SHEETOFFSET(-1,$G$26),SHEETOFFSET(-1,$G$31))),SHEETOFFSET(-1,$I$119)/(SHEETOFFSET(-1,$G$11)*IF(SHEETOFFSET(-1,$G$25)=\"Mercancías a granel\",1,0.45))),0),0)","v":0},0,0,0,0,0,0,0,0,0,0,0,0,0,0,0,0,0,0,0,null,"","","","",null,0,0]
[null,null,null,null,null,null,null,"TOTAL",{"$f":"SUM(I17:I66)","v":0},{"$f":"SUM(J17:J66)","v":0},0,{"$f":"SUM(L17:L66)","v":0},0,0,0,0,0,0,0,0,0,0,0,{"$f":"SUM(X17:X66)","v":0},0,0,0,0,0,0,0,0,0,0,0,0,0,0]
[]
[null,null,null,null,null,null,null,null,null,null,null,null,null,null,"Tipo de combustible empleado ",{"$f":"SELECCIONPATRON(IF(SHEETOFFSET(-1,E29)<>\"\",SHEETOFFSET(-1,E29),SHEETOFFSET(-1,E59)),IF(SHEETOFFSET(-1,E29)<>\"\",SHEETOFFSET(-1,E29),SHEETOFFSET(-1,E59)),SHEETOFFSET(-1,E18),SHEETOFFSET(-1,E18),SHEETOFFSET(-1,E18),SHEETOFFSET(-1,E18),SHEETOFFSET(-1,E18))","v":0},null,null,null,null,"Tipo de combustible empleado ",{"$f":"SELECCIONPATRON(SHEETOFFSET(-1,G192),SHEETOFFSET(-1,G153),SHEETOFFSET(-1,G154),SHEETOFFSET(-1,G117),SHEETOFFSET(-1,G124),SHEETOFFSET(-1,G126),SHEETOFFSET(-1,G111))","v":0},null,null,null,null,null,"Tipos de fuente de energía empleadas",{"$f":"IF(SHEETOFFSET(-1,G208)<>\"\",SHEETOFFSET(-1,G208),SHEETOFFSET(-1,H224))","v":0}]
[null,null,null,null,null,null,null,null,null,null,null,null,null,null,null,null,null,null,null,null,null,null,null,null,null,null,null,"\"\"",{"$f":"IF(SHEETOFFSET(-1,G211)<>\"\",SHEETOFFSET(-1,G211),IF(SHEETOFFSET(-1,H223)<>\"\",\"Gas natural: potencia calorífica neta\",0))","v":0}]
[null,null,null,null,null,null,null,null,null,null,null,null,null,null,null,null,null,null,null,null,null,null,null,null,null,null,null,"\"\"",{"$f":"SHEETOFFSET(-1,G214)","v":0}]
["RESULTADOS POR CLIENTE"]
[]
[null,"Cliente del envío",null,null,null,null,null,null,"Peso bruto de los envíos del cliente (t)","Volumen del conjunto de envíos del cliente en almacenamiento (m3) - en caso de que la carga sea almacenada","Días de almacenamiento - en caso de que la carga sea almacenada",{"$f":"L15","v":"RESULTADOS: PROPULSIÓN DE LA CARGA"},null,null,null,null,null,{"$f":"R15","v":"---"},null,null,null,null,null,"RESULTADOS: ALMACENAMIENTO DE LA CARGA",null,null,null,null,null,null,"RESULTADOS TOTALES DEL SERVICIO DE TRANSPORTE DE LA CARGA",null,null,null,"RESULTADOS TOTALES DEL SERVICIO DE TRANSPORTE Y ALMACENAMIENTO DE LA CARGA"]
[null,null,null,null,null,null,null,null,null,null,null,"Proporción de cupo para cada cliente (%)",{"$f":"\"Consumo de combustible: \"&P128","v":"Consumo de combustible: "},"Consumo energético del tanque a las ruedas","Consumo energético del pozo a las ruedas","Emisiones de GEI del tanque a las ruedas","Emisiones de GEI del pozo a las ruedas","Proporción de cupo para cada cliente (%)",{"$f":"\"Consumo de combustible: \"&V128","v":"Consumo de combustible: "},"Consumo energético del tanque a las ruedas","Consumo energético del pozo a las ruedas","Emisiones de GEI del tanque a las ruedas","Emisiones de GEI del pozo a las ruedas",{"$f":"\"Consumo por fuente de energía: \"&AC128","v":"Consumo por fuente de energía: "},{"$f":"\"Consumo por fuente de energía: \"&AD128","v":"Consumo por fuente de energía: "},{"$f":"\"Consumo por fuente de energía: \"&AE128","v":"Consumo por fuente de energía: "},"Consumo energético directo","Consumo energético directo e indirecto","Emisiones de GEI directas","Emisiones de GEI directas e indirectas","Consumo energético del tanque a las ruedas","Consumo energético del pozo a las ruedas","Emisiones de GEI del tanque a las ruedas","Emisiones de GEI del pozo a las ruedas","Consumo energético del tanque a las ruedas","Consumo energético del pozo a las ruedas","Emisiones de GEI del tanque a las ruedas","Emisiones de GEI del pozo a las ruedas"]
[null,{"$f":"'MENÚ DE INICIO'!AG10","v":0},null,null,null,null,null,null,{"$f":"IF($B76=0,0,SUMIF($B$17:$B$66,$B76,I$17:I$66))","v":0},{"$f":"IF($B76=0,0,SUMIF($B$17:$B$66,$B76,J$17:J$66))","v":0},0,0,0,0,0,0,0,0,0,0,0,0,0,0,0,{"$f":"IF($B76=0,0,SUMIF($B$17:$B$66,$B76,Z$17:Z$66))","v":0},0,0,0,0,0,0,0,0,0,0,0,0]
[null,{"$f":"'MENÚ DE INICIO'!AG11","v":0},null,null,null,null,null,null,{"$f":"IF($B77=0,0,SUMIF($B$17:$B$66,$B77,I$17:I$66))","v":0},0,0,0,0,0,0,0,0,0,0,0,0,0,0,0,0,0,0,0,0,0,0,0,0,0,0,0,0,0]
[null,{"$f":"'MENÚ DE INICIO'!AG12","v":0},null,null,null,null,null,null,0,0,0,0,0,0,0,0,0,0,0,0,0,0,0,0,0,0,0,0,0,0,0,0,0,0,0,0,0,0]
[null,{"$f":"'MENÚ DE INICIO'!AG13","v":0},null,null,null,null,null,null,0,0,0,0,0,0,0,0,0,0,0,0,0,0,0,0,0,0,0,0,0,0,0,0,0,0,0,0,0,0]
[null,{"$f":"'MENÚ DE INICIO'!AG14","v":0},null,null,null,null,null,null,0,0,0,0,0,0,0,0,0,0,0,0,0,0,0,0,0,0,0,0,0,0,0,0,0,0,0,0,0,0]
[null,{"$f":"'MENÚ DE INICIO'!AG15","v":0},null,null,null,null,null,null,0,0,0,0,0,0,0,0,0,0,0,0,0,0,0,0,0,0,0,0,0,0,0,0,0,0,0,0,0,0]
[null,{"$f":"'MENÚ DE INICIO'!AG16","v":0},null,null,null,null,null,null,0,0,0,0,0,0,0,0,0,0,0,0,0,0,0,0,0,0,0,0,0,0,0,0,0,0,0,0,0,0]
[null,{"$f":"'MENÚ DE INICIO'!AG17","v":0},null,null,null,null,null,null,0,0,0,0,0,0,0,0,0,0,0,0,0,0,0,0,0,0,0,0,0,0,0,0,0,0,0,0,0,0]
[null,{"$f":"'MENÚ DE INICIO'!AG18","v":0},null,null,null,null,null,null,0,0,0,0,0,0,0,0,0,0,0,0,0,0,0,0,0,0,0,0,0,0,0,0,0,0,0,0,0,0]
[null,{"$f":"'MENÚ DE INICIO'!AG19","v":0},null,null,null,null,null,null,0,0,0,0,0,0,0,0,0,0,0,0,0,0,0,0,0,0,0,0,0,0,0,0,0,0,0,0,0,0]
[null,{"$f":"'MENÚ DE INICIO'!AG20","v":0},null,null,null,null,null,null,0,0,0,0,0,0,0,0,0,0,0,0,0,0,0,0,0,0,0,0,0,0,0,0,0,0,0,0,0,0]
[null,{"$f":"'MENÚ DE INICIO'!AG21","v":0},null,null,null,null,null,null,0,0,0,0,0,0,0,0,0,0,0,0,0,0,0,0,0,0,0,0,0,0,0,0,0,0,0,0,0,0]
[null,{"$f":"'MENÚ DE INICIO'!AG22","v":0},null,null,null,null,null,null,0,0,0,0,0,0,0,0,0,0,0,0,0,0,0,0,0,0,0,0,0,0,0,0,0,0,0,0,0,0]
[null,{"$f":"'MENÚ DE INICIO'!AG23","v":0},null,null,null,null,null,null,0,0,0,0,0,0,0,0,0,0,0,0,0,0,0,0,0,0,0,0,0,0,0,0,0,0,0,0,0,0]
[null,{"$f":"'MENÚ DE INICIO'!AG24","v":0},null,null,null,null,null,null,0,0,0,0,0,0,0,0,0,0,0,0,0,0,0,0,0,0,0,0,0,0,0,0,0,0,0,0,0,0]
[null,{"$f":"'MENÚ DE INICIO'!AG25","v":0},null,null,null,null,null,null,0,0,0,0,0,0,0,0,0,0,0,0,0,0,0,0,{"$f":"IF($B91=0,0,SUMIF($B$17:$B$66,$B91,Y$17:Y$66))","v":0},0,0,0,0,0,0,0,0,0,0,0,0,0]
[null,{"$f":"'MENÚ DE INICIO'!AG26","v":0},null,null,null,null,null,null,0,0,0,0,0,0,0,0,0,0,0,0,0,0,0,0,0,0,0,0,0,0,0,0,0,0,0,0,0,0]
[null,{"$f":"'MENÚ DE INICIO'!AG27","v":0},null,null,null,null,null,null,{"$f":"IF($B93=0,0,SUMIF($B$17:$B$66,$B93,I$17:I$66))","v":0},0,0,0,0,0,0,0,0,0,0,0,0,0,0,0,0,0,0,0,0,0,0,0,0,0,0,0,0,0]
[null,{"$f":"'MENÚ DE INICIO'!AG28","v":0},null,null,null,null,null,null,0,0,0,0,0,0,0,0,0,0,0,0,0,0,0,0,0,0,0,0,0,0,0,0,0,0,0,0,0,0]
[null,{"$f":"'MENÚ DE INICIO'!AG29","v":0},null,null,null,null,null,null,0,0,0,0,0,0,0,0,0,0,0,0,0,0,0,0,0,0,0,0,0,0,0,0,0,0,0,0,0,0]
[null,{"$f":"'MENÚ DE INICIO'!AG30","v":0},null,null,null,null,null,null,0,0,0,0,0,0,0,0,0,0,0,0,0,0,0,0,0,0,0,0,0,0,0,0,0,0,0,0,0,0]
[null,{"$f":"'MENÚ DE INICIO'!AG31","v":0},null,null,null,null,null,null,0,0,0,0,0,0,0,0,0,0,0,0,0,0,0,0,0,0,0,0,0,0,0,0,0,0,0,0,0,0]
[null,{"$f":"'MENÚ DE INICIO'!AG32","v":0},null,null,null,null,null,null,0,0,0,0,0,0,0,0,0,0,0,0,0,0,0,0,0,0,0,0,0,0,0,0,0,0,0,0,0,0]
[null,{"$f":"'MENÚ DE INICIO'!AG33","v":0},null,null,null,null,null,null,0,0,0,0,0,0,0,0,0,0,0,0,0,0,0,0,0,0,0,0,0,0,0,0,0,0,0,0,0,0]
[null,{"$f":"'MENÚ DE INICIO'!AG34","v":0},null,null,null,null,null,null,0,0,0,0,0,0,0,0,0,0,0,0,0,0,0,0,0,0,0,0,0,0,0,0,0,0,0,0,0,0]
[null,{"$f":"'MENÚ DE INICIO'!AG35","v":0},null,null,null,null,null,null,0,0,0,0,0,0,0,0,0,0,0,0,0,0,0,0,0,0,0,0,0,0,0,0,0,0,0,0,0,0]
[null,{"$f":"'MENÚ DE INICIO'!AG36","v":0},null,null,null,null,null,null,0,0,0,0,0,0,0,0,0,0,0,0,0,0,0,0,0,0,0,0,0,0,0,0,0,0,0,0,0,0]
[null,{"$f":"'MENÚ DE INICIO'!AG37","v":0},null,null,null,null,null,null,0,0,0,0,0,0,0,0,0,0,0,0,0,0,0,0,0,0,0,0,0,0,0,0,0,0,0,0,0,0]
[null,{"$f":"'MENÚ DE INICIO'!AG38","v":0},null,null,null,null,null,null,0,0,0,0,0,0,0,0,0,0,0,0,0,0,0,0,0,0,0,0,0,0,0,0,0,0,0,0,0,0]
[null,{"$f":"'MENÚ DE INICIO'!AG39","v":0},null,null,null,null,null,null,0,0,0,0,0,0,0,0,0,0,0,0,0,0,0,0,0,0,0,0,0,0,0,0,0,0,0,0,0,0]
[null,{"$f":"'MENÚ DE INICIO'!AG40","v":0},null,null,null,null,null,null,0,0,0,0,0,0,0,0,0,0,0,0,0,0,0,0,0,0,0,0,0,0,0,0,0,0,0,0,0,0]
[null,{"$f":"'MENÚ DE INICIO'!AG41","v":0},null,null,null,null,null,null,0,0,0,0,0,0,0,0,0,0,0,0,0,0,0,0,{"$f":"IF($B107=0,0,SUMIF($B$17:$B$66,$B107,Y$17:Y$66))","v":0},0,0,0,0,0,0,0,0,0,0,0,0,0]
[null,{"$f":"'MENÚ DE INICIO'!AG42","v":0},null,null,null,null,null,null,0,0,0,0,0,0,0,0,0,0,0,0,0,0,0,{"$f":"IF($B108=0,0,SUMIF($B$17:$B$66,$B108,X$17:X$66))","v":0},0,0,0,0,0,0,0,0,0,0,0,0,0,0]
[null,{"$f":"'MENÚ DE INICIO'!AG43","v":0},null,null,null,null,null,null,{"$f":"IF($B109=0,0,SUMIF($B$17:$B$66,$B109,I$17:I$66))","v":0},0,0,0,0,0,0,0,0,0,0,0,0,0,0,0,0,0,0,0,0,0,0,0,0,0,0,0,0,0]
[null,{"$f":"'MENÚ DE INICIO'!AG44","v":0},null,null,null,null,null,null,0,0,0,0,0,0,0,0,0,0,0,0,0,0,0,0,0,0,0,0,0,0,0,0,0,0,0,0,0,0]
[null,{"$f":"'MENÚ DE INICIO'!AG45","v":0},null,null,null,null,null,null,0,0,0,0,0,0,0,0,0,0,0,0,0,0,0,0,0,0,0,0,0,0,0,0,0,0,0,0,0,0]
[null,{"$f":"'MENÚ DE INICIO'!AG46","v":0},null,null,null,null,null,null,0,0,0,0,0,0,0,0,0,0,0,0,0,0,0,0,0,0,0,0,0,0,0,0,0,0,0,0,0,0]
[null,{"$f":"'MENÚ DE INICIO'!AG47","v":0},null,null,null,null,null,null,0,0,0,0,0,0,0,0,0,0,0,0,0,0,0,0,0,0,0,0,0,0,0,0,0,0,0,0,0,0]
[null,{"$f":"'MENÚ DE INICIO'!AG48","v":0},null,null,null,null,null,null,0,0,0,0,0,0,0,0,0,0,0,0,0,0,0,0,0,0,0,0,0,0,0,0,0,0,0,0,0,0]
[null,{"$f":"'MENÚ DE INICIO'!AG49","v":0},null,null,null,null,null,null,0,0,0,0,0,0,0,0,0,0,0,0,0,0,0,0,0,0,0,0,0,0,0,0,0,0,0,0,0,0]
[null,{"$f":"'MENÚ DE INICIO'!AG50","v":0},null,null,null,null,null,null,0,0,0,0,0,0,0,0,0,0,0,0,0,0,0,0,0,0,0,0,0,0,0,0,0,0,0,0,0,0]
[null,{"$f":"'MENÚ DE INICIO'!AG51","v":0},null,null,null,null,null,null,0,0,0,0,0,0,0,0,0,0,0,0,0,0,0,0,0,0,0,0,0,0,0,0,0,0,0,0,0,0]
[null,{"$f":"'MENÚ DE INICIO'!AG52","v":0},null,null,null,null,null,null,0,0,0,0,0,0,0,0,0,0,0,0,0,0,0,0,0,0,0,0,0,0,0,0,0,0,0,0,0,0]
[null,{"$f":"'MENÚ DE INICIO'!AG53","v":0},null,null,null,null,null,null,0,0,0,0,0,0,0,0,0,0,0,0,0,0,0,0,0,0,0,0,0,0,0,0,0,0,0,0,0,0]
[null,{"$f":"'MENÚ DE INICIO'!AG54","v":0},null,null,null,null,null,null,0,0,0,0,0,0,0,0,0,0,0,0,0,0,0,0,0,0,0,0,0,0,0,0,0,0,0,0,0,0]
[null,{"$f":"'MENÚ DE INICIO'!AG55","v":0},null,null,null,null,null,null,0,0,0,0,0,0,0,0,0,0,0,0,0,0,0,0,0,0,0,0,0,0,0,0,0,0,0,0,0,0]
[null,{"$f":"'MENÚ DE INICIO'!AG56","v":0},null,null,null,null,null,null,0,0,0,0,0,0,0,0,0,0,0,0,0,0,0,0,0,0,0,0,0,0,0,0,0,0,0,0,0,0]
[null,{"$f":"'MENÚ DE INICIO'!AG57","v":0},null,null,null,null,null,null,0,0,0,0,0,0,0,0,0,0,0,0,0,0,0,0,0,0,0,0,0,0,0,0,0,0,0,0,0,0]
[null,{"$f":"'MENÚ DE INICIO'!AG58","v":0},null,null,null,null,null,null,0,0,0,0,0,0,0,0,0,0,0,0,0,0,0,0,{"$f":"IF($B124=0,0,SUMIF($B$17:$B$66,$B124,Y$17:Y$66))","v":0},0,0,0,0,0,0,0,0,0,0,0,0,0]
[null,{"$f":"'MENÚ DE INICIO'!AG59","v":0},null,null,null,null,null,null,{"$f":"IF($B125=0,0,SUMIF($B$17:$B$66,$B125,I$17:I$66))","v":0},0,0,0,0,0,0,0,0,0,0,0,0,0,0,0,0,0,0,0,0,0,0,0,0,0,0,0,0,0]
[null,null,null,null,null,null,null,"TOTAL",{"$f":"SUM(I76:I125)","v":0},0,0,0,0,0,0,0,0,0,0,0,0,0,0,0,0,0,0,0,0,0,0,0,0,0,0,0,0,0]

{"sheet":"RAW_DATA_transporte","index":20,"n_rows":338,"n_cols":32,"rows_kept":338,"cut":false,"hidden":true,"merged":[[247,1,248,1],[247,2,247,4],[162,1,162,6],[146,1,146,9],[172,1,172,6],[247,5,247,9],[254,1,254,9],[255,1,255,9],[266,1,268,1],[267,2,267,3],[267,4,267,5],[17,1,17,2],[30,2,30,3],[30,4,30,5],[30,6,31,6],[95,1,96,1],[30,1,32,1],[41,1,43,1],[41,2,41,3],[41,4,41,5],[41,6,42,6],[69,3,69,9],[37,1,37,6],[38,1,38,6],[72,3,72,9],[75,1,75,9],[123,1,123,5],[76,1,76,9],[127,8,127,9],[99,1,99,4],[103,1,104,1],[122,1,122,5],[121,1,121,5],[126,1,128,1],[126,2,126,5],[126,6,126,9],[103,2,104,2],[103,3,104,3],[103,4,104,4],[103,5,104,5],[337,1,337,2],[258,5,258,6],[258,3,258,4],[314,1,314,2],[315,1,315,2],[279,1,279,5],[266,2,266,5],[145,1,145,9],[127,2,127,3],[127,4,127,5],[127,6,127,7],[175,1,176,1],[175,2,175,4],[175,5,175,9]]}
["Tablas 0: Referencias de parámetros"]
[null,"Tipo de patrones",null,"Tipo de refrigeración",null,"Ruta (SOV) / trayecto",null,"Enfoques",null,"Sí/No",null,"Tipo de camión",null,"Flota propia / subcontratada",null,"Refrigerantes",null,"Tipo de unidad de frio",null,"Propiedad",null,"Cadena de valor",null,"tipo_depósito",null,"urbano_nourbano",null,"llano_montañoso",null,"emplazamiento_carga",null,"carga_refrigerada"]
[null,"A1",null,"Refrigerado",null,"Ruta",null,"Valores individuales de medida",null,"Sí",null,"Furgoneta Clase I : <1,3 t MMA",null,"Propia",null,"R-404A",null,"Pequeño (35 m3 aprox.). -20ºC",null,"Propio",null,"Upstream",null,"Depósito conjunto",null,"Urbano",null,"Llano",null,"España",null,"Refrigerada"]
[null,"A2",null,"No Refrigerado",null,"Trayecto",null,"Valores específicos del operador de transporte",null,"No",null,"Furgoneta Clase II: 1,3  – 1,74 t MMA",null,"Subcontratada",null,"R-407A",null,"Pequeño (35 m3 aprox.). 0ºC",null,"No propio",null,"Downstream",null,"Depósito por separado",null,"No urbano",null,"Montañoso",null,"UE",null,"No refrigerada"]
[null,"B1",null,null,null,null,null,null,null,null,null,"Furgoneta Clase III: 1,74 – 3,5 t MMA",null,null,null,"R-407C",null,"Mediano (60 m3). -20ºC"]
[null,"B2",null,null,null,null,null,null,null,null,null,"Camión 3,5 – 7,5 t MMA",null,null,null,"R-410A",null,"Mediano (60 m3). 0ºC"]
[null,"C1",null,null,null,null,null,null,null,null,null,"Camión 7,5 – 12 t MMA",null,null,null,"R-134A",null,"Grande (80 m3). -20ºC"]
[null,"C2",null,null,null,null,null,null,null,null,null,"Camión 12 – 24 t MMA",null,null,null,"R-507",null,"Grande (80 m3). 0ºC"]
[null,null,null,null,null,null,null,null,null,null,null,"Tren de carretera/ camión articulado de 24 – 40 t MMA",null,null,null,"R-422D"]
[]
[]
["Tabla 1: factor de corrección α para la obtención del consumo específico de combustible por la propulsión del vehículo en vías urbanas (método de las distancias)"]
[null,"Tipo de camión","Factor de corrección"]
[null,"Camión 3,5 - 7,5 t MMA",0.9]
[null,"Camión 7,5 – 12 t MMA",1]
[null,"Camión 12 – 24 t MMA",1.3]
[null,"Tren de carretera/ camión articulado de 24-40 t MMA",1.4]
[null,"Fuentes: HBEFA 3.1; TREMOD 2010; cálculos propios."]
[]
["Tabla 1_mod: factor de corrección α para la obtención del consumo específico de combustible por la propulsión del vehículo en vías urbanas (método de las distancias) - Incluyendo furgonetas"]
[null,"Tipo de vehículo","Factor de corrección"]
[null,"Furgoneta Clase I : <1,3 t MMA",1]
[null,"Furgoneta Clase II: 1,3  – 1,74 t MMA",1]
[null,"Furgoneta Clase III: 1,74 – 3,5 t MMA",1]
[null,"Camión 3,5 – 7,5 t MMA",0.9]
[null,"Camión 7,5 – 12 t MMA",1]
[null,"Camión 12 – 24 t MMA",1.3]
[null,"Tren de carretera/ camión articulado de 24 – 40 t MMA",1.4]
[]
["Tabla 2: parámetros A, B y C para la obtención del consumo específico por la propulsión del vehículo (método de las distancias)"]
[null,"Parámetro","Montañoso",null,"Llano",null,"C"]
[null,null,"A","B","A","B"]
[null,null,"l/100 km","l/100 km","l/100 km","l/100 km","Toneladas"]
[null,"Camión 3,5 - 7,5 t MMA",13,1.4,12.9,1.2,3.5]
[null,"Camión 7,5 – 12 t MMA",16.899999999999999,3.2,16.600000000000001,2.4,6]
[null,"Camión 12 – 24 t MMA",19.3,4.2,18.7,2.9,12]
[null,"Tren de carretera/ camión articulado de 24-40 t MMA",22.7,14.4,21.5,8.1999999999999993,26]
[null,"1) Incluidos los trenes de carretera."]
[null,"Fuentes: HBEFA 3.1; TREMOD 2010; cálculos propios."]
[]
["Tabla 2_mod: parámetros A, B y C para la obtención del consumo específico por la propulsión del vehículo (método de las distancias) - Incluyendo furgonetas"]
[null,"Parámetro","Montañoso",null,"Llano",null,"C"]
[null,null,"A","B","A","B"]
[null,null,"l/100 km","l/100 km","l/100 km","l/100 km","Toneladas"]
[null,"Furgoneta Clase I : <1,3 t MMA",{"$f":"0.15438/2.67*100","v":5.7820224719101123},0,{"$f":"0.15438/2.67*100","v":5.7820224719101123},0,0.64]
[null,"Furgoneta Clase II: 1,3  – 1,74 t MMA",{"$f":"0.24291/2.67*100","v":9.0977528089887638},0,{"$f":"0.24291/2.67*100","v":9.0977528089887638},0,0.98]
[null,"Furgoneta Clase III: 1,74 – 3,5 t MMA",{"$f":"0.28453/2.67*100","v":10.656554307116105},0,{"$f":"0.28453/2.67*100","v":10.656554307116105},0,1.29]
[null,"Camión 3,5 – 7,5 t MMA",13,1.4,12.9,1.2,3.5]
[null,"Camión 7,5 – 12 t MMA",16.899999999999999,3.2,16.600000000000001,2.4,6]
[null,"Camión 12 – 24 t MMA",19.3,4.2,18.7,2.9,12]
[null,"Tren de carretera/ camión articulado de 24 – 40 t MMA",22.7,14.4,21.5,8.1999999999999993,26]
[null,"1) Incluidos los trenes de carretera."]
[null,"Fuentes: HBEFA 3.1; TREMOD 2010; DEFRA; cálculos propios."]
[null,"Nota: DEFRA, Pestaña freighting goods: E26, E29, E32"]
[]
[]
["Tabla 3_mod: Consumo de combustible de la unidad de refrigeración, en función de su tamaño y de las condiciones de refrigeración"]
[null,"Tipo de unidad. Condiciones de refrigeración","Consumo de combustible (l/h)"]
[null,"Pequeño (30 m3 ó 10 EPAL). Congelado",2.5]
[null,"Pequeño (30 m3 ó 10 EPAL). Refrigerado",1.5]
[null,"Mediano (50 m3 ó 20 EPAL). Congelado",3.5]
[null,"Mediano (50 m3 ó 20 EPAL). Refrigerado",2.5]
[null,"Grande (80 m3 ó 33 EPAL). Congelado",4]
[null,"Grande (80 m3 ó 33 EPAL). Refrigerado",3]
[]
[]
["Tabla 4_mod: Niveles de carga estimados en función del tipo de vehículo y de mercancía transportada"]
[null,"Tipo de transporte","Viajes adicionales en vacío1)","Furgoneta Clase I : <1,3 t MMA","Furgoneta Clase II: 1,3  – 1,74 t MMA","Furgoneta Clase III: 1,74 – 3,5 t MMA","Camión 3,5 – 7,5 t MMA","Camión 7,5 – 12 t MMA","Camión 12 – 24 t MMA","Tren de carretera/ camión articulado de 24 – 40 t MMA"]
[null,"Carga máxima","---",0.64,0.98,1.29,3.5,6,12,26]
[null,"Transporte de mercancías",null,"– Peso de las mercancías en toneladas por vehículo –"]
[null,"Mercancías a granel","60 %",0.64,0.98,1.29,3.5,6,12,26]
[null,"Resto de mercancías","15 %",{"$f":"D69*0.45","v":0.28800000000000003},0.441,0.58050000000000002,1.575,2.7,5.4,11.700000000000001]
[null,"Transporte de contenedores",null,"– Número de TEU por vehículo –"]
[null,"Mercancías a granel","+10 %","-","-","-","-","-",1,2]
[null,"Resto de mercancías","+10 %","-","-","-","-","-","-",1]
[null,"1) Porcentaje de viajes en vacío, en relación con los viajes en carga."]
[null,"Fuente: EcoTransIT 2010. DEFRA. Cálculos propios"]
[]
[]
["Tabla 4_mod2: Viajes adicionales en vacío por tipo de transporte"]
[null,"Tipo de transporte","Viajes adicionales en vacío1)"]
[null,"Transporte de mercancías"]
[null,"Mercancías a granel",0.6]
[null,"Resto de mercancías",0.15]
[null,"Transporte de contenedores",0.15]
[]
[]
[null,"Tipo de transporte","Tasa de carga"]
[null,"Transporte de mercancías"]
[null,"Mercancías a granel",1]
[null,"Resto de mercancías",0.45]
[null,"Transporte de contenedores","---"]
[]
[]
["Tabla 5: Peso del contenedor para los diferentes tipos de mercancías"]
[null,"Tipo de mercancías","Peso del contenedor","Carga del contenedor","Peso total"]
[null,null,"Toneladas/TEU","Toneladas/TEU","Toneladas/TEU"]
[null,"Mercancías a granel",2,14.5,16.5]
[null,"Resto de mercancías",1.95,8.25,10.199999999999999]
[null,"Fuente: EcoTransIT 2010."]
[]
[]
["Tabla 6: consumo específico de combustible por la propulsión del vehículo en términos de tonelada-kilómetro o TEU-kilómetro (método de las distancias)"]
[null,null,"Montañoso; Mercancías a granel","Montañoso; Resto de mercancías","Llano; Mecancías a granel","Llano; Resto de mercancías"]
[]
[null,"Transporte de mercancías (tkm)"]
[null,"Furgoneta Clase I : <1,3 t MMA",{"$f":"ROUND(((C45+D45*$C$90)+$C$83*C45)/(G45*$C$90*100),3)","v":0.14499999999999999},{"$f":"ROUND(((C45+D45*$C$91)+$C$84*C45)/(G45*$C$91*100),3)","v":0.23100000000000001},{"$f":"ROUND(((E45+F45*$C$90)+$C$83*E45)/(G45*$C$90*100),3)","v":0.14499999999999999},{"$f":"ROUND(((E45+F45*$C$91)+$C$84*E45)/(G45*$C$91*100),3)","v":0.23100000000000001}]
[null,"Furgoneta Clase II: 1,3  – 1,74 t MMA",0.14899999999999999,0.23699999999999999,0.14899999999999999,0.23699999999999999]
[null,"Furgoneta Clase III: 1,74 – 3,5 t MMA",0.13200000000000001,0.21099999999999999,0.13200000000000001,0.21099999999999999]
[null,"Camión 3,5 – 7,5 t MMA",6.3E-2,9.9000000000000005E-2,6.2E-2,9.8000000000000004E-2]
[null,"Camión 7,5 – 12 t MMA",0.05,7.6999999999999999E-2,4.8000000000000001E-2,7.4999999999999997E-2]
[null,"Camión 12 – 24 t MMA",2.9000000000000001E-2,4.4999999999999998E-2,2.7E-2,4.2000000000000003E-2]
[null,"Tren de carretera/ camión articulado de 24 – 40 t MMA",0.02,2.8000000000000001E-2,1.6E-2,2.4E-2]
[null,"Transporte de contenedores (TEU-km)"]
[null,"Furgoneta Clase I : <1,3 t MMA","x","x","x","x"]
[null,"Furgoneta Clase II: 1,3  – 1,74 t MMA","x","x","x","x"]
[null,"Furgoneta Clase III: 1,74 – 3,5 t MMA","x","x","x","x"]
[null,"Camión 3,5 – 7,5 t MMA","x","x","x","x"]
[null,"Camión 7,5 – 12 t MMA","x","x","x","x"]
[null,"Camión 12 – 24 t MMA","x",{"$f":"ROUND(((C50+D50*E99/G50)+($C$85*C50))/100,2)","v":0.26},"x",{"$f":"ROUND(((E50+F50*E99/G50)+($C$85*E50))/100,2)","v":0.24}]
[null,"Tren de carretera/ camión articulado de 24 – 40 t MMA",{"$f":"ROUND(((C51+D51*E98/G51)+($C$85*C51))/100,2)","v":0.35},{"$f":"ROUND(((C51+D51*2*E99/G51)+($C$85*C51))/(2*100),2)","v":0.19},{"$f":"ROUND(((E51+F51*E98/G51)+($C$85*E51))/(100),2)","v":0.3},{"$f":"ROUND(((E51+F51*2*E99/G51)+($C$85*E51))/(2*100),2)","v":0.16}]
[null,"1) Incluidos los trenes de carretera."]
[null,"x = El transporte en contenedor para este tamaño de camión o este peso de contenedor no es aplicable."]
[null,"Fuentes: HBEFA 3.1; TREMOD 2010; cálculos propios."]
[]
[]
[null,null,"Consumo de energía normalizado",null,null,null,"Emisiones de gases de efecto invernadero (calculadas como equivalentes de CO2)"]
[null,null,"Del tanque a las ruedas (eT)",null,"Del pozo a las ruedas (eW)",null,"Del tanque a las ruedas (gT)",null,"Del pozo a las ruedas (gW)"]
[null,null,"MJ/ kg","MJ/ l","MJ/ kg","MJ/ l","kg eCO2/ kg","kg eCO2/ l","kg eCO2/ kg","kg eCO2/ l"]
[null,"Petróleo",43.2,32.200000000000003,50.5,37.700000000000003,3.25,2.42,3.86,2.88]
[null,"Etanol",26.8,21.3,65.7,52.1,0,0,1.56,1.24]
[null,"Petróleo E5 (5 % vol. etanol)",42.4,31.7,51.4,38.4,3.08,2.2999999999999998,3.74,2.8]
[null,"Petróleo E10 (10 % vol. etanol)",41.5,31.1,52.2,39.1,2.9,2.1800000000000002,3.62,2.72]
[null,"Diésel",43.1,35.9,51.3,42.7,3.21,2.67,3.9,3.24]
[null,"Biodiésel",36.799999999999997,32.799999999999997,76.900000000000006,68.5,0,0,2.16,1.92]
[null,"Diésel D5 (5 % vol. biocombustible)",42.8,35.700000000000003,52.7,44,3.04,2.54,3.8,3.17]
[null,"Diésel D7 (7 % vol. biocombustible)",42.7,35.700000000000003,53.2,44.5,2.97,2.48,3.76,3.15]
[null,"Diésel mezcla con biodiésel según R.D. 1085/2015","---",{"$f":"VLOOKUP('MENÚ DE INICIO'!$AC$3,t_dieselRD_t,3,0)","v":35.70000000000001},"---",{"$f":"VLOOKUP('MENÚ DE INICIO'!$AC$3,t_dieselRD_t,4,0)","v":44.089130434782611},"---",{"$f":"VLOOKUP('MENÚ DE INICIO'!$AC$3,t_dieselRD_t,5,0)","v":2.526630434782609},"---",{"$f":"VLOOKUP('MENÚ DE INICIO'!$AC$3,t_dieselRD_t,6,0)","v":3.1655434782608696}]
[null,"Gas natural Comprimido",45.1,7.89,50.5,8.84,2.68,0.46899999999999997,3.07,0.53700000000000003]
[null,"Gas Natural Licuado",45.1,20.399999999999999,50.5,22.9,2.68,1.21,3.07,1.39]
[null,"Gas licuado de petróleo",46,25.3,51.5,28.3,3.1,1.7,3.46,1.9]
[null,"Queroseno",44.1,35.299999999999997,52.5,42,3.18,2.54,3.88,3.1]
[null,"Fuelóleo pesado",40.5,39.299999999999997,44.1,42.7,3.15,3.05,3.41,3.31]
[null,"Diésel marino",43,38.700000000000003,51.2,46.1,3.24,2.92,3.92,3.53]
[null,"Gasóleo marino",43,38.299999999999997,51.2,45.5,3.24,2.88,3.92,3.49]
[null,"1)  Sin tener en cuenta un posible efecto secundario mayor en el clima derivado del tráfico aéreo a altitud de crucero. – 2) Fuelóleo pesado para barcos."]
[null,"Fuente: EN 16258."]
[]
[]
[null,"Porcentaje de biodiésel en relación con el volumen (litros)","Porcentaje de biodiésel en relación con el contenido de energía","Factor de conversión del tanque a las ruedas (eT)","Factor de conversión del pozo a las ruedas (eW)","Factor de conversión de GEI del tanque a las ruedas (gT)","Factor de conversión de GEI del pozo a las ruedas (gT)"]
[null,"en %","en %","MJ/litro","MJ/litro","kg eCO2/ l","kg eCO2/ l"]
[null,0.01,9.1000000000000004E-3,35.9,43,2.64,3.23]
[null,0.02,1.83E-2,35.799999999999997,43.2,2.62,3.21]
[null,0.03,2.75E-2,35.799999999999997,43.5,2.59,3.2]
[null,0.04,3.6700000000000003E-2,35.799999999999997,43.7,2.56,3.19]
[null,0.05,4.5900000000000003E-2,35.700000000000003,44,2.54,3.17]
[null,0.06,5.5100000000000003E-2,35.700000000000003,44.2,2.5099999999999998,3.16]
[null,7.0000000000000007E-2,6.4299999999999996E-2,35.700000000000003,44.5,2.48,3.15]
[null,0.08,7.3599999999999999E-2,35.700000000000003,44.8,2.46,3.13]
[null,0.09,8.2900000000000001E-2,35.6,45,2.4300000000000002,3.12]
[null,0.1,9.2200000000000004E-2,35.6,45.3,2.4,3.11]
[null,0.2,0.18590000000000001,35.299999999999997,47.9,2.27,2.98]
[null,"Fuente: EN 16258."]
[]
[]
[null,"Año de referencia","Porcentaje de biodiésel en relación con el contenido de energía","Factor de conversión del tanque a las ruedas (eT)","Factor de conversión del pozo a las ruedas (eW)","Factor de conversión de GEI del tanque a las ruedas (gT)","Factor de conversión de GEI del pozo a las ruedas (gT)"]
[null,"en %","en %","MJ/litro","MJ/litro","kg eCO2/ l","kg eCO2/ l"]
[null,2016,4.2999999999999997E-2,{"$f":"ROUND((($C156-$C168)*D155+($C168-$C155)*D156)/($C156-$C155),3)","v":35.731999999999999},{"$f":"(($C156-$C168)*E155+($C168-$C155)*E156)/($C156-$C155)","v":43.905434782608701},2.5463043478260867,3.1763043478260866]
[null,2017,0.05,{"$f":"(($C157-$C169)*D156+($C169-$C156)*D157)/($C157-$C156)","v":35.70000000000001},44.089130434782611,2.526630434782609,3.1655434782608696]
[null,2018,0.06,{"$f":"(($C158-$C170)*D157+($C170-$C157)*D158)/($C158-$C157)","v":35.700000000000003},44.359782608695653,2.4940217391304347,3.1546739130434784]
[null,2019,7.0000000000000007E-2,{"$f":"(($C159-$C171)*D158+($C171-$C158)*D159)/($C159-$C158)","v":35.700000000000003},44.683870967741939,2.467741935483871,3.1377419354838709]
[null,2020,8.5000000000000006E-2,{"$f":"(($C160-$C172)*D159+($C172-$C159)*D160)/($C160-$C159)","v":35.57741935483871},45.045161290322582,2.423225806451613,3.1177419354838709]
[null,"Fuente: EN 16258. Cálculos propios"]
[]
[]
[null,"Tipo de fuente de energía","Factores de consumo energético",null,null,"Factores de emisión de GEI"]
[null,null,"Unidad (MJ/?)","Consumo energético directo (edirecta)","Consumo energético total (etotal)","Unidad (kg CO2e/?)","Emisiones de GEI directas (gdirecta)","Emisiones de GEI totales (gtotal)","Emisiones de GEI - Alcance 2","Emisiones de GEI - Alcance 3. Categoría 3"]
[null,"Electricidad de Red - España (CLECAT)","kWh",3.6,8.3000000000000007,"kWh",0,0.36299999999999999,0.29099999999999998,7.1999999999999995E-2]
[null,"Electricidad de Red - UE (CLECAT)","kWh",3.6,10.199999999999999,"kWh",0,0.42399999999999999,0.35199999999999998,7.1999999999999995E-2]
[null,"COMERCIALIZADORAS SIN GDO's","kWh",{"$f":"$D$179","v":3.6},{"$f":"IF(I180<>0,$E$179,3.6*0.32217/0.291)","v":10.199999999999999},"kWh",{"$f":"$G$179","v":0},{"$f":"I180+J180","v":0.47200000000000003},0.4,{"$f":"IF(I180<>0,$J$179,0)","v":7.1999999999999995E-2}]
[null,"ACCIONA GREEN ENERGY DEVELOPMENTS, S.L. ","kWh",{"$f":"$D$179","v":3.6},{"$f":"IF(I181<>0,$E$179,3.6*0.32217/0.291)","v":3.985608247422681},"kWh",{"$f":"$G$179","v":0},{"$f":"I181+J181","v":0},0,{"$f":"IF(I181<>0,$J$179,0)","v":0}]
[null,"ALDRO ENERGÍA Y SOLUCIONES, S.L.U. ","kWh",3.6,{"$f":"IF(I182<>0,$E$179,3.6*0.32217/0.291)","v":10.199999999999999},"kWh",0,0.47200000000000003,0.4,7.1999999999999995E-2]
[null,"ANOTHER ENERGY OPTION, S.L. ","kWh",3.6,3.985608247422681,"kWh",0,0,0,0]
[null,"AUDAX ENERGÍA, S.L.U. ","kWh",3.6,10.199999999999999,"kWh",0,0.47200000000000003,0.4,7.1999999999999995E-2]
[null,"AURA ENERGÍA, S.L. ","kWh",3.6,3.985608247422681,"kWh",0,0,0,0]
[null,"AVANZALIA ENERGÍA COMERCIALIZADORA, S.A. ","kWh",3.6,10.199999999999999,"kWh",0,0.32200000000000001,0.25,7.1999999999999995E-2]
[null,"AXPO IBERIA, S.L. ","kWh",3.6,3.985608247422681,"kWh",0,0,0,0]
[null,"BASSOLS ENERGÍA COMERCIAL, S.L. ","kWh",3.6,10.199999999999999,"kWh",0,0.46200000000000002,0.39,7.1999999999999995E-2]
[null,"CEPSA GAS Y ELECTRICIDAD, S.A. ","kWh",3.6,3.985608247422681,"kWh",0,0,0,0]
[null,"CLIDOM ENERGY, S.L. ","kWh",3.6,3.985608247422681,"kWh",0,0,0,0]
[null,"COMERCIALIZADORA LERSA , S.L. ","kWh",3.6,10.199999999999999,"kWh",0,0.47200000000000003,0.4,7.1999999999999995E-2]
[null,"COMERCIALIZADORA ZERO ELECTRUM, S.L. ","kWh",3.6,10.199999999999999,"kWh",0,0.47200000000000003,0.4,7.1999999999999995E-2]
[null,"COMPAÑÍA ESCANDINAVA DE ELECTRICIDAD EN ESPAÑA, S.L. ","kWh",3.6,3.985608247422681,"kWh",0,0,0,0]
[null,"COOPERATIVA ELECTRICA DE CASTELLAR, S.C.V. ","kWh",3.6,3.985608247422681,"kWh",0,0,0,0]
[null,"CYE ENERGIA, S.L. ","kWh",3.6,10.199999999999999,"kWh",0,0.10199999999999999,0.03,7.1999999999999995E-2]
[null,"DREUE ELECTRIC, S.L. ","kWh",3.6,10.199999999999999,"kWh",0,9.1999999999999998E-2,0.02,7.1999999999999995E-2]
[null,"E.ON ENERGIA, S.L. ","kWh",3.6,10.199999999999999,"kWh",0,0.41200000000000003,0.34,7.1999999999999995E-2]
[null,"ELECTRICA DE CHERA, S.C.V. ","kWh",3.6,3.985608247422681,"kWh",0,0,0,0]
[null,"ELECTRICA DE GUADASSUAR COOP. V. ","kWh",3.6,3.985608247422681,"kWh",0,0,0,0]
[null,"ELECTRICA SOLLERENSE, S.A. ","kWh",3.6,10.199999999999999,"kWh",0,0.40200000000000002,0.33,7.1999999999999995E-2]
[null,"ELÉCTRICA DE MELIANA, S.C.V. ","kWh",3.6,3.985608247422681,"kWh",0,0,0,0]
[null,"ELÉCTRICA DE SOT DE CHERA S. COOP.V. ","kWh",3.6,3.985608247422681,"kWh",0,0,0,0]
[null,"ELÉCTRICA DE VINALESA, S.L.U. ","kWh",3.6,10.199999999999999,"kWh",0,0.28199999999999997,0.21,7.1999999999999995E-2]
[null,"EMASP, S. COOP. ","kWh",3.6,3.985608247422681,"kWh",0,0,0,0]
[null,"ENARA GESTIÓN Y MEDIACIÓN, S.L. ","kWh",3.6,3.985608247422681,"kWh",0,0,0,0]
[null,"ENDESA ENERGIA, S.A. ","kWh",3.6,10.199999999999999,"kWh",0,0.45200000000000001,0.38,7.1999999999999995E-2]
[null,"ENERCOLUZ ENERGÍA, S.L. ","kWh",3.6,10.199999999999999,"kWh",0,0.40200000000000002,0.33,7.1999999999999995E-2]
[null,"ENERGY STROM XXI, S.L. ","kWh",3.6,10.199999999999999,"kWh",0,0.47200000000000003,0.4,7.1999999999999995E-2]
[null,"ENERGÍA COLECTIVA, S.L. ","kWh",3.6,3.985608247422681,"kWh",0,0,0,0]
[null,"ENERPLUS ENERGÍA, S.A. ","kWh",3.6,10.199999999999999,"kWh",0,8.199999999999999E-2,0.01,7.1999999999999995E-2]
[null,"ENÉRGYA VM GESTIÓN DE ENERGÍA, S.L.U. ","kWh",3.6,3.985608247422681,"kWh",0,0,0,0]
[null,"FACTOR ENERGÍA, S.A. ","kWh",3.6,10.199999999999999,"kWh",0,0.38200000000000001,0.31,7.1999999999999995E-2]
[null,"FENIE ENERGIA, S.A. ","kWh",3.6,10.199999999999999,"kWh",0,0.432,0.36,7.1999999999999995E-2]
[null,"GAS NATURAL COMERCIALIZADORA, S.A. ","kWh",3.6,10.199999999999999,"kWh",0,0.42199999999999999,0.35,7.1999999999999995E-2]
[null,"GAS NATURAL SERVICIOS SDG, S.A. ","kWh",3.6,10.199999999999999,"kWh",0,0.432,0.36,7.1999999999999995E-2]
[null,"GDF SUEZ ENERGÍA ESPAÑA, S.A.U.","kWh",3.6,10.199999999999999,"kWh",0,0.42199999999999999,0.35,7.1999999999999995E-2]
[null,"GEOATLANTER, S.L.","kWh",3.6,10.199999999999999,"kWh",0,0.21200000000000002,0.14000000000000001,7.1999999999999995E-2]
[null,"GESTERNOVA, S.A.","kWh",3.6,3.985608247422681,"kWh",0,0,0,0]
[null,"GNERA ENERGIA Y TECNOLOGIA, S.L.","kWh",3.6,3.985608247422681,"kWh",0,0,0,0]
[null,"GOIENER S.COOP","kWh",3.6,10.199999999999999,"kWh",0,8.199999999999999E-2,0.01,7.1999999999999995E-2]
[null,"HIDROCANTABRICO ENERGIA, S.A. Unipersonal","kWh",3.6,10.199999999999999,"kWh",0,0.30199999999999999,0.23,7.1999999999999995E-2]
[null,"HIDROELECTRICA DEL VALIRA, S.L.","kWh",3.6,10.199999999999999,"kWh",0,0.372,0.3,7.1999999999999995E-2]
[null,"HIDROELÉCTRICA EL CARMEN ENERGÍA, S.L.","kWh",3.6,3.985608247422681,"kWh",0,0,0,0]
[null,"IBERDROLA CLIENTES, S.A.U.","kWh",3.6,10.199999999999999,"kWh",0,0.28199999999999997,0.21,7.1999999999999995E-2]
[null,"INDEXO ENERGIA, S.L.","kWh",3.6,10.199999999999999,"kWh",0,0.17199999999999999,0.1,7.1999999999999995E-2]
[null,"INICIATIVA E. NOVA, S.L.","kWh",3.6,3.985608247422681,"kWh",0,0,0,0]
[null,"LA UNION ELECTRO INDUSTRIAL, S.L. \"UNIPERSONAL\"","kWh",3.6,3.985608247422681,"kWh",0,0,0,0]
[null,"LIGHT UP, S.L.","kWh",3.6,3.985608247422681,"kWh",0,0,0,0]
[null,"LUCI MUNDI ENERGÍA, S.L.","kWh",3.6,10.199999999999999,"kWh",0,0.24199999999999999,0.17,7.1999999999999995E-2]
[null,"NATURGAS ENERGÍA COMERCIALIZADORA, S.A.U.","kWh",3.6,10.199999999999999,"kWh",0,0.30199999999999999,0.23,7.1999999999999995E-2]
[null,"NEXUS ENERGIA, S.A.","kWh",3.6,10.199999999999999,"kWh",0,0.192,0.12,7.1999999999999995E-2]
[null,"NEXUS RENOVABLES, S.L.","kWh",3.6,10.199999999999999,"kWh",0,9.1999999999999998E-2,0.02,7.1999999999999995E-2]
[null,"ON DEMAND FACILITIES, S.L.","kWh",3.6,10.199999999999999,"kWh",0,0.11199999999999999,0.04,7.1999999999999995E-2]
[null,"PROT ENERGÍA COMERCIALIZACIÓN, S.L.","kWh",3.6,3.985608247422681,"kWh",0,0,0,0]
[null,"RENEWABLE VENTURES, S.L.","kWh",3.6,3.985608247422681,"kWh",0,0,0,0]
[null,"SAMPOL INGENIERÍA Y OBRAS, S.A.","kWh",3.6,10.199999999999999,"kWh",0,0.38200000000000001,0.31,7.1999999999999995E-2]
[null,"SOM ENERGÍA, S.C.C.L.","kWh",3.6,3.985608247422681,"kWh",0,0,0,0]
[null,"SUMINISTROS ESPECIALES ALGINETENSES COOP. V.","kWh",3.6,3.985608247422681,"kWh",0,0,0,0]
[null,"SYDER COMERCIALIZADORA VERDE, S.L.","kWh",3.6,3.985608247422681,"kWh",0,0,0,0]
[null,"TELEFÓNICA SOLUCIONES DE INFORMÁTICA Y COMUNICACIONES DE ESPAÑA, S.A.U.","kWh",3.6,10.199999999999999,"kWh",0,0.122,0.05,7.1999999999999995E-2]
[null,"THE YELLOW ENERGY, S.L.","kWh",3.6,3.985608247422681,"kWh",0,0,0,0]
[null,"UNIELÉCTRICA ENERGÍA, S.A.","kWh",3.6,3.985608247422681,"kWh",0,0,0,0]
[null,"VERTSEL ENERGIA, S.L.U.","kWh",3.6,3.985608247422681,"kWh",0,0,0,0]
[null,"WATIUM, S.L.","kWh",3.6,3.985608247422681,"kWh",0,0,0,0]
[null,"ZENCER, S. COOP. AND","kWh",{"$f":"$D$179","v":3.6},3.985608247422681,"kWh",{"$f":"$G$179","v":0},{"$f":"I245+J245","v":0},0,{"$f":"IF(I245<>0,$J$179,0)","v":0}]
[]
[]
[null,"Tipo de fuente de energía","Factores de consumo energético",null,null,"Factores de emisión de GEI"]
[null,null,"Unidad (MJ/?)","Consumo energético directo (edirecta)","Consumo energético total (etotal)","Unidad (kg CO2e/?)","Emisiones de GEI directas (gdirecta)","Emisiones de GEI totales (gtotal)","Emisiones de GEI - Alcance 2","Emisiones de GEI - Alcance 3. Categoría 3"]
[null,"Electricidad fotovoltaica","kWh",3.6,3.7,"kWh",0,0,"---","---"]
[null,"Gas natural: potencia calorífica neta","kWh",3.6,4.0999999999999996,"kWh",0.20200000000000001,0.24199999999999999,"---","---"]
[null,"Gas natural: potencia calorífica bruta","kWh",3.2,3.7,"kWh",0.182,0.218,"---","---"]
[null,"Fuelóleo","kg",35.799999999999997,41.7,"kg",2.67,3.09,"---","---"]
[null,"Gas licuado de petróleo","l",25.3,28.3,"l",1.7,1.9,"---","---"]
[null,"Nota: Los valores mostrados incluyen la pérdida de energía derivada de la distribución de la electricidad. Los valores de emisión de la calefacción urbana están relacionados con el consumo térmico en kWh. El consumo de energía y las emisiones derivadas de la construcción, la manutención y el desecho de las infraestructuras no están incluidos (de acuerdo con la norma EN 16258)."]
[null,"Fuentes: GEMIS 4.8; EN 16258; cálculos propios."]
[]
[]
[null,"Tipo de carga","Consumo específico total (KWh/m3/año)","Proporción de consumo según fuente de energía (%)",null,"Consumo específico según fuente de energía (KWh/m3/día)"]
[null,"Refrigerada/ no refrigerada",null,"% electricidad","% gas","electricidad","gas"]
[null,"No refrigerada",18.600000000000001,0.61,0.39,{"$f":"11.3/365","v":3.0958904109589042E-2},{"$f":"7.3/365","v":0.02}]
[null,"Refrigerada. Alimento fresco",55,0.9,0.1,{"$f":"49.6/365","v":0.13589041095890411},{"$f":"5.4/365","v":1.4794520547945207E-2}]
[null,"Refrigerada. Alimento congelado",72,0.9,0.1,{"$f":"65/365","v":0.17808219178082191},{"$f":"7/365","v":1.9178082191780823E-2}]
[null,"Refrigerada. Alimento mixto",62,0.9,0.1,{"$f":"55.9/365","v":0.15315068493150685},{"$f":"6.1/365","v":1.6712328767123287E-2}]
[]
[]
[null,"Combustible empleado","Emisiones de gases de efecto invernadero (calculadas en CO2 equivalentes)"]
[null,null,"Del tanque a las ruedas (gT)",null,"Del pozo al tanque (gW)"]
[null,null,"kg CO2e/kg","kg eCO2e/l","kg CO2e/kg","kg eCO2e/l"]
[null,"Gasolina (100% mineral)",3.1497999999999999,2.3025000000000002,0.61609999999999998,0.45040000000000002]
[null,"Gasolina (mezcla media con biocombustibles)",2.9935999999999998,2.1970000000000001,0.62849999999999995,0.46129999999999999]
[null,"Diésel (100 % mineral)",3.19,2.6762000000000001,0.65880000000000005,0.55269999999999997]
[null,"Diésel (mezcla media con biocombustibles)",3.1084999999999998,2.6116000000000001,0.65980000000000005,0.55430000000000001]
[null,"Gas Natural Comprimido",2.7158000000000002,0.4753,0.54379999999999995,9.5200000000000007E-2]
[null,"Gas Natural Licuado",2.7158000000000002,1.2289000000000001,1.0066999999999999,0.45550000000000002]
[null,"Gas Licuado de Petróleo",2.9418000000000002,1.5049999999999999,0.36969999999999997,0.18920000000000001]
[null,"Gasoil (red diésel)",3.4758,2.9657,0.65339999999999998,0.5575]
[null,"Fueloil",3.2250999999999999,3.1806000000000001,0.59299999999999997,0.58479999999999999]
[null,"Gas Natural",2.7158000000000002,2.0279999999999999E-3,0.36880000000000002,2.7549999999999997E-4]
[null,"Fuente: DEFRA"]
[]
[]
[null,"Combustible empleado","Emisiones directas de CO2 por litro de combustible"]
[null,"Gasolina - UK",2.3018000000000001]
[null,"Gasolina - US",2.3273999999999999]
[null,"Gasolina - Otros países",2.2715000000000001]
[null,"E85 Etanol/Gasolina - UK",0.3453]
[null,"E85 Etanol/Gasolina - US",0.34910000000000002]
[null,"E85 Etanol/Gasolina - Otros países",0.3407]
[null,"Diésel de automoción - UK",2.6413000000000002]
[null,"Diésel de automoción - US",2.6812999999999998]
[null,"Diésel de automoción - Otros países",2.6762999999999999]
[null,"B20 Biodiésel/Diésel - UK",2.113]
[null,"B20 Biodiésel/Diésel - US",2.1450999999999998]
[null,"B20 Biodiésel/Diésel - Otros países",2.141]
[null,"Biodiésel (100%) - UK",0]
[null,"Biodiésel (100%) - US",0]
[null,"Biodiésel (100%) - Otros países",0]
[null,"Etanol - UK",0]
[null,"Etanol - US",0]
[null,"Etanol - Otros países",0]
[null,"Gas Natural Comprimido - UK",2.0230000000000001E-3]
[null,"Gas Natural Comprimido - US",1.9070000000000001E-3]
[null,"Gas Natural Comprimido - Otros países",1.872E-3]
[null,"Gas Natural Licuado - UK",1.2272000000000001]
[null,"Gas Natural Licuado - US",1.1781999999999999]
[null,"Gas Natural Licuado - Otros países",1.1781999999999999]
[null,"Gas Licuado de Petróleo - UK",1.4902]
[null,"Gas Licuado de Petróleo - US",1.5296000000000001]
[null,"Gas Licuado de Petróleo - Otros países",1.6113999999999999]
[null,"Fueloil No. 3, 5 y 6 - UK",2.5299]
[null,"Fueloil No. 3, 5 y 6 - US",3.1172]
[null,"Fueloil No. 3, 5 y 6 - Otros países",2.9388999999999998]
[null,"Gas Natural",1.885E-3]
[null,"Fuente: GHG Protocol"]
[null,"Notas: *a partir de condiciones estándar de presión y temperatura **dato global obtenido del IPCC"]
[]
[]
[null,"Fuente de emisión","Factor de emisión - FE (2015): Emisiones del tanque a las ruedas (gT)"]
[null,"Gasolina (kgCO2/l) - Vehículos",2.2050000000000001]
[null,"Gasóleo A (kgCO2/l) - Vehículos",2.508]
[null,"E10 (kgCO2/l) - Vehículos",2.0649999999999999]
[null,"E85 (kgCO2/l) - Vehículos",0.34399999999999997]
[null,"B30 (kgCO2/l) - Vehículos",1.831]
[null,"B100 (kgCO2/l) - Vehículos",0]
[null,"GNL (kgCO2/l) - Vehículos",2.6739999999999999]
[null,"GNC (kgCO2/l) - Vehículos",2.6739999999999999]
[null,"GLP (kgCO2/l) - Vehículos",1.5820000000000001]
[null,"Gas natural (kgCO2/l) - Equipos de combustión fija",0.20200000000000001]
[null,"Gasóleo C (kgCO2/l) - Equipos de combustión fija",2.8279999999999998]
[null,"Gas butano (kgCO2/l) - Equipos de combustión fija",2.964]
[null,"Gas propano (kgCO2/l) - Equipos de combustión fija",2.9380000000000002]
[null,"Fuelóleo (kgCO2/l) - Equipos de combustión fija",3.11]
[null,"GLP genérico (kgCO2/l) - Equipos de combustión fija",1.5820000000000001]
[null,"Carbón nacional (kgCO2/l) - Equipos de combustión fija",2.2989999999999999]
[null,"Carbón de importación (kgCO2/l) - Equipos de combustión fija",2.5790000000000002]
[null,"Coque de petróleo (kgCO2/l) - Equipos de combustión fija",3.169]
[null,"Fuente: MAGRAMA"]