BEGIN:VCALENDAR
VERSION:2.0
PRODID:-//Asociación de Cargadores de España - ECPv6.15.18//NONSGML v1.0//EN
CALSCALE:GREGORIAN
METHOD:PUBLISH
X-WR-CALNAME:Asociación de Cargadores de España
X-ORIGINAL-URL:https://www.ace-cargadores.com
X-WR-CALDESC:Eventos para Asociación de Cargadores de España
REFRESH-INTERVAL;VALUE=DURATION:PT1H
X-Robots-Tag:noindex
X-PUBLISHED-TTL:PT1H
BEGIN:VTIMEZONE
TZID:Europe/Madrid
BEGIN:DAYLIGHT
TZOFFSETFROM:+0100
TZOFFSETTO:+0200
TZNAME:CEST
DTSTART:20250330T010000
END:DAYLIGHT
BEGIN:STANDARD
TZOFFSETFROM:+0200
TZOFFSETTO:+0100
TZNAME:CET
DTSTART:20251026T010000
END:STANDARD
BEGIN:DAYLIGHT
TZOFFSETFROM:+0100
TZOFFSETTO:+0200
TZNAME:CEST
DTSTART:20260329T010000
END:DAYLIGHT
BEGIN:STANDARD
TZOFFSETFROM:+0200
TZOFFSETTO:+0100
TZNAME:CET
DTSTART:20261025T010000
END:STANDARD
BEGIN:DAYLIGHT
TZOFFSETFROM:+0100
TZOFFSETTO:+0200
TZNAME:CEST
DTSTART:20270328T010000
END:DAYLIGHT
BEGIN:STANDARD
TZOFFSETFROM:+0200
TZOFFSETTO:+0100
TZNAME:CET
DTSTART:20271031T010000
END:STANDARD
END:VTIMEZONE
BEGIN:VEVENT
DTSTART;TZID=Europe/Madrid:20260420T100000
DTEND;TZID=Europe/Madrid:20260420T110000
DTSTAMP:20260420T101224
CREATED:20260223T182717Z
LAST-MODIFIED:20260316T065508Z
UID:64771-1776679200-1776682800@www.ace-cargadores.com
SUMMARY:La responsabilidad por el robo de mercancías en el transporte por carretera
DESCRIPTION:
URL:https://www.ace-cargadores.com/evento/la-responsabilidad-por-el-robo-de-mercancias-en-el-transporte-por-carretera/
LOCATION:ON LINE
ATTACH;FMTTYPE=image/gif:https://www.ace-cargadores.com/wp-content/uploads/2026/02/Rogers.gif
ORGANIZER;CN="ACE":MAILTO:correo@ace-cargadores.com
END:VEVENT
BEGIN:VEVENT
DTSTART;TZID=Europe/Madrid:20260421T120000
DTEND;TZID=Europe/Madrid:20260421T140000
DTSTAMP:20260420T101224
CREATED:20260331T144043Z
LAST-MODIFIED:20260331T144043Z
UID:65370-1776772800-1776780000@www.ace-cargadores.com
SUMMARY:Jornada del Sector Transporte Ferroviario de Mercancías - Convocatoria Asociaciones
DESCRIPTION:
URL:https://www.ace-cargadores.com/evento/jornada-del-sector-transporte-ferroviario-de-mercancias-convocatoria-asociaciones/
LOCATION:ADIF – Sala de Comisiones\, Estación de Chamartín - Edificio Comercial - Planta 1\, Madrid\, 28036\, Spain
ATTACH;FMTTYPE=image/jpeg:https://www.ace-cargadores.com/wp-content/uploads/2021/02/25-02-2021-ADIF.jpg
END:VEVENT
BEGIN:VEVENT
DTSTART;TZID=Europe/Madrid:20260430T100000
DTEND;TZID=Europe/Madrid:20260430T123000
DTSTAMP:20260420T101224
CREATED:20260331T144341Z
LAST-MODIFIED:20260331T144341Z
UID:65374-1777543200-1777552200@www.ace-cargadores.com
SUMMARY:Reunión de la subcomisión de transporte de MM.PP. por carretera
DESCRIPTION:
URL:https://www.ace-cargadores.com/evento/reunion-de-la-subcomision-de-transporte-de-mm-pp-por-carretera/
LOCATION:Ministerio de Transportes y Movilidad Sostenible\, Paseo de la Castellana\, 67\, Madrid\, 28071\, Spain
ATTACH;FMTTYPE=image/png:https://www.ace-cargadores.com/wp-content/uploads/2026/02/MITMA.png
END:VEVENT
END:VCALENDAR